{"text_format":"1","workbook":"xlsx","n_sheets":26,"sheets":["duty","fru","bksingh","admin panel","102","panchnama","summon","fax","press","notesheet","arrest","bail","jamatalashi","fd","currency","medical","seizure","table-ii","statement","reward","embassy","godown","appraisement","dr","decl form","brc"],"not_rendered":{"charts":0,"images":4,"macros":1,"external_links":1,"defined_names":72,"comments":0,"pivot_tables":0},"unopened":[],"bounds":{"document_bytes":16777216,"sheet_cells":100000,"rows_first":2000,"rows_last":500,"rows_between":2000,"halvings":0,"cell_chars":16384,"cell_head_chars":4096},"cells_cut":0,"cells_raw":0,"read":"whole","date_system":"1900"}

{"sheet":"duty","index":0,"n_rows":28,"n_cols":184,"rows_kept":28,"cut":false,"hidden":false,"merged":[[0,0,0,4],[1,0,1,4],[2,0,2,4],[3,0,3,4],[27,0,27,1]]}
["GOVERNMENT OF INDIA"]
[{"$f":"UPPER(bksingh!BZ5)","v":"OFFICE OF THE ABC"},null,null,null,null,null,null,null,null,null,null,null,null,null,null,null,null,null,null,null,null,null,null,null,null,null,null,null,null,null,null,null,null,null,null,null,null,null,null,null,null,null,null,null,null,null,null,null,null,null,null,null,null,null,null,null,null,null,null,null,null,null,null,null,null,null,null,null,null,null,null,null,null,null,null,null,null,null,null,null,null,null,null,null,null,null,null,null,null,null,null,null,null,null,null,null,null,null,null,null,null,null,null,null,null,null,null,null,null,null,null,null,null,null,null,null,null,null,null,null,null,null,null,null,null,null,null,null,null,null,null,null,null,null,null,null,null,null,null,null,null,null,null,null,null,null,null,null,null,null,null,null,null,null,null,null,null,null,null,null,null,null,null,null,null,null,null,null,null,null,null,null,null,null,null,null,null,null,null,null,null,null,"john luis","acs"]
[{"$f":"UPPER(bksingh!CA5&\", \"&bksingh!CB5)","v":"AIRPORT, NAIROBI, KENYA"}]
[{"$f":"\"DAILY DUTY SHEET OF SHIFT-A FOR \"&bksingh!D42","v":"DAILY DUTY SHEET OF SHIFT-A FOR 14-15.07.2020 (Night Shift)"}]
["Sl. No.","Name","Designation",{"$f":"bksingh!B48","v":"13.07.2020"},{"$f":"bksingh!C48","v":"14-15.07.2020"},null,null,null,null,null,null,null,null,null,null,null,null,null,null,null,null,null,null,null,1]
[1,{"$f":"IF(bksingh!GA5=\"\",\"\",bksingh!GA5)","v":"A K Singh"},{"$f":"IF(bksingh!GB5=\"\",\"\",bksingh!GB5)","v":"Air Customs Superintendent"},{"$f":"IF(E6=\"\",bksingh!GD5,\"\")","v":"Green Channel"},{"$f":"IF(bksingh!GC5=bksingh!$B$41,bksingh!GD5,\"\")","v":""}]
[2,{"$f":"IF(bksingh!GA6=\"\",\"\",bksingh!GA6)","v":"C K Singh"},{"$f":"IF(bksingh!GB6=\"\",\"\",bksingh!GB6)","v":"Air Customs Superintendent"},{"$f":"IF(E7=\"\",bksingh!GD6,\"\")","v":"Red Channel"},{"$f":"IF(bksingh!GC6=bksingh!$B$41,bksingh!GD6,\"\")","v":""}]
[3,{"$f":"IF(bksingh!GA7=\"\",\"\",bksingh!GA7)","v":"D K Singh"},{"$f":"IF(bksingh!GB7=\"\",\"\",bksingh!GB7)","v":"Air Customs Superintendent"},{"$f":"IF(E8=\"\",bksingh!GD7,\"\")","v":"DFMD"},{"$f":"IF(bksingh!GC7=bksingh!$B$41,bksingh!GD7,\"\")","v":""}]
[4,{"$f":"IF(bksingh!GA8=\"\",\"\",bksingh!GA8)","v":"E K Singh"},{"$f":"IF(bksingh!GB8=\"\",\"\",bksingh!GB8)","v":"Air Customs Superintendent"},{"$f":"IF(E9=\"\",bksingh!GD8,\"\")","v":"FRU"},{"$f":"IF(bksingh!GC8=bksingh!$B$41,bksingh!GD8,\"\")","v":""}]
[5,{"$f":"IF(bksingh!GA9=\"\",\"\",bksingh!GA9)","v":"G K Singh"},{"$f":"IF(bksingh!GB9=\"\",\"\",bksingh!GB9)","v":"Air Customs Officer"},{"$f":"IF(E10=\"\",bksingh!GD9,\"\")","v":"Red Channel"},{"$f":"IF(bksingh!GC9=bksingh!$B$41,bksingh!GD9,\"\")","v":""}]
[6,{"$f":"IF(bksingh!GA10=\"\",\"\",bksingh!GA10)","v":"H K Singh"},{"$f":"IF(bksingh!GB10=\"\",\"\",bksingh!GB10)","v":"Air Customs Officer"},{"$f":"IF(E11=\"\",bksingh!GD10,\"\")","v":"Green Channel"},{"$f":"IF(bksingh!GC10=bksingh!$B$41,bksingh!GD10,\"\")","v":""}]
[7,{"$f":"IF(bksingh!GA11=\"\",\"\",bksingh!GA11)","v":"J K Singh"},{"$f":"IF(bksingh!GB11=\"\",\"\",bksingh!GB11)","v":"Air Customs Officer"},{"$f":"IF(E12=\"\",bksingh!GD11,\"\")","v":"DFMD Channel"},{"$f":"IF(bksingh!GC11=bksingh!$B$41,bksingh!GD11,\"\")","v":""}]
[8,{"$f":"IF(bksingh!GA12=\"\",\"\",bksingh!GA12)","v":"G K Singh"},{"$f":"IF(bksingh!GB12=\"\",\"\",bksingh!GB12)","v":"Air Customs Officer"},{"$f":"IF(E13=\"\",bksingh!GD12,\"\")","v":0},{"$f":"IF(bksingh!GC12=bksingh!$B$41,bksingh!GD12,\"\")","v":""}]
[9,{"$f":"IF(bksingh!GA13=\"\",\"\",bksingh!GA13)","v":""},{"$f":"IF(bksingh!GB13=\"\",\"\",bksingh!GB13)","v":""},{"$f":"IF(E14=\"\",bksingh!GD13,\"\")","v":0},{"$f":"IF(bksingh!GC13=bksingh!$B$41,bksingh!GD13,\"\")","v":""}]
[10,{"$f":"IF(bksingh!GA14=\"\",\"\",bksingh!GA14)","v":""},{"$f":"IF(bksingh!GB14=\"\",\"\",bksingh!GB14)","v":""},{"$f":"IF(E15=\"\",bksingh!GD14,\"\")","v":0},{"$f":"IF(bksingh!GC14=bksingh!$B$41,bksingh!GD14,\"\")","v":""}]
[11,{"$f":"IF(bksingh!GA15=\"\",\"\",bksingh!GA15)","v":""},{"$f":"IF(bksingh!GB15=\"\",\"\",bksingh!GB15)","v":""},{"$f":"IF(E16=\"\",bksingh!GD15,\"\")","v":0},{"$f":"IF(bksingh!GC15=bksingh!$B$41,bksingh!GD15,\"\")","v":""}]
[12,{"$f":"IF(bksingh!GA16=\"\",\"\",bksingh!GA16)","v":""},{"$f":"IF(bksingh!GB16=\"\",\"\",bksingh!GB16)","v":""},{"$f":"IF(E17=\"\",bksingh!GD16,\"\")","v":0},{"$f":"IF(bksingh!GC16=bksingh!$B$41,bksingh!GD16,\"\")","v":""}]
[13,{"$f":"IF(bksingh!GA17=\"\",\"\",bksingh!GA17)","v":""},{"$f":"IF(bksingh!GB17=\"\",\"\",bksingh!GB17)","v":""},{"$f":"IF(E18=\"\",bksingh!GD17,\"\")","v":0},{"$f":"IF(bksingh!GC17=bksingh!$B$41,bksingh!GD17,\"\")","v":""}]
[14,{"$f":"IF(bksingh!GA18=\"\",\"\",bksingh!GA18)","v":""},{"$f":"IF(bksingh!GB18=\"\",\"\",bksingh!GB18)","v":""},{"$f":"IF(E19=\"\",bksingh!GD18,\"\")","v":0},{"$f":"IF(bksingh!GC18=bksingh!$B$41,bksingh!GD18,\"\")","v":""}]
[15,{"$f":"IF(bksingh!GA19=\"\",\"\",bksingh!GA19)","v":""},{"$f":"IF(bksingh!GB19=\"\",\"\",bksingh!GB19)","v":""},{"$f":"IF(E20=\"\",bksingh!GD19,\"\")","v":0},{"$f":"IF(bksingh!GC19=bksingh!$B$41,bksingh!GD19,\"\")","v":""}]
[16,{"$f":"IF(bksingh!GA20=\"\",\"\",bksingh!GA20)","v":""},{"$f":"IF(bksingh!GB20=\"\",\"\",bksingh!GB20)","v":""},{"$f":"IF(E21=\"\",bksingh!GD20,\"\")","v":0},{"$f":"IF(bksingh!GC20=bksingh!$B$41,bksingh!GD20,\"\")","v":""}]
[17,{"$f":"IF(bksingh!GA21=\"\",\"\",bksingh!GA21)","v":""},{"$f":"IF(bksingh!GB21=\"\",\"\",bksingh!GB21)","v":""},{"$f":"IF(E22=\"\",bksingh!GD21,\"\")","v":0},{"$f":"IF(bksingh!GC21=bksingh!$B$41,bksingh!GD21,\"\")","v":""}]
[]
[]
[]
[{"$f":"bksingh!GA5","v":"A K Singh"},null,null,null,{"$f":"bksingh!CI5","v":"asdfasdf"}]
[{"$f":"bksingh!GB5","v":"Air Customs Superintendent"},null,null,null,{"$f":"bksingh!CJ5","v":"asdfasd"}]
[{"$f":"bksingh!B49","v":"Shift-D"},null,null,null,{"$f":"bksingh!B49","v":"Shift-D"}]

{"sheet":"fru","index":1,"n_rows":21,"n_cols":6,"rows_kept":21,"cut":false,"hidden":false,"merged":[[0,0,0,5],[1,0,1,5],[2,0,2,5],[3,0,3,5]]}
[{"$f":"duty!A1","v":"GOVERNMENT OF INDIA"}]
[{"$f":"duty!A2","v":"OFFICE OF THE ABC"}]
[{"$f":"duty!A3","v":"AIRPORT, NAIROBI, KENYA"}]
[{"$f":"\"FRU OF SHIFT-A FOR \"&bksingh!D42","v":"FRU OF SHIFT-A FOR 14-15.07.2020 (Night Shift)"}]
["Sl. No.","Flight"," No.","Coming from","Time","Name of officer"]
[1,{"$f":"bksingh!HA5","v":"AA"},{"$f":"bksingh!HB5","v":222},{"$f":"bksingh!HC5","v":"California"},{"$f":"bksingh!HD5","v":"12:50 hrs"},{"$f":"bksingh!HE5","v":"C K Singh"}]
[2,{"$f":"bksingh!HA6","v":"AC"},{"$f":"bksingh!HB6","v":556},{"$f":"bksingh!HC6","v":"Canada"},{"$f":"bksingh!HD6","v":"23:50 hrs."},{"$f":"bksingh!HE6","v":"A K Singh"}]
[3,{"$f":"bksingh!HA7","v":"AZ"},{"$f":"bksingh!HB7","v":896},{"$f":"bksingh!HC7","v":"New Zealand"},{"$f":"bksingh!HD7","v":"00:55 hrs."},{"$f":"bksingh!HE7","v":"H K Singh"}]
[4,{"$f":"bksingh!HA8","v":0},{"$f":"bksingh!HB8","v":0},{"$f":"bksingh!HC8","v":0},{"$f":"bksingh!HD8","v":0},{"$f":"bksingh!HE8","v":0}]
[5,{"$f":"bksingh!HA9","v":0},{"$f":"bksingh!HB9","v":0},{"$f":"bksingh!HC9","v":0},{"$f":"bksingh!HD9","v":0},{"$f":"bksingh!HE9","v":0}]
[6,{"$f":"bksingh!HA10","v":0},{"$f":"bksingh!HB10","v":0},{"$f":"bksingh!HC10","v":0},{"$f":"bksingh!HD10","v":0},{"$f":"bksingh!HE10","v":0}]
[7,{"$f":"bksingh!HA11","v":0},{"$f":"bksingh!HB11","v":0},{"$f":"bksingh!HC11","v":0},{"$f":"bksingh!HD11","v":0},{"$f":"bksingh!HE11","v":0}]
[8,{"$f":"bksingh!HA12","v":0},{"$f":"bksingh!HB12","v":0},{"$f":"bksingh!HC12","v":0},{"$f":"bksingh!HD12","v":0},{"$f":"bksingh!HE12","v":0}]
[9,{"$f":"bksingh!HA13","v":0},{"$f":"bksingh!HB13","v":0},{"$f":"bksingh!HC13","v":0},{"$f":"bksingh!HD13","v":0},{"$f":"bksingh!HE13","v":0}]
[10,{"$f":"bksingh!HA14","v":0},{"$f":"bksingh!HB14","v":0},{"$f":"bksingh!HC14","v":0},{"$f":"bksingh!HD14","v":0},{"$f":"bksingh!HE14","v":0}]
[]
[]
[]
[{"$f":"duty!A26","v":"A K Singh"},null,null,null,null,{"$f":"duty!E26","v":"asdfasdf"}]
[{"$f":"duty!A27","v":"Air Customs Superintendent"},null,null,null,null,{"$f":"duty!E27","v":"asdfasd"}]
[{"$f":"duty!A28","v":"Shift-D"},null,null,null,null,{"$f":"duty!E28","v":"Shift-D"}]

{"sheet":"bksingh","index":2,"n_rows":70,"n_cols":857,"rows_kept":70,"cut":false,"hidden":true,"merged":[[6177,5,6178,5],[5939,0,5940,0],[5939,1,5940,1],[5939,2,5940,2],[5939,3,5940,3],[5939,4,5940,4],[6177,0,6178,0],[6177,1,6178,1],[6177,2,6178,2],[6177,3,6178,3],[6177,4,6178,4],[4753,0,4754,0],[4753,1,4754,1],[4753,2,4754,2],[4753,3,4754,3],[4753,4,4754,4],[4364,0,4365,0],[4364,1,4365,1],[4364,2,4365,2],[4364,3,4365,3],[4364,4,4365,4],[2964,0,2965,0],[2964,1,2965,1],[2964,2,2965,2],[2964,3,2965,3],[2964,5,2965,5],[295,1,296,1],[295,2,296,2],[295,3,296,3],[295,4,296,4],[4753,5,4754,5]]}
[null,null,null,null,null,null,null,null,null,null,null,null,null,null,null,null,null,null,null,null,null,null,null,null,null,null,null,null,null,null,null,null,null,null,null,null,null,null,null,null,null,null,null,null,null,null,null,null,null,null,null,null,null,null,null,null,null,null,null,null,null,null,null,null,null,null,null,null,null,null,null,null,null,null,null,null,null,null,null,null,null,null,null,null,null,null,null,null,null,null,null,null,null,null,null,null,null,null,null,null,null,null,null,null,null,null,null,null,null,null,null,null,null,null,null,null,null,null,null,null,null,null,null,null,null,null,null,null,null,null,null,null,null,null,null,null,null,null,null,null,null,null,null,null,null,{"$f":"ROUND(DY5*EP5/100,0)","v":78899},null,null,null,null,null,null,null,null,null,null,null,null,null,null,null,null,null,null,null,null,null,null,null,null,null,null,null,null,null,null,null,null,null,null,null,null,null,null,null,null,null,null,null,null,null,null,null,null,null,null,null,null,null,null,null,null,null,null,null,null,null,null,null,null,null,null,null,null,null,null,null,null,null,null,null,null,null,null,null,null,null,null,null,null,null,null,null,null,null,null,null,null,null,null,null,null,null,null,null,null,null,null,null,null,null,null,null,null,null,null,null,null,null,null,null,null,null,null,null,null,null,null,null,null,null,null,null,null,null,null,null,null,null,null,null,null,null,null,null,null,null,null,null,null,null,null,null,null,null,null,null,null,null,null,null,null,null,null,null,null,null,null,null,null,"BP"]
[null,null,null,null,null,null,null,null,null,null,null,null,null,null,null,null,null,null,null,null,null,null,null,null,null,null,null,null,null,null,null,null,null,null,null,null,null,null,null,null,null,null,null,null,null,null,null,null,null,null,null,null,null,null,null,null,null,null,null,null,null,null,null,null,null,null,null,null,null,null,null,null,null,null,null,null,null,null,null,null,null,null,null,null,null,null,null,null,null,null,null,null,null,null,null,null,null,null,null,null,null,null,null,null,null,null,null,null,null,null,null,null,null,null,null,null,null,null,null,null,null,null,null,null,null,null,null,null,null,null,null,null,null,null,null,null,null,null,null,null,null,null,null,null,null,null,null,null,null,null,null,null,null,null,null,null,null,null,null,null,null,null,null,null,null,null,null,null,null,null,null,null,null,null,null,null,null,null,null,null,null,null,null,null,null,null,null,null,null,null,null,null,null,null,null,null,null,null,null,null,null,null,null,null,null,null,null,null,null,null,null,null,null,null,null,null,null,null,null,null,null,null,null,null,null,null,null,null,null,null,null,null,null,null,{"$f":"IA14","v":0},{"$f":"IB14","v":0},null,{"$f":"ID14","v":0},null,null,null,null,null,null,null,null,null,null,null,null,null,null,null,null,null,null,null,null,null,null,null,null,null,null,null,null,null,null,null,null,null,null,null,null,null,null,null,null,null,null,null,null,null,null,null,null,null,null,null,null,null,null,null,null,null,null,null,null,null,null,null,"summon",null,null,"Surity amount",null,"Bail amount",null,"Market value",null,"Customs duty",null,null,null,null,null,null,null,null,null,null,null,null,null,null,null,null,null,null,null,null,null,null,null,null,null,null,null,null,null,null,null,null,null,null,null,null,null,null,null,null,null,null,null,null,null,null,null,null,null,null,null,null,null,null,null,null,null,null,null,null,null,null,null,null,null,null,null,null,null,null,null,null,null,null,null,null,null,null,null,null,null,null,null,null,null,null,null,null,null,null,null,null,null,null,null,null,null,null,null,null,null,null,null,null,null,null,null,null,null,null,null,null,null,null,null,null,null,null,null,null,null,null,null,null,null,null,null,null,null,null,null,null,null,null,null,null,null,null,null,null,null,null,null,null,null,null,null,null,null,null,null,null,null,null,null,null,null,null,null,null,null,null,null,null,null,null,null,null,null,null,null,null,null,null,null,null,null,null,null,null,null,null,null,null,null,null,null,null,null,null,null,null,null,null,null,null,null,null,null,null,null,null,null,null,null,null,null,null,null,null,null,null,null,null,null,null,null,null,null,null,null,null,null,null,null,null,null,null,null,null,null,null,null,null,null,null,null,null,null,null,null,null,null,null,null,null,null,null,null,null,null,null,null,null,null,null,null,null,null,null,null,null,null,null,null,null,null,null,null,null,null,null,null,null,null,null,null,null,null,null,null,null,null,null,null,null,null,null,null,null,null,null,null,null,null,null,null,null,null,null,null,null,null,null,null,null,null,null,null,null,null,null,null,null,null,null,null,null,null,null,null,null,null,null,null,null,null,null,null,null,null,null,null,null,null,null,null,null,null,null,null,null,null,null,null,null,null,null,null,null,null,null,null,null,null,null,null,null,null,null,null,null,null,null,null,null,null,null,null,null,null,null,null,null,null,null,null,null,null,null,null,null,null,null,null,null,null,null,null,null,null,null,null,null,null,null,null,null,null,null,null,null,null,null,null,null,null,null,null,null,null,null,null,null,null,null,null,null,null,null,null,null,null,null,null,null,null,null,null,null,null,null,null,null,null,null,null,null,null,null,null,"Variables",null,null,null,null,null,null,null,null,null,null,null,null,null,null,null,null,null,null,null,null,null,null,null,null,null,null,null,null,null,null,null,null,null,null,null,null,null,null,null,null,null,null,null,null,null,null,null,null,null,null,null,null,null,"Name and address formatted for all pax"]
[null,null,null,null,null,null,null,null,null,null,null,null,null,null,null,null,null,null,null,null,null,null,null,null,null,"Pax details",null,null,null,null,null,null,null,null,null,null,null,null,null,null,null,null,"Pancha-1",null,null,"Pancha-2",null,null,"IO",null,"SIO",null,null,"Personal belonging",null,null,null,null,null,null,null,null,null,"Seizure",null,null,null,null,"Checklist",null,null,"Proceedings",null,null,null,"Panchanama","102 Notice","Office",null,null,"Bank",null,"Officers",null,null,null,null,null,"Seizure contd.",null,null,null,"US$ Exchange",null,null,null,"File","Customs Seal",null,"FAX",null,null,"Summon",null,"Conceal","Arrest",null,"Bailer",null,null,"Witness1",null,null,"Witness2",null,null,"Bail",null,"Reward",null,"Declaration Form",null,null,null,null,null,null,null,null,null,"Checkbox","P",null,null,null,null,null,null,null,null,null,"Declaration Form contd.",null,null,null,null,"Jail",null,null,"Medical",null,null,"Fix deposit",null,"Appraiser",null,"Statement",null,null,null,null,null,null,null,null,"Table-II","Panchnama",null,"Officers","Detained goods (checkbox)",null,null,null,null,null,null,null,null,null,"Seizure contd.",null,"Bailer (contd.)","Duty Sheet",null,null,null,null,null,"Reward contd.",null,"Statement contd.",null,null,null,null,"Detained goods (checkbox)",null,null,null,null,null,null,null,null,null,null,"Panchanama","FAX from","FRU",null,null,null,null,null,"Detained goods (checkbox)",null,null,null,null,null,null,null,null,null,null,null,"detained",null,null,null,null,"Appraisement",null,null,null,null,null,null,null,null,null,null,null,null,null,null,null,null,null,"Returned goods on the spot (checkbox)",null,null,null,null,null,null,null,null,null,"returned",null,"Airlines",null,null,null,null,null,null,null,null,"Returned goods on the spot (checkbox)",null,null,null,null,null,null,null,null,null,null,null,null,"returned","for",null,"Embassy",null,null,null,null,null,null,null,null,null,null,null,null,null,null,"Arrival/Departure",null,null,"Formatted value",null,"Formatted value",null,"Formatted value",null,"Formatted value",null,"Fix deposit contd.",null,null,null,null,null,null,null,"Bank",null,null,null,null,"trim","For FDR Surer",null,null,null,null,null,null,null,null,null,null,null,"seizure",null,null,null,null,null,null,null,null,null,null,null,null,null,null,null,null,null,null,null,null,null,null,null,null,null,"Statement contd.",null,null,null,null,null,null,null,null,null,null,null,null,null,null,null,null,null,null,null,null,null,null,null,null,null,"Notesheet",null,null,null,null,null,null,null,null,null,null,null,null,null,null,null,null,null,null,null,null,null,null,null,null,null,null,null,null,null,null,null,null,null,null,null,null,null,null,null,null,null,null,null,null,null,null,null,null,null,null,null,null,null,null,null,null,null,null,null,null,null,null,null,null,null,null,null,null,null,null,null,null,null,null,null,null,null,null,null,null,null,null,null,null,null,null,null,null,null,null,null,null,null,null,null,null,null,null,null,null,null,null,null,null,null,null,null,null,null,null,null,null,null,null,null,null,null,null,null,null,null,null,null,null,null,null,null,null,null,null,null,null,null,null,null,null,null,null,null,null,null,null,null,null,null,null,null,null,null,null,null,null,null,null,null,null,null,null,null,null,null,null,null,null,null,null,null,null,null,null,null,null,null,null,null,null,null,null,null,null,null,null,null,null,null,null,null,null,null,null,null,null,null,null,null,null,null,null,null,null,null,null,null,null,null,null,null,null,null,null,null,null,null,null,null,null,null,null,null,null,null,null,null,null,null,null,null,null,null,null,null,null,null,null,null,null,null,null,null,null,null,null,null,null,null,null,null,null,null,null,null,null,null,null,null,null,null,null,null,null,null,null,null,null,null,null,null,null,null,null,null,null,null,null,null,null,null,null,null,null,null,null,null,null,null,null,null,null,null,null,null,null,null,null,null,null,null,null,null,null,null,null,null,null,null,null,null,null,null,null,null,"PAX trim",null,null,null,null,null,null,null,null,null,null,null,null,null,null,null,null,null,null,null,null,null,null,null,null,null,"PAX if",null,null,null,null,null,null,null,null,null,null,null,null,null,null,null,null,null,null,null,null,null,null,"Departure","Male","One &","PAX for print",null,null,null,null,null,102,null,null,null,null,null,"FAX",null,null,null,null,null,"Press Release",null,null,null,null,null,null,null,"Personal belongings",null,null,null,null,null,null,null,null,null,null,null,null,null,null,null,null,null,null,null,null,null,null,null,null,null,"Arrest contd",null,null,null,null,null,null,null,null,null,null,null,null,null,null,null,null,null,null,null,null,null,null,null,null,null,"Jamatalashi",null,"Item"]
[null,null,null,null,null,null,null,null,null,null,null,null,null,null,null,null,null,null,null,null,null,null,null,null,null,"Total Pax","Pax name","Father/husband name","Address1","Address2","Country","Passport no.","Issued from","Issued on","Nationality","Date of birth","Male/Female","Occupation","Dt of dep/arr","Flight No.","Date","Dep/Arr","Pn1","pfhn1","pad1","pn2","pfhn2","pad2","name","Design","name","Design","Seat No.","Pitem1","Pitem2","Pitem3","Pitem4","Pitem5","Pitem6","Pitem7","Pitem8","Pitem9","Pitem10","Description","No.","Denomination","Total Foreign Currency","Total INR","Common",null,null,"Started at","On","Concluded at","on","Pages","Date","Name","Address","Address1","name","address","Commrnm","commrdesig","ADCnm","adcdesig","DCnm","dcdesig","No.","Date","Drno","Date","ntfnno","Date","Exch.rate","belongs","No.","One side","Another side","Name","desig","address","Date","Time","In","Date","Time","Name","Fhnm","Address","Name","Fhnm","Address","Name","Fhnm","Address","Amount","Date","Name","Designation","Name","Passport No.","Nationality","Date of Arrival","Flight No.","No. of Baggage","Country","Visited","Imported Value","Rate of duty",1,2,3,4,5,6,7,8,9,10,11,"Address","Receipt No.","Qty","Surcharge","totalduty","Supdt","Add","Subject","to","name of hospital","add","Amount","period","Name","Desig","Para1","Para2","Para3","Para4","Question","Answer","date","Reader","Pages","Packed","P1 occu","P2 occu","contact no.",1,2,3,4,5,6,7,8,9,10,"Goods","Foreign currency","PAN","Name","Designation","Last duty","Current duty",null,null,"Commrnate","division","from to","language","language interpreter","from","to",1,2,3,4,5,6,7,8,9,10,"Trim","interception","Designation","Carrier code","Flight No.","Coming from","Arrival Time","Officer",null,"was/were","Len",1,2,3,4,5,6,7,8,9,10,"Trim",null,null,null,null,"Report","Sl. No.","Pax","tariff value","market value","Description","weight","purity","app value","karat","rate in usd","exch rate","nno","ndt","mkt rate","app date","pax",null,1,2,3,4,5,6,7,8,9,10,"Trim",null,"Carrier Code","Airlines","Country","Carrier Code","Airline Code",null,null,null,null,"102 Detained","was/were","Len",1,2,3,4,5,6,7,8,9,10,"Trim","102 returned",102,"to","embassy of","address","sub","letter",null,null,null,null,null,null,null,null,null,null,"Gold/others",null,null,"len","value","len","value","len","value","len","value","Surer name","Father/husband name","Address1","Address2","Country","Passport no.","Issued from","Issued on","to","name","Address1","Address2","Nationality","For FDR","comp auth","PAN","FDR number",null,null,null,null,null,null,null,null,null,"1st para","2nd para",null,null,null,null,null,null,null,null,null,null,null,null,null,null,null,null,null,null,null,null,null,null,null,null,1,2,3,4,5,6,null,null,null,null,null,null,null,null,null,null,null,null,null,null,null,null,null,null,null,null,null,null,null,null,null,null,null,null,null,null,null,null,null,null,null,null,null,null,null,null,null,null,null,null,null,null,null,null,null,null,null,null,null,null,null,null,null,null,null,null,null,null,null,null,null,null,null,null,null,null,null,null,null,null,null,null,null,null,null,null,null,null,null,null,null,null,null,null,null,null,null,null,null,null,null,null,null,null,null,null,null,null,null,null,null,null,null,null,null,null,null,null,null,null,null,null,null,null,null,null,null,null,null,null,null,null,null,null,null,null,null,null,null,null,null,null,null,null,null,null,null,null,null,null,null,null,null,null,null,null,null,null,null,null,null,null,null,null,null,null,null,null,null,null,null,null,null,null,null,null,null,null,null,null,null,null,null,null,null,null,null,null,null,null,null,null,null,null,null,null,null,null,null,null,null,null,null,null,null,null,null,null,null,null,null,null,null,null,null,null,null,null,null,null,null,null,null,null,null,null,null,null,null,null,null,null,null,null,null,null,null,null,null,null,null,null,null,null,null,null,null,null,null,null,null,null,null,null,null,null,null,null,null,null,null,null,null,null,null,null,null,null,null,null,null,null,null,null,null,null,null,null,null,null,null,null,null,null,null,null,null,null,null,null,null,null,null,null,null,null,null,null,null,null,null,null,null,null,null,null,null,null,null,null,null,null,null,null,null,null,null,null,null,null,null,null,null,null,null,null,null,null,null,null,null,null,null,null,null,null,null,null,"Sl. No.","Pax name","Father/husband name","Address1","Address2","Country","Passport no.","Issued from","Issued on","Nationality","Date of birth",null,null,null,null,null,null,null,null,null,null,null,null,null,null,null,"Sl. No.","Pax name","Father/husband name","Address1","Address2","Country","Passport no.","Issued from","Issued on","Nationality","Date of birth",null,null,null,null,null,null,null,null,null,null,null,null,"case","Female","more","panchnama","Sl.no.with name",null,null,null,null,"notice",null,null,null,null,null,null,null,null,null,null,null,null,null,null,null,null,null,null,null,1,2,3,4,5,6,7,8,9,10,null,null,null,null,null,null,null,null,null,null,null,null,null,null,null,null,null,null,null,null,null,null,null,null,null,null,null,null,null,null,null,null,null,null,null,null,null,null,null,null,null,null,"Name","Passport No.",1,2,3,4,5,6,7,8,9,10,11,12,13,14,15,16,17,18,19,20,null,"1st para","2nd para"]
[null,null,null,null,null,null,null,null,null,null,null,null,null,null,null,null,null,null,null,null,null,null,null,null,null,{"$f":"COUNTA(AA5:AA34)","v":1},"asfsfsadf","sfasfafasfasfasdf","Park Road","Nairobi","Kenya","sfasfasfasdfas","Nairobi","02.03.2020","Kenyan","03.02.1994","Female","Business","02.03.2020","ET688","02.03.2019","arrived from Nairobi via Adis Abbaba","Ms. sdfasdfasdf","D/o sfasdfasdfasdfasdf","sdfdfjgjghjfgj","Mr. ffghfghfgh","fghfghfgh","fghfgh","asdf","sdfasdfasd","fasd","f","E26","Six cut pieces of gold collectively weighing 668 grams","Boarding Pass of Flight No.ET688 Dated 02.03.2019 Seat No.E26 arrived from Nairobi via Adis Abbaba","Kenyan Passport No.sfasfasfasdfas","sfasdfsdf","asdfasf","asdfasdfaf","Kenyan Currency-7100, USD-500, INR-1470","Personal Gold Jewellery",null,null,"Six cut pieces of gold collectively weighing 668 grams",null,null,21601.91,1695750,"Take signature of the pax on the body of 102 notice for conducting search.",null,null,"03:00 hrs.","02.03.2019","14:00 hrs.","05.03.2019",6,"06.04.2019","Office of the abc","Airport, Nairobi","Kenya","Central Bank","Nairobi, Kenya","adsfasfasf","sadsdfasdfasdf","sadfsadf","sf","asdfasdf","asdfasd",132,"02.02.2020",6565,"03.02.2020","30/2019-Cus(NT)","20.03.2019",78.5,"not to me and the same has been handed over to me by my 3 aunts namely Ms. Khadiza, Ms. Tosan & Ms. Duba. ","VIII(AP)10/P&I/","IGI","afdsasd","Shri salsfldfglasdf'glsdf'h","dfgsdf","ghsdfgh","08.04.2019","14:20 hrs.","in \"Burka\" and hair","08.04.2019","17:30 hrs.","Md. Iliash Hussain","S/o Md. Fakhruddin Hussain","D/3, Hussainibad, Kanpur Dehat, Uttar Pradesh","Md. Sulaiman Ansari","S/o Md. Bhulaiman Ansari","E/23, Rohingiabad, Luknow, Uttar Pradesh","Md. Rehan Alam","S/o Md. Rahafat Alam","R/34, Alambagh, Gonda, Uttar Pradesh",356000,"05.06.2020","ABC Singh","Commissioner","ik;jljl;kjkl;jl;vbvbbm,bh","oiu89u7890","Kenyan","02.03.2020","ET68855",1,"Kenya","China, UAE, Japan",204931.20000000001,35,"O","O","O","O","O","O","O","O","O","O","P","kljkljoiuiouj",69586,1,10,38.5,"The Jail Superintendent","Central Jail No.7, Tihar Jail, New Delhi","Produce the smugglers to the jail","The Medical Superintendent","Ram Manohar Lohia Hospital","B K Singh Marg, New Delhi",365000,"Three years","asd","f","fddfsgsdfgsdf","dfgsdg","dfg","dfg","dgdfgdfg","dgdfgdfg","02.03.2020","Ms. sdfasdfasdfasdf",5,"transperent plastic container and wrapped with transperent tape","Service","Service",12364867,"Six cut pieces of gold collectively weighing 668 grams","Boarding Pass of Flight No.ET688 Dated 05.04.2019 Seat No.E26 arrived from Nairobi via Addis Ababa",null,null,"One Used samsung galaxy note 3 mobile phone",null,null,null,null,null,"Gold","US Dollar","ABCDE1234F","A K Singh","Air Customs Superintendent","2020-04-03","Green Channel",null,null,"Customs Commissionerate, Terminal-3, IGI Airport, New Delhi",null,{"$f":"IF(GL5=\"\",\"\",\"and an \"&GL5&\"-\"&GM5&\" interpreter/translator\")","v":"and an English-Kenyan interpreter/translator"},"Chinese","Ms.sdfasdfasdfasdfas","English","Kenyan",1,2,null,null,5,null,null,null,null,null,{"$f":"TRIM(GN5&GO5&GP5&GQ5&GR5&GS5&GT5&GU5&GV5&GW5)","v":"125"},"suspicion","hjk","AA",222,"California","12:50 hrs","C K Singh",null,{"$f":"IF(HH5>1,\"were\",\"was\")","v":"were"},{"$f":"LEN(GX5)","v":3},{"$f":"IF($HH5>1,LEFT($GX5,1)&\", \",LEFT($GX5,1))","v":"1, "},{"$f":"IF($HH5>2,MID($GX5,2,1)&\", \",MID($GX5,2,1))","v":"2, "},{"$f":"IF($HH5>3,MID($GX5,3,1)&\", \",MID($GX5,3,1))","v":"5"},{"$f":"IF($HH5>4,MID($GX5,4,1)&\", \",MID($GX5,4,1))","v":""},{"$f":"IF($HH5>5,MID($GX5,5,1)&\", \",MID($GX5,5,1))","v":""},{"$f":"IF($HH5>6,MID($GX5,6,1)&\", \",MID($GX5,6,1))","v":""},{"$f":"IF($HH5>7,MID($GX5,7,1)&\", \",MID($GX5,7,1))","v":""},{"$f":"IF($HH5>8,MID($GX5,8,1)&\", \",MID($GX5,8,1))","v":""},{"$f":"IF($HH5>9,MID($GX5,9,1)&\", \",MID($GX5,9,1))","v":""},{"$f":"IF($HH5>10,MID($GX5,10,1)&\", \",MID($GX5,10,1))","v":""},{"$f":"TRIM(HI5&HJ5&HK5&HL5&HM5&HN5&HO5&HP5&HQ5&HR5)","v":"1, 2, 5"},null,null,null,null,{"$f":"\"Examined \"&LOWER(BL5)&\" recovered from passenger namely \"&TRIM(ABA5&ABB5&ABC5&ABD5&ABE5&ABF5&ABJ5&ABG5&ABI5&ABH5&\", \"&ACA6&\" \"&ACA7&\" \"&ACA8&\" \"&ACA9&\" \"&ACA10&\" \"&ACA11&\" \"&ACA12&\" \"&ACA13&\" \"&ACA14&\" \"&ACA15&\" \"&ACA16&\" \"&ACA17&\" \"&ACA18&\" \"&ACA19&\" \"&ACA20&\" \"&ACA21&\" \"&ACA22&\" \"&ACA23&\" \"&ACA24&\" \"&ACA25&\" \"&ACA26&\" \"&ACA27&\" \"&ACA28&\" \"&ACA29&\" \"&ACA30&\" \"&ACA31&\" \"&ACA32&\" \"&ACA33&\" \"&ACA34&ABZ5&AP5&\" by Flight No.\"&AN5&\" dated \"&AO5)&\" on \"&AM5&\" and found that it is made of Gold. The description, purity and weights mentioned as below:–\"","v":"Examined six cut pieces of gold collectively weighing 668 grams recovered from passenger namely asfsfsadf, sfasfafasfasfasdf, Park Road, Nairobi, Kenya, holder of Kenyan Passport bearing No.sfasfasfasdfas issued on 02.03.2020 at Nairobi, was arrived from Nairobi via Adis Abbaba by Flight No.ET688 dated 02.03.2019 on 02.03.2020 and found that it is made of Gold. The description, purity and weights mentioned as below:–"},null,null,null,null,"Six cut pieces of gold",668,999.5,1695750,21,417,69.45,"27/2019-Cus(NT)","06.04.2019",1847020,"29.03.2019","llkjkl",null,{"$f":"IF(BB5=FN5,\"\",1)","v":""},{"$f":"IF(BC5=FO5,\"\",2)","v":2},{"$f":"IF(BD5=FP5,\"\",3)","v":3},{"$f":"IF(BE5=FQ5,\"\",4)","v":4},{"$f":"IF(BF5=FR5,\"\",5)","v":5},{"$f":"IF(BG5=FS5,\"\",6)","v":6},{"$f":"IF(BH5=FT5,\"\",7)","v":7},{"$f":"IF(BI5=FU5,\"\",8)","v":8},{"$f":"IF(BJ5=FV5,\"\",9)","v":""},{"$f":"IF(BK5=FW5,\"\",10)","v":""},{"$f":"TRIM(IP5&IQ5&IR5&IS5&IT5&IU5&IV5&IW5&IX5&IY5)","v":"2345678"},null,"AA","AMERICAN AIRLINES INC.","U.S.A.","AAL",1,null,null,null,null,{"$f":"IF(HS5=\"\",\"\",\"The item mentioned at Sl. No.\"&HS5&\" above \"&HG5&\" detained for further investigation\")","v":"The item mentioned at Sl. No.1, 2, 5 above were detained for further investigation"},{"$f":"IF(JM5>1,\"were\",\"was\")","v":"were"},{"$f":"LEN(IZ5)","v":7},{"$f":"IF($JM5>1,LEFT($IZ5,1)&\", \",LEFT($IZ5,1))","v":"2, "},{"$f":"IF($JM5>2,MID($IZ5,2,1)&\", \",MID($IZ5,2,1))","v":"3, "},{"$f":"IF($JM5>3,MID($IZ5,3,1)&\", \",MID($IZ5,3,1))","v":"4, "},{"$f":"IF($JM5>4,MID($IZ5,4,1)&\", \",MID($IZ5,4,1))","v":"5, "},{"$f":"IF($JM5>5,MID($IZ5,5,1)&\", \",MID($IZ5,5,1))","v":"6, "},{"$f":"IF($JM5>6,MID($IZ5,6,1)&\", \",MID($IZ5,6,1))","v":"7, "},{"$f":"IF($JM5>7,MID($IZ5,7,1)&\", \",MID($IZ5,7,1))","v":"8"},{"$f":"IF($JM5>8,MID($IZ5,8,1)&\", \",MID($IZ5,8,1))","v":""},{"$f":"IF($JM5>9,MID($IZ5,9,1)&\", \",MID($IZ5,9,1))","v":""},{"$f":"IF($JM5>10,MID($IZ5,10,1)&\", \",MID($IZ5,10,1))","v":""},{"$f":"TRIM(JN5&JO5&JP5&JQ5&JR5&JS5&JT5&JU5&JV5&JW5)","v":"2, 3, 4, 5, 6, 7, 8"},{"$f":"IF(JX5=\"\",\".\",\" and court exhibits, the remaining item listed at Sl. No.\"&JX5&\" above \"&JL5&\" returned to the Pax on the spot.\")","v":" and court exhibits, the remaining item listed at Sl. No.2, 3, 4, 5, 6, 7, 8 above were returned to the Pax on the spot."},{"$f":"JK5&JY5","v":"The item mentioned at Sl. No.1, 2, 5 above were detained for further investigation and court exhibits, the remaining item listed at Sl. No.2, 3, 4, 5, 6, 7, 8 above were returned to the Pax on the spot."},"The High Commissioner","Kenyan High Commission","Nairobu, Kenya","Intimation regarding arrest of five citizen of Kenya and one citizen residing in kenya holding passport of sweden.",{"$f":"TRIM(\"It is informed that \"&Z5&\" \"&bksingh_fiw(Z5)&\" passenger namely \"&TRIM(ABA5&ABB5&ABC5&ABD5&ABE5&ABF5&ABJ5&ABG5&ABI5&ABH5&\", \"&ACA6&\" \"&ACA7&\" \"&ACA8&\" \"&ACA9&\" \"&ACA10&\" \"&ACA11&\" \"&ACA12&\" \"&ACA13&\" \"&ACA14&\" \"&ACA15&\" \"&ACA16&\" \"&ACA17&\" \"&ACA18&\" \"&ACA19&\" \"&ACA20&\" \"&ACA21&\" \"&ACA22&\" \"&ACA23&\" \"&ACA24&\" \"&ACA25&\" \"&ACA26&\" \"&ACA27&\" \"&ACA28&\" \"&ACA29&\" \"&ACA30&\" \"&ACA31&\" \"&ACA32&\" \"&ACA33&\" \"&ACA34&ABZ5&AP5&\" by Flight No.\"&AN5&\" dated \"&AO5)&\" have been arrested under Section 104 of the Customs Act, 1962 in respect of illegal possession \"&BL5&\" by the above said persons at \"&CA5&\", \"&CB5&\". It is also requested to confirm the authenticity of the said Passport (copy of passport enclosed) with intimation to this office.\")","v":"It is informed that 1 (one) passenger namely asfsfsadf, sfasfafasfasfasdf, Park Road, Nairobi, Kenya, holder of Kenyan Passport bearing No.sfasfasfasdfas issued on 02.03.2020 at Nairobi, was arrived from Nairobi via Adis Abbaba by Flight No.ET688 dated 02.03.2019 have been arrested under Section 104 of the Customs Act, 1962 in respect of illegal possession Six cut pieces of gold collectively weighing 668 grams by the above said persons at Airport, Nairobi, Kenya. It is also requested to confirm the authenticity of the said Passport (copy of passport enclosed) with intimation to this office."},null,null,null,null,null,null,null,null,null,null,{"$f":"IF(LEFT(AP5,3)=\"arr\",\"import of \"&LOWER(FX5),\"export of \"&LOWER(FX5))","v":"import of gold"},null,null,{"$f":"LEN(EW5)","v":6},{"$f":"IF(KS5<=3,EW5&\"/-\",IF(KS5=4,LEFT(EW5,1)&\",\"&RIGHT(EW5,3)&\"/-\",IF(KS5=5,LEFT(EW5,2)&\",\"&RIGHT(EW5,3)&\"/-\",IF(KS5=6,LEFT(EW5,1)&\",\"&MID(EW5,2,2)&\",\"&RIGHT(EW5,3)&\"/-\",IF(KS5=7,LEFT(EW5,2)&\",\"&MID(EW5,3,2)&\",\"&RIGHT(EW5,3)&\"/-\",IF(KS5=8,LEFT(EW5,1)&\",\"&MID(EW5,2,2)&\",\"&MID(EW5,4,2)&\",\"&RIGHT(EW5,3)&\"/-\",IF(KS5=9,LEFT(EW5,2)&\",\"&MID(EW5,3,2)&\",\"&MID(EW5,5,2)&\",\"&RIGHT(EW5,3)&\"/-\",IF(KS5=10,LEFT(EW5,3)&\",\"&MID(EW5,4,2)&\",\"&MID(EW5,6,2)&\",\"&RIGHT(EW5,3)&\"/-\",IF(KS5=11,LEFT(EW5,1)&\",\"&MID(EW5,2,3)&\",\"&MID(EW5,5,2)&\",\"&MID(EW5,7,2)&\",\"&RIGHT(EW5,3)&\"/-\",IF(KS5=12,LEFT(EW5,2)&\",\"&MID(EW5,3,3)&\",\"&MID(EW5,6,2)&\",\"&MID(EW5,8,2)&\",\"&RIGHT(EW5,3)&\"/-\",EW5))))))))))","v":"3,65,000/-"},{"$f":"LEN(DM5)","v":6},{"$f":"IF(KU5<=3,DM5&\"/-\",IF(KU5=4,LEFT(DM5,1)&\",\"&RIGHT(DM5,3)&\"/-\",IF(KU5=5,LEFT(DM5,2)&\",\"&RIGHT(DM5,3)&\"/-\",IF(KU5=6,LEFT(DM5,1)&\",\"&MID(DM5,2,2)&\",\"&RIGHT(DM5,3)&\"/-\",IF(KU5=7,LEFT(DM5,2)&\",\"&MID(DM5,3,2)&\",\"&RIGHT(DM5,3)&\"/-\",IF(KU5=8,LEFT(DM5,1)&\",\"&MID(DM5,2,2)&\",\"&MID(DM5,4,2)&\",\"&RIGHT(DM5,3)&\"/-\",IF(KU5=9,LEFT(DM5,2)&\",\"&MID(DM5,3,2)&\",\"&MID(DM5,5,2)&\",\"&RIGHT(DM5,3)&\"/-\",IF(KU5=10,LEFT(DM5,3)&\",\"&MID(DM5,4,2)&\",\"&MID(DM5,6,2)&\",\"&RIGHT(DM5,3)&\"/-\",IF(KU5=11,LEFT(DM5,1)&\",\"&MID(DM5,2,3)&\",\"&MID(DM5,5,2)&\",\"&MID(DM5,7,2)&\",\"&RIGHT(DM5,3)&\"/-\",IF(KU5=12,LEFT(DM5,2)&\",\"&MID(DM5,3,3)&\",\"&MID(DM5,6,2)&\",\"&MID(DM5,8,2)&\",\"&RIGHT(DM5,3)&\"/-\",DM5))))))))))","v":"3,56,000/-"},{"$f":"LEN(IL5)","v":7},{"$f":"IF(KW5<=3,IL5&\"/-\",IF(KW5=4,LEFT(IL5,1)&\",\"&RIGHT(IL5,3)&\"/-\",IF(KW5=5,LEFT(IL5,2)&\",\"&RIGHT(IL5,3)&\"/-\",IF(KW5=6,LEFT(IL5,1)&\",\"&MID(IL5,2,2)&\",\"&RIGHT(IL5,3)&\"/-\",IF(KW5=7,LEFT(IL5,2)&\",\"&MID(IL5,3,2)&\",\"&RIGHT(IL5,3)&\"/-\",IF(KW5=8,LEFT(IL5,1)&\",\"&MID(IL5,2,2)&\",\"&MID(IL5,4,2)&\",\"&RIGHT(IL5,3)&\"/-\",IF(KW5=9,LEFT(IL5,2)&\",\"&MID(IL5,3,2)&\",\"&MID(IL5,5,2)&\",\"&RIGHT(IL5,3)&\"/-\",IF(KW5=10,LEFT(IL5,3)&\",\"&MID(IL5,4,2)&\",\"&MID(IL5,6,2)&\",\"&RIGHT(IL5,3)&\"/-\",IF(KW5=11,LEFT(IL5,1)&\",\"&MID(IL5,2,3)&\",\"&MID(IL5,5,2)&\",\"&MID(IL5,7,2)&\",\"&RIGHT(IL5,3)&\"/-\",IF(KW5=12,LEFT(IL5,2)&\",\"&MID(IL5,3,3)&\",\"&MID(IL5,6,2)&\",\"&MID(IL5,8,2)&\",\"&RIGHT(IL5,3)&\"/-\",IL5))))))))))","v":"18,47,020/-"},{"$f":"LEN(IF5)","v":7},{"$f":"IF(KY5<=3,IF5&\"/-\",IF(KY5=4,LEFT(IF5,1)&\",\"&RIGHT(IF5,3)&\"/-\",IF(KY5=5,LEFT(IF5,2)&\",\"&RIGHT(IF5,3)&\"/-\",IF(KY5=6,LEFT(IF5,1)&\",\"&MID(IF5,2,2)&\",\"&RIGHT(IF5,3)&\"/-\",IF(KY5=7,LEFT(IF5,2)&\",\"&MID(IF5,3,2)&\",\"&RIGHT(IF5,3)&\"/-\",IF(KY5=8,LEFT(IF5,1)&\",\"&MID(IF5,2,2)&\",\"&MID(IF5,4,2)&\",\"&RIGHT(IF5,3)&\"/-\",IF(KY5=9,LEFT(IF5,2)&\",\"&MID(IF5,3,2)&\",\"&MID(IF5,5,2)&\",\"&RIGHT(IF5,3)&\"/-\",IF(KY5=10,LEFT(IF5,3)&\",\"&MID(IF5,4,2)&\",\"&MID(IF5,6,2)&\",\"&RIGHT(IF5,3)&\"/-\",IF(KY5=11,LEFT(IF5,1)&\",\"&MID(IF5,2,3)&\",\"&MID(IF5,5,2)&\",\"&MID(IF5,7,2)&\",\"&RIGHT(IF5,3)&\"/-\",IF(KY5=12,LEFT(IF5,2)&\",\"&MID(IF5,3,3)&\",\"&MID(IF5,6,2)&\",\"&MID(IF5,8,2)&\",\"&RIGHT(IF5,3)&\"/-\",IF5))))))))))","v":"16,95,750/-"},"Md. Salimullah Ansari","Md. Barkatullah Ansari","T/23, Ansaribagh, Varansi","Uttar Pradesh","India","AB22356","Lucknow","12.03.2018","The Branch Manager","Bank","Nairobi Kenya",null,"Indian",{"$f":"\"It is informed that \"&LA5&\", \"&LB5&\", \"&LC5&\", \"&LD5&\", \"&LE5&\",  holder of \"&LM5&\" Passport bearing No.\"&LF5&\" issued on \"&LH5&\" from \"&LG5&\", \"&LE5&\", whose signature is attested below, has agreed to become surer in seizure case against \"&AA5&\", \"&AB5&\", \"&AC5&\", \"&AD5&\", \"&AE5&\". A deposit of Rs.\"&KT5&\" (\"&bksingh_riw(EW5)&\") for a period of \"&LOWER(EX5)&\" may please be accepted from him in the name of the Hon'ble President of \"&LE5&\", through \"&CF5&\", \"&CA5&\", \"&CB5&\".\"","v":"It is informed that Md. Salimullah Ansari, Md. Barkatullah Ansari, T/23, Ansaribagh, Varansi, Uttar Pradesh, India,  holder of Indian Passport bearing No.AB22356 issued on 12.03.2018 from Lucknow, India, whose signature is attested below, has agreed to become surer in seizure case against asfsfsadf, sfasfafasfasfasdf, Park Road, Nairobi, Kenya. A deposit of Rs.3,65,000/- (Rupees three lac sixty five thousand  only) for a period of three years may please be accepted from him in the name of the Hon'ble President of India, through sadsdfasdfasdf, Airport, Nairobi, Kenya."},"Additional Commissioner of Customs","ASDEW4656D","FDRSBI465465DFE",null,null,null,null,null,null,null,null,null,{"$f":"\"The Pax namely \"&TRIM(ABB5&ABK5&ABC5&ABD5&ABE5&ABF5&ABJ5&ABG5&ABI5&ABH5&\", was \"&AP5&\" by Flight No.\"&AN5&\" dated \"&AO5&\" intercepted by the Customs Officer after \"&ABY5&\" had crossed the Green Channel and approaching towards the Exit Gate of the Arrival Hall of Airport. Detailed examination of baggage and personal search of the Pax, resulted in recovery of \"&IC5&\" (collectively weighing \"&ID5&\" grams.\")","v":"The Pax namely asfsfsadf, (DOB: 03.02.1994), sfasfafasfasfasdf, Park Road, Nairobi, Kenya, holder of Kenyan Passport bearing No.sfasfasfasdfas issued on 02.03.2020 at Nairobi, was arrived from Nairobi via Adis Abbaba by Flight No.ET688 dated 02.03.2019 intercepted by the Customs Officer after she had crossed the Green Channel and approaching towards the Exit Gate of the Arrival Hall of Airport. Detailed examination of baggage and personal search of the Pax, resulted in recovery of Six cut pieces of gold (collectively weighing 668 grams."},null,null,null,null,null,null,null,null,null,null,null,null,null,null,null,null,null,null,null,null,null,null,null,null,null,{"$f":"\"Statement of \"&TRIM(ABB5&ABK5&ABC5&ABD5&ABE5&ABF5&ABJ5&ABG5&ABI5&ABH5&\", was \"&AP5&\" by Flight No.\"&AN5&\" dated \"&AO5&\" recorded before the Air Customs Superintendent (Preventive) under Section 108 of the Customs Act, 1962 on \"&FG5&\".\")","v":"Statement of asfsfsadf, (DOB: 03.02.1994), sfasfafasfasfasdf, Park Road, Nairobi, Kenya, holder of Kenyan Passport bearing No.sfasfasfasdfas issued on 02.03.2020 at Nairobi, was arrived from Nairobi via Adis Abbaba by Flight No.ET688 dated 02.03.2019 recorded before the Air Customs Superintendent (Preventive) under Section 108 of the Customs Act, 1962 on 02.03.2020."},null,null,null,null,null,null,null,null,null,null,null,null,null,null,null,null,null,null,null,null,null,null,null,null,null,{"$f":"TRIM(\"On the basis of \"&GY5&\", the Customs Officers intercepted \"&Z5&\" \"&bksingh_fiw(Z5)&ABZ8&\" namely \"&ABA5&ABB5&ABC5&ABD5&ABE5&ABF5&ABJ5&ABG5&ABI5&ABH5&\", \"&ACA6&\" \"&ACA7&\" \"&ACA8&\" \"&ACA9&\" \"&ACA10&\" \"&ACA11&\" \"&ACA12&\" \"&ACA13&\" \"&ACA14&\" \"&ACA15&\" \"&ACA16&\" \"&ACA17&\" \"&ACA18&\" \"&ACA19&\" \"&ACA20&\" \"&ACA21&\" \"&ACA22&\" \"&ACA23&\" \"&ACA24&\" \"&ACA25&\" \"&ACA26&\" \"&ACA27&\" \"&ACA28&\" \"&ACA29&\" \"&ACA30&\" \"&ACA31&\" \"&ACA32&\" \"&ACA33&\" \"&ACA34&ABZ5&AP5&\" by Flight No.\"&AN5&\" dated \"&AO5&ABX7)","v":"On the basis of suspicion, the Customs Officers intercepted 1 (one) Pax namely asfsfsadf, sfasfafasfasfasdf, Park Road, Nairobi, Kenya, holder of Kenyan Passport bearing No.sfasfasfasdfas issued on 02.03.2020 at Nairobi, was arrived from Nairobi via Adis Abbaba by Flight No.ET688 dated 02.03.2019, while she has crossed the green channel and reaching towards the exit gate, diverted to X-Ray belt for scanning of baggage."},null,null,null,null,null,null,null,null,null,null,null,null,null,null,null,null,null,null,null,null,null,null,null,null,null,null,null,null,null,null,null,null,null,null,null,null,null,null,null,null,null,null,null,null,null,null,null,null,null,null,null,null,null,null,null,null,null,null,null,null,null,null,null,null,null,null,null,null,null,null,null,null,null,null,null,null,null,null,null,null,null,null,null,null,null,null,null,null,null,null,null,null,null,null,null,null,null,null,null,null,null,null,null,null,null,null,null,null,null,null,null,null,null,null,null,null,null,null,null,null,null,null,null,null,null,null,null,null,null,null,null,null,null,null,null,null,null,null,null,null,null,null,null,null,null,null,null,null,null,null,null,null,null,null,null,null,null,null,null,null,null,null,null,null,null,null,null,null,null,null,null,null,null,null,null,null,null,null,null,null,null,null,null,null,null,null,null,null,null,null,null,null,null,null,null,null,null,null,null,null,null,null,null,null,null,null,null,null,null,null,null,null,null,null,null,null,null,null,null,null,null,null,null,null,null,null,null,null,null,null,null,null,null,null,null,null,null,null,null,null,null,null,null,null,null,null,null,null,null,null,null,null,null,null,null,null,null,null,null,null,null,null,null,null,null,null,null,null,null,null,null,null,null,null,null,null,null,null,null,null,null,null,null,null,null,null,null,null,null,null,null,null,null,null,null,null,null,null,null,null,null,null,null,null,null,null,null,null,null,null,null,1,{"$f":"IF(AA5=\"\",\"\",AA5&\", \")","v":"asfsfsadf, "},{"$f":"IF(AB5=\"\",\"\",AB5&\", \")","v":"sfasfafasfasfasdf, "},{"$f":"IF(AC5=\"\",\"\",AC5&\", \")","v":"Park Road, "},{"$f":"IF(AD5=\"\",\"\",AD5&\", \")","v":"Nairobi, "},{"$f":"IF(AE5=\"\",\"\",AE5&\", \")","v":"Kenya, "},{"$f":"IF(AF5=\"\",\"\",AF5)","v":"sfasfasfasdfas"},{"$f":"IF(AG5=\"\",\"\",AG5)","v":"Nairobi"},{"$f":"IF(AH5=\"\",\"\",AH5)","v":"02.03.2020"},{"$f":"IF(AI5=\"\",\"\",AI5)","v":"Kenyan"},{"$f":"IF(AJ5=\"\",\"\",AJ5)","v":"03.02.1994"},null,null,null,null,null,null,null,null,null,null,null,null,null,null,null,{"$f":"IF(ABB6=\"\",\"\",AAA5&\".\")","v":""},{"$f":"IF(AAB5=\"\",\"\",AAB5)","v":"asfsfsadf, "},{"$f":"IF(AAC5=\"\",\"\",AAC5)","v":"sfasfafasfasfasdf, "},{"$f":"IF(AAD5=\"\",\"\",AAD5)","v":"Park Road, "},{"$f":"IF(AAE5=\"\",\"\",AAE5)","v":"Nairobi, "},{"$f":"IF(AAF5=\"\",\"\",AAF5)","v":"Kenya, "},{"$f":"IF(AAG5=\"\",\"\",\" Passport bearing No.\"&AAG5)","v":" Passport bearing No.sfasfasfasdfas"},{"$f":"IF(AAH5=\"\",\"\",\" at \"&AAH5)","v":" at Nairobi"},{"$f":"IF(AAI5=\"\",\"\",\" issued on \"&AAI5)","v":" issued on 02.03.2020"},{"$f":"IF(AAJ5=\"\",\"\",\" holder of \"&AAJ5)","v":" holder of Kenyan"},{"$f":"IF(AAK5=\"\",\"\",\"(DOB: \"&AAK5&\"), \")","v":"(DOB: 03.02.1994), "},null,null,null,null,null,null,null,null,null,null,null,null,{"$f":"IF(CA5=\"to be\",ABX6,\"\")","v":""},{"$f":"IF(AK5=\"Male\",\" he \",\" she \")","v":" she "},{"$f":"IF(ABB6=\"\",\" was \",\" were \")","v":" was "},{"$f":"\"We, the above named Panchas, having been called by the \"&AX5&\" (\"&AW5&\", whose identity was verified by us from his Photo Identity Card) presented ourselves in the Customs Preventive Cell situated at the \"&CA5&\" to witness the personal search and examination of baggage proceedings of passengers namely \"&TRIM(ABA5&ABB5&ABC5&ABD5&ABE5&ABF5&ABJ5&ABG5&ABI5&ABH5&\", \"&ACA6&\" \"&ACA7&\" \"&ACA8&\" \"&ACA9&\" \"&ACA10&\" \"&ACA11&\" \"&ACA12&\" \"&ACA13&\" \"&ACA14&\" \"&ACA15&\" \"&ACA16&\" \"&ACA17&\" \"&ACA18&\" \"&ACA19&\" \"&ACA20&\" \"&ACA21&\" \"&ACA22&\" \"&ACA23&\" \"&ACA24&\" \"&ACA25&\" \"&ACA26&\" \"&ACA27&\" \"&ACA28&\" \"&ACA29&\" \"&ACA30&\" \"&ACA31&\" \"&ACA32&\" \"&ACA33&\" \"&ACA34&ABZ5&AP5&\" by Flight No.\"&AN5&\" dated \"&AO5&\".\")","v":"We, the above named Panchas, having been called by the sdfasdfasd (asdf, whose identity was verified by us from his Photo Identity Card) presented ourselves in the Customs Preventive Cell situated at the Airport, Nairobi to witness the personal search and examination of baggage proceedings of passengers namely asfsfsadf, sfasfafasfasfasdf, Park Road, Nairobi, Kenya, holder of Kenyan Passport bearing No.sfasfasfasdfas issued on 02.03.2020 at Nairobi, was arrived from Nairobi via Adis Abbaba by Flight No.ET688 dated 02.03.2019."},{"$f":"TRIM(ABA5&ABB5)","v":"asfsfsadf,"},null,null,null,null,{"$f":"\"Whereas, \"&TRIM(ABB5&ABK5&ABC5&ABD5&ABE5&ABF5&ABJ5&ABG5&ABI5&ABH5&\", was \"&AP5&\" by Flight No.\"&AN5&\" dated \"&AO5&\".\")","v":"Whereas, asfsfsadf, (DOB: 03.02.1994), sfasfafasfasfasdf, Park Road, Nairobi, Kenya, holder of Kenyan Passport bearing No.sfasfasfasdfas issued on 02.03.2020 at Nairobi, was arrived from Nairobi via Adis Abbaba by Flight No.ET688 dated 02.03.2019."},null,null,null,null,null,{"$f":"UPPER(\"THE CUSTOMS PREVENTIVE OFFICERS OF \"&CA5&\" INTERCEPTED \"&Z5&\" \"&bksingh_fiw(Z5)&\" passengers namely, \"&TRIM(ABA5&ABB5&ABC5&ABD5&ABE5&ABF5&ABJ5&ABG5&ABI5&ABH5&\", \"&ACA6&\" \"&ACA7&\" \"&ACA8&\" \"&ACA9&\" \"&ACA10&\" \"&ACA11&\" \"&ACA12&\" \"&ACA13&\" \"&ACA14&\" \"&ACA15&\" \"&ACA16&\" \"&ACA17&\" \"&ACA18&\" \"&ACA19&\" \"&ACA20&\" \"&ACA21&\" \"&ACA22&\" \"&ACA23&\" \"&ACA24&\" \"&ACA25&\" \"&ACA26&\" \"&ACA27&\" \"&ACA28&\" \"&ACA29&\" \"&ACA30&\" \"&ACA31&\" \"&ACA32&\" \"&ACA33&\" \"&ACA34&ABZ5&AP5&\" by Flight No.\"&AN5&\" dated \"&AO5&\".\"))","v":"THE CUSTOMS PREVENTIVE OFFICERS OF AIRPORT, NAIROBI INTERCEPTED 1 (ONE) PASSENGERS NAMELY, ASFSFSADF, SFASFAFASFASFASDF, PARK ROAD, NAIROBI, KENYA, HOLDER OF KENYAN PASSPORT BEARING NO.SFASFASFASDFAS ISSUED ON 02.03.2020 AT NAIROBI, WAS ARRIVED FROM NAIROBI VIA ADIS ABBABA BY FLIGHT NO.ET688 DATED 02.03.2019."},null,null,null,null,null,{"$f":"TRIM(\"The Customs Officers of \"&CA5&\" intercepted \"&Z5&\" \"&bksingh_fiw(Z5)&ABZ8&AP5&\" by Flight No.\"&AN5&\" dated \"&AO5&\" at \"&CA5&\" on \"&AM5&\". A detailed personal and Baggage search of the \"&ABZ8&\" resulted in the recovery of \"&LOWER(BL5)&\". Further, the said recovered items/Gold  has been seized under Section 110 of the Customs Act, 1962.\")","v":"The Customs Officers of Airport, Nairobi intercepted 1 (one) Pax arrived from Nairobi via Adis Abbaba by Flight No.ET688 dated 02.03.2019 at Airport, Nairobi on 02.03.2020. A detailed personal and Baggage search of the Pax resulted in the recovery of six cut pieces of gold collectively weighing 668 grams. Further, the said recovered items/Gold has been seized under Section 110 of the Customs Act, 1962."},{"$f":"\"The market value of the said Gold works out to be Rs.\"&KZ5&\" (\"&bksingh_riw(IF5)&\"). The \"&ABZ8&ABZ6&\"been placed under arrest under the provisions of Section 104 of the Customs Act, 1962. Further investigation is under progress.\"","v":"The market value of the said Gold works out to be Rs.16,95,750/- (Rupees sixteen lacs ninety five thousand seven hundred fifty only). The  Pax  has been placed under arrest under the provisions of Section 104 of the Customs Act, 1962. Further investigation is under progress."},null,null,null,null,null,null,{"$f":"IF(BB5=\"\",\"\",\"1. \"&BB5&\".\")","v":"1. Six cut pieces of gold collectively weighing 668 grams."},{"$f":"IF(BC5=\"\",\"\",\"2. \"&BC5&\".\")","v":"2. Boarding Pass of Flight No.ET688 Dated 02.03.2019 Seat No.E26 arrived from Nairobi via Adis Abbaba."},{"$f":"IF(BD5=\"\",\"\",\"3. \"&BD5&\".\")","v":"3. Kenyan Passport No.sfasfasfasdfas."},{"$f":"IF(BE5=\"\",\"\",\"4. \"&BE5&\".\")","v":"4. sfasdfsdf."},{"$f":"IF(BF5=\"\",\"\",\"5. \"&BF5&\".\")","v":"5. asdfasf."},{"$f":"IF(BG5=\"\",\"\",\"6. \"&BG5&\".\")","v":"6. asdfasdfaf."},{"$f":"IF(BH5=\"\",\"\",\"7. \"&BH5&\".\")","v":"7. Kenyan Currency-7100, USD-500, INR-1470."},{"$f":"IF(BI5=\"\",\"\",\"8. \"&BI5&\".\")","v":"8. Personal Gold Jewellery."},{"$f":"IF(BJ5=\"\",\"\",\"9. \"&BJ5&\".\")","v":""},{"$f":"IF(BK5=\"\",\"\",\"10. \"&BK5&\".\")","v":""},null,null,null,null,null,null,null,null,null,null,null,null,null,null,null,null,{"$f":"TRIM(ABA5&ABB5&ABC5&ABD5&ABE5&ABF5&ABJ5&ABG5&ABI5&ABH5&\", \")","v":"asfsfsadf, sfasfafasfasfasdf, Park Road, Nairobi, Kenya, holder of Kenyan Passport bearing No.sfasfasfasdfas issued on 02.03.2020 at Nairobi,"},{"$f":"\"Consequent upon the seizure of \"&LOWER(BL5)&\" under Section 110 of Customs Act, 1962 from following \"&Z5&\" \"&bksingh_fiw(Z5)&ABZ9&\":\"","v":"Consequent upon the seizure of six cut pieces of gold collectively weighing 668 grams under Section 110 of Customs Act, 1962 from following 1 (one) passenger :"},null,null,null,null,null,null,null,null,null,null,null,null,null,null,null,null,null,null,null,null,null,null,null,null,{"$f":"IF(AA5=\"\",\"\",AA5)","v":"asfsfsadf"},{"$f":"IF(AF5=\"\",\"\",AF5)","v":"sfasfasfasdfas"},{"$f":"IF(DB5=\"\",\"\",\"Copy of Arrest Memo dated \"&DB5&\".\")","v":"Copy of Arrest Memo dated 08.04.2019."},{"$f":"IF(BU5=\"\",\"\",\"Copy of Panchnama dated \"&BU5&\".\")","v":"Copy of Panchnama dated 02.03.2019."},{"$f":"IF(BY5=\"\",\"\",\"Notice issued on \"&BY5&\" under Section 102 of the Customs Act, 1962.\")","v":"Notice issued on 06.04.2019 under Section 102 of the Customs Act, 1962."},{"$f":"IF(CY5=\"\",\"\",\"Summon dated \"&CY5&\".\")","v":"Summon dated 08.04.2019."},{"$f":"IF(CM5=\"\",\"\",\"Copy of Detention Receipt No.\"&CM5&\" dated \"&CN5&\".\")","v":"Copy of Detention Receipt No.6565 dated 03.02.2020."},{"$f":"IF(CL5=\"\",\"\",\"Copy of Seizure Memo dated \"&CL5&\".\")","v":"Copy of Seizure Memo dated 02.02.2020."},{"$f":"IF(BB5=\"\",\"\",BB5)","v":"Six cut pieces of gold collectively weighing 668 grams"},{"$f":"IF(BC5=\"\",\"\",BC5&\".\")","v":"Boarding Pass of Flight No.ET688 Dated 02.03.2019 Seat No.E26 arrived from Nairobi via Adis Abbaba."},"Kenyan Passport No.sfasfasfasdfas.","sfasdfsdf.","asdfasf.","asdfasdfaf.","Kenyan Currency-7100, USD-500, INR-1470.","Personal Gold Jewellery.","","",null,null,null,null,null,{"$f":"\"Consequent upon the seizure of \"&LOWER(AFI5)&\", under Section 110 of Customs Act, 1962 from  \"&AA5&\", \"&AB5&\", \"&AC5&\" \"&AD5&\", \"&AE5&\", holder of \"&AI5&\" Passport No.\"&AF5&\" issued on \"&AH5&\" at \"&AG5&\" was \"&AP5&\" by Flight No.\"&AN5&\" dated \"&AO5&\", it is transpired that aforesaid \"&AFA5&\" conspired and has committed an offence punishable under Section 132 and 135 of the Customs Act, 1962.\"","v":"Consequent upon the seizure of six cut pieces of gold collectively weighing 668 grams, under Section 110 of Customs Act, 1962 from  asfsfsadf, sfasfafasfasfasdf, Park Road Nairobi, Kenya, holder of Kenyan Passport No.sfasfasfasdfas issued on 02.03.2020 at Nairobi was arrived from Nairobi via Adis Abbaba by Flight No.ET688 dated 02.03.2019, it is transpired that aforesaid asfsfsadf conspired and has committed an offence punishable under Section 132 and 135 of the Customs Act, 1962."},{"$f":"TRIM(\"Following the deliberations emerged by the voluntary statement given by \"&AFA5&\" on \"&FG5&\", and other factors transpiring into smuggle of gold in to India, \"&ABY5&\"has committed an offence punishable under Section 132 and 135 of the Customs Act, 1962. Therefore, the aforesaid \"&AFA5&\" has been placed under arrest on \"&DB5&\" at \"&DC5&\" under Section 104 of the Customs Act, 1962 and \"&ABY5&\" has been explained the grounds of arrest.\")","v":"Following the deliberations emerged by the voluntary statement given by asfsfsadf on 02.03.2020, and other factors transpiring into smuggle of gold in to India, she has committed an offence punishable under Section 132 and 135 of the Customs Act, 1962. Therefore, the aforesaid asfsfsadf has been placed under arrest on 08.04.2019 at 17:30 hrs. under Section 104 of the Customs Act, 1962 and she has been explained the grounds of arrest."}]
[null,null,null,null,null,null,null,null,null,null,null,null,null,null,null,null,null,null,null,null,null,null,null,null,null,null,null,null,null,null,null,null,null,null,null,null,null,null,null,null,null,null,null,null,null,null,null,null,null,null,null,null,null,null,null,null,null,null,null,null,null,null,null,null,null,null,null,null,"Take pregnancy test kit when female smugglers sending to jail, as jail official desired the same.",null,null,null,null,null,null,null,null,null,null,null,null,null,null,null,null,null,null,null,null,null,null,null,null,null,null,null,null,null,null,"rtyghdfjhdf","fgrfyuiyikjh","fgkklk",null,null,null,null,null,null,null,null,null,null,null,null,null,null,null,null,null,null,null,null,null,null,null,null,null,null,null,null,null,null,null,null,null,null,null,null,null,null,"LED TV (0037001010201)*",null,null,null,null,{"$f":"EA6&EB6&EC6&ED6&EE6&EF6&EG6&EH6&EI6&EJ6&EK6","v":"LED TV (0037001010201)*"},null,null,null,null,null,null,365000,"Three years",null,null,null,null,null,null,"dgdfgdfgdfgdfg","dfg",null,null,null,null,null,null,null,null,null,null,null,null,null,null,null,null,null,null,null,null,"C K Singh","Air Customs Superintendent","2020-04-03","Red Channel",null,null,null,null,{"$f":"IF(GL5=\"\",\"\",\", \"&GL5&\"-\"&GM5&\" interpreter/translator\")","v":", English-Kenyan interpreter/translator"},"Spanish",null,null,null,null,2,3,4,null,null,null,null,null,null,"234",null,null,"AC",556,"Canada","23:50 hrs.","A K Singh",null,{"$f":"IF(HH6>1,\"were\",\"was\")","v":"were"},{"$f":"LEN(GX6)","v":3},{"$f":"IF($HH6>1,LEFT($GX6,1)&\", \",LEFT($GX6,1))","v":"2, "},{"$f":"IF($HH6>2,MID($GX6,2,1)&\", \",MID($GX6,2,1))","v":"3, "},{"$f":"IF($HH6>3,MID($GX6,3,1)&\", \",MID($GX6,3,1))","v":"4"},{"$f":"IF($HH6>4,MID($GX6,4,1)&\", \",MID($GX6,4,1))","v":""},{"$f":"IF($HH6>5,MID($GX6,5,1)&\", \",MID($GX6,5,1))","v":""},{"$f":"IF($HH6>6,MID($GX6,6,1)&\", \",MID($GX6,6,1))","v":""},{"$f":"IF($HH6>7,MID($GX6,7,1)&\", \",MID($GX6,7,1))","v":""},{"$f":"IF($HH6>8,MID($GX6,8,1)&\", \",MID($GX6,8,1))","v":""},{"$f":"IF($HH6>9,MID($GX6,9,1)&\", \",MID($GX6,9,1))","v":""},{"$f":"IF($HH6>10,MID($GX6,10,1)&\", \",MID($GX6,10,1))","v":""},{"$f":"TRIM(HI6&HJ6&HK6&HL6&HM6&HN6&HO6&HP6&HQ6&HR6)","v":"2, 3, 4"},null,null,null,null,null,null,null,null,null,null,null,null,null,null,null,null,null,null,null,null,null,null,{"$f":"IF(BB6=FN6,\"\",1)","v":""},{"$f":"IF(BC6=FO6,\"\",2)","v":""},{"$f":"IF(BD6=FP6,\"\",3)","v":""},{"$f":"IF(BE6=FQ6,\"\",4)","v":""},{"$f":"IF(BF6=FR6,\"\",5)","v":""},{"$f":"IF(BG6=FS6,\"\",6)","v":""},{"$f":"IF(BH6=FT6,\"\",7)","v":""},{"$f":"IF(BI6=FU6,\"\",8)","v":""},{"$f":"IF(BJ6=FV6,\"\",9)","v":""},{"$f":"IF(BK6=FW6,\"\",10)","v":""},{"$f":"TRIM(IP6&IQ6&IR6&IS6&IT6&IU6&IV6&IW6&IX6&IY6)","v":""},null,"AC","AIR CANADA","CANADA","ACA",14,null,null,null,null,{"$f":"IF(HS6=\"\",\"\",\"The item mentioned at Sl. No.\"&HS6&\" above \"&HG6&\" detained for further investigation\")","v":"The item mentioned at Sl. No.2, 3, 4 above were detained for further investigation"},{"$f":"IF(JM6>1,\"were\",\"was\")","v":"was"},{"$f":"LEN(IZ6)","v":0},{"$f":"IF($JM6>1,LEFT($IZ6,1)&\", \",LEFT($IZ6,1))","v":""},{"$f":"IF($JM6>2,MID($IZ6,2,1)&\", \",MID($IZ6,2,1))","v":""},{"$f":"IF($JM6>3,MID($IZ6,3,1)&\", \",MID($IZ6,3,1))","v":""},{"$f":"IF($JM6>4,MID($IZ6,4,1)&\", \",MID($IZ6,4,1))","v":""},{"$f":"IF($JM6>5,MID($IZ6,5,1)&\", \",MID($IZ6,5,1))","v":""},{"$f":"IF($JM6>6,MID($IZ6,6,1)&\", \",MID($IZ6,6,1))","v":""},{"$f":"IF($JM6>7,MID($IZ6,7,1)&\", \",MID($IZ6,7,1))","v":""},{"$f":"IF($JM6>8,MID($IZ6,8,1)&\", \",MID($IZ6,8,1))","v":""},{"$f":"IF($JM6>9,MID($IZ6,9,1)&\", \",MID($IZ6,9,1))","v":""},{"$f":"IF($JM6>10,MID($IZ6,10,1)&\", \",MID($IZ6,10,1))","v":""},{"$f":"TRIM(JN6&JO6&JP6&JQ6&JR6&JS6&JT6&JU6&JV6&JW6)","v":""},{"$f":"IF(JX6=\"\",\".\",\" and court exhibits, the remaining item listed at Sl. No.\"&JX6&\" above \"&JL6&\" returned to the Pax on the spot.\")","v":"."},{"$f":"JK6&JY6","v":"The item mentioned at Sl. No.2, 3, 4 above were detained for further investigation."},null,null,null,null,null,null,null,null,null,null,null,null,null,null,null,null,null,null,{"$f":"LEN(EW6)","v":6},{"$f":"IF(KS6<=3,EW6&\"/-\",IF(KS6=4,LEFT(EW6,1)&\",\"&RIGHT(EW6,3)&\"/-\",IF(KS6=5,LEFT(EW6,2)&\",\"&RIGHT(EW6,3)&\"/-\",IF(KS6=6,LEFT(EW6,1)&\",\"&MID(EW6,2,2)&\",\"&RIGHT(EW6,3)&\"/-\",IF(KS6=7,LEFT(EW6,2)&\",\"&MID(EW6,3,2)&\",\"&RIGHT(EW6,3)&\"/-\",IF(KS6=8,LEFT(EW6,1)&\",\"&MID(EW6,2,2)&\",\"&MID(EW6,4,2)&\",\"&RIGHT(EW6,3)&\"/-\",IF(KS6=9,LEFT(EW6,2)&\",\"&MID(EW6,3,2)&\",\"&MID(EW6,5,2)&\",\"&RIGHT(EW6,3)&\"/-\",IF(KS6=10,LEFT(EW6,3)&\",\"&MID(EW6,4,2)&\",\"&MID(EW6,6,2)&\",\"&RIGHT(EW6,3)&\"/-\",IF(KS6=11,LEFT(EW6,1)&\",\"&MID(EW6,2,3)&\",\"&MID(EW6,5,2)&\",\"&MID(EW6,7,2)&\",\"&RIGHT(EW6,3)&\"/-\",IF(KS6=12,LEFT(EW6,2)&\",\"&MID(EW6,3,3)&\",\"&MID(EW6,6,2)&\",\"&MID(EW6,8,2)&\",\"&RIGHT(EW6,3)&\"/-\",EW6))))))))))","v":"3,65,000/-"},{"$f":"LEN(DM6)","v":0},{"$f":"IF(KU6<=3,DM6&\"/-\",IF(KU6=4,LEFT(DM6,1)&\",\"&RIGHT(DM6,3)&\"/-\",IF(KU6=5,LEFT(DM6,2)&\",\"&RIGHT(DM6,3)&\"/-\",IF(KU6=6,LEFT(DM6,1)&\",\"&MID(DM6,2,2)&\",\"&RIGHT(DM6,3)&\"/-\",IF(KU6=7,LEFT(DM6,2)&\",\"&MID(DM6,3,2)&\",\"&RIGHT(DM6,3)&\"/-\",IF(KU6=8,LEFT(DM6,1)&\",\"&MID(DM6,2,2)&\",\"&MID(DM6,4,2)&\",\"&RIGHT(DM6,3)&\"/-\",IF(KU6=9,LEFT(DM6,2)&\",\"&MID(DM6,3,2)&\",\"&MID(DM6,5,2)&\",\"&RIGHT(DM6,3)&\"/-\",IF(KU6=10,LEFT(DM6,3)&\",\"&MID(DM6,4,2)&\",\"&MID(DM6,6,2)&\",\"&RIGHT(DM6,3)&\"/-\",IF(KU6=11,LEFT(DM6,1)&\",\"&MID(DM6,2,3)&\",\"&MID(DM6,5,2)&\",\"&MID(DM6,7,2)&\",\"&RIGHT(DM6,3)&\"/-\",IF(KU6=12,LEFT(DM6,2)&\",\"&MID(DM6,3,3)&\",\"&MID(DM6,6,2)&\",\"&MID(DM6,8,2)&\",\"&RIGHT(DM6,3)&\"/-\",DM6))))))))))","v":"/-"},{"$f":"LEN(IL6)","v":0},{"$f":"IF(KW6<=3,IL6&\"/-\",IF(KW6=4,LEFT(IL6,1)&\",\"&RIGHT(IL6,3)&\"/-\",IF(KW6=5,LEFT(IL6,2)&\",\"&RIGHT(IL6,3)&\"/-\",IF(KW6=6,LEFT(IL6,1)&\",\"&MID(IL6,2,2)&\",\"&RIGHT(IL6,3)&\"/-\",IF(KW6=7,LEFT(IL6,2)&\",\"&MID(IL6,3,2)&\",\"&RIGHT(IL6,3)&\"/-\",IF(KW6=8,LEFT(IL6,1)&\",\"&MID(IL6,2,2)&\",\"&MID(IL6,4,2)&\",\"&RIGHT(IL6,3)&\"/-\",IF(KW6=9,LEFT(IL6,2)&\",\"&MID(IL6,3,2)&\",\"&MID(IL6,5,2)&\",\"&RIGHT(IL6,3)&\"/-\",IF(KW6=10,LEFT(IL6,3)&\",\"&MID(IL6,4,2)&\",\"&MID(IL6,6,2)&\",\"&RIGHT(IL6,3)&\"/-\",IF(KW6=11,LEFT(IL6,1)&\",\"&MID(IL6,2,3)&\",\"&MID(IL6,5,2)&\",\"&MID(IL6,7,2)&\",\"&RIGHT(IL6,3)&\"/-\",IF(KW6=12,LEFT(IL6,2)&\",\"&MID(IL6,3,3)&\",\"&MID(IL6,6,2)&\",\"&MID(IL6,8,2)&\",\"&RIGHT(IL6,3)&\"/-\",IL6))))))))))","v":"/-"},{"$f":"LEN(IF6)","v":0},{"$f":"IF(KY6<=3,IF6&\"/-\",IF(KY6=4,LEFT(IF6,1)&\",\"&RIGHT(IF6,3)&\"/-\",IF(KY6=5,LEFT(IF6,2)&\",\"&RIGHT(IF6,3)&\"/-\",IF(KY6=6,LEFT(IF6,1)&\",\"&MID(IF6,2,2)&\",\"&RIGHT(IF6,3)&\"/-\",IF(KY6=7,LEFT(IF6,2)&\",\"&MID(IF6,3,2)&\",\"&RIGHT(IF6,3)&\"/-\",IF(KY6=8,LEFT(IF6,1)&\",\"&MID(IF6,2,2)&\",\"&MID(IF6,4,2)&\",\"&RIGHT(IF6,3)&\"/-\",IF(KY6=9,LEFT(IF6,2)&\",\"&MID(IF6,3,2)&\",\"&MID(IF6,5,2)&\",\"&RIGHT(IF6,3)&\"/-\",IF(KY6=10,LEFT(IF6,3)&\",\"&MID(IF6,4,2)&\",\"&MID(IF6,6,2)&\",\"&RIGHT(IF6,3)&\"/-\",IF(KY6=11,LEFT(IF6,1)&\",\"&MID(IF6,2,3)&\",\"&MID(IF6,5,2)&\",\"&MID(IF6,7,2)&\",\"&RIGHT(IF6,3)&\"/-\",IF(KY6=12,LEFT(IF6,2)&\",\"&MID(IF6,3,3)&\",\"&MID(IF6,6,2)&\",\"&MID(IF6,8,2)&\",\"&RIGHT(IF6,3)&\"/-\",IF6))))))))))","v":"/-"},"Md. Salimullah Ansari","Md. Barkatullah Ansari","T/23, Ansaribagh, Varansi","Uttar Pradesh","India","AB22356","Lucknow","12.03.2018",null,null,null,null,"Indian",{"$f":"\"This FDR should not be transferred/released without the permission of the Competent Authority i.e. the \"&LO5&\", \"&CA5&\", \"&CB5&\".\"","v":"This FDR should not be transferred/released without the permission of the Competent Authority i.e. the Additional Commissioner of Customs, Airport, Nairobi, Kenya."},"Additional Commissioner of Customs","ASDEW4656D","FDRSBI465465DFE",null,null,null,null,null,null,null,null,null,{"$f":"\"The said goods are seized today under Panchnama dated \"&BU5&\" in the presence of the Pax & two independent witnesses. The illegally imported seized goods being not the bonafide baggage are liable for confiscation under the provisions of Customs Act, 1962 \"&\"as the same were attempted to clear from the Customs Area by the Pax without declaring the same to the Proper Officer of Customs and without payment of Customs Duty.\"","v":"The said goods are seized today under Panchnama dated 02.03.2019 in the presence of the Pax & two independent witnesses. The illegally imported seized goods being not the bonafide baggage are liable for confiscation under the provisions of Customs Act, 1962 as the same were attempted to clear from the Customs Area by the Pax without declaring the same to the Proper Officer of Customs and without payment of Customs Duty."},null,null,null,null,null,null,null,null,null,null,null,null,null,null,null,null,null,null,null,null,null,null,null,null,null,{"$f":"FA5","v":"fddfsgsdfgsdf"},null,null,null,null,null,null,null,null,null,null,null,null,null,null,null,null,null,null,null,null,null,null,null,null,null,{"$f":"TRIM(\"On being asked whether \"&ABZ10&ABZ5&\" carrying any dutiable goods or Gold, to which\"&ABZ10&\"replied in negative. Then, to ascertain the correctness and truthfulness of\"&ABZ11&\"submissions\"&ABZ10&ABZ5&\"requested to get\"&ABZ11&\"respective\"&ABZ12&\"scanned through the X-Ray Machine installed at the Green Channel of \"&CA5&\". During the scanning of\"&ABZ11&\"respective\"&ABZ12&\"no suspicious images\"&ABZ5&\"observed. Further,\"&ABZ10&ABZ5&\"requested to pass through the Door Frame Metal Detector (DFMD) installed at the International Arrival Hall of \"&CA5&\" for \"&ABZ12&\"their personal screening after removal of all metallic items from\"&ABZ11&\"person. While passing them through the DFMD, loud beep sound were heard. The\"&ABZ8&ABZ5&\"once again asked whether\"&ABZ10&ABZ5&\"carrying any dutiable goods or gold to which\"&ABZ10&\"again replied in negative.\")","v":"On being asked whether she was carrying any dutiable goods or Gold, to which she replied in negative. Then, to ascertain the correctness and truthfulness of his/her submissions she was requested to get his/her respective bag scanned through the X-Ray Machine installed at the Green Channel of Airport, Nairobi. During the scanning of his/her respective bag no suspicious images was observed. Further, she was requested to pass through the Door Frame Metal Detector (DFMD) installed at the International Arrival Hall of Airport, Nairobi for bag their personal screening after removal of all metallic items from his/her person. While passing them through the DFMD, loud beep sound were heard. The Pax was once again asked whether she was carrying any dutiable goods or gold to which she again replied in negative."},null,null,null,null,null,null,null,null,null,null,null,null,null,null,null,null,null,null,null,null,null,null,null,null,null,null,null,null,null,null,null,null,null,null,null,null,null,null,null,null,null,null,null,null,null,null,null,null,null,null,null,null,null,null,null,null,null,null,null,null,null,null,null,null,null,null,null,null,null,null,null,null,null,null,null,null,null,null,null,null,null,null,null,null,null,null,null,null,null,null,null,null,null,null,null,null,null,null,null,null,null,null,null,null,null,null,null,null,null,null,null,null,null,null,null,null,null,null,null,null,null,null,null,null,null,null,null,null,null,null,null,null,null,null,null,null,null,null,null,null,null,null,null,null,null,null,null,null,null,null,null,null,null,null,null,null,null,null,null,null,null,null,null,null,null,null,null,null,null,null,null,null,null,null,null,null,null,null,null,null,null,null,null,null,null,null,null,null,null,null,null,null,null,null,null,null,null,null,null,null,null,null,null,null,null,null,null,null,null,null,null,null,null,null,null,null,null,null,null,null,null,null,null,null,null,null,null,null,null,null,null,null,null,null,null,null,null,null,null,null,null,null,null,null,null,null,null,null,null,null,null,null,null,null,null,null,null,null,null,null,null,null,null,null,null,null,null,null,null,null,null,null,null,null,null,null,null,null,null,null,null,null,null,null,null,null,null,null,null,null,null,null,null,null,null,null,null,null,null,null,null,null,null,null,null,null,null,null,null,null,null,2,{"$f":"IF(AA6=\"\",\"\",AA6&\", \")","v":""},"","","","",{"$f":"IF(AF6=\"\",\"\",AF6)","v":""},{"$f":"IF(AG6=\"\",\"\",AG6)","v":""},{"$f":"IF(AH6=\"\",\"\",AH6)","v":""},{"$f":"IF(AI6=\"\",\"\",AI6)","v":""},{"$f":"IF(AJ6=\"\",\"\",AJ6)","v":""},null,null,null,null,null,null,null,null,null,null,null,null,null,null,null,{"$f":"IF(ABB6=\"\",\"\",ABA5+1&\".\")","v":""},{"$f":"IF(AAB6=\"\",\"\",AAB6)","v":""},{"$f":"IF(AAC6=\"\",\"\",AAC6)","v":""},{"$f":"IF(AAD6=\"\",\"\",AAD6)","v":""},{"$f":"IF(AAE6=\"\",\"\",AAE6)","v":""},{"$f":"IF(AAF6=\"\",\"\",AAF6)","v":""},{"$f":"IF(AAG6=\"\",\"\",\" Passport bearing No.\"&AAG6)","v":""},{"$f":"IF(AAH6=\"\",\"\",\" at \"&AAH6)","v":""},{"$f":"IF(AAI6=\"\",\"\",\" issued on \"&AAI6)","v":""},{"$f":"IF(AAJ6=\"\",\"\",\" holder of \"&AAJ6)","v":""},{"$f":"IF(AAK6=\"\",\"\",\"(DOB: \"&AAK6&\"), \")","v":""},null,null,null,null,null,null,null,null,null,{"$f":"IF(ABV6=\"\",\"\",ADA5+1&\".\")","v":""},{"$f":"IF(AAV6=\"\",\"\",AAV6)","v":""},null,{"$f":"TRIM(\"The\"&bksingh!ABZ8&bksingh!ABZ5&\"escorted to the Customs Preventive Cell situated at the International Departure Area, \"&bksingh!CA5&\" for examination. On reaching the Customs Preventive Cell at Departure Hall, the\"&bksingh!ABZ8&bksingh!ABZ5&\"asked whether \"&bksingh!ABZ10&bksingh!ABZ5&\"carrying any foreign currency or some contraband items, to which \"&bksingh!ABZ10&\"replied in negative. Thereafter, \"&bksingh!ABZ10&bksingh!ABZ5&\"asked to get their baggage to pass through the X-Ray Machine installed in the Customs Preventive Cell at Departure Hall. On X-ray of their baggage, some objectionable images were noticed. \")","v":"The Pax was escorted to the Customs Preventive Cell situated at the International Departure Area, Airport, Nairobi for examination. On reaching the Customs Preventive Cell at Departure Hall, the Pax was asked whether she was carrying any foreign currency or some contraband items, to which she replied in negative. Thereafter, she was asked to get their baggage to pass through the X-Ray Machine installed in the Customs Preventive Cell at Departure Hall. On X-ray of their baggage, some objectionable images were noticed."},{"$f":"IF(AK6=\"Male\",\" he \",\" she \")","v":" she "},{"$f":"IF(ABB6=\"\",\" has \",\" have \")","v":" has "},{"$f":"TRIM(ABA6&ABB6&ABC6&ABD6&ABE6&ABF6&ABJ6&ABG6&ABI6&ABH6)","v":""},{"$f":"TRIM(ABA6&ABB6)","v":""},null,null,null,null,null,null,null,null,null,null,{"$f":"\"A DETAILED PERSONAL AND BAGGAGE SEARCH OF THE PASSENGERS RESULTED IN THE RECOVERY OF \"&BL5&\". FURTHER, THE SAID RECOVERED GOLD HAS BEEN SEIZED UNDER SECTION 110 OF THE CUSTOMS ACT, 1962.\"","v":"A DETAILED PERSONAL AND BAGGAGE SEARCH OF THE PASSENGERS RESULTED IN THE RECOVERY OF Six cut pieces of gold collectively weighing 668 grams. FURTHER, THE SAID RECOVERED GOLD HAS BEEN SEIZED UNDER SECTION 110 OF THE CUSTOMS ACT, 1962."},null,null,null,null,null,null,null,null,null,null,null,null,null,{"$f":"IF(BB6=\"\",\"\",\"1. \"&BB6&\".\")","v":""},{"$f":"IF(BC6=\"\",\"\",\"2. \"&BC6&\".\")","v":""},{"$f":"IF(BD6=\"\",\"\",\"3. \"&BD6&\".\")","v":""},{"$f":"IF(BE6=\"\",\"\",\"4. \"&BE6&\".\")","v":""},{"$f":"IF(BF6=\"\",\"\",\"5. \"&BF6&\".\")","v":""},{"$f":"IF(BG6=\"\",\"\",\"6. \"&BG6&\".\")","v":""},{"$f":"IF(BH6=\"\",\"\",\"7. \"&BH6&\".\")","v":""},{"$f":"IF(BI6=\"\",\"\",\"8. \"&BI6&\".\")","v":""},{"$f":"IF(BJ6=\"\",\"\",\"9. \"&BJ6&\".\")","v":""},{"$f":"IF(BK6=\"\",\"\",\"10. \"&BK6&\".\")","v":""},null,null,null,null,null,null,null,null,null,null,null,null,null,null,null,null,null,{"$f":"TRIM(AEA5&\" \"&ACA6&\" \"&ACA7&\" \"&ACA8&\" \"&ACA9&\" \"&ACA10&\" \"&ACA11&\" \"&ACA12&\" \"&ACA13&\" \"&ACA14&\".\")","v":"asfsfsadf, sfasfafasfasfasdf, Park Road, Nairobi, Kenya, holder of Kenyan Passport bearing No.sfasfasfasdfas issued on 02.03.2020 at Nairobi, ."},null,null,null,null,null,null,null,null,null,null,null,null,null,null,null,null,null,null,null,null,null,null,null,null,{"$f":"IF(AA6=\"\",\"\",AA6)","v":""},{"$f":"IF(AF6=\"\",\"\",AF6)","v":""},{"$f":"IF(DB6=\"\",\"\",\"Copy of Arrest Memo dated \"&DB6&\".\")","v":""},{"$f":"IF(BU6=\"\",\"\",\"Copy of Panchnama dated \"&BU6&\".\")","v":""},{"$f":"IF(BY6=\"\",\"\",\"Notice issued on \"&BY6&\" under Section 102 of the Customs Act, 1962.\")","v":""},{"$f":"IF(CY6=\"\",\"\",\"Summon dated \"&CY6&\".\")","v":""},{"$f":"IF(CM6=\"\",\"\",\"Copy of Detention Receipt No.\"&CM6&\" dated \"&CN6&\".\")","v":""},{"$f":"IF(CL6=\"\",\"\",\"Copy of Seizure Memo dated \"&CL6&\".\")","v":""},{"$f":"IF(BB6=\"\",\"\",BB6)","v":""},{"$f":"IF(BC6=\"\",\"\",BC6&\".\")","v":""},{"$f":"IF(BD6=\"\",\"\",BD6&\".\")","v":""},{"$f":"IF(BE6=\"\",\"\",BE6&\".\")","v":""},{"$f":"IF(BF6=\"\",\"\",BF6&\".\")","v":""},{"$f":"IF(BG6=\"\",\"\",BG6&\".\")","v":""},{"$f":"IF(BH6=\"\",\"\",BH6&\".\")","v":""},{"$f":"IF(BI6=\"\",\"\",BI6&\".\")","v":""},{"$f":"IF(BJ6=\"\",\"\",BJ6&\".\")","v":""},{"$f":"IF(BK6=\"\",\"\",BK6&\".\")","v":""}]
[null,null,null,null,null,null,null,null,null,null,null,null,null,null,null,null,null,null,null,null,null,null,null,null,null,null,null,null,null,null,null,null,null,null,null,null,null,null,null,null,null,null,null,null,null,null,null,null,null,null,null,null,null,null,null,null,null,null,null,null,null,null,null,null,null,null,null,null,"102 notice served to pax.",null,null,null,null,null,null,null,null,null,null,null,null,null,null,null,null,null,null,null,null,null,null,null,null,null,null,null,null,null,null,null,null,null,null,null,null,null,null,null,null,null,null,null,null,null,null,null,null,null,null,null,null,null,null,null,null,null,null,null,null,null,null,null,null,null,null,null,null,null,null,null,null,null,null,null,null,null,null,null,null,null,null,null,365000,"Three years",null,null,null,null,null,null,null,null,null,null,null,null,null,null,null,null,null,null,null,null,null,null,null,null,null,null,null,null,"D K Singh","Air Customs Superintendent","2020-04-03","DFMD",null,null,null,null,null,"English",null,null,null,null,null,null,null,null,null,null,null,null,null,"",null,null,"AZ",896,"New Zealand","00:55 hrs.","H K Singh",null,"was",0,"","","","","","","","","","","",null,null,null,null,null,null,null,null,null,null,null,null,null,null,null,null,null,null,null,null,null,null,"","","","","","","","","","","",null,"AZ","ALITALIA-COMPAGNIA AEREA ITALIANA S.P.","ITALY","AZA",55,null,null,null,null,"","was",0,"","","","","","","","","","","",{"$f":"IF(JX7=\"\",\".\",\" and  court exhibits, the remaining item listed at Sl. No.\"&JX7&\" above \"&JL7&\" returned to the Pax on the spot.\")","v":"."},".",null,null,null,null,null,null,null,null,null,null,null,null,null,null,null,null,null,null,6,"3,65,000/-",0,"/-",0,"/-",0,"/-","Md. Salimullah Ansari","Md. Barkatullah Ansari","T/23, Ansaribagh, Varansi","Uttar Pradesh","India","AB22356","Lucknow","12.03.2018",null,null,null,null,"Indian",{"$f":"\"I, \"&TRIM(ABB5&ABK5&ABC5&ABD5&ABE5&ABF5&ABJ5&ABG5&ABI5&ABH5&\", was \"&AP5&\" by Flight No.\"&AN5&\" dated \"&AO5)","v":"I, asfsfsadf, (DOB: 03.02.1994), sfasfafasfasfasdf, Park Road, Nairobi, Kenya, holder of Kenyan Passport bearing No.sfasfasfasdfas issued on 02.03.2020 at Nairobi, was arrived from Nairobi via Adis Abbaba by Flight No.ET688 dated 02.03.2019"},"Additional Commissioner of Customs","ASDEW4656D","FDRSBI465465DFE",null,null,null,null,null,null,null,null,null,{"$f":"\"The Pax is hereby informed under Section 110(1) of the Customs Act, 1962 that offended goods i.e. \"&IC5&\" (collectively weighing \"&ID5&\" grams), valued at Rs.\"&KZ5&\" (\"&bksingh_riw(IF5)&\") are being seized and are further required to be deposited in Valuable Warehouse vide DR No.\"&CM5&\" dated \"&CN5&\". It is also informed that further necessary inquiries & actions in the matter will be taken in accordance with law under the act, ibid. \"","v":"The Pax is hereby informed under Section 110(1) of the Customs Act, 1962 that offended goods i.e. Six cut pieces of gold (collectively weighing 668 grams), valued at Rs.16,95,750/- (Rupees sixteen lacs ninety five thousand seven hundred fifty only) are being seized and are further required to be deposited in Valuable Warehouse vide DR No.6565 dated 03.02.2020. It is also informed that further necessary inquiries & actions in the matter will be taken in accordance with law under the act, ibid. "},null,null,null,null,null,null,null,null,null,null,null,null,null,null,null,null,null,null,null,null,null,null,null,null,null,{"$f":"FB5","v":"dfgsdg"},null,null,null,null,null,null,null,null,null,null,null,null,null,null,null,null,null,null,null,null,null,null,null,null,null,{"$f":"\"Thereafter,\"&ABZ8&\"alongwith\"&ABZ15&\"baggage was taken into the Customs Preventive Cell located at the Customs Arrival Hall by the Customs Officers for detailed examination of\"&ABZ15&\"baggage and personal search in the presence of two independent Panchas \"&GI5&\".\"","v":"Thereafter, Pax alongwith her baggage was taken into the Customs Preventive Cell located at the Customs Arrival Hall by the Customs Officers for detailed examination of her baggage and personal search in the presence of two independent Panchas and an English-Kenyan interpreter/translator."},null,null,null,null,null,null,null,null,null,null,null,null,null,null,null,null,null,null,null,null,null,null,null,null,null,null,null,null,null,null,null,null,null,null,null,null,null,null,null,null,null,null,null,null,null,null,null,null,null,null,null,null,null,null,null,null,null,null,null,null,null,null,null,null,null,null,null,null,null,null,null,null,null,null,null,null,null,null,null,null,null,null,null,null,null,null,null,null,null,null,null,null,null,null,null,null,null,null,null,null,null,null,null,null,null,null,null,null,null,null,null,null,null,null,null,null,null,null,null,null,null,null,null,null,null,null,null,null,null,null,null,null,null,null,null,null,null,null,null,null,null,null,null,null,null,null,null,null,null,null,null,null,null,null,null,null,null,null,null,null,null,null,null,null,null,null,null,null,null,null,null,null,null,null,null,null,null,null,null,null,null,null,null,null,null,null,null,null,null,null,null,null,null,null,null,null,null,null,null,null,null,null,null,null,null,null,null,null,null,null,null,null,null,null,null,null,null,null,null,null,null,null,null,null,null,null,null,null,null,null,null,null,null,null,null,null,null,null,null,null,null,null,null,null,null,null,null,null,null,null,null,null,null,null,null,null,null,null,null,null,null,null,null,null,null,null,null,null,null,null,null,null,null,null,null,null,null,null,null,null,null,null,null,null,null,null,null,null,null,null,null,null,null,null,null,null,null,null,null,null,null,null,null,null,null,null,null,null,null,null,null,3,{"$f":"IF(AA7=\"\",\"\",AA7&\", \")","v":""},"","","","","","","","","",null,null,null,null,null,null,null,null,null,null,null,null,null,null,null,{"$f":"IF(ABB7=\"\",\"\",ABA6+1&\".\")","v":""},{"$f":"IF(AAB7=\"\",\"\",AAB7)","v":""},"","","","","","","","","",null,null,null,null,null,null,null,null,null,null,null,null,{"$f":"IF(CA5=\"to be\",\"\",ABX8)","v":", while she  has crossed the green channel and reaching towards the exit gate, diverted to X-Ray belt for scanning of baggage."}," she ",{"$f":"IF(ABB6=\"\",\" \",\" them \")","v":" "},{"$f":"TRIM(ABA7&ABB7&ABC7&ABD7&ABE7&ABF7&ABJ7&ABG7&ABI7&ABH7)","v":""},"",null,null,null,null,null,null,null,null,null,null,null,null,null,null,null,null,null,null,null,null,null,null,null,null,"","","","","","","","","","",null,null,null,null,null,null,null,null,null,null,null,null,null,null,null,null,null,{"$f":"\"It is transpired that aforesaid \"&AA5&\" has committed an offence punishable under Section 132 and 135 of the Customs Act, 1962.\"","v":"It is transpired that aforesaid asfsfsadf has committed an offence punishable under Section 132 and 135 of the Customs Act, 1962."},null,null,null,null,null,null,null,null,null,null,null,null,null,null,null,null,null,null,null,null,null,null,null,null,"","","","","","","","","","","","","","","","","",""]
[null,null,null,null,null,null,null,null,null,null,null,null,null,null,null,null,null,null,null,null,null,null,null,null,null,null,null,null,null,null,null,null,null,null,null,null,null,null,null,null,null,null,null,null,null,null,null,null,null,null,null,null,null,null,null,null,null,null,null,null,null,null,null,null,null,null,null,null,"Seizure memo issued.",null,null,null,null,null,null,null,null,null,null,null,null,null,null,null,null,null,null,null,null,null,null,null,null,null,null,null,null,null,null,null,null,null,null,null,null,null,null,null,null,null,null,null,null,null,null,null,null,null,null,null,null,null,null,null,null,null,null,null,null,null,null,null,null,null,null,null,null,null,null,null,null,null,null,null,null,null,null,null,null,null,null,null,null,null,null,null,null,null,null,null,null,null,null,null,null,null,null,null,null,null,null,null,null,null,null,null,null,null,null,null,null,null,"E K Singh","Air Customs Superintendent","2020-04-03","FRU",null,null,null,null,null,"Hindi",null,null,null,1,2,3,null,null,6,null,null,null,null,"1236",null,null,null,null,null,null,null,null,"were",4,"1, ","2, ","3, ","6","","","","","","","1, 2, 3, 6",null,null,null,null,null,null,null,null,null,null,null,null,null,null,null,null,null,null,null,null,null,null,"","","","","","","","","","","",null,"AF","AIR FRANCE","FRANCE","AFR",57,null,null,null,null,"The item mentioned at Sl. No.1, 2, 3, 6 above were detained for further investigation","was",0,"","","","","","","","","","","",".","The item mentioned at Sl. No.1, 2, 3, 6 above were detained for further investigation.",null,null,null,null,null,null,null,null,null,null,null,null,null,null,null,null,null,null,0,"/-",0,"/-",0,"/-",0,"/-",null,null,null,null,null,null,null,null,null,null,null,null,null," having been arrested charged with the offenses punishable under Section 132 and 135 of the Customs Act, 1962 and required to give surety for my attendance before such Officer or Court on condition that I shall appear before officer or Court on every day on which any investigation or trial is held with regard to such charge and in case of making default there in I hereby bind myself to forfeit to Government the sum of ",null,null,null,null,null,null,null,null,null,null,null,null,{"$f":"\"The Pax is further informed that, in case of any inquiry/clarification in the matter, may contact to the undersigned on \"&FM5&\". It is also informed that, in case, the Pax want to visit Customs Office at \"&CA5&\" \"&CB5&\", may only visit with prior appointment with the undersigned and for the purpose, the Pax have to bring latest two passport size photograph alongwith one valid acceptable Identity card i.e. Passport, Voter Id, Aadhaar Card, etc. for issuance of AEP.\"","v":"The Pax is further informed that, in case of any inquiry/clarification in the matter, may contact to the undersigned on 12364867. It is also informed that, in case, the Pax want to visit Customs Office at Airport, Nairobi Kenya, may only visit with prior appointment with the undersigned and for the purpose, the Pax have to bring latest two passport size photograph alongwith one valid acceptable Identity card i.e. Passport, Voter Id, Aadhaar Card, etc. for issuance of AEP."},null,null,null,null,null,null,null,null,null,null,null,null,null,null,null,null,null,null,null,null,null,null,null,null,null,{"$f":"FC5","v":"dfg"},null,null,null,null,null,null,null,null,null,null,null,null,null,null,null,null,null,null,null,null,null,null,null,null,null,{"$f":"TRIM(\"In presence of the Panchas, the \"&ABZ8&ABZ5&\"served upon with \"&ABZ16&\"dated \"&BY5&\" issued under Section 102 of the Customs Act, 1962, informing \"&ABZ7&\" that \"&ABZ11&\" personal & baggage search \"&ABZ5&\" required and if \"&ABZ10&\" wishes, \"&ABZ11&\" baggages and personal search may be conducted in the presence of a Magistrate or a Gazetted  Officer of Customs. The \"&ABZ8&\" gave \"&ABZ11&\" written consent on the body of the said \"&ABZ16&\" that \"&ABZ10&\" had no objection, if \"&ABZ11&\" personal and baggage search would be conducted by Gazetted Officer of Customs.\")","v":"In presence of the Panchas, the Pax was served upon with Notice dated 06.04.2019 issued under Section 102 of the Customs Act, 1962, informing that his/her personal & baggage search was required and if she wishes, his/her baggages and personal search may be conducted in the presence of a Magistrate or a Gazetted Officer of Customs. The Pax gave his/her written consent on the body of the said Notice that she had no objection, if his/her personal and baggage search would be conducted by Gazetted Officer of Customs."},null,null,null,null,null,null,null,null,null,null,null,null,null,null,null,null,null,null,null,null,null,null,null,null,null,null,null,null,null,null,null,null,null,null,null,null,null,null,null,null,null,null,null,null,null,null,null,null,null,null,null,null,null,null,null,null,null,null,null,null,null,null,null,null,null,null,null,null,null,null,null,null,null,null,null,null,null,null,null,null,null,null,null,null,null,null,null,null,null,null,null,null,null,null,null,null,null,null,null,null,null,null,null,null,null,null,null,null,null,null,null,null,null,null,null,null,null,null,null,null,null,null,null,null,null,null,null,null,null,null,null,null,null,null,null,null,null,null,null,null,null,null,null,null,null,null,null,null,null,null,null,null,null,null,null,null,null,null,null,null,null,null,null,null,null,null,null,null,null,null,null,null,null,null,null,null,null,null,null,null,null,null,null,null,null,null,null,null,null,null,null,null,null,null,null,null,null,null,null,null,null,null,null,null,null,null,null,null,null,null,null,null,null,null,null,null,null,null,null,null,null,null,null,null,null,null,null,null,null,null,null,null,null,null,null,null,null,null,null,null,null,null,null,null,null,null,null,null,null,null,null,null,null,null,null,null,null,null,null,null,null,null,null,null,null,null,null,null,null,null,null,null,null,null,null,null,null,null,null,null,null,null,null,null,null,null,null,null,null,null,null,null,null,null,null,null,null,null,null,null,null,null,null,null,null,null,null,null,null,null,null,4,"","","","","","","","","","",null,null,null,null,null,null,null,null,null,null,null,null,null,null,null,"","","","","","","","","","","",null,null,null,null,null,null,null,null,null,null,null,null,{"$f":"\", while\"&ABZ10&ABZ6&\"crossed the green channel and reaching towards the exit gate, diverted to X-Ray belt for scanning of baggage.\"","v":", while she  has crossed the green channel and reaching towards the exit gate, diverted to X-Ray belt for scanning of baggage."}," she ",{"$f":"IF(ABB6=\"\",\" Pax \",\" Paxes \")","v":" Pax "},{"$f":"TRIM(ABA8&ABB8&ABC8&ABD8&ABE8&ABF8&ABJ8&ABG8&ABI8&ABH8)","v":""},"",null,null,null,null,null,null,null,null,null,null,null,null,null,null,null,null,null,null,null,null,null,null,null,null,"","","","","","","","","","",null,null,null,null,null,null,null,null,null,null,null,null,null,null,null,null,null,{"$f":"TRIM(\"Therefore, the aforesaid  \"&AA5&\" has been placed under arrest today i.e. on \"&DB5&\" at \"&DC5&\" under Section 104 of the Customs Act, 1962 and \"&ABY5&\" has been explained the ground of \"&ABZ15&\" arrest.\")","v":"Therefore, the aforesaid asfsfsadf has been placed under arrest today i.e. on 08.04.2019 at 17:30 hrs. under Section 104 of the Customs Act, 1962 and she has been explained the ground of her arrest."},null,null,null,null,null,null,null,null,null,null,null,null,null,null,null,null,null,null,null,null,null,null,null,null,"","","","","","","","","","","","","","","","","",""]
[null,null,null,null,null,null,null,null,null,null,null,null,null,null,null,null,null,null,null,null,null,null,null,null,null,null,null,null,null,null,null,null,null,null,null,null,null,null,null,null,null,null,null,null,null,null,null,null,null,null,null,null,null,null,null,null,null,null,null,null,null,null,null,null,null,null,null,null,"Summon issued by the SIO.",null,null,null,null,null,null,null,null,null,null,null,null,null,null,null,null,null,null,null,null,null,null,null,null,null,null,null,null,null,null,null,null,null,null,null,null,null,null,null,null,null,null,null,null,null,null,null,null,null,null,null,null,null,null,null,null,null,null,null,null,null,null,null,null,null,null,null,null,null,null,null,null,null,null,null,null,null,null,null,null,null,null,null,null,null,null,null,null,null,null,null,null,null,null,null,null,null,null,null,null,null,null,null,null,null,null,null,null,null,null,null,null,null,"G K Singh","Air Customs Officer","2020-04-03","Red Channel",null,null,null,null,null,"Arabic",null,null,null,null,null,null,null,null,null,null,null,null,null,"",null,null,null,null,null,null,null,null,"was",0,"","","","","","","","","","","",null,null,null,null,null,null,null,null,null,null,null,null,null,null,null,null,null,null,null,null,null,null,"","","","","","","","","","","",null,"SB","AIR CALEDONIE INTERNATIONAL","CALEDONIA","ACI",63,null,null,null,null,"","was",0,"","","","","","","","","","","",".",".",null,null,null,null,null,null,null,null,null,null,null,null,null,null,null,null,null,null,0,"/-",0,"/-",0,"/-",0,"/-",null,null,null,null,null,null,null,null,null,null,null,null,null,{"$f":"\"Rs.\"&KT5&\" (\"&bksingh_riw(EW5)&\").\"","v":"Rs.3,65,000/- (Rupees three lac sixty five thousand  only)."},null,null,null,null,null,null,null,null,null,null,null,null,null,null,null,null,null,null,null,null,null,null,null,null,null,null,null,null,null,null,null,null,null,null,null,null,null,null,{"$f":"FD5","v":"dfg"},null,null,null,null,null,null,null,null,null,null,null,null,null,null,null,null,null,null,null,null,null,null,null,null,null,{"$f":"\"Further, during the course of the Panchnama proceedings, Jewellery Appraiser of Customs was called upon to ascertain the weight, purity and to appraise the value of the said recovered \"&LOWER(BL5)&\". The Jewellery Appraiser submitted their appraisement report dated \"&FG5&\".\"","v":"Further, during the course of the Panchnama proceedings, Jewellery Appraiser of Customs was called upon to ascertain the weight, purity and to appraise the value of the said recovered six cut pieces of gold collectively weighing 668 grams. The Jewellery Appraiser submitted their appraisement report dated 02.03.2020."},null,null,null,null,null,null,null,null,null,null,null,null,null,null,null,null,null,null,null,null,null,null,null,null,null,null,null,null,null,null,null,null,null,null,null,null,null,null,null,null,null,null,null,null,null,null,null,null,null,null,null,null,null,null,null,null,null,null,null,null,null,null,null,null,null,null,null,null,null,null,null,null,null,null,null,null,null,null,null,null,null,null,null,null,null,null,null,null,null,null,null,null,null,null,null,null,null,null,null,null,null,null,null,null,null,null,null,null,null,null,null,null,null,null,null,null,null,null,null,null,null,null,null,null,null,null,null,null,null,null,null,null,null,null,null,null,null,null,null,null,null,null,null,null,null,null,null,null,null,null,null,null,null,null,null,null,null,null,null,null,null,null,null,null,null,null,null,null,null,null,null,null,null,null,null,null,null,null,null,null,null,null,null,null,null,null,null,null,null,null,null,null,null,null,null,null,null,null,null,null,null,null,null,null,null,null,null,null,null,null,null,null,null,null,null,null,null,null,null,null,null,null,null,null,null,null,null,null,null,null,null,null,null,null,null,null,null,null,null,null,null,null,null,null,null,null,null,null,null,null,null,null,null,null,null,null,null,null,null,null,null,null,null,null,null,null,null,null,null,null,null,null,null,null,null,null,null,null,null,null,null,null,null,null,null,null,null,null,null,null,null,null,null,null,null,null,null,null,null,null,null,null,null,null,null,null,null,null,null,null,null,5,"","","","","","","","","","",null,null,null,null,null,null,null,null,null,null,null,null,null,null,null,"","","","","","","","","","","",null,null,null,null,null,null,null,null,null,null,null,null,null," she ",{"$f":"IF(ABB6=\"\",\" passenger \",\" passengers \")","v":" passenger "},{"$f":"TRIM(ABA9&ABB9&ABC9&ABD9&ABE9&ABF9&ABJ9&ABG9&ABI9&ABH9)","v":""},"",null,null,null,null,null,null,null,null,null,null,null,null,null,null,null,null,null,null,null,null,null,null,null,null,"","","","","","","","","","",null,null,null,null,null,null,null,null,null,null,null,null,null,null,null,null,null,null,null,null,null,null,null,null,null,null,null,null,null,null,null,null,null,null,null,null,null,null,null,null,null,null,"","","","","","","","","","","","","","","","","",""]
[null,null,null,null,null,null,null,null,null,null,null,null,null,null,null,null,null,null,null,null,null,null,null,null,null,null,null,null,null,null,null,null,null,null,null,null,null,null,null,null,null,null,null,null,null,null,null,null,null,null,null,null,null,null,null,null,null,null,null,null,null,null,null,null,null,null,null,null,"FAX letter prepared.",null,null,null,null,null,null,null,null,null,null,null,null,null,null,null,null,null,null,null,null,null,null,null,null,null,null,null,null,null,null,null,null,null,null,null,null,null,null,null,null,null,null,null,null,null,null,null,null,null,null,null,null,null,null,null,null,null,null,null,null,null,null,null,null,null,null,null,null,null,null,null,null,null,null,null,null,null,null,null,null,null,null,null,null,null,null,null,null,null,null,null,null,null,null,null,null,null,null,null,null,null,null,null,null,null,null,null,null,null,null,null,null,null,"H K Singh","Air Customs Officer","2020-04-03","Green Channel",null,null,null,null,null,"Bengali",null,null,null,null,null,null,null,null,null,null,null,null,null,"",null,null,null,null,null,null,null,null,"was",0,"","","","","","","","","","","",null,null,null,null,null,null,null,null,null,null,null,null,null,null,null,null,null,null,null,null,null,null,"","","","","","","","","","","",null,"NZ","AIR NEW ZEALAND LTD.","NEW ZEALAND","ANZ",86,null,null,null,null,"","was",0,"","","","","","","","","","","",".",".",null,null,null,null,null,null,null,null,null,null,null,null,null,null,null,null,null,null,0,"/-",0,"/-",0,"/-",0,"/-",null,null,null,null,null,null,null,null,null,null,null,null,null,{"$f":"\"I, \"&LA5&\", \"&LB5&\", \"&LC5&\", \"&LD5&\", \"&LE5&\", PAN-\"&LP5","v":"I, Md. Salimullah Ansari, Md. Barkatullah Ansari, T/23, Ansaribagh, Varansi, Uttar Pradesh, India, PAN-ASDEW4656D"},null,null,null,null,null,null,null,null,null,null,null,null,null,null,null,null,null,null,null,null,null,null,null,null,null,null,null,null,null,null,null,null,null,null,null,null,null,null,"Further, I want to tender my statement in question answer form, which is as under:-",null,null,null,null,null,null,null,null,null,null,null,null,null,null,null,null,null,null,null,null,null,null,null,null,null,{"$f":"TRIM(\"The said recovered gold were kept in \"&LOWER(FJ5)&\" and finally sealed with Customs Plier Seal bearing '\"&CT5&\"' on one side and '\"&CU5&\"' on another side alongwith a paper seal bearing the signatures the panchas, \"&ABZ8&GI6&\" and the Customs Officers. The same is further required to be deposited vide DR No.\"&CM5&\" dated \"&CN5&\".\")","v":"The said recovered gold were kept in transperent plastic container and wrapped with transperent tape and finally sealed with Customs Plier Seal bearing 'IGI' on one side and 'afdsasd' on another side alongwith a paper seal bearing the signatures the panchas, Pax , English-Kenyan interpreter/translator and the Customs Officers. The same is further required to be deposited vide DR No.6565 dated 03.02.2020."},null,null,null,null,null,null,null,null,null,null,null,null,null,null,null,null,null,null,null,null,null,null,null,null,null,null,null,null,null,null,null,null,null,null,null,null,null,null,null,null,null,null,null,null,null,null,null,null,null,null,null,null,null,null,null,null,null,null,null,null,null,null,null,null,null,null,null,null,null,null,null,null,null,null,null,null,null,null,null,null,null,null,null,null,null,null,null,null,null,null,null,null,null,null,null,null,null,null,null,null,null,null,null,null,null,null,null,null,null,null,null,null,null,null,null,null,null,null,null,null,null,null,null,null,null,null,null,null,null,null,null,null,null,null,null,null,null,null,null,null,null,null,null,null,null,null,null,null,null,null,null,null,null,null,null,null,null,null,null,null,null,null,null,null,null,null,null,null,null,null,null,null,null,null,null,null,null,null,null,null,null,null,null,null,null,null,null,null,null,null,null,null,null,null,null,null,null,null,null,null,null,null,null,null,null,null,null,null,null,null,null,null,null,null,null,null,null,null,null,null,null,null,null,null,null,null,null,null,null,null,null,null,null,null,null,null,null,null,null,null,null,null,null,null,null,null,null,null,null,null,null,null,null,null,null,null,null,null,null,null,null,null,null,null,null,null,null,null,null,null,null,null,null,null,null,null,null,null,null,null,null,null,null,null,null,null,null,null,null,null,null,null,null,null,null,null,null,null,null,null,null,null,null,null,null,null,null,null,null,null,null,6,"","","","","","","","","","",null,null,null,null,null,null,null,null,null,null,null,null,null,null,null,"","","","","","","","","","","",null,null,null,null,null,null,null,null,null,null,null,null,null," she ",{"$f":"IF(ABB6=\"\",ABY5,\" they \")","v":" she "},{"$f":"TRIM(ABA10&ABB10&ABC10&ABD10&ABE10&ABF10&ABJ10&ABG10&ABI10&ABH10)","v":""},"",null,null,null,null,null,null,null,null,null,null,null,null,null,null,null,null,null,null,null,null,null,null,null,null,"","","","","","","","","","",null,null,null,null,null,null,null,null,null,null,null,null,null,null,null,null,null,null,null,null,null,null,null,null,null,null,null,null,null,null,null,null,null,null,null,null,null,null,null,null,null,null,"","","","","","","","","","","","","","","","","",""]
[null,null,null,null,null,null,null,null,null,null,null,null,null,null,null,null,null,null,null,null,null,null,null,null,null,null,null,null,null,null,null,null,null,null,null,null,null,null,null,null,null,null,null,null,null,null,null,null,null,null,null,null,null,null,null,null,null,null,null,null,null,null,null,null,null,null,null,null,"Images taken for Twitter messages.",null,null,null,null,null,null,null,null,null,null,null,null,null,null,null,null,null,null,null,null,null,null,null,null,null,null,null,null,null,null,null,null,null,null,null,null,null,null,null,null,null,null,null,null,null,null,null,null,null,null,null,null,null,null,null,null,null,null,null,null,null,null,null,null,null,null,null,null,null,null,null,null,null,null,null,null,null,null,null,null,null,null,null,null,null,null,null,null,null,null,null,null,null,null,null,null,null,null,null,null,null,null,null,null,null,null,null,null,null,null,null,null,null,"J K Singh","Air Customs Officer","2020-04-03","DFMD Channel",null,null,null,null,null,"Portuguese",null,null,null,null,null,null,null,null,null,null,null,null,null,"",null,null,null,null,null,null,null,null,"was",0,"","","","","","","","","","","",null,null,null,null,null,null,null,null,null,null,null,null,null,null,null,null,null,null,null,null,null,null,"","","","","","","","","","","",null,"AI","AIR INDIA LTD.","INDIA","AIC",98,null,null,null,null,"","was",0,"","","","","","","","","","","",".",".",null,null,null,null,null,null,null,null,null,null,null,null,null,null,null,null,null,null,0,"/-",0,"/-",0,"/-",0,"/-",null,null,null,null,null,null,null,null,null,null,null,null,null,{"$f":"\" hereby declare myself surety for the above said \"&AA5&\", that\"&ABY5&\"shall attend the Customs office or the Court every day on which any investigation in the charge is made or any trial on such charge is held that\"&ABY5&\"shall be and re-appear before such officer or Court for the purpose of such investigation to answer the charge against\"&ABZ15&\"(as the case may be) and in case of\"&ABZ15&\"making default herein, I bind myself to forfeit to Government the sum of \"","v":" hereby declare myself surety for the above said asfsfsadf, that she shall attend the Customs office or the Court every day on which any investigation in the charge is made or any trial on such charge is held that she shall be and re-appear before such officer or Court for the purpose of such investigation to answer the charge against her (as the case may be) and in case of her making default herein, I bind myself to forfeit to Government the sum of "},null,null,null,null,null,null,null,null,null,null,null,null,null,null,null,null,null,null,null,null,null,null,null,null,null,null,null,null,null,null,null,null,null,null,null,null,null,null,{"$f":"IF(FE5=\"\",\"\",\"Question No.1 - \"&FE5)","v":"Question No.1 - dgdfgdfg"},null,null,null,null,null,null,null,null,null,null,null,null,null,null,null,null,null,null,null,null,null,null,null,null,null,null,null,null,null,null,null,null,null,null,null,null,null,null,null,null,null,null,null,null,null,null,null,null,null,null,null,null,null,null,null,null,null,null,null,null,null,null,null,null,null,null,null,null,null,null,null,null,null,null,null,null,null,null,null,null,null,null,null,null,null,null,null,null,null,null,null,null,null,null,null,null,null,null,null,null,null,null,null,null,null,null,null,null,null,null,null,null,null,null,null,null,null,null,null,null,null,null,null,null,null,null,null,null,null,null,null,null,null,null,null,null,null,null,null,null,null,null,null,null,null,null,null,null,null,null,null,null,null,null,null,null,null,null,null,null,null,null,null,null,null,null,null,null,null,null,null,null,null,null,null,null,null,null,null,null,null,null,null,null,null,null,null,null,null,null,null,null,null,null,null,null,null,null,null,null,null,null,null,null,null,null,null,null,null,null,null,null,null,null,null,null,null,null,null,null,null,null,null,null,null,null,null,null,null,null,null,null,null,null,null,null,null,null,null,null,null,null,null,null,null,null,null,null,null,null,null,null,null,null,null,null,null,null,null,null,null,null,null,null,null,null,null,null,null,null,null,null,null,null,null,null,null,null,null,null,null,null,null,null,null,null,null,null,null,null,null,null,null,null,null,null,null,null,null,null,null,null,null,null,null,null,null,null,null,null,null,null,null,null,null,null,null,null,null,null,null,null,null,null,null,null,null,null,null,null,null,null,null,null,null,null,null,7,"","","","","","","","","","",null,null,null,null,null,null,null,null,null,null,null,null,null,null,null,"","","","","","","","","","","",null,null,null,null,null,null,null,null,null,null,null,null,null," she ",{"$f":"IF(ABB6=\"\",\" his/her \",\" their \")","v":" his/her "},{"$f":"TRIM(ABA11&ABB11&ABC11&ABD11&ABE11&ABF11&ABJ11&ABG11&ABI11&ABH11&AP11)","v":""},"",null,null,null,null,null,null,null,null,null,null,null,null,null,null,null,null,null,null,null,null,null,null,null,null,"","","","","","","","","","",null,null,null,null,null,null,null,null,null,null,null,null,null,null,null,null,null,null,null,null,null,null,null,null,null,null,null,null,null,null,null,null,null,null,null,null,null,null,null,null,null,null,"","","","","","","","","","","","","","","","","",""]
[null,null,null,null,null,null,null,null,null,null,null,null,null,null,null,null,null,null,null,null,null,null,null,null,null,null,null,null,null,null,null,null,null,null,null,null,null,null,null,null,null,null,null,null,null,null,null,null,null,null,null,null,null,null,null,null,null,null,null,null,null,null,null,null,null,null,null,null,"Press release letter prepared.",null,null,null,null,null,null,null,null,null,null,null,null,null,null,null,null,null,null,null,null,null,null,null,null,null,null,null,null,null,null,null,null,null,null,null,null,null,null,null,null,null,null,null,null,null,null,null,null,null,null,null,null,null,null,null,null,null,null,null,null,null,null,null,null,null,null,null,null,null,null,null,null,null,null,null,null,null,null,null,null,null,null,null,null,null,null,null,null,null,null,null,null,null,null,null,null,null,null,null,null,null,null,null,null,null,null,null,null,null,null,null,null,null,"G K Singh","Air Customs Officer","2020-04-09",null,null,null,null,null,null,"Russian",null,null,null,null,null,null,null,null,null,null,null,null,null,"",null,null,null,null,null,null,null,null,"was",0,"","","","","","","","","","","",null,null,null,null,null,null,null,null,null,null,null,null,null,null,null,null,null,null,null,null,null,null,"","","","","","","","","","","",null,"AM","AEROMEXICO","MEXICO","AMX",139,null,null,null,null,"","was",0,"","","","","","","","","","","",".",".",null,null,null,null,null,null,null,null,null,null,null,null,null,null,null,null,null,null,0,"/-",0,"/-",0,"/-",0,"/-",null,null,null,null,null,null,null,null,null,null,null,null,null,null,null,null,null,null,null,null,null,null,null,null,null,null,null,null,null,null,null,null,null,null,null,null,null,null,null,null,null,null,null,null,null,null,null,null,null,null,null,null,{"$f":"IF(FF5=\"\",\"\",\"Answer - \"&FF5)","v":"Answer - dgdfgdfg"},null,null,null,null,null,null,null,null,null,null,null,null,null,null,null,null,null,null,null,null,null,null,null,null,null,null,null,null,null,null,null,null,null,null,null,null,null,null,null,null,null,null,null,null,null,null,null,null,null,null,null,null,null,null,null,null,null,null,null,null,null,null,null,null,null,null,null,null,null,null,null,null,null,null,null,null,null,null,null,null,null,null,null,null,null,null,null,null,null,null,null,null,null,null,null,null,null,null,null,null,null,null,null,null,null,null,null,null,null,null,null,null,null,null,null,null,null,null,null,null,null,null,null,null,null,null,null,null,null,null,null,null,null,null,null,null,null,null,null,null,null,null,null,null,null,null,null,null,null,null,null,null,null,null,null,null,null,null,null,null,null,null,null,null,null,null,null,null,null,null,null,null,null,null,null,null,null,null,null,null,null,null,null,null,null,null,null,null,null,null,null,null,null,null,null,null,null,null,null,null,null,null,null,null,null,null,null,null,null,null,null,null,null,null,null,null,null,null,null,null,null,null,null,null,null,null,null,null,null,null,null,null,null,null,null,null,null,null,null,null,null,null,null,null,null,null,null,null,null,null,null,null,null,null,null,null,null,null,null,null,null,null,null,null,null,null,null,null,null,null,null,null,null,null,null,null,null,null,null,null,null,null,null,null,null,null,null,null,null,null,null,null,null,null,null,null,null,null,null,null,null,null,null,null,null,null,null,null,null,null,null,null,null,null,null,null,null,null,null,null,null,null,null,null,null,null,null,null,null,null,null,null,null,null,null,null,null,8,"","","","","","","","","","",null,null,null,null,null,null,null,null,null,null,null,null,null,null,null,"","","","","","","","","","","",null,null,null,null,null,null,null,null,null,null,null,null,null," she ",{"$f":"IF(ABB6=\"\",\" bag \",\" bags \")","v":" bag "},{"$f":"TRIM(ABA12&ABB12&ABC12&ABD12&ABE12&ABF12&ABJ12&ABG12&ABI12&ABH12&AP12)","v":""},"",null,null,null,null,null,null,null,null,null,null,null,null,null,null,null,null,null,null,null,null,null,null,null,null,"","","","","","","","","","",null,null,null,null,null,null,null,null,null,null,null,null,null,null,null,null,null,null,null,null,null,null,null,null,null,null,null,null,null,null,null,null,null,null,null,null,null,null,null,null,null,null,"","","","","","","","","","","","","","","","","",""]
[null,null,null,null,null,null,null,null,null,null,null,null,null,null,null,null,null,null,null,null,null,null,null,null,null,null,null,null,null,null,null,null,null,null,null,null,null,null,null,null,null,null,null,null,null,null,null,null,null,null,null,null,null,null,null,null,null,null,null,null,null,null,null,null,null,null,null,null,"Take bailer details",null,null,null,null,null,null,null,null,null,null,null,null,null,null,null,null,null,null,null,null,null,null,null,null,null,null,null,null,null,null,null,null,null,null,null,null,null,null,null,null,null,null,null,null,null,null,null,null,null,null,null,null,null,null,null,null,null,null,null,null,null,null,null,null,null,null,null,null,null,null,null,null,null,null,null,null,null,null,null,null,null,null,null,null,null,null,null,null,null,null,null,null,null,null,null,null,null,null,null,null,null,null,null,null,null,null,null,null,null,null,null,null,null,null,null,null,null,null,null,null,null,null,"Japanese",null,null,null,null,null,null,null,null,null,null,null,null,null,"",null,null,null,null,null,null,null,null,"was",0,"","","","","","","","","","","",null,null,null,null,null,null,null,null,null,null,null,null,null,null,null,null,null,null,null,null,null,null,"","","","","","","","","","","",null,"NH","ALL NIPPON AIRWAYS CO. LTD.","JAPAN","ANA",205,null,null,null,null,"","was",0,"","","","","","","","","","","",".",".",null,null,null,null,null,null,null,null,null,null,null,null,null,null,null,null,null,null,0,"/-",0,"/-",0,"/-",0,"/-",null,null,null,null,null,null,null,null,null,null,null,null,null,null,null,null,null,null,null,null,null,null,null,null,null,null,null,null,null,null,null,null,null,null,null,null,null,null,null,null,null,null,null,null,null,null,null,null,null,null,null,null,{"$f":"IF(FE6=\"\",\"\",\"Question No.2 - \"&FE6)","v":"Question No.2 - dgdfgdfgdfgdfg"},null,null,null,null,null,null,null,null,null,null,null,null,null,null,null,null,null,null,null,null,null,null,null,null,null,null,null,null,null,null,null,null,null,null,null,null,null,null,null,null,null,null,null,null,null,null,null,null,null,null,null,null,null,null,null,null,null,null,null,null,null,null,null,null,null,null,null,null,null,null,null,null,null,null,null,null,null,null,null,null,null,null,null,null,null,null,null,null,null,null,null,null,null,null,null,null,null,null,null,null,null,null,null,null,null,null,null,null,null,null,null,null,null,null,null,null,null,null,null,null,null,null,null,null,null,null,null,null,null,null,null,null,null,null,null,null,null,null,null,null,null,null,null,null,null,null,null,null,null,null,null,null,null,null,null,null,null,null,null,null,null,null,null,null,null,null,null,null,null,null,null,null,null,null,null,null,null,null,null,null,null,null,null,null,null,null,null,null,null,null,null,null,null,null,null,null,null,null,null,null,null,null,null,null,null,null,null,null,null,null,null,null,null,null,null,null,null,null,null,null,null,null,null,null,null,null,null,null,null,null,null,null,null,null,null,null,null,null,null,null,null,null,null,null,null,null,null,null,null,null,null,null,null,null,null,null,null,null,null,null,null,null,null,null,null,null,null,null,null,null,null,null,null,null,null,null,null,null,null,null,null,null,null,null,null,null,null,null,null,null,null,null,null,null,null,null,null,null,null,null,null,null,null,null,null,null,null,null,null,null,null,null,null,null,null,null,null,null,null,null,null,null,null,null,null,null,null,null,null,null,null,null,null,null,null,null,null,9,"","","","","","","","","","",{"$f":"IF(AK13=\"\",\"\",AK13&\", \")","v":""},null,null,null,null,null,null,null,null,null,null,null,null,null,null,"","","","","","","","","","","",null,null,null,null,null,null,null,null,null,null,null,null,null," she ",{"$f":"IF(ABB6=\"\",\" \",\" all \")","v":" "},"","",null,null,null,null,null,null,null,null,null,null,null,null,null,null,null,null,null,null,null,null,null,null,null,null,"","","","","","","","","","",null,null,null,null,null,null,null,null,null,null,null,null,null,null,null,null,null,null,null,null,null,null,null,null,null,null,null,null,null,null,null,null,null,null,null,null,null,null,null,null,null,null,"","","","","","","","","","","","","","","","","",""]
["Pax data active till this row",null,null,null,null,null,null,null,null,null,null,null,null,null,null,null,null,null,null,null,null,null,null,null,null,null,null,null,null,null,null,null,null,null,null,null,null,null,null,null,null,null,null,null,null,null,null,null,null,null,null,null,null,null,null,null,null,null,null,null,null,null,null,null,null,null,null,null,"Take fixed deposit amount receipt",null,null,null,null,null,null,null,null,null,null,null,null,null,null,null,null,null,null,null,null,null,null,null,null,null,null,null,null,null,null,null,null,null,null,null,null,null,null,null,null,null,null,null,null,null,null,null,null,null,null,null,null,null,null,null,null,null,null,null,null,null,null,null,null,null,null,null,null,null,null,null,null,null,null,null,null,null,null,null,null,null,null,null,null,null,null,null,null,null,null,null,null,null,null,null,null,null,null,null,null,null,null,null,null,null,null,null,null,null,null,null,null,null,null,null,null,null,null,null,null,null,null,"German",null,null,null,null,null,null,null,null,null,null,null,null,null,null,null,null,null,null,null,null,null,null,null,null,null,null,null,null,null,null,null,null,null,null,null,null,null,null,null,null,null,null,null,null,null,null,null,null,null,null,null,null,null,null,null,null,null,"","","","","","","","","","","",null,"TN","AIR TAHITI NUI","TAHITI","THT",244,null,null,null,null,"","was",0,"","","","","","","","","","","",".",".",null,null,null,null,null,null,null,null,null,null,null,null,null,null,null,null,null,null,null,null,null,null,null,null,null,null,null,null,null,null,null,null,null,null,null,null,null,null,null,null,null,null,null,null,null,null,null,null,null,null,null,null,null,null,null,null,null,null,null,null,null,null,null,null,null,null,null,null,null,null,null,null,null,null,null,null,null,null,{"$f":"IF(FF6=\"\",\"\",\"Answer - \"&FF6)","v":"Answer - dfg"},null,null,null,null,null,null,null,null,null,null,null,null,null,null,null,null,null,null,null,null,null,null,null,null,null,null,null,null,null,null,null,null,null,null,null,null,null,null,null,null,null,null,null,null,null,null,null,null,null,null,null,null,null,null,null,null,null,null,null,null,null,null,null,null,null,null,null,null,null,null,null,null,null,null,null,null,null,null,null,null,null,null,null,null,null,null,null,null,null,null,null,null,null,null,null,null,null,null,null,null,null,null,null,null,null,null,null,null,null,null,null,null,null,null,null,null,null,null,null,null,null,null,null,null,null,null,null,null,null,null,null,null,null,null,null,null,null,null,null,null,null,null,null,null,null,null,null,null,null,null,null,null,null,null,null,null,null,null,null,null,null,null,null,null,null,null,null,null,null,null,null,null,null,null,null,null,null,null,null,null,null,null,null,null,null,null,null,null,null,null,null,null,null,null,null,null,null,null,null,null,null,null,null,null,null,null,null,null,null,null,null,null,null,null,null,null,null,null,null,null,null,null,null,null,null,null,null,null,null,null,null,null,null,null,null,null,null,null,null,null,null,null,null,null,null,null,null,null,null,null,null,null,null,null,null,null,null,null,null,null,null,null,null,null,null,null,null,null,null,null,null,null,null,null,null,null,null,null,null,null,null,null,null,null,null,null,null,null,null,null,null,null,null,null,null,null,null,null,null,null,null,null,null,null,null,null,null,null,null,null,null,null,null,null,null,null,null,null,null,null,null,null,null,null,null,null,null,null,null,null,null,null,null,null,null,null,null,10,"","","","","","","","","","","",null,null,null,null,null,null,null,null,null,null,null,null,null,null,"","","","","","","","","","","",null,null,null,null,null,null,null,null,null,null,null,null,null," she ",{"$f":"IF(ABB6=\"\",\" \",\" Lady \")","v":" "},"","",null,null,null,null,null,null,null,null,null,null,null,null,null,null,null,null,null,null,null,null,null,null,null,null,"","","","","","","","","","",null,null,null,null,null,null,null,null,null,null,null,null,null,null,null,null,null,null,null,null,null,null,null,null,null,null,null,null,null,null,null,null,null,null,null,null,null,null,null,null,null,null,"","","","","","","","","","","","","","","","","",""]
[null,null,null,null,null,null,null,null,null,null,null,null,null,null,null,null,null,null,null,null,null,null,null,null,null,null,null,null,null,null,null,null,null,null,null,null,null,null,null,null,null,null,null,null,null,null,null,null,null,null,null,null,null,null,null,null,null,null,null,null,null,null,null,null,null,null,null,null,null,null,null,null,null,null,null,null,null,null,null,null,null,null,null,null,null,null,null,null,null,null,null,null,null,null,null,null,null,null,null,null,null,null,null,null,null,null,null,null,null,null,null,null,null,null,null,null,null,null,null,null,null,null,null,null,null,null,null,null,null,null,null,null,null,null,null,null,null,null,null,null,null,null,null,null,null,null,null,null,null,null,null,null,null,null,null,null,null,null,null,null,null,null,null,null,null,null,null,null,null,null,null,null,null,null,null,null,null,null,null,null,null,null,null,null,null,null,null,null,null,null,null,"Turkish",null,null,null,null,null,null,null,null,null,null,null,null,null,null,null,null,null,null,null,null,null,null,null,null,null,null,null,null,null,null,null,null,null,null,null,null,null,null,null,null,null,null,null,null,null,null,null,null,null,null,null,null,null,null,null,null,null,null,null,null,null,null,null,null,null,null,null,null,null,"OS","AUSTRIAN AIRLINES AG","AUSTRIA","AUA",257,null,null,null,null,null,null,null,null,null,null,null,null,null,null,null,null,null,null,null,null,null,null,null,null,null,null,null,null,null,null,null,null,null,null,null,null,null,null,null,null,null,null,null,null,null,null,null,null,null,null,null,null,null,null,null,null,null,null,null,null,null,null,null,null,null,null,null,null,null,null,null,null,null,null,null,null,null,null,null,null,null,null,null,null,null,null,null,null,null,null,null,null,null,null,null,null,null,null,{"$f":"IF(FE7=\"\",\"\",\"Question No.3 - \"&FE7)","v":""},null,null,null,null,null,null,null,null,null,null,null,null,null,null,null,null,null,null,null,null,null,null,null,null,null,null,null,null,null,null,null,null,null,null,null,null,null,null,null,null,null,null,null,null,null,null,null,null,null,null,null,null,null,null,null,null,null,null,null,null,null,null,null,null,null,null,null,null,null,null,null,null,null,null,null,null,null,null,null,null,null,null,null,null,null,null,null,null,null,null,null,null,null,null,null,null,null,null,null,null,null,null,null,null,null,null,null,null,null,null,null,null,null,null,null,null,null,null,null,null,null,null,null,null,null,null,null,null,null,null,null,null,null,null,null,null,null,null,null,null,null,null,null,null,null,null,null,null,null,null,null,null,null,null,null,null,null,null,null,null,null,null,null,null,null,null,null,null,null,null,null,null,null,null,null,null,null,null,null,null,null,null,null,null,null,null,null,null,null,null,null,null,null,null,null,null,null,null,null,null,null,null,null,null,null,null,null,null,null,null,null,null,null,null,null,null,null,null,null,null,null,null,null,null,null,null,null,null,null,null,null,null,null,null,null,null,null,null,null,null,null,null,null,null,null,null,null,null,null,null,null,null,null,null,null,null,null,null,null,null,null,null,null,null,null,null,null,null,null,null,null,null,null,null,null,null,null,null,null,null,null,null,null,null,null,null,null,null,null,null,null,null,null,null,null,null,null,null,null,null,null,null,null,null,null,null,null,null,null,null,null,null,null,null,null,null,null,null,null,null,null,null,null,null,null,null,null,null,null,null,null,null,null,null,null,null,null,11,"","","","","","","","","","","",null,null,null,null,null,null,null,null,null,null,null,null,null,null,"","","","","","","","","","",{"$f":"IF(AAK15=\"\",\"\",AAK15)","v":""},null,null,null,null,null,null,null,null,null,null,null,null,null," she ",{"$f":"IF(ABY5=\" she \",\" her \",\" his \")","v":" her "},"","",null,null,null,null,null,null,null,null,null,null,null,null,null,null,null,null,null,null,null,null,null,null,null,null,"","","","","","","","","",""]
[null,null,null,null,null,null,null,null,null,null,null,null,null,null,null,null,null,null,null,null,null,null,null,null,null,null,null,null,null,null,null,null,null,null,null,null,null,null,null,null,null,null,null,null,null,null,null,null,null,null,null,null,null,null,null,null,null,null,null,null,null,null,null,null,null,null,null,null,null,null,null,null,null,null,null,null,null,null,null,null,null,null,null,null,null,null,null,null,null,null,null,null,null,null,null,null,null,null,null,null,null,null,null,null,null,null,null,null,null,null,null,null,null,null,null,null,null,null,null,null,null,null,null,null,null,null,null,null,null,null,null,null,null,null,null,null,null,null,null,null,null,null,null,null,null,null,null,null,null,null,null,null,null,null,null,null,null,null,null,null,null,null,null,null,null,null,null,null,null,null,null,null,null,null,null,null,null,null,null,null,null,null,null,null,null,null,null,null,null,null,null,"Swedish",null,null,null,null,null,null,null,null,null,null,null,null,null,null,null,null,null,null,null,null,null,null,null,null,null,null,null,null,null,null,null,null,null,null,null,null,null,null,null,null,null,null,null,null,null,null,null,null,null,null,null,null,null,null,null,null,null,null,null,null,null,null,null,null,null,null,null,null,null,"FJ","AIR PACIFIC","FIJI","FJI",260,null,null,null,null,null,null,null,null,null,null,null,null,null,null,null,null,null,null,null,null,null,null,null,null,null,null,null,null,null,null,null,null,null,null,null,null,null,null,null,null,null,null,null,null,null,null,null,null,null,null,null,null,null,null,null,null,null,null,null,null,null,null,null,null,null,null,null,null,null,null,null,null,null,null,null,null,null,null,null,null,null,null,null,null,null,null,null,null,null,null,null,null,null,null,null,null,null,null,{"$f":"IF(FF7=\"\",\"\",\"Answer - \"&FF7)","v":""},null,null,null,null,null,null,null,null,null,null,null,null,null,null,null,null,null,null,null,null,null,null,null,null,null,null,null,null,null,null,null,null,null,null,null,null,null,null,null,null,null,null,null,null,null,null,null,null,null,null,null,null,null,null,null,null,null,null,null,null,null,null,null,null,null,null,null,null,null,null,null,null,null,null,null,null,null,null,null,null,null,null,null,null,null,null,null,null,null,null,null,null,null,null,null,null,null,null,null,null,null,null,null,null,null,null,null,null,null,null,null,null,null,null,null,null,null,null,null,null,null,null,null,null,null,null,null,null,null,null,null,null,null,null,null,null,null,null,null,null,null,null,null,null,null,null,null,null,null,null,null,null,null,null,null,null,null,null,null,null,null,null,null,null,null,null,null,null,null,null,null,null,null,null,null,null,null,null,null,null,null,null,null,null,null,null,null,null,null,null,null,null,null,null,null,null,null,null,null,null,null,null,null,null,null,null,null,null,null,null,null,null,null,null,null,null,null,null,null,null,null,null,null,null,null,null,null,null,null,null,null,null,null,null,null,null,null,null,null,null,null,null,null,null,null,null,null,null,null,null,null,null,null,null,null,null,null,null,null,null,null,null,null,null,null,null,null,null,null,null,null,null,null,null,null,null,null,null,null,null,null,null,null,null,null,null,null,null,null,null,null,null,null,null,null,null,null,null,null,null,null,null,null,null,null,null,null,null,null,null,null,null,null,null,null,null,null,null,null,null,null,null,null,null,null,null,null,null,null,null,null,null,null,null,null,null,null,12,"","","","","","","","","","","",null,null,null,null,null,null,null,null,null,null,null,null,null,null,"","","","","","","","","","","",null,null,null,null,null,null,null,null,null,null,null,null,null," she ",{"$f":"IF(ABB6=\"\",\" Notice \",\" Notices \")","v":" Notice "},"","",null,null,null,null,null,null,null,null,null,null,null,null,null,null,null,null,null,null,null,null,null,null,null,null,"","","","","","","","","",""]
[null,null,null,null,null,null,null,null,null,null,null,null,null,null,null,null,null,null,null,null,null,null,null,null,null,null,null,null,null,null,null,null,null,null,null,null,null,null,null,null,null,null,null,null,null,null,null,null,null,null,null,null,null,null,null,null,null,null,null,null,null,null,null,null,null,null,null,null,null,null,null,null,null,null,null,null,null,null,null,null,null,null,null,null,null,null,null,null,null,null,null,null,null,null,null,null,null,null,null,null,null,null,null,null,null,null,null,null,null,null,null,null,null,null,null,null,null,null,null,null,null,null,null,null,null,null,null,null,null,null,null,null,null,null,null,null,null,null,null,null,null,null,null,null,null,null,null,null,null,null,null,null,null,null,null,null,null,null,null,null,null,null,null,null,null,null,null,null,null,null,null,null,null,null,null,null,null,null,null,null,null,null,null,null,null,null,null,null,null,null,null,"Norwegian",null,null,null,null,null,null,null,null,null,null,null,null,null,null,null,null,null,null,null,null,null,null,null,null,null,null,null,null,null,null,null,null,null,null,null,null,null,null,null,null,null,null,null,null,null,null,null,null,null,null,null,null,null,null,null,null,null,null,null,null,null,null,null,null,null,null,null,null,null,"LD","AHK AIR HONG KONG LTD.","HONG KONG","AHK",288,null,null,null,null,null,null,null,null,null,null,null,null,null,null,null,null,null,null,null,null,null,null,null,null,null,null,null,null,null,null,null,null,null,null,null,null,null,null,null,null,null,null,null,null,null,null,null,null,null,null,null,null,null,null,null,null,null,null,null,null,null,null,null,null,null,null,null,null,null,null,null,null,null,null,null,null,null,null,null,null,null,null,null,null,null,null,null,null,null,null,null,null,null,null,null,null,null,null,{"$f":"IF(FE8=\"\",\"\",\"Question No.4 - \"&FE8)","v":""},null,null,null,null,null,null,null,null,null,null,null,null,null,null,null,null,null,null,null,null,null,null,null,null,null,null,null,null,null,null,null,null,null,null,null,null,null,null,null,null,null,null,null,null,null,null,null,null,null,null,null,null,null,null,null,null,null,null,null,null,null,null,null,null,null,null,null,null,null,null,null,null,null,null,null,null,null,null,null,null,null,null,null,null,null,null,null,null,null,null,null,null,null,null,null,null,null,null,null,null,null,null,null,null,null,null,null,null,null,null,null,null,null,null,null,null,null,null,null,null,null,null,null,null,null,null,null,null,null,null,null,null,null,null,null,null,null,null,null,null,null,null,null,null,null,null,null,null,null,null,null,null,null,null,null,null,null,null,null,null,null,null,null,null,null,null,null,null,null,null,null,null,null,null,null,null,null,null,null,null,null,null,null,null,null,null,null,null,null,null,null,null,null,null,null,null,null,null,null,null,null,null,null,null,null,null,null,null,null,null,null,null,null,null,null,null,null,null,null,null,null,null,null,null,null,null,null,null,null,null,null,null,null,null,null,null,null,null,null,null,null,null,null,null,null,null,null,null,null,null,null,null,null,null,null,null,null,null,null,null,null,null,null,null,null,null,null,null,null,null,null,null,null,null,null,null,null,null,null,null,null,null,null,null,null,null,null,null,null,null,null,null,null,null,null,null,null,null,null,null,null,null,null,null,null,null,null,null,null,null,null,null,null,null,null,null,null,null,null,null,null,null,null,null,null,null,null,null,null,null,null,null,null,null,null,null,null,13,"","","","","","","","","","","",null,null,null,null,null,null,null,null,null,null,null,null,null,null,"","","","","","","","","","","",null,null,null,null,null,null,null,null,null,null,null,null,null," she ",null,"","",null,null,null,null,null,null,null,null,null,null,null,null,null,null,null,null,null,null,null,null,null,null,null,null,"","","","","","","","","",""]
[null,null,null,null,null,null,null,null,null,null,null,null,null,null,null,null,null,null,null,null,null,null,null,null,null,null,null,null,null,null,null,null,null,null,null,null,null,null,null,null,null,null,null,null,null,null,null,null,null,null,null,null,null,null,null,null,null,null,null,null,null,null,null,null,null,null,null,null,null,null,null,null,null,null,null,null,null,null,null,null,null,null,null,null,null,null,null,null,null,null,null,null,null,null,null,null,null,null,null,null,null,null,null,null,null,null,null,null,null,null,null,null,null,null,null,null,null,null,null,null,null,null,null,null,null,null,null,null,null,null,null,null,null,null,null,null,null,null,null,null,null,null,null,null,null,null,null,null,null,null,null,null,null,null,null,null,null,null,null,null,null,null,null,null,null,null,null,null,null,null,null,null,null,null,null,null,null,null,null,null,null,null,null,null,null,null,null,null,null,null,null,"Danish",null,null,null,null,null,null,null,null,null,null,null,null,null,null,null,null,null,null,null,null,null,null,null,null,null,null,null,null,null,null,null,null,null,null,null,null,null,null,null,null,null,null,null,null,null,null,null,null,null,null,null,null,null,null,null,null,null,null,null,null,null,null,null,null,null,null,null,null,null,"SU","AEROFLOT RUSSIAN AIRLINES","RUSSIA","AFL",555,null,null,null,null,null,null,null,null,null,null,null,null,null,null,null,null,null,null,null,null,null,null,null,null,null,null,null,null,null,null,null,null,null,null,null,null,null,null,null,null,null,null,null,null,null,null,null,null,null,null,null,null,null,null,null,null,null,null,null,null,null,null,null,null,null,null,null,null,null,null,null,null,null,null,null,null,null,null,null,null,null,null,null,null,null,null,null,null,null,null,null,null,null,null,null,null,null,null,{"$f":"IF(FF8=\"\",\"\",\"Answer - \"&FF8)","v":""},null,null,null,null,null,null,null,null,null,null,null,null,null,null,null,null,null,null,null,null,null,null,null,null,null,null,null,null,null,null,null,null,null,null,null,null,null,null,null,null,null,null,null,null,null,null,null,null,null,null,null,null,null,null,null,null,null,null,null,null,null,null,null,null,null,null,null,null,null,null,null,null,null,null,null,null,null,null,null,null,null,null,null,null,null,null,null,null,null,null,null,null,null,null,null,null,null,null,null,null,null,null,null,null,null,null,null,null,null,null,null,null,null,null,null,null,null,null,null,null,null,null,null,null,null,null,null,null,null,null,null,null,null,null,null,null,null,null,null,null,null,null,null,null,null,null,null,null,null,null,null,null,null,null,null,null,null,null,null,null,null,null,null,null,null,null,null,null,null,null,null,null,null,null,null,null,null,null,null,null,null,null,null,null,null,null,null,null,null,null,null,null,null,null,null,null,null,null,null,null,null,null,null,null,null,null,null,null,null,null,null,null,null,null,null,null,null,null,null,null,null,null,null,null,null,null,null,null,null,null,null,null,null,null,null,null,null,null,null,null,null,null,null,null,null,null,null,null,null,null,null,null,null,null,null,null,null,null,null,null,null,null,null,null,null,null,null,null,null,null,null,null,null,null,null,null,null,null,null,null,null,null,null,null,null,null,null,null,null,null,null,null,null,null,null,null,null,null,null,null,null,null,null,null,null,null,null,null,null,null,null,null,null,null,null,null,null,null,null,null,null,null,null,null,null,null,null,null,null,null,null,null,null,null,null,null,null,14,"","","","","","","","","","","",null,null,null,null,null,null,null,null,null,null,null,null,null,null,"","","","","","","","","","","",null,null,null,null,null,null,null,null,null,null,null,null,null," she ",null,"","",null,null,null,null,null,null,null,null,null,null,null,null,null,null,null,null,null,null,null,null,null,null,null,null,"","","","","","","","","",""]
[null,null,null,null,null,null,null,null,null,null,null,null,null,null,null,null,null,null,null,null,null,null,null,null,null,null,null,null,null,null,null,null,null,null,null,null,null,null,null,null,null,null,null,null,null,null,null,null,null,null,null,null,null,null,null,null,null,null,null,null,null,null,null,null,null,null,null,null,null,null,null,null,null,null,null,null,null,null,null,null,null,null,null,null,null,null,null,null,null,null,null,null,null,null,null,null,null,null,null,null,null,null,null,null,null,null,null,null,null,null,null,null,null,null,null,null,null,null,null,null,null,null,null,null,null,null,null,null,null,null,null,null,null,null,null,null,null,null,null,null,null,null,null,null,null,null,null,null,null,null,null,null,null,null,null,null,null,null,null,null,null,null,null,null,null,null,null,null,null,null,null,null,null,null,null,null,null,null,null,null,null,null,null,null,null,null,null,null,null,null,null,"French",null,null,null,null,null,null,null,null,null,null,null,null,null,null,null,null,null,null,null,null,null,null,null,null,null,null,null,null,null,null,null,null,null,null,null,null,null,null,null,null,null,null,null,null,null,null,null,null,null,null,null,null,null,null,null,null,null,null,null,null,null,null,null,null,null,null,null,null,null,"PX","AIR NIUGINI PTY LTD.","NIUGINI","ANG",656,null,null,null,null,null,null,null,null,null,null,null,null,null,null,null,null,null,null,null,null,null,null,null,null,null,null,null,null,null,null,null,null,null,null,null,null,null,null,null,null,null,null,null,null,null,null,null,null,null,null,null,null,null,null,null,null,null,null,null,null,null,null,null,null,null,null,null,null,null,null,null,null,null,null,null,null,null,null,null,null,null,null,null,null,null,null,null,null,null,null,null,null,null,null,null,null,null,null,{"$f":"IF(FE9=\"\",\"\",\"Question No.5 - \"&FE9)","v":""},null,null,null,null,null,null,null,null,null,null,null,null,null,null,null,null,null,null,null,null,null,null,null,null,null,null,null,null,null,null,null,null,null,null,null,null,null,null,null,null,null,null,null,null,null,null,null,null,null,null,null,null,null,null,null,null,null,null,null,null,null,null,null,null,null,null,null,null,null,null,null,null,null,null,null,null,null,null,null,null,null,null,null,null,null,null,null,null,null,null,null,null,null,null,null,null,null,null,null,null,null,null,null,null,null,null,null,null,null,null,null,null,null,null,null,null,null,null,null,null,null,null,null,null,null,null,null,null,null,null,null,null,null,null,null,null,null,null,null,null,null,null,null,null,null,null,null,null,null,null,null,null,null,null,null,null,null,null,null,null,null,null,null,null,null,null,null,null,null,null,null,null,null,null,null,null,null,null,null,null,null,null,null,null,null,null,null,null,null,null,null,null,null,null,null,null,null,null,null,null,null,null,null,null,null,null,null,null,null,null,null,null,null,null,null,null,null,null,null,null,null,null,null,null,null,null,null,null,null,null,null,null,null,null,null,null,null,null,null,null,null,null,null,null,null,null,null,null,null,null,null,null,null,null,null,null,null,null,null,null,null,null,null,null,null,null,null,null,null,null,null,null,null,null,null,null,null,null,null,null,null,null,null,null,null,null,null,null,null,null,null,null,null,null,null,null,null,null,null,null,null,null,null,null,null,null,null,null,null,null,null,null,null,null,null,null,null,null,null,null,null,null,null,null,null,null,null,null,null,null,null,null,null,null,null,null,null,15,"","","","","","","","","","","",null,null,null,null,null,null,null,null,null,null,null,null,null,null,"","","","","","","","","","","",null,null,null,null,null,null,null,null,null,null,null,null,null," she ",null,"","",null,null,null,null,null,null,null,null,null,null,null,null,null,null,null,null,null,null,null,null,null,null,null,null,"","","","","","","","","",""]
[null,null,null,null,null,null,null,null,null,null,null,null,null,null,null,null,null,null,null,null,null,null,null,null,null,null,null,null,null,null,null,null,null,null,null,null,null,null,null,null,null,null,null,null,null,null,null,null,null,null,null,null,null,null,null,null,null,null,null,null,null,null,null,null,null,null,null,null,null,null,null,null,null,null,null,null,null,null,null,null,null,null,null,null,null,null,null,null,null,null,null,null,null,null,null,null,null,null,null,null,null,null,null,null,null,null,null,null,null,null,null,null,null,null,null,null,null,null,null,null,null,null,null,null,null,null,null,null,null,null,null,null,null,null,null,null,null,null,null,null,null,null,null,null,null,null,null,null,null,null,null,null,null,null,null,null,null,null,null,null,null,null,null,null,null,null,null,null,null,null,null,null,null,null,null,null,null,null,null,null,null,null,null,null,null,null,null,null,null,null,null,"Italian",null,null,null,null,null,null,null,null,null,null,null,null,null,null,null,null,null,null,null,null,null,null,null,null,null,null,null,null,null,null,null,null,null,null,null,null,null,null,null,null,null,null,null,null,null,null,null,null,null,null,null,null,null,null,null,null,null,null,null,null,null,null,null,null,null,null,null,null,null,"EL","AIR NIPPON CO. LTD.","JAPAN","ANK",768,null,null,null,null,null,null,null,null,null,null,null,null,null,null,null,null,null,null,null,null,null,null,null,null,null,null,null,null,null,null,null,null,null,null,null,null,null,null,null,null,null,null,null,null,null,null,null,null,null,null,null,null,null,null,null,null,null,null,null,null,null,null,null,null,null,null,null,null,null,null,null,null,null,null,null,null,null,null,null,null,null,null,null,null,null,null,null,null,null,null,null,null,null,null,null,null,null,null,{"$f":"IF(FF9=\"\",\"\",\"Answer - \"&FF9)","v":""},null,null,null,null,null,null,null,null,null,null,null,null,null,null,null,null,null,null,null,null,null,null,null,null,null,null,null,null,null,null,null,null,null,null,null,null,null,null,null,null,null,null,null,null,null,null,null,null,null,null,null,null,null,null,null,null,null,null,null,null,null,null,null,null,null,null,null,null,null,null,null,null,null,null,null,null,null,null,null,null,null,null,null,null,null,null,null,null,null,null,null,null,null,null,null,null,null,null,null,null,null,null,null,null,null,null,null,null,null,null,null,null,null,null,null,null,null,null,null,null,null,null,null,null,null,null,null,null,null,null,null,null,null,null,null,null,null,null,null,null,null,null,null,null,null,null,null,null,null,null,null,null,null,null,null,null,null,null,null,null,null,null,null,null,null,null,null,null,null,null,null,null,null,null,null,null,null,null,null,null,null,null,null,null,null,null,null,null,null,null,null,null,null,null,null,null,null,null,null,null,null,null,null,null,null,null,null,null,null,null,null,null,null,null,null,null,null,null,null,null,null,null,null,null,null,null,null,null,null,null,null,null,null,null,null,null,null,null,null,null,null,null,null,null,null,null,null,null,null,null,null,null,null,null,null,null,null,null,null,null,null,null,null,null,null,null,null,null,null,null,null,null,null,null,null,null,null,null,null,null,null,null,null,null,null,null,null,null,null,null,null,null,null,null,null,null,null,null,null,null,null,null,null,null,null,null,null,null,null,null,null,null,null,null,null,null,null,null,null,null,null,null,null,null,null,null,null,null,null,null,null,null,null,null,null,null,null,16,"","","","","","","","","","","",null,null,null,null,null,null,null,null,null,null,null,null,null,null,"","","","","","","","","","","",null,null,null,null,null,null,null,null,null,null,null,null,null," she ",null,"","",null,null,null,null,null,null,null,null,null,null,null,null,null,null,null,null,null,null,null,null,null,null,null,null,"","","","","","","","","",""]
[null,null,null,null,null,null,null,null,null,null,null,null,null,null,null,null,null,null,null,null,null,null,null,null,null,null,null,null,null,null,null,null,null,null,null,null,null,null,null,null,null,null,null,null,null,null,null,null,null,null,null,null,null,null,null,null,null,null,null,null,null,null,null,null,null,null,null,null,null,null,null,null,null,null,null,null,null,null,null,null,null,null,null,null,null,null,null,null,null,null,null,null,null,null,null,null,null,null,null,null,null,null,null,null,null,null,null,null,null,null,null,null,null,null,null,null,null,null,null,null,null,null,null,null,null,null,null,null,null,null,null,null,null,null,null,null,null,null,null,null,null,null,null,null,null,null,null,null,null,null,null,null,null,null,null,null,null,null,null,null,null,null,null,null,null,null,null,null,null,null,null,null,null,null,null,null,null,null,null,null,null,null,null,null,null,null,null,null,null,null,null,"Dutch",null,null,null,null,null,null,null,null,null,null,null,null,null,null,null,null,null,null,null,null,null,null,null,null,null,null,null,null,null,null,null,null,null,null,null,null,null,null,null,null,null,null,null,null,null,null,null,null,null,null,null,null,null,null,null,null,null,null,null,null,null,null,null,null,null,null,null,null,null,"OZ","ASIANA AIRLINES INC.","KOREA","AAR",988,null,null,null,null,null,null,null,null,null,null,null,null,null,null,null,null,null,null,null,null,null,null,null,null,null,null,null,null,null,null,null,null,null,null,null,null,null,null,null,null,null,null,null,null,null,null,null,null,null,null,null,null,null,null,null,null,null,null,null,null,null,null,null,null,null,null,null,null,null,null,null,null,null,null,null,null,null,null,null,null,null,null,null,null,null,null,null,null,null,null,null,null,null,null,null,null,null,null,{"$f":"IF(FE10=\"\",\"\",\"Question No.6 - \"&FE10)","v":""},null,null,null,null,null,null,null,null,null,null,null,null,null,null,null,null,null,null,null,null,null,null,null,null,null,null,null,null,null,null,null,null,null,null,null,null,null,null,null,null,null,null,null,null,null,null,null,null,null,null,null,null,null,null,null,null,null,null,null,null,null,null,null,null,null,null,null,null,null,null,null,null,null,null,null,null,null,null,null,null,null,null,null,null,null,null,null,null,null,null,null,null,null,null,null,null,null,null,null,null,null,null,null,null,null,null,null,null,null,null,null,null,null,null,null,null,null,null,null,null,null,null,null,null,null,null,null,null,null,null,null,null,null,null,null,null,null,null,null,null,null,null,null,null,null,null,null,null,null,null,null,null,null,null,null,null,null,null,null,null,null,null,null,null,null,null,null,null,null,null,null,null,null,null,null,null,null,null,null,null,null,null,null,null,null,null,null,null,null,null,null,null,null,null,null,null,null,null,null,null,null,null,null,null,null,null,null,null,null,null,null,null,null,null,null,null,null,null,null,null,null,null,null,null,null,null,null,null,null,null,null,null,null,null,null,null,null,null,null,null,null,null,null,null,null,null,null,null,null,null,null,null,null,null,null,null,null,null,null,null,null,null,null,null,null,null,null,null,null,null,null,null,null,null,null,null,null,null,null,null,null,null,null,null,null,null,null,null,null,null,null,null,null,null,null,null,null,null,null,null,null,null,null,null,null,null,null,null,null,null,null,null,null,null,null,null,null,null,null,null,null,null,null,null,null,null,null,null,null,null,null,null,null,null,null,null,null,17,"","","","","","","","","","","",null,null,null,null,null,null,null,null,null,null,null,null,null,null,"","","","","","","","","","","",null,null,null,null,null,null,null,null,null,null,null,null,null," she ",null,"","",null,null,null,null,null,null,null,null,null,null,null,null,null,null,null,null,null,null,null,null,null,null,null,null,"","","","","","","","","",""]
[null,null,null,null,null,null,null,null,null,null,null,null,null,null,null,null,null,null,null,null,null,null,null,null,null,null,null,null,null,null,null,null,null,null,null,null,null,null,null,null,null,null,null,null,null,null,null,null,null,null,null,null,null,null,null,null,null,null,null,null,null,null,null,null,null,null,null,null,null,null,null,null,null,null,null,null,null,null,null,null,null,null,null,null,null,null,null,null,null,null,null,null,null,null,null,null,null,null,null,null,null,null,null,null,null,null,null,null,null,null,null,null,null,null,null,null,null,null,null,null,null,null,null,null,null,null,null,null,null,null,null,null,null,null,null,null,null,null,null,null,null,null,null,null,null,null,null,null,null,null,null,null,null,null,null,null,null,null,null,null,null,null,null,null,null,null,null,null,null,null,null,null,null,null,null,null,null,null,null,null,null,null,null,null,null,null,null,null,null,null,null,"Polish",null,null,null,null,null,null,null,null,null,null,null,null,null,null,null,null,null,null,null,null,null,null,null,null,null,null,null,null,null,null,null,null,null,null,null,null,null,null,null,null,null,null,null,null,null,null,null,null,null,null,null,null,null,null,null,null,null,null,null,null,null,null,null,null,null,null,null,null,null,"CA","AIR CHINA LTD.","CHINA","CCA",999,null,null,null,null,null,null,null,null,null,null,null,null,null,null,null,null,null,null,null,null,null,null,null,null,null,null,null,null,null,null,null,null,null,null,null,null,null,null,null,null,null,null,null,null,null,null,null,null,null,null,null,null,null,null,null,null,null,null,null,null,null,null,null,null,null,null,null,null,null,null,null,null,null,null,null,null,null,null,null,null,null,null,null,null,null,null,null,null,null,null,null,null,null,null,null,null,null,null,{"$f":"IF(FF10=\"\",\"\",\"Answer - \"&FF10)","v":""},null,null,null,null,null,null,null,null,null,null,null,null,null,null,null,null,null,null,null,null,null,null,null,null,null,null,null,null,null,null,null,null,null,null,null,null,null,null,null,null,null,null,null,null,null,null,null,null,null,null,null,null,null,null,null,null,null,null,null,null,null,null,null,null,null,null,null,null,null,null,null,null,null,null,null,null,null,null,null,null,null,null,null,null,null,null,null,null,null,null,null,null,null,null,null,null,null,null,null,null,null,null,null,null,null,null,null,null,null,null,null,null,null,null,null,null,null,null,null,null,null,null,null,null,null,null,null,null,null,null,null,null,null,null,null,null,null,null,null,null,null,null,null,null,null,null,null,null,null,null,null,null,null,null,null,null,null,null,null,null,null,null,null,null,null,null,null,null,null,null,null,null,null,null,null,null,null,null,null,null,null,null,null,null,null,null,null,null,null,null,null,null,null,null,null,null,null,null,null,null,null,null,null,null,null,null,null,null,null,null,null,null,null,null,null,null,null,null,null,null,null,null,null,null,null,null,null,null,null,null,null,null,null,null,null,null,null,null,null,null,null,null,null,null,null,null,null,null,null,null,null,null,null,null,null,null,null,null,null,null,null,null,null,null,null,null,null,null,null,null,null,null,null,null,null,null,null,null,null,null,null,null,null,null,null,null,null,null,null,null,null,null,null,null,null,null,null,null,null,null,null,null,null,null,null,null,null,null,null,null,null,null,null,null,null,null,null,null,null,null,null,null,null,null,null,null,null,null,null,null,null,null,null,null,null,null,null,18,"","","","","","","","","","","",null,null,null,null,null,null,null,null,null,null,null,null,null,null,"","","","","","","","","","","",null,null,null,null,null,null,null,null,null,null,null,null,null," she ",null,"","",null,null,null,null,null,null,null,null,null,null,null,null,null,null,null,null,null,null,null,null,null,null,null,null,"","","","","","","","","",""]
[null,null,null,null,null,null,null,null,null,null,null,null,null,null,null,null,null,null,null,null,null,null,null,null,null,null,null,null,null,null,null,null,null,null,null,null,null,null,null,null,null,null,null,null,null,null,null,null,null,null,null,null,null,null,null,null,null,null,null,null,null,null,null,null,null,null,null,null,null,null,null,null,null,null,null,null,null,null,null,null,null,null,null,null,null,null,null,null,null,null,null,null,null,null,null,null,null,null,null,null,null,null,null,null,null,null,null,null,null,null,null,null,null,null,null,null,null,null,null,null,null,null,null,null,null,null,null,null,null,null,null,null,null,null,null,null,null,null,null,null,null,null,null,null,null,null,null,null,null,null,null,null,null,null,null,null,null,null,null,null,null,null,null,null,null,null,null,null,null,null,null,null,null,null,null,null,null,null,null,null,null,null,null,null,null,null,null,null,null,null,null,"Indonesian",null,null,null,null,null,null,null,null,null,null,null,null,null,null,null,null,null,null,null,null,null,null,null,null,null,null,null,null,null,null,null,null,null,null,null,null,null,null,null,null,null,null,null,null,null,null,null,null,null,null,null,null,null,null,null,null,null,null,null,null,null,null,null,null,null,null,null,null,null,"BA","BRITISH AIRWAYS P.L.C.","U.K.","BAW",125,null,null,null,null,null,null,null,null,null,null,null,null,null,null,null,null,null,null,null,null,null,null,null,null,null,null,null,null,null,null,null,null,null,null,null,null,null,null,null,null,null,null,null,null,null,null,null,null,null,null,null,null,null,null,null,null,null,null,null,null,null,null,null,null,null,null,null,null,null,null,null,null,null,null,null,null,null,null,null,null,null,null,null,null,null,null,null,null,null,null,null,null,null,null,null,null,null,null,{"$f":"IF(FE11=\"\",\"\",\"Question No.7 - \"&FE11)","v":""},null,null,null,null,null,null,null,null,null,null,null,null,null,null,null,null,null,null,null,null,null,null,null,null,null,null,null,null,null,null,null,null,null,null,null,null,null,null,null,null,null,null,null,null,null,null,null,null,null,null,null,null,null,null,null,null,null,null,null,null,null,null,null,null,null,null,null,null,null,null,null,null,null,null,null,null,null,null,null,null,null,null,null,null,null,null,null,null,null,null,null,null,null,null,null,null,null,null,null,null,null,null,null,null,null,null,null,null,null,null,null,null,null,null,null,null,null,null,null,null,null,null,null,null,null,null,null,null,null,null,null,null,null,null,null,null,null,null,null,null,null,null,null,null,null,null,null,null,null,null,null,null,null,null,null,null,null,null,null,null,null,null,null,null,null,null,null,null,null,null,null,null,null,null,null,null,null,null,null,null,null,null,null,null,null,null,null,null,null,null,null,null,null,null,null,null,null,null,null,null,null,null,null,null,null,null,null,null,null,null,null,null,null,null,null,null,null,null,null,null,null,null,null,null,null,null,null,null,null,null,null,null,null,null,null,null,null,null,null,null,null,null,null,null,null,null,null,null,null,null,null,null,null,null,null,null,null,null,null,null,null,null,null,null,null,null,null,null,null,null,null,null,null,null,null,null,null,null,null,null,null,null,null,null,null,null,null,null,null,null,null,null,null,null,null,null,null,null,null,null,null,null,null,null,null,null,null,null,null,null,null,null,null,null,null,null,null,null,null,null,null,null,null,null,null,null,null,null,null,null,null,null,null,null,null,null,null,19,"","","","","","","","","","","",null,null,null,null,null,null,null,null,null,null,null,null,null,null,"","","","","","","","","","","",null,null,null,null,null,null,null,null,null,null,null,null,null," she ",null,"","",null,null,null,null,null,null,null,null,null,null,null,null,null,null,null,null,null,null,null,null,null,null,null,null,"","","","","","","","","",""]
[null,null,null,null,null,null,null,null,null,null,null,null,null,null,null,null,null,null,null,null,null,null,null,null,null,null,null,null,null,null,null,null,null,null,null,null,null,null,null,null,null,null,null,null,null,null,null,null,null,null,null,null,null,null,null,null,null,null,null,null,null,null,null,null,null,null,null,null,null,null,null,null,null,null,null,null,null,null,null,null,null,null,null,null,null,null,null,null,null,null,null,null,null,null,null,null,null,null,null,null,null,null,null,null,null,null,null,null,null,null,null,null,null,null,null,null,null,null,null,null,null,null,null,null,null,null,null,null,null,null,null,null,null,null,null,null,null,null,null,null,null,null,null,null,null,null,null,null,null,null,null,null,null,null,null,null,null,null,null,null,null,null,null,null,null,null,null,null,null,null,null,null,null,null,null,null,null,null,null,null,null,null,null,null,null,null,null,null,null,null,null,"Dari Persian",null,null,null,null,null,null,null,null,null,null,null,null,null,null,null,null,null,null,null,null,null,null,null,null,null,null,null,null,null,null,null,null,null,null,null,null,null,null,null,null,null,null,null,null,null,null,null,null,null,null,null,null,null,null,null,null,null,null,null,null,null,null,null,null,null,null,null,null,null,"CO","CONTINENTAL AIRLINES, INC.","U.S.A.","COA",5,null,null,null,null,null,null,null,null,null,null,null,null,null,null,null,null,null,null,null,null,null,null,null,null,null,null,null,null,null,null,null,null,null,null,null,null,null,null,null,null,null,null,null,null,null,null,null,null,null,null,null,null,null,null,null,null,null,null,null,null,null,null,null,null,null,null,null,null,null,null,null,null,null,null,null,null,null,null,null,null,null,null,null,null,null,null,null,null,null,null,null,null,null,null,null,null,null,null,{"$f":"IF(FF11=\"\",\"\",\"Answer - \"&FF11)","v":""},null,null,null,null,null,null,null,null,null,null,null,null,null,null,null,null,null,null,null,null,null,null,null,null,null,null,null,null,null,null,null,null,null,null,null,null,null,null,null,null,null,null,null,null,null,null,null,null,null,null,null,null,null,null,null,null,null,null,null,null,null,null,null,null,null,null,null,null,null,null,null,null,null,null,null,null,null,null,null,null,null,null,null,null,null,null,null,null,null,null,null,null,null,null,null,null,null,null,null,null,null,null,null,null,null,null,null,null,null,null,null,null,null,null,null,null,null,null,null,null,null,null,null,null,null,null,null,null,null,null,null,null,null,null,null,null,null,null,null,null,null,null,null,null,null,null,null,null,null,null,null,null,null,null,null,null,null,null,null,null,null,null,null,null,null,null,null,null,null,null,null,null,null,null,null,null,null,null,null,null,null,null,null,null,null,null,null,null,null,null,null,null,null,null,null,null,null,null,null,null,null,null,null,null,null,null,null,null,null,null,null,null,null,null,null,null,null,null,null,null,null,null,null,null,null,null,null,null,null,null,null,null,null,null,null,null,null,null,null,null,null,null,null,null,null,null,null,null,null,null,null,null,null,null,null,null,null,null,null,null,null,null,null,null,null,null,null,null,null,null,null,null,null,null,null,null,null,null,null,null,null,null,null,null,null,null,null,null,null,null,null,null,null,null,null,null,null,null,null,null,null,null,null,null,null,null,null,null,null,null,null,null,null,null,null,null,null,null,null,null,null,null,null,null,null,null,null,null,null,null,null,null,null,null,null,null,null,20,"","","","","","","","","","","",null,null,null,null,null,null,null,null,null,null,null,null,null,null,"","","","","","","","","","","",null,null,null,null,null,null,null,null,null,null,null,null,null," she ",null,"","",null,null,null,null,null,null,null,null,null,null,null,null,null,null,null,null,null,null,null,null,null,null,null,null,"","","","","","","","","",""]
[null,null,null,null,null,null,null,null,null,null,null,null,null,null,null,null,null,null,null,null,null,null,null,null,null,null,null,null,null,null,null,null,null,null,null,null,null,null,null,null,null,null,null,null,null,null,null,null,null,null,null,null,null,null,null,null,null,null,null,null,null,null,null,null,null,null,null,null,null,null,null,null,null,null,null,null,null,null,null,null,null,null,null,null,null,null,null,null,null,null,null,null,null,null,null,null,null,null,null,null,null,null,null,null,null,null,null,null,null,null,null,null,null,null,null,null,null,null,null,null,null,null,null,null,null,null,null,null,null,null,null,null,null,null,null,null,null,null,null,null,null,null,null,null,null,null,null,null,null,null,null,null,null,null,null,null,null,null,null,null,null,null,null,null,null,null,null,null,null,null,null,null,null,null,null,null,null,null,null,null,null,null,null,null,null,null,null,null,null,null,null,"Albanian",null,null,null,null,null,null,null,null,null,null,null,null,null,null,null,null,null,null,null,null,null,null,null,null,null,null,null,null,null,null,null,null,null,null,null,null,null,null,null,null,null,null,null,null,null,null,null,null,null,null,null,null,null,null,null,null,null,null,null,null,null,null,null,null,null,null,null,null,null,"CX","CATHAY PACIFIC AIRWAYS LTD.","CHINA","CPA",160,null,null,null,null,null,null,null,null,null,null,null,null,null,null,null,null,null,null,null,null,null,null,null,null,null,null,null,null,null,null,null,null,null,null,null,null,null,null,null,null,null,null,null,null,null,null,null,null,null,null,null,null,null,null,null,null,null,null,null,null,null,null,null,null,null,null,null,null,null,null,null,null,null,null,null,null,null,null,null,null,null,null,null,null,null,null,null,null,null,null,null,null,null,null,null,null,null,null,{"$f":"IF(FE12=\"\",\"\",\"Question No.8 - \"&FE12)","v":""},null,null,null,null,null,null,null,null,null,null,null,null,null,null,null,null,null,null,null,null,null,null,null,null,null,null,null,null,null,null,null,null,null,null,null,null,null,null,null,null,null,null,null,null,null,null,null,null,null,null,null,null,null,null,null,null,null,null,null,null,null,null,null,null,null,null,null,null,null,null,null,null,null,null,null,null,null,null,null,null,null,null,null,null,null,null,null,null,null,null,null,null,null,null,null,null,null,null,null,null,null,null,null,null,null,null,null,null,null,null,null,null,null,null,null,null,null,null,null,null,null,null,null,null,null,null,null,null,null,null,null,null,null,null,null,null,null,null,null,null,null,null,null,null,null,null,null,null,null,null,null,null,null,null,null,null,null,null,null,null,null,null,null,null,null,null,null,null,null,null,null,null,null,null,null,null,null,null,null,null,null,null,null,null,null,null,null,null,null,null,null,null,null,null,null,null,null,null,null,null,null,null,null,null,null,null,null,null,null,null,null,null,null,null,null,null,null,null,null,null,null,null,null,null,null,null,null,null,null,null,null,null,null,null,null,null,null,null,null,null,null,null,null,null,null,null,null,null,null,null,null,null,null,null,null,null,null,null,null,null,null,null,null,null,null,null,null,null,null,null,null,null,null,null,null,null,null,null,null,null,null,null,null,null,null,null,null,null,null,null,null,null,null,null,null,null,null,null,null,null,null,null,null,null,null,null,null,null,null,null,null,null,null,null,null,null,null,null,null,null,null,null,null,null,null,null,null,null,null,null,null,null,null,null,null,null,null,21,"","","","","","","","","","","",null,null,null,null,null,null,null,null,null,null,null,null,null,null,"","","","","","","","","","","",null,null,null,null,null,null,null,null,null,null,null,null,null," she ",null,"","",null,null,null,null,null,null,null,null,null,null,null,null,null,null,null,null,null,null,null,null,null,null,null,null,"","","","","","","","","",""]
[null,null,null,null,null,null,null,null,null,null,null,null,null,null,null,null,null,null,null,null,null,null,null,null,null,null,null,null,null,null,null,null,null,null,null,null,null,null,null,null,null,null,null,null,null,null,null,null,null,null,null,null,null,null,null,null,null,null,null,null,null,null,null,null,null,null,null,null,null,null,null,null,null,null,null,null,null,null,null,null,null,null,null,null,null,null,null,null,null,null,null,null,null,null,null,null,null,null,null,null,null,null,null,null,null,null,null,null,null,null,null,null,null,null,null,null,null,null,null,null,null,null,null,null,null,null,null,null,null,null,null,null,null,null,null,null,null,null,null,null,null,null,null,null,null,null,null,null,null,null,null,null,null,null,null,null,null,null,null,null,null,null,null,null,null,null,null,null,null,null,null,null,null,null,null,null,null,null,null,null,null,null,null,null,null,null,null,null,null,null,null,"African",null,null,null,null,null,null,null,null,null,null,null,null,null,null,null,null,null,null,null,null,null,null,null,null,null,null,null,null,null,null,null,null,null,null,null,null,null,null,null,null,null,null,null,null,null,null,null,null,null,null,null,null,null,null,null,null,null,null,null,null,null,null,null,null,null,null,null,null,null,"CV","CARGOLUX AIRLINES INTERNATIONAL S.A.","LUXEMBURG","CLX",172,null,null,null,null,null,null,null,null,null,null,null,null,null,null,null,null,null,null,null,null,null,null,null,null,null,null,null,null,null,null,null,null,null,null,null,null,null,null,null,null,null,null,null,null,null,null,null,null,null,null,null,null,null,null,null,null,null,null,null,null,null,null,null,null,null,null,null,null,null,null,null,null,null,null,null,null,null,null,null,null,null,null,null,null,null,null,null,null,null,null,null,null,null,null,null,null,null,null,{"$f":"IF(FF12=\"\",\"\",\"Answer - \"&FF12)","v":""},null,null,null,null,null,null,null,null,null,null,null,null,null,null,null,null,null,null,null,null,null,null,null,null,null,null,null,null,null,null,null,null,null,null,null,null,null,null,null,null,null,null,null,null,null,null,null,null,null,null,null,null,null,null,null,null,null,null,null,null,null,null,null,null,null,null,null,null,null,null,null,null,null,null,null,null,null,null,null,null,null,null,null,null,null,null,null,null,null,null,null,null,null,null,null,null,null,null,null,null,null,null,null,null,null,null,null,null,null,null,null,null,null,null,null,null,null,null,null,null,null,null,null,null,null,null,null,null,null,null,null,null,null,null,null,null,null,null,null,null,null,null,null,null,null,null,null,null,null,null,null,null,null,null,null,null,null,null,null,null,null,null,null,null,null,null,null,null,null,null,null,null,null,null,null,null,null,null,null,null,null,null,null,null,null,null,null,null,null,null,null,null,null,null,null,null,null,null,null,null,null,null,null,null,null,null,null,null,null,null,null,null,null,null,null,null,null,null,null,null,null,null,null,null,null,null,null,null,null,null,null,null,null,null,null,null,null,null,null,null,null,null,null,null,null,null,null,null,null,null,null,null,null,null,null,null,null,null,null,null,null,null,null,null,null,null,null,null,null,null,null,null,null,null,null,null,null,null,null,null,null,null,null,null,null,null,null,null,null,null,null,null,null,null,null,null,null,null,null,null,null,null,null,null,null,null,null,null,null,null,null,null,null,null,null,null,null,null,null,null,null,null,null,null,null,null,null,null,null,null,null,null,null,null,null,null,null,22,"","","","","","","","","","","",null,null,null,null,null,null,null,null,null,null,null,null,null,null,"","","","","","","","","","","",null,null,null,null,null,null,null,null,null,null,null,null,null," she ",null,"","",null,null,null,null,null,null,null,null,null,null,null,null,null,null,null,null,null,null,null,null,null,null,null,null,"","","","","","","","","",""]
[null,null,null,null,null,null,null,null,null,null,null,null,null,null,null,null,null,null,null,null,null,null,null,null,null,null,null,null,null,null,null,null,null,null,null,null,null,null,null,null,null,null,null,null,null,null,null,null,null,null,null,null,null,null,null,null,null,null,null,null,null,null,null,null,null,null,null,null,null,null,null,null,null,null,null,null,null,null,null,null,null,null,null,null,null,null,null,null,null,null,null,null,null,null,null,null,null,null,null,null,null,null,null,null,null,null,null,null,null,null,null,null,null,null,null,null,null,null,null,null,null,null,null,null,null,null,null,null,null,null,null,null,null,null,null,null,null,null,null,null,null,null,null,null,null,null,null,null,null,null,null,null,null,null,null,null,null,null,null,null,null,null,null,null,null,null,null,null,null,null,null,null,null,null,null,null,null,null,null,null,null,null,null,null,null,null,null,null,null,null,null,"Dzongkha",null,null,null,null,null,null,null,null,null,null,null,null,null,null,null,null,null,null,null,null,null,null,null,null,null,null,null,null,null,null,null,null,null,null,null,null,null,null,null,null,null,null,null,null,null,null,null,null,null,null,null,null,null,null,null,null,null,null,null,null,null,null,null,null,null,null,null,null,null,"CI","CHINA AIRLINES LTD","TAIWAN","CAL",297,null,null,null,null,null,null,null,null,null,null,null,null,null,null,null,null,null,null,null,null,null,null,null,null,null,null,null,null,null,null,null,null,null,null,null,null,null,null,null,null,null,null,null,null,null,null,null,null,null,null,null,null,null,null,null,null,null,null,null,null,null,null,null,null,null,null,null,null,null,null,null,null,null,null,null,null,null,null,null,null,null,null,null,null,null,null,null,null,null,null,null,null,null,null,null,null,null,null,{"$f":"IF(FE13=\"\",\"\",\"Question No.9 - \"&FE13)","v":""},null,null,null,null,null,null,null,null,null,null,null,null,null,null,null,null,null,null,null,null,null,null,null,null,null,null,null,null,null,null,null,null,null,null,null,null,null,null,null,null,null,null,null,null,null,null,null,null,null,null,null,null,null,null,null,null,null,null,null,null,null,null,null,null,null,null,null,null,null,null,null,null,null,null,null,null,null,null,null,null,null,null,null,null,null,null,null,null,null,null,null,null,null,null,null,null,null,null,null,null,null,null,null,null,null,null,null,null,null,null,null,null,null,null,null,null,null,null,null,null,null,null,null,null,null,null,null,null,null,null,null,null,null,null,null,null,null,null,null,null,null,null,null,null,null,null,null,null,null,null,null,null,null,null,null,null,null,null,null,null,null,null,null,null,null,null,null,null,null,null,null,null,null,null,null,null,null,null,null,null,null,null,null,null,null,null,null,null,null,null,null,null,null,null,null,null,null,null,null,null,null,null,null,null,null,null,null,null,null,null,null,null,null,null,null,null,null,null,null,null,null,null,null,null,null,null,null,null,null,null,null,null,null,null,null,null,null,null,null,null,null,null,null,null,null,null,null,null,null,null,null,null,null,null,null,null,null,null,null,null,null,null,null,null,null,null,null,null,null,null,null,null,null,null,null,null,null,null,null,null,null,null,null,null,null,null,null,null,null,null,null,null,null,null,null,null,null,null,null,null,null,null,null,null,null,null,null,null,null,null,null,null,null,null,null,null,null,null,null,null,null,null,null,null,null,null,null,null,null,null,null,null,null,null,null,null,null,23,"","","","","","","","","","","",null,null,null,null,null,null,null,null,null,null,null,null,null,null,"","","","","","","","","","","",null,null,null,null,null,null,null,null,null,null,null,null,null," she ",null,"","",null,null,null,null,null,null,null,null,null,null,null,null,null,null,null,null,null,null,null,null,null,null,null,null,"","","","","","","","","",""]
[null,null,null,null,null,null,null,null,null,null,null,null,null,null,null,null,null,null,null,null,null,null,null,null,null,null,null,null,null,null,null,null,null,null,null,null,null,null,null,null,null,null,null,null,null,null,null,null,null,null,null,null,null,null,null,null,null,null,null,null,null,null,null,null,null,null,null,null,null,null,null,null,null,null,null,null,null,null,null,null,null,null,null,null,null,null,null,null,null,null,null,null,null,null,null,null,null,null,null,null,null,null,null,null,null,null,null,null,null,null,null,null,null,null,null,null,null,null,null,null,null,null,null,null,null,null,null,null,null,null,null,null,null,null,null,null,null,null,null,null,null,null,null,null,null,null,null,null,null,null,null,null,null,null,null,null,null,null,null,null,null,null,null,null,null,null,null,null,null,null,null,null,null,null,null,null,null,null,null,null,null,null,null,null,null,null,null,null,null,null,null,"Greek",null,null,null,null,null,null,null,null,null,null,null,null,null,null,null,null,null,null,null,null,null,null,null,null,null,null,null,null,null,null,null,null,null,null,null,null,null,null,null,null,null,null,null,null,null,null,null,null,null,null,null,null,null,null,null,null,null,null,null,null,null,null,null,null,null,null,null,null,null,"MU","CHINA EASTERN AIRLINES","CHINA","CES",781,null,null,null,null,null,null,null,null,null,null,null,null,null,null,null,null,null,null,null,null,null,null,null,null,null,null,null,null,null,null,null,null,null,null,null,null,null,null,null,null,null,null,null,null,null,null,null,null,null,null,null,null,null,null,null,null,null,null,null,null,null,null,null,null,null,null,null,null,null,null,null,null,null,null,null,null,null,null,null,null,null,null,null,null,null,null,null,null,null,null,null,null,null,null,null,null,null,null,{"$f":"IF(FF13=\"\",\"\",\"Answer - \"&FF13)","v":""},null,null,null,null,null,null,null,null,null,null,null,null,null,null,null,null,null,null,null,null,null,null,null,null,null,null,null,null,null,null,null,null,null,null,null,null,null,null,null,null,null,null,null,null,null,null,null,null,null,null,null,null,null,null,null,null,null,null,null,null,null,null,null,null,null,null,null,null,null,null,null,null,null,null,null,null,null,null,null,null,null,null,null,null,null,null,null,null,null,null,null,null,null,null,null,null,null,null,null,null,null,null,null,null,null,null,null,null,null,null,null,null,null,null,null,null,null,null,null,null,null,null,null,null,null,null,null,null,null,null,null,null,null,null,null,null,null,null,null,null,null,null,null,null,null,null,null,null,null,null,null,null,null,null,null,null,null,null,null,null,null,null,null,null,null,null,null,null,null,null,null,null,null,null,null,null,null,null,null,null,null,null,null,null,null,null,null,null,null,null,null,null,null,null,null,null,null,null,null,null,null,null,null,null,null,null,null,null,null,null,null,null,null,null,null,null,null,null,null,null,null,null,null,null,null,null,null,null,null,null,null,null,null,null,null,null,null,null,null,null,null,null,null,null,null,null,null,null,null,null,null,null,null,null,null,null,null,null,null,null,null,null,null,null,null,null,null,null,null,null,null,null,null,null,null,null,null,null,null,null,null,null,null,null,null,null,null,null,null,null,null,null,null,null,null,null,null,null,null,null,null,null,null,null,null,null,null,null,null,null,null,null,null,null,null,null,null,null,null,null,null,null,null,null,null,null,null,null,null,null,null,null,null,null,null,null,null,24,"","","","","","","","","","","",null,null,null,null,null,null,null,null,null,null,null,null,null,null,"","","","","","","","","","","",null,null,null,null,null,null,null,null,null,null,null,null,null," she ",null,"","",null,null,null,null,null,null,null,null,null,null,null,null,null,null,null,null,null,null,null,null,null,null,null,null,"","","","","","","","","",""]
[null,null,null,null,null,null,null,null,null,null,null,null,null,null,null,null,null,null,null,null,null,null,null,null,null,null,null,null,null,null,null,null,null,null,null,null,null,null,null,null,null,null,null,null,null,null,null,null,null,null,null,null,null,null,null,null,null,null,null,null,null,null,null,null,null,null,null,null,null,null,null,null,null,null,null,null,null,null,null,null,null,null,null,null,null,null,null,null,null,null,null,null,null,null,null,null,null,null,null,null,null,null,null,null,null,null,null,null,null,null,null,null,null,null,null,null,null,null,null,null,null,null,null,null,null,null,null,null,null,null,null,null,null,null,null,null,null,null,null,null,null,null,null,null,null,null,null,null,null,null,null,null,null,null,null,null,null,null,null,null,null,null,null,null,null,null,null,null,null,null,null,null,null,null,null,null,null,null,null,null,null,null,null,null,null,null,null,null,null,null,null,"Finnish",null,null,null,null,null,null,null,null,null,null,null,null,null,null,null,null,null,null,null,null,null,null,null,null,null,null,null,null,null,null,null,null,null,null,null,null,null,null,null,null,null,null,null,null,null,null,null,null,null,null,null,null,null,null,null,null,null,null,null,null,null,null,null,null,null,null,null,null,null,"CZ","CHINA SOUTHERN AIRLINES","CHINA","CSN",784,null,null,null,null,null,null,null,null,null,null,null,null,null,null,null,null,null,null,null,null,null,null,null,null,null,null,null,null,null,null,null,null,null,null,null,null,null,null,null,null,null,null,null,null,null,null,null,null,null,null,null,null,null,null,null,null,null,null,null,null,null,null,null,null,null,null,null,null,null,null,null,null,null,null,null,null,null,null,null,null,null,null,null,null,null,null,null,null,null,null,null,null,null,null,null,null,null,null,{"$f":"IF(FE14=\"\",\"\",\"Question No.10 - \"&FE14)","v":""},null,null,null,null,null,null,null,null,null,null,null,null,null,null,null,null,null,null,null,null,null,null,null,null,null,null,null,null,null,null,null,null,null,null,null,null,null,null,null,null,null,null,null,null,null,null,null,null,null,null,null,null,null,null,null,null,null,null,null,null,null,null,null,null,null,null,null,null,null,null,null,null,null,null,null,null,null,null,null,null,null,null,null,null,null,null,null,null,null,null,null,null,null,null,null,null,null,null,null,null,null,null,null,null,null,null,null,null,null,null,null,null,null,null,null,null,null,null,null,null,null,null,null,null,null,null,null,null,null,null,null,null,null,null,null,null,null,null,null,null,null,null,null,null,null,null,null,null,null,null,null,null,null,null,null,null,null,null,null,null,null,null,null,null,null,null,null,null,null,null,null,null,null,null,null,null,null,null,null,null,null,null,null,null,null,null,null,null,null,null,null,null,null,null,null,null,null,null,null,null,null,null,null,null,null,null,null,null,null,null,null,null,null,null,null,null,null,null,null,null,null,null,null,null,null,null,null,null,null,null,null,null,null,null,null,null,null,null,null,null,null,null,null,null,null,null,null,null,null,null,null,null,null,null,null,null,null,null,null,null,null,null,null,null,null,null,null,null,null,null,null,null,null,null,null,null,null,null,null,null,null,null,null,null,null,null,null,null,null,null,null,null,null,null,null,null,null,null,null,null,null,null,null,null,null,null,null,null,null,null,null,null,null,null,null,null,null,null,null,null,null,null,null,null,null,null,null,null,null,null,null,null,null,null,null,null,null,25,"","","","","","","","","","","",null,null,null,null,null,null,null,null,null,null,null,null,null,null,"","","","","","","","","","","",null,null,null,null,null,null,null,null,null,null,null,null,null," she ",null,"","",null,null,null,null,null,null,null,null,null,null,null,null,null,null,null,null,null,null,null,null,null,null,null,null,"","","","","","","","","",""]
[null,null,null,null,null,null,null,null,null,null,null,null,null,null,null,null,null,null,null,null,null,null,null,null,null,null,null,null,null,null,null,null,null,null,null,null,null,null,null,null,null,null,null,null,null,null,null,null,null,null,null,null,null,null,null,null,null,null,null,null,null,null,null,null,null,null,null,null,null,null,null,null,null,null,null,null,null,null,null,null,null,null,null,null,null,null,null,null,null,null,null,null,null,null,null,null,null,null,null,null,null,null,null,null,null,null,null,null,null,null,null,null,null,null,null,null,null,null,null,null,null,null,null,null,null,null,null,null,null,null,null,null,null,null,null,null,null,null,null,null,null,null,null,null,null,null,null,null,null,null,null,null,null,null,null,null,null,null,null,null,null,null,null,null,null,null,null,null,null,null,null,null,null,null,null,null,null,null,null,null,null,null,null,null,null,null,null,null,null,null,null,"Persian",null,null,null,null,null,null,null,null,null,null,null,null,null,null,null,null,null,null,null,null,null,null,null,null,null,null,null,null,null,null,null,null,null,null,null,null,null,null,null,null,null,null,null,null,null,null,null,null,null,null,null,null,null,null,null,null,null,null,null,null,null,null,null,null,null,null,null,null,null,"DL","DELTA AIRLINES INC.","U.S.A.","DAL",6,null,null,null,null,null,null,null,null,null,null,null,null,null,null,null,null,null,null,null,null,null,null,null,null,null,null,null,null,null,null,null,null,null,null,null,null,null,null,null,null,null,null,null,null,null,null,null,null,null,null,null,null,null,null,null,null,null,null,null,null,null,null,null,null,null,null,null,null,null,null,null,null,null,null,null,null,null,null,null,null,null,null,null,null,null,null,null,null,null,null,null,null,null,null,null,null,null,null,{"$f":"IF(FF14=\"\",\"\",\"Answer - \"&FF14)","v":""},null,null,null,null,null,null,null,null,null,null,null,null,null,null,null,null,null,null,null,null,null,null,null,null,null,null,null,null,null,null,null,null,null,null,null,null,null,null,null,null,null,null,null,null,null,null,null,null,null,null,null,null,null,null,null,null,null,null,null,null,null,null,null,null,null,null,null,null,null,null,null,null,null,null,null,null,null,null,null,null,null,null,null,null,null,null,null,null,null,null,null,null,null,null,null,null,null,null,null,null,null,null,null,null,null,null,null,null,null,null,null,null,null,null,null,null,null,null,null,null,null,null,null,null,null,null,null,null,null,null,null,null,null,null,null,null,null,null,null,null,null,null,null,null,null,null,null,null,null,null,null,null,null,null,null,null,null,null,null,null,null,null,null,null,null,null,null,null,null,null,null,null,null,null,null,null,null,null,null,null,null,null,null,null,null,null,null,null,null,null,null,null,null,null,null,null,null,null,null,null,null,null,null,null,null,null,null,null,null,null,null,null,null,null,null,null,null,null,null,null,null,null,null,null,null,null,null,null,null,null,null,null,null,null,null,null,null,null,null,null,null,null,null,null,null,null,null,null,null,null,null,null,null,null,null,null,null,null,null,null,null,null,null,null,null,null,null,null,null,null,null,null,null,null,null,null,null,null,null,null,null,null,null,null,null,null,null,null,null,null,null,null,null,null,null,null,null,null,null,null,null,null,null,null,null,null,null,null,null,null,null,null,null,null,null,null,null,null,null,null,null,null,null,null,null,null,null,null,null,null,null,null,null,null,null,null,null,26,"","","","","","","","","","","",null,null,null,null,null,null,null,null,null,null,null,null,null,null,"","","","","","","","","","","",null,null,null,null,null,null,null,null,null,null,null,null,null," she ",null,"","",null,null,null,null,null,null,null,null,null,null,null,null,null,null,null,null,null,null,null,null,null,null,null,null,"","","","","","","","","",""]
[null,null,null,null,null,null,null,null,null,null,null,null,null,null,null,null,null,null,null,null,null,null,null,null,null,null,null,null,null,null,null,null,null,null,null,null,null,null,null,null,null,null,null,null,null,null,null,null,null,null,null,null,null,null,null,null,null,null,null,null,null,null,null,null,null,null,null,null,null,null,null,null,null,null,null,null,null,null,null,null,null,null,null,null,null,null,null,null,null,null,null,null,null,null,null,null,null,null,null,null,null,null,null,null,null,null,null,null,null,null,null,null,null,null,null,null,null,null,null,null,null,null,null,null,null,null,null,null,null,null,null,null,null,null,null,null,null,null,null,null,null,null,null,null,null,null,null,null,null,null,null,null,null,null,null,null,null,null,null,null,null,null,null,null,null,null,null,null,null,null,null,null,null,null,null,null,null,null,null,null,null,null,null,null,null,null,null,null,null,null,null,"Korean",null,null,null,null,null,null,null,null,null,null,null,null,null,null,null,null,null,null,null,null,null,null,null,null,null,null,null,null,null,null,null,null,null,null,null,null,null,null,null,null,null,null,null,null,null,null,null,null,null,null,null,null,null,null,null,null,null,null,null,null,null,null,null,null,null,null,null,null,null,"H8","DALAVIA FAR EAST AIRWAYS","RUSSIA","KHB",560,null,null,null,null,null,null,null,null,null,null,null,null,null,null,null,null,null,null,null,null,null,null,null,null,null,null,null,null,null,null,null,null,null,null,null,null,null,null,null,null,null,null,null,null,null,null,null,null,null,null,null,null,null,null,null,null,null,null,null,null,null,null,null,null,null,null,null,null,null,null,null,null,null,null,null,null,null,null,null,null,null,null,null,null,null,null,null,null,null,null,null,null,null,null,null,null,null,null,{"$f":"IF(FE15=\"\",\"\",\"Question No.11 - \"&FE15)","v":""},null,null,null,null,null,null,null,null,null,null,null,null,null,null,null,null,null,null,null,null,null,null,null,null,null,null,null,null,null,null,null,null,null,null,null,null,null,null,null,null,null,null,null,null,null,null,null,null,null,null,null,null,null,null,null,null,null,null,null,null,null,null,null,null,null,null,null,null,null,null,null,null,null,null,null,null,null,null,null,null,null,null,null,null,null,null,null,null,null,null,null,null,null,null,null,null,null,null,null,null,null,null,null,null,null,null,null,null,null,null,null,null,null,null,null,null,null,null,null,null,null,null,null,null,null,null,null,null,null,null,null,null,null,null,null,null,null,null,null,null,null,null,null,null,null,null,null,null,null,null,null,null,null,null,null,null,null,null,null,null,null,null,null,null,null,null,null,null,null,null,null,null,null,null,null,null,null,null,null,null,null,null,null,null,null,null,null,null,null,null,null,null,null,null,null,null,null,null,null,null,null,null,null,null,null,null,null,null,null,null,null,null,null,null,null,null,null,null,null,null,null,null,null,null,null,null,null,null,null,null,null,null,null,null,null,null,null,null,null,null,null,null,null,null,null,null,null,null,null,null,null,null,null,null,null,null,null,null,null,null,null,null,null,null,null,null,null,null,null,null,null,null,null,null,null,null,null,null,null,null,null,null,null,null,null,null,null,null,null,null,null,null,null,null,null,null,null,null,null,null,null,null,null,null,null,null,null,null,null,null,null,null,null,null,null,null,null,null,null,null,null,null,null,null,null,null,null,null,null,null,null,null,null,null,null,null,null,27,"","","","","","","","","","","",null,null,null,null,null,null,null,null,null,null,null,null,null,null,"","","","","","","","","","","",null,null,null,null,null,null,null,null,null,null,null,null,null," she ",null,"","",null,null,null,null,null,null,null,null,null,null,null,null,null,null,null,null,null,null,null,null,null,null,null,null,"","","","","","","","","",""]
[null,null,null,null,null,null,null,null,null,null,null,null,null,null,null,null,null,null,null,null,null,null,null,null,null,null,null,null,null,null,null,null,null,null,null,null,null,null,null,null,null,null,null,null,null,null,null,null,null,null,null,null,null,null,null,null,null,null,null,null,null,null,null,null,null,null,null,null,null,null,null,null,null,null,null,null,null,null,null,null,null,null,null,null,null,null,null,null,null,null,null,null,null,null,null,null,null,null,null,null,null,null,null,null,null,null,null,null,null,null,null,null,null,null,null,null,null,null,null,null,null,null,null,null,null,null,null,null,null,null,null,null,null,null,null,null,null,null,null,null,null,null,null,null,null,null,null,null,null,null,null,null,null,null,null,null,null,null,null,null,null,null,null,null,null,null,null,null,null,null,null,null,null,null,null,null,null,null,null,null,null,null,null,null,null,null,null,null,null,null,null,"Hausa",null,null,null,null,null,null,null,null,null,null,null,null,null,null,null,null,null,null,null,null,null,null,null,null,null,null,null,null,null,null,null,null,null,null,null,null,null,null,null,null,null,null,null,null,null,null,null,null,null,null,null,null,null,null,null,null,null,null,null,null,null,null,null,null,null,null,null,null,null,"MS","EGYPT AIR","EGYPT","MSR",77,null,null,null,null,null,null,null,null,null,null,null,null,null,null,null,null,null,null,null,null,null,null,null,null,null,null,null,null,null,null,null,null,null,null,null,null,null,null,null,null,null,null,null,null,null,null,null,null,null,null,null,null,null,null,null,null,null,null,null,null,null,null,null,null,null,null,null,null,null,null,null,null,null,null,null,null,null,null,null,null,null,null,null,null,null,null,null,null,null,null,null,null,null,null,null,null,null,null,{"$f":"IF(FF15=\"\",\"\",\"Answer - \"&FF15)","v":""},null,null,null,null,null,null,null,null,null,null,null,null,null,null,null,null,null,null,null,null,null,null,null,null,null,null,null,null,null,null,null,null,null,null,null,null,null,null,null,null,null,null,null,null,null,null,null,null,null,null,null,null,null,null,null,null,null,null,null,null,null,null,null,null,null,null,null,null,null,null,null,null,null,null,null,null,null,null,null,null,null,null,null,null,null,null,null,null,null,null,null,null,null,null,null,null,null,null,null,null,null,null,null,null,null,null,null,null,null,null,null,null,null,null,null,null,null,null,null,null,null,null,null,null,null,null,null,null,null,null,null,null,null,null,null,null,null,null,null,null,null,null,null,null,null,null,null,null,null,null,null,null,null,null,null,null,null,null,null,null,null,null,null,null,null,null,null,null,null,null,null,null,null,null,null,null,null,null,null,null,null,null,null,null,null,null,null,null,null,null,null,null,null,null,null,null,null,null,null,null,null,null,null,null,null,null,null,null,null,null,null,null,null,null,null,null,null,null,null,null,null,null,null,null,null,null,null,null,null,null,null,null,null,null,null,null,null,null,null,null,null,null,null,null,null,null,null,null,null,null,null,null,null,null,null,null,null,null,null,null,null,null,null,null,null,null,null,null,null,null,null,null,null,null,null,null,null,null,null,null,null,null,null,null,null,null,null,null,null,null,null,null,null,null,null,null,null,null,null,null,null,null,null,null,null,null,null,null,null,null,null,null,null,null,null,null,null,null,null,null,null,null,null,null,null,null,null,null,null,null,null,null,null,null,null,null,null,28,"","","","","","","","","","","",null,null,null,null,null,null,null,null,null,null,null,null,null,null,"","","","","","","","","","","",null,null,null,null,null,null,null,null,null,null,null,null,null," she ",null,"","",null,null,null,null,null,null,null,null,null,null,null,null,null,null,null,null,null,null,null,null,null,null,null,null,"","","","","","","","","",""]
[null,null,null,null,null,null,null,null,null,null,null,null,null,null,null,null,null,null,null,null,null,null,null,null,null,null,null,null,null,null,null,null,null,null,null,null,null,null,null,null,null,null,null,null,null,null,null,null,null,null,null,null,null,null,null,null,null,null,null,null,null,null,null,null,null,null,null,null,null,null,null,null,null,null,null,null,null,null,null,null,null,null,null,null,null,null,null,null,null,null,null,null,null,null,null,null,null,null,null,null,null,null,null,null,null,null,null,null,null,null,null,null,null,null,null,null,null,null,null,null,null,null,null,null,null,null,null,null,null,null,null,null,null,null,null,null,null,null,null,null,null,null,null,null,null,null,null,null,null,null,null,null,null,null,null,null,null,null,null,null,null,null,null,null,null,null,null,null,null,null,null,null,null,null,null,null,null,null,null,null,null,null,null,null,null,null,null,null,null,null,null,"Tamil",null,null,null,null,null,null,null,null,null,null,null,null,null,null,null,null,null,null,null,null,null,null,null,null,null,null,null,null,null,null,null,null,null,null,null,null,null,null,null,null,null,null,null,null,null,null,null,null,null,null,null,null,null,null,null,null,null,null,null,null,null,null,null,null,null,null,null,null,null,"EK","EMIRATES SKY CARGO","U.A.E.","UAE",176,null,null,null,null,null,null,null,null,null,null,null,null,null,null,null,null,null,null,null,null,null,null,null,null,null,null,null,null,null,null,null,null,null,null,null,null,null,null,null,null,null,null,null,null,null,null,null,null,null,null,null,null,null,null,null,null,null,null,null,null,null,null,null,null,null,null,null,null,null,null,null,null,null,null,null,null,null,null,null,null,null,null,null,null,null,null,null,null,null,null,null,null,null,null,null,null,null,null,{"$f":"IF(FE16=\"\",\"\",\"Question No.12 - \"&FE16)","v":""},null,null,null,null,null,null,null,null,null,null,null,null,null,null,null,null,null,null,null,null,null,null,null,null,null,null,null,null,null,null,null,null,null,null,null,null,null,null,null,null,null,null,null,null,null,null,null,null,null,null,null,null,null,null,null,null,null,null,null,null,null,null,null,null,null,null,null,null,null,null,null,null,null,null,null,null,null,null,null,null,null,null,null,null,null,null,null,null,null,null,null,null,null,null,null,null,null,null,null,null,null,null,null,null,null,null,null,null,null,null,null,null,null,null,null,null,null,null,null,null,null,null,null,null,null,null,null,null,null,null,null,null,null,null,null,null,null,null,null,null,null,null,null,null,null,null,null,null,null,null,null,null,null,null,null,null,null,null,null,null,null,null,null,null,null,null,null,null,null,null,null,null,null,null,null,null,null,null,null,null,null,null,null,null,null,null,null,null,null,null,null,null,null,null,null,null,null,null,null,null,null,null,null,null,null,null,null,null,null,null,null,null,null,null,null,null,null,null,null,null,null,null,null,null,null,null,null,null,null,null,null,null,null,null,null,null,null,null,null,null,null,null,null,null,null,null,null,null,null,null,null,null,null,null,null,null,null,null,null,null,null,null,null,null,null,null,null,null,null,null,null,null,null,null,null,null,null,null,null,null,null,null,null,null,null,null,null,null,null,null,null,null,null,null,null,null,null,null,null,null,null,null,null,null,null,null,null,null,null,null,null,null,null,null,null,null,null,null,null,null,null,null,null,null,null,null,null,null,null,null,null,null,null,null,null,null,null,29,"","","","","","","","","","","",null,null,null,null,null,null,null,null,null,null,null,null,null,null,"","","","","","","","","","","",null,null,null,null,null,null,null,null,null,null,null,null,null," she ",null,"","",null,null,null,null,null,null,null,null,null,null,null,null,null,null,null,null,null,null,null,null,null,null,null,null,"","","","","","","","","",""]
[null,null,null,null,null,null,null,null,null,null,null,null,null,null,null,null,null,null,null,null,null,null,null,null,null,null,null,null,null,null,null,null,null,null,null,null,null,null,null,null,null,null,null,null,null,null,null,null,null,null,null,null,null,null,null,null,null,null,null,null,null,null,null,null,null,null,null,null,null,null,null,null,null,null,null,null,null,null,null,null,null,null,null,null,null,null,null,null,null,null,null,null,null,null,null,null,null,null,null,null,null,null,null,null,null,null,null,null,null,null,null,null,null,null,null,null,null,null,null,null,null,null,null,null,null,null,null,null,null,null,null,null,null,null,null,null,null,null,null,null,null,null,null,null,null,null,null,null,null,null,null,null,null,null,null,null,null,null,null,null,null,null,null,null,null,null,null,null,null,null,null,null,null,null,null,null,null,null,null,null,null,null,null,null,null,null,null,null,null,null,null,null,null,null,null,null,null,null,null,null,null,null,null,null,null,null,null,null,null,null,null,null,null,null,null,null,null,null,null,null,null,null,null,null,null,null,null,null,null,null,null,null,null,null,null,null,null,null,null,null,null,null,null,null,null,null,null,null,null,null,null,null,null,null,null,null,null,null,null,null,null,"BR","EVA AIRWAYS CORP.","TAIWAN","EVA",695,null,null,null,null,null,null,null,null,null,null,null,null,null,null,null,null,null,null,null,null,null,null,null,null,null,null,null,null,null,null,null,null,null,null,null,null,null,null,null,null,null,null,null,null,null,null,null,null,null,null,null,null,null,null,null,null,null,null,null,null,null,null,null,null,null,null,null,null,null,null,null,null,null,null,null,null,null,null,null,null,null,null,null,null,null,null,null,null,null,null,null,null,null,null,null,null,null,null,{"$f":"IF(FF16=\"\",\"\",\"Answer - \"&FF16)","v":""},null,null,null,null,null,null,null,null,null,null,null,null,null,null,null,null,null,null,null,null,null,null,null,null,null,null,null,null,null,null,null,null,null,null,null,null,null,null,null,null,null,null,null,null,null,null,null,null,null,null,null,null,null,null,null,null,null,null,null,null,null,null,null,null,null,null,null,null,null,null,null,null,null,null,null,null,null,null,null,null,null,null,null,null,null,null,null,null,null,null,null,null,null,null,null,null,null,null,null,null,null,null,null,null,null,null,null,null,null,null,null,null,null,null,null,null,null,null,null,null,null,null,null,null,null,null,null,null,null,null,null,null,null,null,null,null,null,null,null,null,null,null,null,null,null,null,null,null,null,null,null,null,null,null,null,null,null,null,null,null,null,null,null,null,null,null,null,null,null,null,null,null,null,null,null,null,null,null,null,null,null,null,null,null,null,null,null,null,null,null,null,null,null,null,null,null,null,null,null,null,null,null,null,null,null,null,null,null,null,null,null,null,null,null,null,null,null,null,null,null,null,null,null,null,null,null,null,null,null,null,null,null,null,null,null,null,null,null,null,null,null,null,null,null,null,null,null,null,null,null,null,null,null,null,null,null,null,null,null,null,null,null,null,null,null,null,null,null,null,null,null,null,null,null,null,null,null,null,null,null,null,null,null,null,null,null,null,null,null,null,null,null,null,null,null,null,null,null,null,null,null,null,null,null,null,null,null,null,null,null,null,null,null,null,null,null,null,null,null,null,null,null,null,null,null,null,null,null,null,null,null,null,null,null,null,null,null,30,"","","","","","","","","","","",null,null,null,null,null,null,null,null,null,null,null,null,null,null,"","","","","","","","","","","",null,null,null,null,null,null,null,null,null,null,null,null,null," she ",null,"","",null,null,null,null,null,null,null,null,null,null,null,null,null,null,null,null,null,null,null,null,null,null,null,null,"","","","","","","","","",""]
[null,null,null,null,null,null,null,null,null,null,null,null,null,null,null,null,null,null,null,null,null,null,null,null,null,null,null,null,null,null,null,null,null,null,null,null,null,null,null,null,null,null,null,null,null,null,null,null,null,null,null,null,null,null,null,null,null,null,null,null,null,null,null,null,null,null,null,null,null,null,null,null,null,null,null,null,null,null,null,null,null,null,null,null,null,null,null,null,null,null,null,null,null,null,null,null,null,null,null,null,null,null,null,null,null,null,null,null,null,null,null,null,null,null,null,null,null,null,null,null,null,null,null,null,null,null,null,null,null,null,null,null,null,null,null,null,null,null,null,null,null,null,null,null,null,null,null,null,null,null,null,null,null,null,null,null,null,null,null,null,null,null,null,null,null,null,null,null,null,null,null,null,null,null,null,null,null,null,null,null,null,null,null,null,null,null,null,null,null,null,null,null,null,null,null,null,null,null,null,null,null,null,null,null,null,null,null,null,null,null,null,null,null,null,null,null,null,null,null,null,null,null,null,null,null,null,null,null,null,null,null,null,null,null,null,null,null,null,null,null,null,null,null,null,null,null,null,null,null,null,null,null,null,null,null,null,null,null,null,null,null,"FX","FEDEX","U.S.A.","FDX",23,null,null,null,null,null,null,null,null,null,null,null,null,null,null,null,null,null,null,null,null,null,null,null,null,null,null,null,null,null,null,null,null,null,null,null,null,null,null,null,null,null,null,null,null,null,null,null,null,null,null,null,null,null,null,null,null,null,null,null,null,null,null,null,null,null,null,null,null,null,null,null,null,null,null,null,null,null,null,null,null,null,null,null,null,null,null,null,null,null,null,null,null,null,null,null,null,null,null,{"$f":"IF(FE17=\"\",\"\",\"Question No.13 - \"&FE17)","v":""}]
[null,null,null,null,null,null,null,null,null,null,null,null,null,null,null,null,null,null,null,null,null,null,null,null,null,null,null,null,null,null,null,null,null,null,null,null,null,null,null,null,null,null,null,null,null,null,null,null,null,null,null,null,null,null,null,null,null,null,null,null,null,null,null,null,null,null,null,null,null,null,null,null,null,null,null,null,null,null,null,null,null,null,null,null,null,null,null,null,null,null,null,null,null,null,null,null,null,null,null,null,null,null,null,null,null,null,null,null,null,null,null,null,null,null,null,null,null,null,null,null,null,null,null,null,null,null,null,null,null,null,null,null,null,null,null,null,null,null,null,null,null,null,null,null,null,null,null,null,null,null,null,null,null,null,null,null,null,null,null,null,null,null,null,null,null,null,null,null,null,null,null,null,null,null,null,null,null,null,null,null,null,null,null,null,null,null,null,null,null,null,null,null,null,null,null,null,null,null,null,null,null,null,null,null,null,null,null,null,null,null,null,null,null,null,null,null,null,null,null,null,null,null,null,null,null,null,null,null,null,null,null,null,null,null,null,null,null,null,null,null,null,null,null,null,null,null,null,null,null,null,null,null,null,null,null,null,null,null,null,null,null,"AY","FINNAIR O/Y","FINLAND","FIN",105,null,null,null,null,null,null,null,null,null,null,null,null,null,null,null,null,null,null,null,null,null,null,null,null,null,null,null,null,null,null,null,null,null,null,null,null,null,null,null,null,null,null,null,null,null,null,null,null,null,null,null,null,null,null,null,null,null,null,null,null,null,null,null,null,null,null,null,null,null,null,null,null,null,null,null,null,null,null,null,null,null,null,null,null,null,null,null,null,null,null,null,null,null,null,null,null,null,null,{"$f":"IF(FF17=\"\",\"\",\"Answer - \"&FF17)","v":""}]
[null,null,null,null,null,null,null,null,null,null,null,null,null,null,null,null,null,null,null,null,null,null,null,null,null,null,null,null,null,null,null,null,null,null,null,null,null,null,null,null,null,null,null,null,null,null,null,null,null,null,null,null,null,null,null,null,null,null,null,null,null,null,null,null,null,null,null,null,null,null,null,null,null,null,null,null,null,null,null,null,null,null,null,null,null,null,null,null,null,null,null,null,null,null,null,null,null,null,null,null,null,null,null,null,null,null,null,null,null,null,null,null,null,null,null,null,null,null,null,null,null,null,null,null,null,null,null,null,null,null,null,null,null,null,null,null,null,null,null,null,null,null,null,null,null,null,null,null,null,null,null,null,null,null,null,null,null,null,null,null,null,null,null,null,null,null,null,null,null,null,null,null,null,null,null,null,null,null,null,null,null,null,null,null,null,null,null,null,null,null,null,null,null,null,null,null,null,null,null,null,null,null,null,null,null,null,null,null,null,null,null,null,null,null,null,null,null,null,null,null,null,null,null,null,null,null,null,null,null,null,null,null,null,null,null,null,null,null,null,null,null,null,null,null,null,null,null,null,null,null,null,null,null,null,null,null,null,null,null,null,null,"GA","GARUDA INDONESIA","INDONESIA","GIA",126,null,null,null,null,null,null,null,null,null,null,null,null,null,null,null,null,null,null,null,null,null,null,null,null,null,null,null,null,null,null,null,null,null,null,null,null,null,null,null,null,null,null,null,null,null,null,null,null,null,null,null,null,null,null,null,null,null,null,null,null,null,null,null,null,null,null,null,null,null,null,null,null,null,null,null,null,null,null,null,null,null,null,null,null,null,null,null,null,null,null,null,null,null,null,null,null,null,null,{"$f":"IF(FE18=\"\",\"\",\"Question No.14 - \"&FE18)","v":""}]
[null,null,null,null,null,null,null,null,null,null,null,null,null,null,null,null,null,null,null,null,null,null,null,null,null,null,null,null,null,null,null,null,null,null,null,null,null,null,null,null,null,null,null,null,null,null,null,null,null,null,null,null,null,null,null,null,null,null,null,null,null,null,null,null,null,null,null,null,null,null,null,null,null,null,null,null,null,null,null,null,null,null,null,null,null,null,null,null,null,null,null,null,null,null,null,null,null,null,null,null,null,null,null,null,null,null,null,null,null,null,null,null,null,null,null,null,null,null,null,null,null,null,null,null,null,null,null,null,null,null,null,null,null,null,null,null,null,null,null,null,null,null,null,null,null,null,null,null,null,null,null,null,null,null,null,null,null,null,null,null,null,null,null,null,null,null,null,null,null,null,null,null,null,null,null,null,null,null,null,null,null,null,null,null,null,null,null,null,null,null,null,null,null,null,null,null,null,null,null,null,null,null,null,null,null,null,null,null,null,null,null,null,null,null,null,null,null,null,null,null,null,null,null,null,null,null,null,null,null,null,null,null,null,null,null,null,null,null,null,null,null,null,null,null,null,null,null,null,null,null,null,null,null,null,null,null,null,null,null,null,null,"KA","HONG KONG DRAGON AIRLINES LIMITED","HONG KONG","HAD",43,null,null,null,null,null,null,null,null,null,null,null,null,null,null,null,null,null,null,null,null,null,null,null,null,null,null,null,null,null,null,null,null,null,null,null,null,null,null,null,null,null,null,null,null,null,null,null,null,null,null,null,null,null,null,null,null,null,null,null,null,null,null,null,null,null,null,null,null,null,null,null,null,null,null,null,null,null,null,null,null,null,null,null,null,null,null,null,null,null,null,null,null,null,null,null,null,null,null,{"$f":"IF(FF18=\"\",\"\",\"Answer - \"&FF18)","v":""}]
[null,null,null,null,null,null,null,null,null,null,null,null,null,null,null,null,null,null,null,null,null,null,null,null,null,null,null,null,null,null,null,null,null,null,null,null,null,null,null,null,null,null,null,null,null,null,null,null,null,null,null,null,null,null,null,null,null,null,null,null,null,null,null,null,null,null,null,null,null,null,null,null,null,null,null,null,null,null,null,null,null,null,null,null,null,null,null,null,null,null,null,null,null,null,null,null,null,null,null,null,null,null,null,null,null,null,null,null,null,null,null,null,null,null,null,null,null,null,null,null,null,null,null,null,null,null,null,null,null,null,null,null,null,null,null,null,null,null,null,null,null,null,null,null,null,null,null,null,null,null,null,null,null,null,null,null,null,null,null,null,null,null,null,null,null,null,null,null,null,null,null,null,null,null,null,null,null,null,null,null,null,null,null,null,null,null,null,null,null,null,null,null,null,null,null,null,null,null,null,null,null,null,null,null,null,null,null,null,null,null,null,null,null,null,null,null,null,null,null,null,null,null,null,null,null,null,null,null,null,null,null,null,null,null,null,null,null,null,null,null,null,null,null,null,null,null,null,null,null,null,null,null,null,null,null,null,null,null,null,null,null,"IR","IRAN-AIR","IRAN","IRA",96,null,null,null,null,null,null,null,null,null,null,null,null,null,null,null,null,null,null,null,null,null,null,null,null,null,null,null,null,null,null,null,null,null,null,null,null,null,null,null,null,null,null,null,null,null,null,null,null,null,null,null,null,null,null,null,null,null,null,null,null,null,null,null,null,null,null,null,null,null,null,null,null,null,null,null,null,null,null,null,null,null,null,null,null,null,null,null,null,null,null,null,null,null,null,null,null,null,null,{"$f":"IF(FE19=\"\",\"\",\"Question No.15 - \"&FE19)","v":""}]
["Night",null,"night",null,"last day duty","last night duty",null,null,"For FAX","Type of currency",null,null,null,null,null,null,null,null,null,null,null,null,null,null,null,null,null,null,null,null,null,null,null,null,null,null,null,null,null,null,null,null,null,null,null,null,null,null,null,null,null,null,null,null,null,null,null,null,null,null,null,null,null,null,null,null,null,null,null,null,null,null,null,null,null,null,null,null,null,null,null,null,null,null,null,null,null,null,null,null,null,null,null,null,null,null,null,null,null,null,null,null,null,null,null,null,null,null,null,null,null,null,null,null,null,null,null,null,null,null,null,null,null,null,null,null,null,null,null,null,null,null,null,null,null,null,null,null,null,null,null,null,null,null,null,null,null,null,null,null,null,null,null,null,null,null,null,null,null,null,null,null,null,null,null,null,null,null,null,null,null,null,null,null,null,null,null,null,null,null,null,null,null,null,null,null,null,null,null,null,null,null,null,null,null,null,null,null,null,null,null,null,null,null,null,null,null,null,null,null,null,null,null,null,null,null,null,null,null,null,null,null,null,null,null,null,null,null,null,null,null,null,null,null,null,null,null,null,null,null,null,null,null,null,null,null,null,null,null,null,null,null,null,null,null,null,null,null,null,null,null,"JL","JAPAN AIRLINES CO. LTD","JAPAN","JAL",131,null,null,null,null,null,null,null,null,null,null,null,null,null,null,null,null,null,null,null,null,null,null,null,null,null,null,null,null,null,null,null,null,null,null,null,null,null,null,null,null,null,null,null,null,null,null,null,null,null,null,null,null,null,null,null,null,null,null,null,null,null,null,null,null,null,null,null,null,null,null,null,null,null,null,null,null,null,null,null,null,null,null,null,null,null,null,null,null,null,null,null,null,null,null,null,null,null,null,{"$f":"IF(FF19=\"\",\"\",\"Answer - \"&FF19)","v":""}]
[{"$f":"A40","v":"Night"},{"$f":"TODAY()","v":"2020-07-14"},{"$f":"B41+1","v":"2020-07-15"},{"$f":"IF(TEXT(C41,\"mm\")=TEXT(B41,\"mm\"),0,1)","v":0},{"$f":"B41-1","v":"2020-07-13"},{"$f":"B41-3","v":"2020-07-11"},{"$f":"NOW()","v":"2020-07-14T18:19:46.420"},{"$f":"EM5","v":69586},{"$f":"CF5","v":"sadsdfasdfasdf"},"Australian Dollar",null,null,null,null,null,null,null,null,null,null,null,null,null,null,null,null,null,null,null,null,null,null,null,null,null,null,null,null,null,null,null,null,null,null,null,null,null,null,null,null,null,null,null,null,null,null,null,null,null,null,null,null,null,null,null,null,null,null,null,null,null,null,null,null,null,null,null,null,null,null,null,null,null,null,null,null,null,null,null,null,null,null,null,null,null,null,null,null,null,null,null,null,null,null,null,null,null,null,null,null,null,null,null,null,null,null,null,null,null,null,null,null,null,null,null,null,null,null,null,null,null,null,null,null,null,null,null,null,null,null,null,null,null,null,null,null,null,null,null,null,null,null,null,null,null,null,null,null,null,null,null,null,null,null,null,null,null,null,null,null,null,null,null,null,null,null,null,null,null,null,null,null,null,null,null,null,null,null,null,null,null,null,null,null,null,null,null,null,null,null,null,null,null,null,null,null,null,null,null,null,null,null,null,null,null,null,null,null,null,null,null,null,null,null,null,null,null,null,null,null,null,null,null,null,null,null,null,null,null,null,null,null,null,null,null,null,null,null,null,null,null,null,null,null,null,null,null,null,null,null,null,"EG","JAPAN ASIA AIRWAYS CO. LTD.","JAPAN","JAA",688,null,null,null,null,null,null,null,null,null,null,null,null,null,null,null,null,null,null,null,null,null,null,null,null,null,null,null,null,null,null,null,null,null,null,null,null,null,null,null,null,null,null,null,null,null,null,null,null,null,null,null,null,null,null,null,null,null,null,null,null,null,null,null,null,null,null,null,null,null,null,null,null,null,null,null,null,null,null,null,null,null,null,null,null,null,null,null,null,null,null,null,null,null,null,null,null,null,null,{"$f":"IF(FE20=\"\",\"\",\"Question No.16 - \"&FE20)","v":""}]
["Date",{"$f":"TEXT(B41,\"dd\")","v":"14"},{"$f":"TEXT(C41,\"dd\")","v":"15"},{"$f":"C46&\" \"&D45","v":"14-15.07.2020 (Night Shift)"},{"$f":"TEXT(E41,\"dd\")","v":"13"},{"$f":"TEXT(F41,\"dd\")","v":"11"},null,"000000",{"$f":"CH5","v":"sf"},"Bahraini Dinar",null,null,null,null,null,null,null,null,null,null,null,null,null,null,null,null,null,null,null,null,null,null,null,null,null,null,null,null,null,null,null,null,null,null,null,null,null,null,null,null,null,null,null,null,null,null,null,null,null,null,null,null,null,null,null,null,null,null,null,null,null,null,null,null,null,null,null,null,null,null,null,null,null,null,null,null,null,null,null,null,null,null,null,null,null,null,null,null,null,null,null,null,null,null,null,null,null,null,null,null,null,null,null,null,null,null,null,null,null,null,null,null,null,null,null,null,null,null,null,null,null,null,null,null,null,null,null,null,null,null,null,null,null,null,null,null,null,null,null,null,null,null,null,null,null,null,null,null,null,null,null,null,null,null,null,null,null,null,null,null,null,null,null,null,null,null,null,null,null,null,null,null,null,null,null,null,null,null,null,null,null,null,null,null,null,null,null,null,null,null,null,null,null,null,null,null,null,null,null,null,null,null,null,null,null,null,null,null,null,null,null,null,null,null,null,null,null,null,null,null,null,null,null,null,null,null,null,null,null,null,null,null,null,null,null,null,null,null,null,null,null,null,null,null,null,null,null,null,null,null,null,"KL","KLM ROYAL DUTCH AIRLINES","NETHERLANDS","KLM",74,null,null,null,null,null,null,null,null,null,null,null,null,null,null,null,null,null,null,null,null,null,null,null,null,null,null,null,null,null,null,null,null,null,null,null,null,null,null,null,null,null,null,null,null,null,null,null,null,null,null,null,null,null,null,null,null,null,null,null,null,null,null,null,null,null,null,null,null,null,null,null,null,null,null,null,null,null,null,null,null,null,null,null,null,null,null,null,null,null,null,null,null,null,null,null,null,null,null,{"$f":"IF(FF20=\"\",\"\",\"Answer - \"&FF20)","v":""}]
["Month",{"$f":"TEXT(B41,\"mm\")","v":"07"},{"$f":"A41","v":"Night"},"Day",{"$f":"TEXT(E41,\"mm\")","v":"07"},{"$f":"TEXT(F41,\"mm\")","v":"07"},{"$f":"TEXT(G41,\"h:mm\")","v":"18:19"},6,{"$f":"CJ5","v":"asdfasd"},"Canadian Dollar",null,null,null,null,null,null,null,null,null,null,null,null,null,null,null,null,null,null,null,null,null,null,null,null,null,null,null,null,null,null,null,null,null,null,null,null,null,null,null,null,null,null,null,null,null,null,null,null,null,null,null,null,null,null,null,null,null,null,null,null,null,null,null,null,null,null,null,null,null,null,null,null,null,null,null,null,null,null,null,null,null,null,null,null,null,null,null,null,null,null,null,null,null,null,null,null,null,null,null,null,null,null,null,null,null,null,null,null,null,null,null,null,null,null,null,null,null,null,null,null,null,null,null,null,null,null,null,null,null,null,null,null,null,null,null,null,null,null,null,null,null,null,null,null,null,null,null,null,null,null,null,null,null,null,null,null,null,null,null,null,null,null,null,null,null,null,null,null,null,null,null,null,null,null,null,null,null,null,null,null,null,null,null,null,null,null,null,null,null,null,null,null,null,null,null,null,null,null,null,null,null,null,null,null,null,null,null,null,null,null,null,null,null,null,null,null,null,null,null,null,null,null,null,null,null,null,null,null,null,null,null,null,null,null,null,null,null,null,null,null,null,null,null,null,null,null,null,null,null,null,null,"KE","KOREAN AIR LINES CO. LTD.","KOREA","KAL",180,null,null,null,null,null,null,null,null,null,null,null,null,null,null,null,null,null,null,null,null,null,null,null,null,null,null,null,null,null,null,null,null,null,null,null,null,null,null,null,null,null,null,null,null,null,null,null,null,null,null,null,null,null,null,null,null,null,null,null,null,null,null,null,null,null,null,null,null,null,null,null,null,null,null,null,null,null,null,null,null,null,null,null,null,null,null,null,null,null,null,null,null,null,null,null,null,null,null,{"$f":"IF(FE21=\"\",\"\",\"Question No.17 - \"&FE21)","v":""}]
["Year",{"$f":"TEXT(B41,\"yyyy\")","v":"2020"},{"$f":"IF(C43=\"Night\",B42&\"-\"&C42&\".\"&B43&\".\"&B44,B42&\".\"&B43&\".\"&B44)","v":"14-15.07.2020"},"Night",{"$f":"TEXT(E41,\"yyyy\")","v":"2020"},{"$f":"TEXT(F41,\"yyyy\")","v":"2020"},{"$f":"TEXT(G41,\"ss\")","v":"46"},{"$f":"LEN(H41)","v":5},null,"Chinese Yuan",null,null,null,null,null,null,null,null,null,null,null,null,null,null,null,null,null,null,null,null,null,null,null,null,null,null,null,null,null,null,null,null,null,null,null,null,null,null,null,null,null,null,null,null,null,null,null,null,null,null,null,null,null,null,null,null,null,null,null,null,null,null,null,null,null,null,null,null,null,null,null,null,null,null,null,null,null,null,null,null,null,null,null,null,null,null,null,null,null,null,null,null,null,null,null,null,null,null,null,null,null,null,null,null,null,null,null,null,null,null,null,null,null,null,null,null,null,null,null,null,null,null,null,null,null,null,null,null,null,null,null,null,null,null,null,null,null,null,null,null,null,null,null,null,null,null,null,null,null,null,null,null,null,null,null,null,null,null,null,null,null,null,null,null,null,null,null,null,null,null,null,null,null,null,null,null,null,null,null,null,null,null,null,null,null,null,null,null,null,null,null,null,null,null,null,null,null,null,null,null,null,null,null,null,null,null,null,null,null,null,null,null,null,null,null,null,null,null,null,null,null,null,null,null,null,null,null,null,null,null,null,null,null,null,null,null,null,null,null,null,null,null,null,null,null,null,null,null,null,null,null,"LH","LUFTHANSA CARGO AG.","GERMANY","DLH",20,null,null,null,null,null,null,null,null,null,null,null,null,null,null,null,null,null,null,null,null,null,null,null,null,null,null,null,null,null,null,null,null,null,null,null,null,null,null,null,null,null,null,null,null,null,null,null,null,null,null,null,null,null,null,null,null,null,null,null,null,null,null,null,null,null,null,null,null,null,null,null,null,null,null,null,null,null,null,null,null,null,null,null,null,null,null,null,null,null,null,null,null,null,null,null,null,null,null,{"$f":"IF(FF21=\"\",\"\",\"Answer - \"&FF21)","v":""}]
[{"$f":"TEXT(C41,\"dd\")","v":"15"},{"$f":"B42&\".\"&B43&\".\"&B44","v":"14.07.2020"},{"$f":"IF(D41=1,B45&\"-\"&A45&\".\"&A46&\".\"&A47,C44)","v":"14-15.07.2020"},{"$f":"IF(C43=D44,\"(\"&D44,\"(\"&D43)&\" Shift)\"","v":"(Night Shift)"},{"$f":"E42&\".\"&E43&\".\"&E44","v":"13.07.2020"},{"$f":"F42&\".\"&F43&\".\"&F44","v":"11.07.2020"},{"$f":"B44&\"/\"&B43&\"/\"&B42&\" \"&G43&\":\"&G44","v":"2020/07/14 18:19:46"},{"$f":"H43-H44","v":1},null,"Danish Kroner",null,null,null,null,null,null,null,null,null,null,null,null,null,null,null,null,null,null,null,null,null,null,null,null,null,null,null,null,null,null,null,null,null,null,null,null,null,null,null,null,null,null,null,null,null,null,null,null,null,null,null,null,null,null,null,null,null,null,null,null,null,null,null,null,null,null,null,null,null,null,null,null,null,null,null,null,null,null,null,null,null,null,null,null,null,null,null,null,null,null,null,null,null,null,null,null,null,null,null,null,null,null,null,null,null,null,null,null,null,null,null,null,null,null,null,null,null,null,null,null,null,null,null,null,null,null,null,null,null,null,null,null,null,null,null,null,null,null,null,null,null,null,null,null,null,null,null,null,null,null,null,null,null,null,null,null,null,null,null,null,null,null,null,null,null,null,null,null,null,null,null,null,null,null,null,null,null,null,null,null,null,null,null,null,null,null,null,null,null,null,null,null,null,null,null,null,null,null,null,null,null,null,null,null,null,null,null,null,null,null,null,null,null,null,null,null,null,null,null,null,null,null,null,null,null,null,null,null,null,null,null,null,null,null,null,null,null,null,null,null,null,null,null,null,null,null,null,null,null,null,null,"MH","MALAYSIA AIRLINES SYSTEM BERHAD","MALAYSIA","MAS",232,null,null,null,null,null,null,null,null,null,null,null,null,null,null,null,null,null,null,null,null,null,null,null,null,null,null,null,null,null,null,null,null,null,null,null,null,null,null,null,null,null,null,null,null,null,null,null,null,null,null,null,null,null,null,null,null,null,null,null,null,null,null,null,null,null,null,null,null,null,null,null,null,null,null,null,null,null,null,null,null,null,null,null,null,null,null,null,null,null,null,null,null,null,null,null,null,null,null,{"$f":"IF(FE22=\"\",\"\",\"Question No.18 - \"&FE22)","v":""}]
[{"$f":"TEXT(C41,\"mm\")","v":"07"},{"$f":"E45","v":"13.07.2020"},{"$f":"IF(C43=\"Day\",C44,C45)","v":"14-15.07.2020"},"Night shift duty dates",null,{"$f":"F42+1","v":12},{"$f":"B42&\"-\"&B43&\"-\"&B44","v":"14-07-2020"},{"$f":"LEFT(H42,H45)","v":"0"},null,"EURO",null,null,null,null,null,null,null,null,null,null,null,null,null,null,null,null,null,null,null,null,null,null,null,null,null,null,null,null,null,null,null,null,null,null,null,null,null,null,null,null,null,null,null,null,null,null,null,null,null,null,null,null,null,null,null,null,null,null,null,null,null,null,null,null,null,null,null,null,null,null,null,null,null,null,null,null,null,null,null,null,null,null,null,null,null,null,null,null,null,null,null,null,null,null,null,null,null,null,null,null,null,null,null,null,null,null,null,null,null,null,null,null,null,null,null,null,null,null,null,null,null,null,null,null,null,null,null,null,null,null,null,null,null,null,null,null,null,null,null,null,null,null,null,null,null,null,null,null,null,null,null,null,null,null,null,null,null,null,null,null,null,null,null,null,null,null,null,null,null,null,null,null,null,null,null,null,null,null,null,null,null,null,null,null,null,null,null,null,null,null,null,null,null,null,null,null,null,null,null,null,null,null,null,null,null,null,null,null,null,null,null,null,null,null,null,null,null,null,null,null,null,null,null,null,null,null,null,null,null,null,null,null,null,null,null,null,null,null,null,null,null,null,null,null,null,null,null,null,null,null,null,"OM","MIAT-MONGOLIAN AIRLINES","MONGOLIA","MGL",289,null,null,null,null,null,null,null,null,null,null,null,null,null,null,null,null,null,null,null,null,null,null,null,null,null,null,null,null,null,null,null,null,null,null,null,null,null,null,null,null,null,null,null,null,null,null,null,null,null,null,null,null,null,null,null,null,null,null,null,null,null,null,null,null,null,null,null,null,null,null,null,null,null,null,null,null,null,null,null,null,null,null,null,null,null,null,null,null,null,null,null,null,null,null,null,null,null,null,{"$f":"IF(FF22=\"\",\"\",\"Answer - \"&FF22)","v":""}]
[{"$f":"TEXT(C41,\"yyyy\")","v":"2020"},{"$f":"F42&\"/\"&F48&\".\"&F43&\".\"&F44","v":"11/12.07.2020"},{"$f":"B45","v":"14.07.2020"},"Day shift duty dates",null,{"$f":"LEN(F46)","v":2},null,{"$f":"H46&H41","v":"069586"},null,"Hong Kong Dollar",null,null,null,null,null,null,null,null,null,null,null,null,null,null,null,null,null,null,null,null,null,null,null,null,null,null,null,null,null,null,null,null,null,null,null,null,null,null,null,null,null,null,null,null,null,null,null,null,null,null,null,null,null,null,null,null,null,null,null,null,null,null,null,null,null,null,null,null,null,null,null,null,null,null,null,null,null,null,null,null,null,null,null,null,null,null,null,null,null,null,null,null,null,null,null,null,null,null,null,null,null,null,null,null,null,null,null,null,null,null,null,null,null,null,null,null,null,null,null,null,null,null,null,null,null,null,null,null,null,null,null,null,null,null,null,null,null,null,null,null,null,null,null,null,null,null,null,null,null,null,null,null,null,null,null,null,null,null,null,null,null,null,null,null,null,null,null,null,null,null,null,null,null,null,null,null,null,null,null,null,null,null,null,null,null,null,null,null,null,null,null,null,null,null,null,null,null,null,null,null,null,null,null,null,null,null,null,null,null,null,null,null,null,null,null,null,null,null,null,null,null,null,null,null,null,null,null,null,null,null,null,null,null,null,null,null,null,null,null,null,null,null,null,null,null,null,null,null,null,null,null,"NW","NORTHWEST AIRLINES INC.","U.S.A.","NWA",12,null,null,null,null,null,null,null,null,null,null,null,null,null,null,null,null,null,null,null,null,null,null,null,null,null,null,null,null,null,null,null,null,null,null,null,null,null,null,null,null,null,null,null,null,null,null,null,null,null,null,null,null,null,null,null,null,null,null,null,null,null,null,null,null,null,null,null,null,null,null,null,null,null,null,null,null,null,null,null,null,null,null,null,null,null,null,null,null,null,null,null,null,null,null,null,null,null,null,{"$f":"IF(FE23=\"\",\"\",\"Question No.19 - \"&FE23)","v":""}]
[null,{"$f":"IF(C43=\"Night\",B46,B47)","v":"13.07.2020"},{"$f":"IF(C43=\"Night\",C45,C47)","v":"14-15.07.2020"},"duty dates",null,{"$f":"IF(F47=1,\"0\"&F46,F46)","v":12},null,null,null,"Kuwaiti Dinar",null,null,null,null,null,null,null,null,null,null,null,null,null,null,null,null,null,null,null,null,null,null,null,null,null,null,null,null,null,null,null,null,null,null,null,null,null,null,null,null,null,null,null,null,null,null,null,null,null,null,null,null,null,null,null,null,null,null,null,null,null,null,null,null,null,null,null,null,null,null,null,null,null,null,null,null,null,null,null,null,null,null,null,null,null,null,null,null,null,null,null,null,null,null,null,null,null,null,null,null,null,null,null,null,null,null,null,null,null,null,null,null,null,null,null,null,null,null,null,null,null,null,null,null,null,null,null,null,null,null,null,null,null,null,null,null,null,null,null,null,null,null,null,null,null,null,null,null,null,null,null,null,null,null,null,null,null,null,null,null,null,null,null,null,null,null,null,null,null,null,null,null,null,null,null,null,null,null,null,null,null,null,null,null,null,null,null,null,null,null,null,null,null,null,null,null,null,null,null,null,null,null,null,null,null,null,null,null,null,null,null,null,null,null,null,null,null,null,null,null,null,null,null,null,null,null,null,null,null,null,null,null,null,null,null,null,null,null,null,null,null,null,null,null,null,null,null,null,null,null,null,"KZ","NIPPON CARGO AIRLINES","JAPAN","NCA",933,null,null,null,null,null,null,null,null,null,null,null,null,null,null,null,null,null,null,null,null,null,null,null,null,null,null,null,null,null,null,null,null,null,null,null,null,null,null,null,null,null,null,null,null,null,null,null,null,null,null,null,null,null,null,null,null,null,null,null,null,null,null,null,null,null,null,null,null,null,null,null,null,null,null,null,null,null,null,null,null,null,null,null,null,null,null,null,null,null,null,null,null,null,null,null,null,null,null,{"$f":"IF(FF23=\"\",\"\",\"Answer - \"&FF23)","v":""}]
["Seizure",{"$f":"\"Shift-\"&B54","v":"Shift-D"},"age calculation",null,null,null,null,null,null,"New Zealand Dollar",null,null,null,null,null,null,null,null,null,null,null,null,null,null,null,null,null,null,null,null,null,null,null,null,null,null,null,null,null,null,null,null,null,null,null,null,null,null,null,null,null,null,null,null,null,null,null,null,null,null,null,null,null,null,null,null,null,null,null,null,null,null,null,null,null,null,null,null,null,null,null,null,null,null,null,null,null,null,null,null,null,null,null,null,null,null,null,null,null,null,null,null,null,null,null,null,null,null,null,null,null,null,null,null,null,null,null,null,null,null,null,null,null,null,null,null,null,null,null,null,null,null,null,null,null,null,null,null,null,null,null,null,null,null,null,null,null,null,null,null,null,null,null,null,null,null,null,null,null,null,null,null,null,null,null,null,null,null,null,null,null,null,null,null,null,null,null,null,null,null,null,null,null,null,null,null,null,null,null,null,null,null,null,null,null,null,null,null,null,null,null,null,null,null,null,null,null,null,null,null,null,null,null,null,null,null,null,null,null,null,null,null,null,null,null,null,null,null,null,null,null,null,null,null,null,null,null,null,null,null,null,null,null,null,null,null,null,null,null,null,null,null,null,null,null,null,null,null,null,null,null,"PR","PHILIPPINE AIRLINES INC.","PHILIPPINES","PAL",79,null,null,null,null,null,null,null,null,null,null,null,null,null,null,null,null,null,null,null,null,null,null,null,null,null,null,null,null,null,null,null,null,null,null,null,null,null,null,null,null,null,null,null,null,null,null,null,null,null,null,null,null,null,null,null,null,null,null,null,null,null,null,null,null,null,null,null,null,null,null,null,null,null,null,null,null,null,null,null,null,null,null,null,null,null,null,null,null,null,null,null,null,null,null,null,null,null,null,{"$f":"IF(FE24=\"\",\"\",\"Question No.20 - \"&FE24)","v":""}]
["Gold","A",{"$f":"RIGHT(AJ5,4)","v":"1994"},{"$f":"IF(C50=\"\",\"\",($B$44-C50)&\" Years\")","v":"26 Years"},null,null,null,null,null,"Norwegian Kroner",null,null,null,null,null,null,null,null,null,null,null,null,null,null,null,null,null,null,null,null,null,null,null,null,null,null,null,null,null,null,null,null,null,null,null,null,null,null,null,null,null,null,null,null,null,null,null,null,null,null,null,null,null,null,null,null,null,null,null,null,null,null,null,null,null,null,null,null,null,null,null,null,null,null,null,null,null,null,null,null,null,null,null,null,null,null,null,null,null,null,null,null,null,null,null,null,null,null,null,null,null,null,null,null,null,null,null,null,null,null,null,null,null,null,null,null,null,null,null,null,null,null,null,null,null,null,null,null,null,null,null,null,null,null,null,null,null,null,null,null,null,null,null,null,null,null,null,null,null,null,null,null,null,null,null,null,null,null,null,null,null,null,null,null,null,null,null,null,null,null,null,null,null,null,null,null,null,null,null,null,null,null,null,null,null,null,null,null,null,null,null,null,null,null,null,null,null,null,null,null,null,null,null,null,null,null,null,null,null,null,null,null,null,null,null,null,null,null,null,null,null,null,null,null,null,null,null,null,null,null,null,null,null,null,null,null,null,null,null,null,null,null,null,null,null,null,null,null,null,null,null,"PK","PAKISTAN INTERNATIONAL AIRLINES","PAKISTAN","PIA",214,null,null,null,null,null,null,null,null,null,null,null,null,null,null,null,null,null,null,null,null,null,null,null,null,null,null,null,null,null,null,null,null,null,null,null,null,null,null,null,null,null,null,null,null,null,null,null,null,null,null,null,null,null,null,null,null,null,null,null,null,null,null,null,null,null,null,null,null,null,null,null,null,null,null,null,null,null,null,null,null,null,null,null,null,null,null,null,null,null,null,null,null,null,null,null,null,null,null,{"$f":"IF(FF24=\"\",\"\",\"Answer - \"&FF24)","v":""}]
["Currency","B",{"$f":"RIGHT(AJ6,4)","v":""},{"$f":"IF(C51=\"\",\"\",($B$44-C51)&\" Years\")","v":""},null,null,null,null,null,"Pound Sterling",null,null,null,null,null,null,null,null,null,null,null,null,null,null,null,null,null,null,null,null,null,null,null,null,null,null,null,null,null,null,null,null,null,null,null,null,null,null,null,null,null,null,null,null,null,null,null,null,null,null,null,null,null,null,null,null,null,null,null,null,null,null,null,null,null,null,null,null,null,null,null,null,null,null,null,null,null,null,null,null,null,null,null,null,null,null,null,null,null,null,null,null,null,null,null,null,null,null,null,null,null,null,null,null,null,null,null,null,null,null,null,null,null,null,null,null,null,null,null,null,null,null,null,null,null,null,null,null,null,null,null,null,null,null,null,null,null,null,null,null,null,null,null,null,null,null,null,null,null,null,null,null,null,null,null,null,null,null,null,null,null,null,null,null,null,null,null,null,null,null,null,null,null,null,null,null,null,null,null,null,null,null,null,null,null,null,null,null,null,null,null,null,null,null,null,null,null,null,null,null,null,null,null,null,null,null,null,null,null,null,null,null,null,null,null,null,null,null,null,null,null,null,null,null,null,null,null,null,null,null,null,null,null,null,null,null,null,null,null,null,null,null,null,null,null,null,null,null,null,null,null,"PO","POLAR AIR CARGO INC.","U.S.A.","PAC",403,null,null,null,null,null,null,null,null,null,null,null,null,null,null,null,null,null,null,null,null,null,null,null,null,null,null,null,null,null,null,null,null,null,null,null,null,null,null,null,null,null,null,null,null,null,null,null,null,null,null,null,null,null,null,null,null,null,null,null,null,null,null,null,null,null,null,null,null,null,null,null,null,null,null,null,null,null,null,null,null,null,null,null,null,null,null,null,null,null,null,null,null,null,null,null,null,null,null,{"$f":"TRIM(\"On being asked by the Customs Officer, I further admit my acts of omission, commission and responsibility of importing the \"&\"said recovered gold as well as smuggling gold by me, on my part for having brought the gold illegally in India with intent to clear the same from \"&CA5&\" \"&CB5&\" without payment of the Customs Import duty.\")","v":"On being asked by the Customs Officer, I further admit my acts of omission, commission and responsibility of importing the said recovered gold as well as smuggling gold by me, on my part for having brought the gold illegally in India with intent to clear the same from Airport, Nairobi Kenya without payment of the Customs Import duty."}]
["Drugs","C","","",null,null,null,null,null,"Qatari Riyal",null,null,null,null,null,null,null,null,null,null,null,null,null,null,null,null,null,null,null,null,null,null,null,null,null,null,null,null,null,null,null,null,null,null,null,null,null,null,null,null,null,null,null,null,null,null,null,null,null,null,null,null,null,null,null,null,null,null,null,null,null,null,null,null,null,null,null,null,null,null,null,null,null,null,null,null,null,null,null,null,null,null,null,null,null,null,null,null,null,null,null,null,null,null,null,null,null,null,null,null,null,null,null,null,null,null,null,null,null,null,null,null,null,null,null,null,null,null,null,null,null,null,null,null,null,null,null,null,null,null,null,null,null,null,null,null,null,null,null,null,null,null,null,null,null,null,null,null,null,null,null,null,null,null,null,null,null,null,null,null,null,null,null,null,null,null,null,null,null,null,null,null,null,null,null,null,null,null,null,null,null,null,null,null,null,null,null,null,null,null,null,null,null,null,null,null,null,null,null,null,null,null,null,null,null,null,null,null,null,null,null,null,null,null,null,null,null,null,null,null,null,null,null,null,null,null,null,null,null,null,null,null,null,null,null,null,null,null,null,null,null,null,null,null,null,null,null,null,null,null,null,"QF","QANTAS AIRWAYS LTD.","AUSTRALIA","QFA",81,null,null,null,null,null,null,null,null,null,null,null,null,null,null,null,null,null,null,null,null,null,null,null,null,null,null,null,null,null,null,null,null,null,null,null,null,null,null,null,null,null,null,null,null,null,null,null,null,null,null,null,null,null,null,null,null,null,null,null,null,null,null,null,null,null,null,null,null,null,null,null,null,null,null,null,null,null,null,null,null,null,null,null,null,null,null,null,null,null,null,null,null,null,null,null,null,null,null,{"$f":"TRIM(\"I agree with the facts and contents as well as the manner of the proceedings recorded in the said Panchnama dated \"&BW5&\" in the presence of two Independent panchas.\")","v":"I agree with the facts and contents as well as the manner of the proceedings recorded in the said Panchnama dated 05.03.2019 in the presence of two Independent panchas."}]
["Medicines","D","","",null,null,null,null,null,"Saudi Arabian Riyal",null,null,null,null,null,null,null,null,null,null,null,null,null,null,null,null,null,null,null,null,null,null,null,null,null,null,null,null,null,null,null,null,null,null,null,null,null,null,null,null,null,null,null,null,null,null,null,null,null,null,null,null,null,null,null,null,null,null,null,null,null,null,null,null,null,null,null,null,null,null,null,null,null,null,null,null,null,null,null,null,null,null,null,null,null,null,null,null,null,null,null,null,null,null,null,null,null,null,null,null,null,null,null,null,null,null,null,null,null,null,null,null,null,null,null,null,null,null,null,null,null,null,null,null,null,null,null,null,null,null,null,null,null,null,null,null,null,null,null,null,null,null,null,null,null,null,null,null,null,null,null,null,null,null,null,null,null,null,null,null,null,null,null,null,null,null,null,null,null,null,null,null,null,null,null,null,null,null,null,null,null,null,null,null,null,null,null,null,null,null,null,null,null,null,null,null,null,null,null,null,null,null,null,null,null,null,null,null,null,null,null,null,null,null,null,null,null,null,null,null,null,null,null,null,null,null,null,null,null,null,null,null,null,null,null,null,null,null,null,null,null,null,null,null,null,null,null,null,null,null,null,"RA","ROYAL NEPAL AIRLINES CORP.","NEPAL","RNA",285,null,null,null,null,null,null,null,null,null,null,null,null,null,null,null,null,null,null,null,null,null,null,null,null,null,null,null,null,null,null,null,null,null,null,null,null,null,null,null,null,null,null,null,null,null,null,null,null,null,null,null,null,null,null,null,null,null,null,null,null,null,null,null,null,null,null,null,null,null,null,null,null,null,null,null,null,null,null,null,null,null,null,null,null,null,null,null,null,null,null,null,null,null,null,null,null,null,null,{"$f":"TRIM(\"I further assure that I will present myself as and when required in due course of investigation of the case. This is my \"&\"true and correct statement tendered without any threat, pressure, duress, coercion and temptation in my full senses. The statement, running into \"&FI5&\" \"&bksingh_fiw(FI5)&\" pages, has been read by me in vernacular by \"&FH5&\" and I have completely understood its content. I completely agree with the above stated facts and the same has been recorded as per my version.\")","v":"I further assure that I will present myself as and when required in due course of investigation of the case. This is my true and correct statement tendered without any threat, pressure, duress, coercion and temptation in my full senses. The statement, running into 5 (five) pages, has been read by me in vernacular by Ms. sdfasdfasdfasdf and I have completely understood its content. I completely agree with the above stated facts and the same has been recorded as per my version."}]
["Memory Cards","D","","",null,null,null,null,null,"Singapore Dollar",null,null,null,null,null,null,null,null,null,null,null,null,null,null,null,null,null,null,null,null,null,null,null,null,null,null,null,null,null,null,null,null,null,null,null,null,null,null,null,null,null,null,null,null,null,null,null,null,null,null,null,null,null,null,null,null,null,null,null,null,null,null,null,null,null,null,null,null,null,null,null,null,null,null,null,null,null,null,null,null,null,null,null,null,null,null,null,null,null,null,null,null,null,null,null,null,null,null,null,null,null,null,null,null,null,null,null,null,null,null,null,null,null,null,null,null,null,null,null,null,null,null,null,null,null,null,null,null,null,null,null,null,null,null,null,null,null,null,null,null,null,null,null,null,null,null,null,null,null,null,null,null,null,null,null,null,null,null,null,null,null,null,null,null,null,null,null,null,null,null,null,null,null,null,null,null,null,null,null,null,null,null,null,null,null,null,null,null,null,null,null,null,null,null,null,null,null,null,null,null,null,null,null,null,null,null,null,null,null,null,null,null,null,null,null,null,null,null,null,null,null,null,null,null,null,null,null,null,null,null,null,null,null,null,null,null,null,null,null,null,null,null,null,null,null,null,null,null,null,null,null,"SK","SCANDINAVIAN AIRLINES SYSTEM (SAS)","SWEDEN","SAS",117,null,null,null,null,null,null,null,null,null,null,null,null,null,null,null,null,null,null,null,null,null,null,null,null,null,null,null,null,null,null,null,null,null,null,null,null,null,null,null,null,null,null,null,null,null,null,null,null,null,null,null,null,null,null,null,null,null,null,null,null,null,null,null,null,null,null,null,null,null,null,null,null,null,null,null,null,null,null,null,null,null,null,null,null,null,null,null,null,null,null,null,null,null,null,null,null,null,null,"I further state that this statement of mine has been typed by the Customs Officer on my request on the computer installed and the same has been typed as per my version. I have signed each page of my statement in token of understood the contents."]
["Others",null,"","",null,null,null,null,null,"South African Rand",null,null,null,null,null,null,null,null,null,null,null,null,null,null,null,null,null,null,null,null,null,null,null,null,null,null,null,null,null,null,null,null,null,null,null,null,null,null,null,null,null,null,null,null,null,null,null,null,null,null,null,null,null,null,null,null,null,null,null,null,null,null,null,null,null,null,null,null,null,null,null,null,null,null,null,null,null,null,null,null,null,null,null,null,null,null,null,null,null,null,null,null,null,null,null,null,null,null,null,null,null,null,null,null,null,null,null,null,null,null,null,null,null,null,null,null,null,null,null,null,null,null,null,null,null,null,null,null,null,null,null,null,null,null,null,null,null,null,null,null,null,null,null,null,null,null,null,null,null,null,null,null,null,null,null,null,null,null,null,null,null,null,null,null,null,null,null,null,null,null,null,null,null,null,null,null,null,null,null,null,null,null,null,null,null,null,null,null,null,null,null,null,null,null,null,null,null,null,null,null,null,null,null,null,null,null,null,null,null,null,null,null,null,null,null,null,null,null,null,null,null,null,null,null,null,null,null,null,null,null,null,null,null,null,null,null,null,null,null,null,null,null,null,null,null,null,null,null,null,null,null,"UL","SRILANKAN AIRLINES LTD.","SRI LANKA","ALK",603]
[null,null,"","",null,null,null,null,null,"Swedish Kroner",null,null,null,null,null,null,null,null,null,null,null,null,null,null,null,null,null,null,null,null,null,null,null,null,null,null,null,null,null,null,null,null,null,null,null,null,null,null,null,null,null,null,null,null,null,null,null,null,null,null,null,null,null,null,null,null,null,null,null,null,null,null,null,null,null,null,null,null,null,null,null,null,null,null,null,null,null,null,null,null,null,null,null,null,null,null,null,null,null,null,null,null,null,null,null,null,null,null,null,null,null,null,null,null,null,null,null,null,null,null,null,null,null,null,null,null,null,null,null,null,null,null,null,null,null,null,null,null,null,null,null,null,null,null,null,null,null,null,null,null,null,null,null,null,null,null,null,null,null,null,null,null,null,null,null,null,null,null,null,null,null,null,null,null,null,null,null,null,null,null,null,null,null,null,null,null,null,null,null,null,null,null,null,null,null,null,null,null,null,null,null,null,null,null,null,null,null,null,null,null,null,null,null,null,null,null,null,null,null,null,null,null,null,null,null,null,null,null,null,null,null,null,null,null,null,null,null,null,null,null,null,null,null,null,null,null,null,null,null,null,null,null,null,null,null,null,null,null,null,null,null,"SQ","SINGAPORE AIRLINES LTD.","SINGAPORE","SQC",618]
[null,null,"","",null,null,null,null,null,"Swiss Franc",null,null,null,null,null,null,null,null,null,null,null,null,null,null,null,null,null,null,null,null,null,null,null,null,null,null,null,null,null,null,null,null,null,null,null,null,null,null,null,null,null,null,null,null,null,null,null,null,null,null,null,null,null,null,null,null,null,null,null,null,null,null,null,null,null,null,null,null,null,null,null,null,null,null,null,null,null,null,null,null,null,null,null,null,null,null,null,null,null,null,null,null,null,null,null,null,null,null,null,null,null,null,null,null,null,null,null,null,null,null,null,null,null,null,null,null,null,null,null,null,null,null,null,null,null,null,null,null,null,null,null,null,null,null,null,null,null,null,null,null,null,null,null,null,null,null,null,null,null,null,null,null,null,null,null,null,null,null,null,null,null,null,null,null,null,null,null,null,null,null,null,null,null,null,null,null,null,null,null,null,null,null,null,null,null,null,null,null,null,null,null,null,null,null,null,null,null,null,null,null,null,null,null,null,null,null,null,null,null,null,null,null,null,null,null,null,null,null,null,null,null,null,null,null,null,null,null,null,null,null,null,null,null,null,null,null,null,null,null,null,null,null,null,null,null,null,null,null,null,null,null,"LX","SWISS INTERNATIONAL AIR LINES LTD.","SWITZERLAND","SWR",724]
[null,null,"","",null,null,null,null,null,"Turkish Lira",null,null,null,null,null,null,null,null,null,null,null,null,null,null,null,null,null,null,null,null,null,null,null,null,null,null,null,null,null,null,null,null,null,null,null,null,null,null,null,null,null,null,null,null,null,null,null,null,null,null,null,null,null,null,null,null,null,null,null,null,null,null,null,null,null,null,null,null,null,null,null,null,null,null,null,null,null,null,null,null,null,null,null,null,null,null,null,null,null,null,null,null,null,null,null,null,null,null,null,null,null,null,null,null,null,null,null,null,null,null,null,null,null,null,null,null,null,null,null,null,null,null,null,null,null,null,null,null,null,null,null,null,null,null,null,null,null,null,null,null,null,null,null,null,null,null,null,null,null,null,null,null,null,null,null,null,null,null,null,null,null,null,null,null,null,null,null,null,null,null,null,null,null,null,null,null,null,null,null,null,null,null,null,null,null,null,null,null,null,null,null,null,null,null,null,null,null,null,null,null,null,null,null,null,null,null,null,null,null,null,null,null,null,null,null,null,null,null,null,null,null,null,null,null,null,null,null,null,null,null,null,null,null,null,null,null,null,null,null,null,null,null,null,null,null,null,null,null,null,null,null,"FM","SHANGHAI AIRLINES CO. LTD.","CHINA",null,774]
[null,null,"","",null,null,null,null,null,"UAE Dirham",null,null,null,null,null,null,null,null,null,null,null,null,null,null,null,null,null,null,null,null,null,null,null,null,null,null,null,null,null,null,null,null,null,null,null,null,null,null,null,null,null,null,null,null,null,null,null,null,null,null,null,null,null,null,null,null,null,null,null,null,null,null,null,null,null,null,null,null,null,null,null,null,null,null,null,null,null,null,null,null,null,null,null,null,null,null,null,null,null,null,null,null,null,null,null,null,null,null,null,null,null,null,null,null,null,null,null,null,null,null,null,null,null,null,null,null,null,null,null,null,null,null,null,null,null,null,null,null,null,null,null,null,null,null,null,null,null,null,null,null,null,null,null,null,null,null,null,null,null,null,null,null,null,null,null,null,null,null,null,null,null,null,null,null,null,null,null,null,null,null,null,null,null,null,null,null,null,null,null,null,null,null,null,null,null,null,null,null,null,null,null,null,null,null,null,null,null,null,null,null,null,null,null,null,null,null,null,null,null,null,null,null,null,null,null,null,null,null,null,null,null,null,null,null,null,null,null,null,null,null,null,null,null,null,null,null,null,null,null,null,null,null,null,null,null,null,null,null,null,null,null,"TG","THAI AIRWAYS INTERNATIONAL PUBLIC CO. LTD.","THAILAND","THA",217]
[null,null,null,null,null,null,null,null,null,"US Dollar",null,null,null,null,null,null,null,null,null,null,null,null,null,null,null,null,null,null,null,null,null,null,null,null,null,null,null,null,null,null,null,null,null,null,null,null,null,null,null,null,null,null,null,null,null,null,null,null,null,null,null,null,null,null,null,null,null,null,null,null,null,null,null,null,null,null,null,null,null,null,null,null,null,null,null,null,null,null,null,null,null,null,null,null,null,null,null,null,null,null,null,null,null,null,null,null,null,null,null,null,null,null,null,null,null,null,null,null,null,null,null,null,null,null,null,null,null,null,null,null,null,null,null,null,null,null,null,null,null,null,null,null,null,null,null,null,null,null,null,null,null,null,null,null,null,null,null,null,null,null,null,null,null,null,null,null,null,null,null,null,null,null,null,null,null,null,null,null,null,null,null,null,null,null,null,null,null,null,null,null,null,null,null,null,null,null,null,null,null,null,null,null,null,null,null,null,null,null,null,null,null,null,null,null,null,null,null,null,null,null,null,null,null,null,null,null,null,null,null,null,null,null,null,null,null,null,null,null,null,null,null,null,null,null,null,null,null,null,null,null,null,null,null,null,null,null,null,null,null,null,null,"TK","TURKISH AIRLINES INC.","TURKEY","THY",235]
[null,null,null,null,null,null,null,null,null,"Japanese Yen",null,null,null,null,null,null,null,null,null,null,null,null,null,null,null,null,null,null,null,null,null,null,null,null,null,null,null,null,null,null,null,null,null,null,null,null,null,null,null,null,null,null,null,null,null,null,null,null,null,null,null,null,null,null,null,null,null,null,null,null,null,null,null,null,null,null,null,null,null,null,null,null,null,null,null,null,null,null,null,null,null,null,null,null,null,null,null,null,null,null,null,null,null,null,null,null,null,null,null,null,null,null,null,null,null,null,null,null,null,null,null,null,null,null,null,null,null,null,null,null,null,null,null,null,null,null,null,null,null,null,null,null,null,null,null,null,null,null,null,null,null,null,null,null,null,null,null,null,null,null,null,null,null,null,null,null,null,null,null,null,null,null,null,null,null,null,null,null,null,null,null,null,null,null,null,null,null,null,null,null,null,null,null,null,null,null,null,null,null,null,null,null,null,null,null,null,null,null,null,null,null,null,null,null,null,null,null,null,null,null,null,null,null,null,null,null,null,null,null,null,null,null,null,null,null,null,null,null,null,null,null,null,null,null,null,null,null,null,null,null,null,null,null,null,null,null,null,null,null,null,null,"UA","UNITED AIRLINES INC.","U.S.A.","UAL",16]
[null,null,null,null,null,null,null,null,null,"Korean Won",null,null,null,null,null,null,null,null,null,null,null,null,null,null,null,null,null,null,null,null,null,null,null,null,null,null,null,null,null,null,null,null,null,null,null,null,null,null,null,null,null,null,null,null,null,null,null,null,null,null,null,null,null,null,null,null,null,null,null,null,null,null,null,null,null,null,null,null,null,null,null,null,null,null,null,null,null,null,null,null,null,null,null,null,null,null,null,null,null,null,null,null,null,null,null,null,null,null,null,null,null,null,null,null,null,null,null,null,null,null,null,null,null,null,null,null,null,null,null,null,null,null,null,null,null,null,null,null,null,null,null,null,null,null,null,null,null,null,null,null,null,null,null,null,null,null,null,null,null,null,null,null,null,null,null,null,null,null,null,null,null,null,null,null,null,null,null,null,null,null,null,null,null,null,null,null,null,null,null,null,null,null,null,null,null,null,null,null,null,null,null,null,null,null,null,null,null,null,null,null,null,null,null,null,null,null,null,null,null,null,null,null,null,null,null,null,null,null,null,null,null,null,null,null,null,null,null,null,null,null,null,null,null,null,null,null,null,null,null,null,null,null,null,null,null,null,null,null,null,null,null,"HY","UZBEKISTAN AIRWAYS","UZBEKISTAN","UZB",250]
[null,null,null,null,null,null,null,null,null,null,null,null,null,null,null,null,null,null,null,null,null,null,null,null,null,null,null,null,null,null,null,null,null,null,null,null,null,null,null,null,null,null,null,null,null,null,null,null,null,null,null,null,null,null,null,null,null,null,null,null,null,null,null,null,null,null,null,null,null,null,null,null,null,null,null,null,null,null,null,null,null,null,null,null,null,null,null,null,null,null,null,null,null,null,null,null,null,null,null,null,null,null,null,null,null,null,null,null,null,null,null,null,null,null,null,null,null,null,null,null,null,null,null,null,null,null,null,null,null,null,null,null,null,null,null,null,null,null,null,null,null,null,null,null,null,null,null,null,null,null,null,null,null,null,null,null,null,null,null,null,null,null,null,null,null,null,null,null,null,null,null,null,null,null,null,null,null,null,null,null,null,null,null,null,null,null,null,null,null,null,null,null,null,null,null,null,null,null,null,null,null,null,null,null,null,null,null,null,null,null,null,null,null,null,null,null,null,null,null,null,null,null,null,null,null,null,null,null,null,null,null,null,null,null,null,null,null,null,null,null,null,null,null,null,null,null,null,null,null,null,null,null,null,null,null,null,null,null,null,null,null,"5X","UNITED PARCEL","U.S.A.","UPS",406]
[null,null,null,null,null,null,null,null,null,null,null,null,null,null,null,null,null,null,null,null,null,null,null,null,null,null,null,null,null,null,null,null,null,null,null,null,null,null,null,null,null,null,null,null,null,null,null,null,null,null,null,null,null,null,null,null,null,null,null,null,null,null,null,null,null,null,null,null,null,null,null,null,null,null,null,null,null,null,null,null,null,null,null,null,null,null,null,null,null,null,null,null,null,null,null,null,null,null,null,null,null,null,null,null,null,null,null,null,null,null,null,null,null,null,null,null,null,null,null,null,null,null,null,null,null,null,null,null,null,null,null,null,null,null,null,null,null,null,null,null,null,null,null,null,null,null,null,null,null,null,null,null,null,null,null,null,null,null,null,null,null,null,null,null,null,null,null,null,null,null,null,null,null,null,null,null,null,null,null,null,null,null,null,null,null,null,null,null,null,null,null,null,null,null,null,null,null,null,null,null,null,null,null,null,null,null,null,null,null,null,null,null,null,null,null,null,null,null,null,null,null,null,null,null,null,null,null,null,null,null,null,null,null,null,null,null,null,null,null,null,null,null,null,null,null,null,null,null,null,null,null,null,null,null,null,null,null,null,null,null,null,"VN","VIETNAM AIRLINES","VIETNAM","HVN",738]
[null,null,null,null,null,null,null,null,null,null,null,null,null,null,null,null,null,null,null,null,null,null,null,null,null,null,null,null,null,null,null,null,null,null,null,null,null,null,null,null,null,null,null,null,null,null,null,null,null,null,null,null,null,null,null,null,null,null,null,null,null,null,null,null,null,null,null,null,null,null,null,null,null,null,null,null,null,null,null,null,null,null,null,null,null,null,null,null,null,null,null,null,null,null,null,null,null,null,null,null,null,null,null,null,null,null,null,null,null,null,null,null,null,null,null,null,null,null,null,null,null,null,null,null,null,null,null,null,null,null,null,null,null,null,null,null,null,null,null,null,null,null,null,null,null,null,null,null,null,null,null,null,null,null,null,null,null,null,null,null,null,null,null,null,null,null,null,null,null,null,null,null,null,null,null,null,null,null,null,null,null,null,null,null,null,null,null,null,null,null,null,null,null,null,null,null,null,null,null,null,null,null,null,null,null,null,null,null,null,null,null,null,null,null,null,null,null,null,null,null,null,null,null,null,null,null,null,null,null,null,null,null,null,null,null,null,null,null,null,null,null,null,null,null,null,null,null,null,null,null,null,null,null,null,null,null,null,null,null,null,null,"VS","VIRGIN ATLANTIC","U.K.","VIR",932]
[null,null,null,null,null,null,null,null,null,null,null,null,null,null,null,null,null,null,null,null,null,null,null,null,null,null,null,null,null,null,null,null,null,null,null,null,null,null,null,null,null,null,null,null,null,null,null,null,null,null,null,null,null,null,null,null,null,null,null,null,null,null,null,null,null,null,null,null,null,null,null,null,null,null,null,null,null,null,null,null,null,null,null,null,null,null,null,null,null,null,null,null,null,null,null,null,null,null,null,null,null,null,null,null,null,null,null,null,null,null,null,null,null,null,null,null,null,null,null,null,null,null,null,null,null,null,null,null,null,null,null,null,null,null,null,null,null,null,null,null,null,null,null,null,null,null,null,null,null,null,null,null,null,null,null,null,null,null,null,null,null,null,null,null,null,null,null,null,null,null,null,null,null,null,null,null,null,null,null,null,null,null,null,null,null,null,null,null,null,null,null,null,null,null,null,null,null,null,null,null,null,null,null,null,null,null,null,null,null,null,null,null,null,null,null,null,null,null,null,null,null,null,null,null,null,null,null,null,null,null,null,null,null,null,null,null,null,null,null,null,null,null,null,null,null,null,null,null,null,null,null,null,null,null,null,null,null,null,null,null,null,"6E","INDIGO","INDIA"]
[null,null,null,null,null,null,null,null,null,null,null,null,null,null,null,null,null,null,null,null,null,null,null,null,null,null,null,null,null,null,null,null,null,null,null,null,null,null,null,null,null,null,null,null,null,null,null,null,null,null,null,null,null,null,null,null,null,null,null,null,null,null,null,null,null,null,null,null,null,null,null,null,null,null,null,null,null,null,null,null,null,null,null,null,null,null,null,null,null,null,null,null,null,null,null,null,null,null,null,null,null,null,null,null,null,null,null,null,null,null,null,null,null,null,null,null,null,null,null,null,null,null,null,null,null,null,null,null,null,null,null,null,null,null,null,null,null,null,null,null,null,null,null,null,null,null,null,null,null,null,null,null,null,null,null,null,null,null,null,null,null,null,null,null,null,null,null,null,null,null,null,null,null,null,null,null,null,null,null,null,null,null,null,null,null,null,null,null,null,null,null,null,null,null,null,null,null,null,null,null,null,null,null,null,null,null,null,null,null,null,null,null,null,null,null,null,null,null,null,null,null,null,null,null,null,null,null,null,null,null,null,null,null,null,null,null,null,null,null,null,null,null,null,null,null,null,null,null,null,null,null,null,null,null,null,null,null,null,null,null,null,"SG","SPICE JET","INDIA"]
[null,null,null,null,null,null,null,null,null,null,null,null,null,null,null,null,null,null,null,null,null,null,null,null,null,null,null,null,null,null,null,null,null,null,null,null,null,null,null,null,null,null,null,null,null,null,null,null,null,null,null,null,null,null,null,null,null,null,null,null,null,null,null,null,null,null,null,null,null,null,null,null,null,null,null,null,null,null,null,null,null,null,null,null,null,null,null,null,null,null,null,null,null,null,null,null,null,null,null,null,null,null,null,null,null,null,null,null,null,null,null,null,null,null,null,null,null,null,null,null,null,null,null,null,null,null,null,null,null,null,null,null,null,null,null,null,null,null,null,null,null,null,null,null,null,null,null,null,null,null,null,null,null,null,null,null,null,null,null,null,null,null,null,null,null,null,null,null,null,null,null,null,null,null,null,null,null,null,null,null,null,null,null,null,null,null,null,null,null,null,null,null,null,null,null,null,null,null,null,null,null,null,null,null,null,null,null,null,null,null,null,null,null,null,null,null,null,null,null,null,null,null,null,null,null,null,null,null,null,null,null,null,null,null,null,null,null,null,null,null,null,null,null,null,null,null,null,null,null,null,null,null,null,null,null,null,null,null,null,null,null,"9W","JET AIRWAYS","INDIA"]
[null,null,null,null,null,null,null,null,null,null,null,null,null,null,null,null,null,null,null,null,null,null,null,null,null,null,null,null,null,null,null,null,null,null,null,null,null,null,null,null,null,null,null,null,null,null,null,null,null,null,null,null,null,null,null,null,null,null,null,null,null,null,null,null,null,null,null,null,null,null,null,null,null,null,null,null,null,null,null,null,null,null,null,null,null,null,null,null,null,null,null,null,null,null,null,null,null,null,null,null,null,null,null,null,null,null,null,null,null,null,null,null,null,null,null,null,null,null,null,null,null,null,null,null,null,null,null,null,null,null,null,null,null,null,null,null,null,null,null,null,null,null,null,null,null,null,null,null,null,null,null,null,null,null,null,null,null,null,null,null,null,null,null,null,null,null,null,null,null,null,null,null,null,null,null,null,null,null,null,null,null,null,null,null,null,null,null,null,null,null,null,null,null,null,null,null,null,null,null,null,null,null,null,null,null,null,null,null,null,null,null,null,null,null,null,null,null,null,null,null,null,null,null,null,null,null,null,null,null,null,null,null,null,null,null,null,null,null,null,null,null,null,null,null,null,null,null,null,null,null,null,null,null,null,null,null,null,null,null,null,null,"G8","GO AIR","INDIA"]
[null,null,null,null,null,null,null,null,null,null,null,null,null,null,null,null,null,null,null,null,null,null,null,null,null,null,null,null,null,null,null,null,null,null,null,null,null,null,null,null,null,null,null,null,null,null,null,null,null,null,null,null,null,null,null,null,null,null,null,null,null,null,null,null,null,null,null,null,null,null,null,null,null,null,null,null,null,null,null,null,null,null,null,null,null,null,null,null,null,null,null,null,null,null,null,null,null,null,null,null,null,null,null,null,null,null,null,null,null,null,null,null,null,null,null,null,null,null,null,null,null,null,null,null,null,null,null,null,null,null,null,null,null,null,null,null,null,null,null,null,null,null,null,null,null,null,null,null,null,null,null,null,null,null,null,null,null,null,null,null,null,null,null,null,null,null,null,null,null,null,null,null,null,null,null,null,null,null,null,null,null,null,null,null,null,null,null,null,null,null,null,null,null,null,null,null,null,null,null,null,null,null,null,null,null,null,null,null,null,null,null,null,null,null,null,null,null,null,null,null,null,null,null,null,null,null,null,null,null,null,null,null,null,null,null,null,null,null,null,null,null,null,null,null,null,null,null,null,null,null,null,null,null,null,null,null,null,null,null,null,null,"UK","VISTARA","INDIA"]

{"sheet":"admin panel","index":3,"n_rows":3,"n_cols":10,"rows_kept":3,"cut":false,"hidden":true,"merged":[]}
[null,null,null,"Admin Panel"]
[null,"S.No.","Name","Designation","User ID","Password","Employee ID","New PW","Verify","Old PW"]
[null,1,"B K Singh","Superintendent","bksingh","bksingh",2916]

{"sheet":"102","index":4,"n_rows":41,"n_cols":4,"rows_kept":41,"cut":false,"hidden":false,"merged":[[21,0,21,3],[20,0,20,3],[19,0,19,3],[18,0,18,3],[15,0,15,3],[11,0,11,3],[12,0,12,3],[14,0,14,3],[9,0,9,3],[8,0,8,3],[6,0,6,3],[1,0,1,3],[2,0,2,3],[3,0,3,3],[4,0,4,3],[40,0,40,3],[39,0,39,3],[38,0,38,3],[37,0,37,3],[36,0,36,3],[22,0,22,3],[27,0,27,3],[28,0,28,3],[30,0,30,3],[32,0,32,3],[29,0,29,3],[26,0,26,3],[25,0,25,3],[24,0,24,3],[23,0,23,3],[31,0,31,3]]}
[]
[{"$f":"summon!A2","v":"GOVERNMENT OF INDIA"}]
[{"$f":"press!A3","v":"OFFICE OF THE ABC"}]
[{"$f":"press!A4","v":"AIRPORT, NAIROBI, KENYA"}]
[{"$f":"press!A5","v":"C.No.:VIII(AP)10/P&I/                     Dated: 14.07.2020"}]
[]
["NOTICE UNDER SECTION 102 OF THE CUSTOMS ACT, 1962"]
[]
[{"$f":"bksingh!ACG5","v":"Whereas, asfsfsadf, (DOB: 03.02.1994), sfasfafasfasfasdf, Park Road, Nairobi, Kenya, holder of Kenyan Passport bearing No.sfasfasfasdfas issued on 02.03.2020 at Nairobi, was arrived from Nairobi via Adis Abbaba by Flight No.ET688 dated 02.03.2019."}]
["The examination of your baggage and your personal search is to be conducted. It is your legal right that if you so desire the same could be conducted before a Magistrate or a Gazetted Officer of Customs."]
[{"$f":"\"Date: \"&bksingh!B45","v":"Date: 14.07.2020"}]
[{"$f":"panchnama!A149","v":"(asdf)"}]
[{"$f":"panchnama!A150","v":"sdfasdfasd"}]
[]
["CONSENT OF THE PAX/PERSON"]
["I have no objection if my personal and baggage search or X-Ray if required is to be conducted in presence of the Gazetted Officer of Customs."]
[]
[null,null,null,{"$f":"bksingh!AA5","v":"asfsfsadf"}]
[]
[]
[{"$f":"notesheet!A7","v":"During the personal and baggage search of Pax-asfsfsadf, the following items were recovered:"}]
[{"$f":"notesheet!A8","v":"1. Six cut pieces of gold collectively weighing 668 grams."}]
[{"$f":"notesheet!A9","v":"2. Boarding Pass of Flight No.ET688 Dated 02.03.2019 Seat No.E26 arrived from Nairobi via Adis Abbaba."}]
[{"$f":"notesheet!A10","v":"3. Kenyan Passport No.sfasfasfasdfas."}]
[{"$f":"notesheet!A11","v":"4. sfasdfsdf."}]
[{"$f":"notesheet!A12","v":"5. asdfasf."}]
[{"$f":"notesheet!A13","v":"6. asdfasdfaf."}]
[{"$f":"notesheet!A14","v":"7. Kenyan Currency-7100, USD-500, INR-1470."}]
[{"$f":"notesheet!A15","v":"8. Personal Gold Jewellery."}]
[{"$f":"notesheet!A16","v":""}]
[{"$f":"notesheet!A17","v":""}]
[{"$f":"bksingh!JZ5","v":"The item mentioned at Sl. No.1, 2, 5 above were detained for further investigation and court exhibits, the remaining item listed at Sl. No.2, 3, 4, 5, 6, 7, 8 above were returned to the Pax on the spot."}]
["Baggage and Personal search of the Pax has been conducted before me."]
[]
[]
[]
["Signature…….…………………………….."]
[{"$f":"summon!A17","v":"(fasd)"}]
[{"$f":"summon!A18","v":"f"}]
[{"$f":"summon!A19","v":"Shift-D"}]
[{"$f":"bksingh!CA5","v":"Airport, Nairobi"}]

{"sheet":"panchnama","index":5,"n_rows":150,"n_cols":16381,"rows_kept":33,"cut":true,"hidden":false,"merged":[[138,16376,138,16379],[138,16380,138,16383],[139,0,139,3],[6,0,6,3],[138,16244,138,16247],[138,16248,138,16251],[138,16252,138,16255],[138,16256,138,16259],[138,16260,138,16263],[138,16264,138,16267],[138,16268,138,16271],[138,16272,138,16275],[138,16276,138,16279],[138,16280,138,16283],[138,16284,138,16287],[138,16288,138,16291],[138,16292,138,16295],[138,16296,138,16299],[138,16300,138,16303],[138,16304,138,16307],[138,16308,138,16311],[138,16312,138,16315],[138,16316,138,16319],[138,16320,138,16323],[138,16324,138,16327],[138,16328,138,16331],[138,16332,138,16335],[138,16336,138,16339],[138,16340,138,16343],[138,16344,138,16347],[138,16348,138,16351],[138,16352,138,16355],[138,16356,138,16359],[138,16360,138,16363],[138,16364,138,16367],[138,16368,138,16371],[138,16372,138,16375],[138,16112,138,16115],[138,16116,138,16119],[138,16120,138,16123],[138,16124,138,16127],[138,16128,138,16131],[138,16132,138,16135],[138,16136,138,16139],[138,16140,138,16143],[138,16144,138,16147],[138,16148,138,16151],[138,16152,138,16155],[138,16156,138,16159],[138,16160,138,16163],[138,16164,138,16167],[138,16168,138,16171],[138,16172,138,16175],[138,16176,138,16179],[138,16180,138,16183],[138,16184,138,16187],[138,16188,138,16191],[138,16192,138,16195],[138,16196,138,16199],[138,16200,138,16203],[138,16204,138,16207],[138,16208,138,16211],[138,16212,138,16215],[7,0,7,3],[138,16216,138,16219],[138,16220,138,16223],[138,16224,138,16227],[138,16228,138,16231],[138,16232,138,16235],[138,16236,138,16239],[138,16240,138,16243],[138,15980,138,15983],[138,15984,138,15987],[138,15988,138,15991],[138,15992,138,15995],[138,15996,138,15999],[138,16000,138,16003],[138,16004,138,16007],[138,16008,138,16011],[138,16012,138,16015],[138,16016,138,16019],[138,16020,138,16023],[138,16024,138,16027],[138,16028,138,16031],[138,16032,138,16035],[138,16036,138,16039],[138,16040,138,16043],[138,16044,138,16047],[138,16048,138,16051],[138,16052,138,16055],[138,16056,138,16059],[138,16060,138,16063],[138,16064,138,16067],[138,16068,138,16071],[138,16072,138,16075],[138,16076,138,16079],[138,16080,138,16083],[138,16084,138,16087],[138,16088,138,16091],[138,16092,138,16095],[138,16096,138,16099],[138,16100,138,16103],[138,16104,138,16107],[138,16108,138,16111],[138,15848,138,15851],[138,15852,138,15855],[138,15856,138,15859],[138,15860,138,15863],[138,15864,138,15867],[138,15868,138,15871],[138,15872,138,15875],[138,15876,138,15879],[138,15880,138,15883],[138,15884,138,15887],[138,15888,138,15891],[138,15892,138,15895],[138,15896,138,15899],[138,15900,138,15903],[138,15904,138,15907],[138,15908,138,15911],[138,15912,138,15915],[138,15916,138,15919],[138,15920,138,15923],[138,15924,138,15927],[138,15928,138,15931],[138,15932,138,15935],[138,15936,138,15939],[138,15940,138,15943],[138,15944,138,15947],[138,15948,138,15951],[138,15952,138,15955],[138,15956,138,15959],[138,15960,138,15963],[138,15964,138,15967],[138,15968,138,15971],[138,15972,138,15975],[138,15976,138,15979],[138,15716,138,15719],[138,15720,138,15723],[138,15724,138,15727],[138,15728,138,15731],[138,15732,138,15735],[138,15736,138,15739],[138,15740,138,15743],[138,15744,138,15747],[138,15748,138,15751],[138,15752,138,15755],[138,15756,138,15759],[138,15760,138,15763],[138,15764,138,15767],[138,15768,138,15771],[138,15772,138,15775],[138,15776,138,15779],[138,15780,138,15783],[138,15784,138,15787],[138,15788,138,15791],[138,15792,138,15795],[138,15796,138,15799],[138,15800,138,15803],[138,15804,138,15807],[138,15808,138,15811],[138,15812,138,15815],[138,15816,138,15819],[138,15820,138,15823],[138,15824,138,15827],[138,15828,138,15831],[138,15832,138,15835],[138,15836,138,15839],[138,15840,138,15843],[138,15844,138,15847],[138,15584,138,15587],[138,15588,138,15591],[138,15592,138,15595],[138,15596,138,15599],[138,15600,138,15603],[138,15604,138,15607],[138,15608,138,15611],[138,15612,138,15615],[138,15616,138,15619],[138,15620,138,15623],[138,15624,138,15627],[138,15628,138,15631],[138,15632,138,15635],[138,15636,138,15639],[138,15640,138,15643],[138,15644,138,15647],[138,15648,138,15651],[138,15652,138,15655],[138,15656,138,15659],[138,15660,138,15663],[138,15664,138,15667],[138,15668,138,15671],[138,15672,138,15675],[138,15676,138,15679],[138,15680,138,15683],[138,15684,138,15687],[138,15688,138,15691],[138,15692,138,15695],[138,15696,138,15699],[138,15700,138,15703],[138,15704,138,15707],[138,15708,138,15711],[138,15712,138,15715],[138,15452,138,15455],[138,15456,138,15459],[138,15460,138,15463],[138,15464,138,15467],[138,15468,138,15471],[138,15472,138,15475],[138,15476,138,15479],[138,15480,138,15483],[138,15484,138,15487],[138,15488,138,15491],[138,15492,138,15495],[138,15496,138,15499],[138,15500,138,15503],[138,15504,138,15507],[138,15508,138,15511],[138,15512,138,15515],[138,15516,138,15519],[138,15520,138,15523],[138,15524,138,15527],[138,15528,138,15531],[138,15532,138,15535],[138,15536,138,15539],[138,15540,138,15543],[138,15544,138,15547],[138,15548,138,15551],[138,15552,138,15555],[138,15556,138,15559],[138,15560,138,15563],[138,15564,138,15567],[138,15568,138,15571],[138,15572,138,15575],[138,15576,138,15579],[138,15580,138,15583],[138,15320,138,15323],[138,15324,138,15327],[138,15328,138,15331],[138,15332,138,15335],[138,15336,138,15339],[138,15340,138,15343],[138,15344,138,15347],[138,15348,138,15351],[138,15352,138,15355],[138,15356,138,15359],[138,15360,138,15363],[138,15364,138,15367],[138,15368,138,15371],[138,15372,138,15375],[138,15376,138,15379],[138,15380,138,15383],[138,15384,138,15387],[138,15388,138,15391],[138,15392,138,15395],[138,15396,138,15399],[138,15400,138,15403],[138,15404,138,15407],[138,15408,138,15411],[138,15412,138,15415],[138,15416,138,15419],[138,15420,138,15423],[138,15424,138,15427],[138,15428,138,15431],[138,15432,138,15435],[138,15436,138,15439],[138,15440,138,15443],[138,15444,138,15447],[138,15448,138,15451],[138,15188,138,15191],[138,15192,138,15195],[138,15196,138,15199],[138,15200,138,15203],[138,15204,138,15207],[138,15208,138,15211],[138,15212,138,15215],[138,15216,138,15219],[138,15220,138,15223],[138,15224,138,15227],[138,15228,138,15231],[138,15232,138,15235],[138,15236,138,15239],[138,15240,138,15243],[138,15244,138,15247],[138,15248,138,15251],[138,15252,138,15255],[138,15256,138,15259],[138,15260,138,15263],[138,15264,138,15267],[138,15268,138,15271],[138,15272,138,15275],[138,15276,138,15279],[138,15280,138,15283],[138,15284,138,15287],[138,15288,138,15291],[138,15292,138,15295],[138,15296,138,15299],[138,15300,138,15303],[138,15304,138,15307],[138,15308,138,15311],[138,15312,138,15315],[138,15316,138,15319],[138,15056,138,15059],[138,15060,138,15063],[138,15064,138,15067],[138,15068,138,15071],[138,15072,138,15075],[138,15076,138,15079],[138,15080,138,15083],[138,15084,138,15087],[138,15088,138,15091],[138,15092,138,15095],[138,15096,138,15099],[138,15100,138,15103],[138,15104,138,15107],[138,15108,138,15111],[138,15112,138,15115],[138,15116,138,15119],[138,15120,138,15123],[138,15124,138,15127],[138,15128,138,15131],[138,15132,138,15135],[138,15136,138,15139],[138,15140,138,15143],[138,15144,138,15147],[138,15148,138,15151],[138,15152,138,15155],[138,15156,138,15159],[138,15160,138,15163],[138,15164,138,15167],[138,15168,138,15171],[138,15172,138,15175],[138,15176,138,15179],[138,15180,138,15183],[138,15184,138,15187],[138,14924,138,14927],[138,14928,138,14931],[138,14932,138,14935],[138,14936,138,14939],[138,14940,138,14943],[138,14944,138,14947],[138,14948,138,14951],[138,14952,138,14955],[138,14956,138,14959],[138,14960,138,14963],[138,14964,138,14967],[138,14968,138,14971],[138,14972,138,14975],[138,14976,138,14979],[138,14980,138,14983],[138,14984,138,14987],[138,14988,138,14991],[138,14992,138,14995],[138,14996,138,14999],[138,15000,138,15003],[138,15004,138,15007],[138,15008,138,15011],[138,15012,138,15015],[138,15016,138,15019],[138,15020,138,15023],[138,15024,138,15027],[138,15028,138,15031],[138,15032,138,15035],[138,15036,138,15039],[138,15040,138,15043],[138,15044,138,15047],[138,15048,138,15051],[138,15052,138,15055],[138,14792,138,14795],[138,14796,138,14799],[138,14800,138,14803],[138,14804,138,14807],[138,14808,138,14811],[138,14812,138,14815],[138,14816,138,14819],[138,14820,138,14823],[138,14824,138,14827],[138,14828,138,14831],[138,14832,138,14835],[138,14836,138,14839],[138,14840,138,14843],[138,14844,138,14847],[138,14848,138,14851],[138,14852,138,14855],[138,14856,138,14859],[138,14860,138,14863],[138,14864,138,14867],[138,14868,138,14871],[138,14872,138,14875],[138,14876,138,14879],[138,14880,138,14883],[138,14884,138,14887],[138,14888,138,14891],[138,14892,138,14895],[138,14896,138,14899],[138,14900,138,14903],[138,14904,138,14907],[138,14908,138,14911],[138,14912,138,14915],[138,14916,138,14919],[138,14920,138,14923],[138,14660,138,14663],[138,14664,138,14667],[138,14668,138,14671],[138,14672,138,14675],[138,14676,138,14679],[138,14680,138,14683],[138,14684,138,14687],[138,14688,138,14691],[138,14692,138,14695],[138,14696,138,14699],[138,14700,138,14703],[138,14704,138,14707],[138,14708,138,14711],[138,14712,138,14715],[138,14716,138,14719],[138,14720,138,14723],[138,14724,138,14727],[138,14728,138,14731],[138,14732,138,14735],[138,14736,138,14739],[138,14740,138,14743],[138,14744,138,14747],[138,14748,138,14751],[138,14752,138,14755],[138,14756,138,14759],[138,14760,138,14763],[138,14764,138,14767],[138,14768,138,14771],[138,14772,138,14775],[138,14776,138,14779],[138,14780,138,14783],[138,14784,138,14787],[138,14788,138,14791],[138,14528,138,14531],[138,14532,138,14535],[138,14536,138,14539],[138,14540,138,14543],[138,14544,138,14547],[138,14548,138,14551],[138,14552,138,14555],[138,14556,138,14559],[138,14560,138,14563],[138,14564,138,14567],[138,14568,138,14571],[138,14572,138,14575],[138,14576,138,14579],[138,14580,138,14583],[138,14584,138,14587],[138,14588,138,14591],[138,14592,138,14595],[138,14596,138,14599],[138,14600,138,14603],[138,14604,138,14607],[138,14608,138,14611],[138,14612,138,14615],[138,14616,138,14619],[138,14620,138,14623],[138,14624,138,14627],[138,14628,138,14631],[138,14632,138,14635],[138,14636,138,14639],[138,14640,138,14643],[138,14644,138,14647],[138,14648,138,14651],[138,14652,138,14655],[138,14656,138,14659],[138,14396,138,14399],[138,14400,138,14403],[138,14404,138,14407],[138,14408,138,14411],[138,14412,138,14415],[138,14416,138,14419],[138,14420,138,14423],[138,14424,138,14427],[138,14428,138,14431],[138,14432,138,14435],[138,14436,138,14439],[138,14440,138,14443],[138,14444,138,14447],[138,14448,138,14451],[138,14452,138,14455],[138,14456,138,14459],[138,14460,138,14463],[138,14464,138,14467],[138,14468,138,14471],[138,14472,138,14475],[138,14476,138,14479],[138,14480,138,14483],[138,14484,138,14487],[138,14488,138,14491],[138,14492,138,14495],[138,14496,138,14499],[138,14500,138,14503],[138,14504,138,14507],[138,14508,138,14511],[138,14512,138,14515],[138,14516,138,14519],[138,14520,138,14523],[138,14524,138,14527],[138,14264,138,14267],[138,14268,138,14271],[138,14272,138,14275],[138,14276,138,14279],[138,14280,138,14283],[138,14284,138,14287],[138,14288,138,14291],[138,14292,138,14295],[138,14296,138,14299],[138,14300,138,14303],[138,14304,138,14307],[138,14308,138,14311],[138,14312,138,14315],[138,14316,138,14319],[138,14320,138,14323],[138,14324,138,14327],[138,14328,138,14331],[138,14332,138,14335],[138,14336,138,14339],[138,14340,138,14343],[138,14344,138,14347],[138,14348,138,14351],[138,14352,138,14355],[138,14356,138,14359],[138,14360,138,14363],[138,14364,138,14367],[138,14368,138,14371],[138,14372,138,14375],[138,14376,138,14379],[138,14380,138,14383],[138,14384,138,14387],[138,14388,138,14391],[138,14392,138,14395],[138,14132,138,14135],[138,14136,138,14139],[138,14140,138,14143],[138,14144,138,14147],[138,14148,138,14151],[138,14152,138,14155],[138,14156,138,14159],[138,14160,138,14163],[138,14164,138,14167],[138,14168,138,14171],[138,14172,138,14175],[138,14176,138,14179],[138,14180,138,14183],[138,14184,138,14187],[138,14188,138,14191],[138,14192,138,14195],[138,14196,138,14199],[138,14200,138,14203],[138,14204,138,14207],[138,14208,138,14211],[138,14212,138,14215],[138,14216,138,14219],[138,14220,138,14223],[138,14224,138,14227],[138,14228,138,14231],[138,14232,138,14235],[138,14236,138,14239],[138,14240,138,14243],[138,14244,138,14247],[138,14248,138,14251],[138,14252,138,14255],[138,14256,138,14259],[138,14260,138,14263],[138,14000,138,14003],[138,14004,138,14007],[138,14008,138,14011],[138,14012,138,14015],[138,14016,138,14019],[138,14020,138,14023],[138,14024,138,14027],[138,14028,138,14031],[138,14032,138,14035],[138,14036,138,14039],[138,14040,138,14043],[138,14044,138,14047],[138,14048,138,14051],[138,14052,138,14055],[138,14056,138,14059],[138,14060,138,14063],[138,14064,138,14067],[138,14068,138,14071],[138,14072,138,14075],[138,14076,138,14079],[138,14080,138,14083],[138,14084,138,14087],[138,14088,138,14091],[138,14092,138,14095],[138,14096,138,14099],[138,14100,138,14103],[138,14104,138,14107],[138,14108,138,14111],[138,14112,138,14115],[138,14116,138,14119],[138,14120,138,14123],[138,14124,138,14127],[138,14128,138,14131],[138,13868,138,13871],[138,13872,138,13875],[138,13876,138,13879],[138,13880,138,13883],[138,13884,138,13887],[138,13888,138,13891],[138,13892,138,13895],[138,13896,138,13899],[138,13900,138,13903],[138,13904,138,13907],[138,13908,138,13911],[138,13912,138,13915],[138,13916,138,13919],[138,13920,138,13923],[138,13924,138,13927],[138,13928,138,13931],[138,13932,138,13935],[138,13936,138,13939],[138,13940,138,13943],[138,13944,138,13947],[138,13948,138,13951],[138,13952,138,13955],[138,13956,138,13959],[138,13960,138,13963],[138,13964,138,13967],[138,13968,138,13971],[138,13972,138,13975],[138,13976,138,13979],[138,13980,138,13983],[138,13984,138,13987],[138,13988,138,13991],[138,13992,138,13995],[138,13996,138,13999],[138,13736,138,13739],[138,13740,138,13743],[138,13744,138,13747],[138,13748,138,13751],[138,13752,138,13755],[138,13756,138,13759],[138,13760,138,13763],[138,13764,138,13767],[138,13768,138,13771],[138,13772,138,13775],[138,13776,138,13779],[138,13780,138,13783],[138,13784,138,13787],[138,13788,138,13791],[138,13792,138,13795],[138,13796,138,13799],[138,13800,138,13803],[138,13804,138,13807],[138,13808,138,13811],[138,13812,138,13815],[138,13816,138,13819],[138,13820,138,13823],[138,13824,138,13827],[138,13828,138,13831],[138,13832,138,13835],[138,13836,138,13839],[138,13840,138,13843],[138,13844,138,13847],[138,13848,138,13851],[138,13852,138,13855],[138,13856,138,13859],[138,13860,138,13863],[138,13864,138,13867],[138,13604,138,13607],[138,13608,138,13611],[138,13612,138,13615],[138,13616,138,13619],[138,13620,138,13623],[138,13624,138,13627],[138,13628,138,13631],[138,13632,138,13635],[138,13636,138,13639],[138,13640,138,13643],[138,13644,138,13647],[138,13648,138,13651],[138,13652,138,13655],[138,13656,138,13659],[138,13660,138,13663],[138,13664,138,13667],[138,13668,138,13671],[138,13672,138,13675],[138,13676,138,13679],[138,13680,138,13683],[138,13684,138,13687],[138,13688,138,13691],[138,13692,138,13695],[138,13696,138,13699],[138,13700,138,13703],[138,13704,138,13707],[138,13708,138,13711],[138,13712,138,13715],[138,13716,138,13719],[138,13720,138,13723],[138,13724,138,13727],[138,13728,138,13731],[138,13732,138,13735],[138,13472,138,13475],[138,13476,138,13479],[138,13480,138,13483],[138,13484,138,13487],[138,13488,138,13491],[138,13492,138,13495],[138,13496,138,13499],[138,13500,138,13503],[138,13504,138,13507],[138,13508,138,13511],[138,13512,138,13515],[138,13516,138,13519],[138,13520,138,13523],[138,13524,138,13527],[138,13528,138,13531],[138,13532,138,13535],[138,13536,138,13539],[138,13540,138,13543],[138,13544,138,13547],[138,13548,138,13551],[138,13552,138,13555],[138,13556,138,13559],[138,13560,138,13563],[138,13564,138,13567],[138,13568,138,13571],[138,13572,138,13575],[138,13576,138,13579],[138,13580,138,13583],[138,13584,138,13587],[138,13588,138,13591],[138,13592,138,13595],[138,13596,138,13599],[138,13600,138,13603],[138,13340,138,13343],[138,13344,138,13347],[138,13348,138,13351],[138,13352,138,13355],[138,13356,138,13359],[138,13360,138,13363],[138,13364,138,13367],[138,13368,138,13371],[138,13372,138,13375],[138,13376,138,13379],[138,13380,138,13383],[138,13384,138,13387],[138,13388,138,13391],[138,13392,138,13395],[138,13396,138,13399],[138,13400,138,13403],[138,13404,138,13407],[138,13408,138,13411],[138,13412,138,13415],[138,13416,138,13419],[138,13420,138,13423],[138,13424,138,13427],[138,13428,138,13431],[138,13432,138,13435],[138,13436,138,13439],[138,13440,138,13443],[138,13444,138,13447],[138,13448,138,13451],[138,13452,138,13455],[138,13456,138,13459],[138,13460,138,13463],[138,13464,138,13467],[138,13468,138,13471],[138,13208,138,13211],[138,13212,138,13215],[138,13216,138,13219],[138,13220,138,13223],[138,13224,138,13227],[138,13228,138,13231],[138,13232,138,13235],[138,13236,138,13239],[138,13240,138,13243],[138,13244,138,13247],[138,13248,138,13251],[138,13252,138,13255],[138,13256,138,13259],[138,13260,138,13263],[138,13264,138,13267],[138,13268,138,13271],[138,13272,138,13275],[138,13276,138,13279],[138,13280,138,13283],[138,13284,138,13287],[138,13288,138,13291],[138,13292,138,13295],[138,13296,138,13299],[138,13300,138,13303],[138,13304,138,13307],[138,13308,138,13311],[138,13312,138,13315],[138,13316,138,13319],[138,13320,138,13323],[138,13324,138,13327],[138,13328,138,13331],[138,13332,138,13335],[138,13336,138,13339],[138,13076,138,13079],[138,13080,138,13083],[138,13084,138,13087],[138,13088,138,13091],[138,13092,138,13095],[138,13096,138,13099],[138,13100,138,13103],[138,13104,138,13107],[138,13108,138,13111],[138,13112,138,13115],[138,13116,138,13119],[138,13120,138,13123],[138,13124,138,13127],[138,13128,138,13131],[138,13132,138,13135],[138,13136,138,13139],[138,13140,138,13143],[138,13144,138,13147],[138,13148,138,13151],[138,13152,138,13155],[138,13156,138,13159],[138,13160,138,13163],[138,13164,138,13167],[138,13168,138,13171],[138,13172,138,13175],[138,13176,138,13179],[138,13180,138,13183],[138,13184,138,13187],[138,13188,138,13191],[138,13192,138,13195],[138,13196,138,13199],[138,13200,138,13203],[138,13204,138,13207],[138,12944,138,12947],[138,12948,138,12951],[138,12952,138,12955],[138,12956,138,12959],[138,12960,138,12963],[138,12964,138,12967],[138,12968,138,12971],[138,12972,138,12975],[138,12976,138,12979],[138,12980,138,12983],[138,12984,138,12987],[138,12988,138,12991],[138,12992,138,12995],[138,12996,138,12999],[138,13000,138,13003],[138,13004,138,13007],[138,13008,138,13011],[138,13012,138,13015],[138,13016,138,13019],[138,13020,138,13023],[138,13024,138,13027],[138,13028,138,13031],[138,13032,138,13035],[138,13036,138,13039],[138,13040,138,13043],[138,13044,138,13047],[138,13048,138,13051],[138,13052,138,13055],[138,13056,138,13059],[138,13060,138,13063],[138,13064,138,13067],[138,13068,138,13071],[138,13072,138,13075],[138,12812,138,12815],[138,12816,138,12819],[138,12820,138,12823],[138,12824,138,12827],[138,12828,138,12831],[138,12832,138,12835],[138,12836,138,12839],[138,12840,138,12843],[138,12844,138,12847],[138,12848,138,12851],[138,12852,138,12855],[138,12856,138,12859],[138,12860,138,12863],[138,12864,138,12867],[138,12868,138,12871],[138,12872,138,12875],[138,12876,138,12879],[138,12880,138,12883],[138,12884,138,12887],[138,12888,138,12891],[138,12892,138,12895],[138,12896,138,12899],[138,12900,138,12903],[138,12904,138,12907],[138,12908,138,12911],[138,12912,138,12915],[138,12916,138,12919],[138,12920,138,12923],[138,12924,138,12927],[138,12928,138,12931],[138,12932,138,12935],[138,12936,138,12939],[138,12940,138,12943],[138,12680,138,12683],[138,12684,138,12687],[138,12688,138,12691],[138,12692,138,12695],[138,12696,138,12699],[138,12700,138,12703],[138,12704,138,12707],[138,12708,138,12711],[138,12712,138,12715],[138,12716,138,12719],[138,12720,138,12723],[138,12724,138,12727],[138,12728,138,12731],[138,12732,138,12735],[138,12736,138,12739],[138,12740,138,12743],[138,12744,138,12747],[138,12748,138,12751],[138,12752,138,12755],[138,12756,138,12759],[138,12760,138,12763],[138,12764,138,12767],[138,12768,138,12771],[138,12772,138,12775],[138,12776,138,12779],[138,12780,138,12783],[138,12784,138,12787],[138,12788,138,12791],[138,12792,138,12795],[138,12796,138,12799],[138,12800,138,12803],[138,12804,138,12807],[138,12808,138,12811],[138,12548,138,12551],[138,12552,138,12555],[138,12556,138,12559],[138,12560,138,12563],[138,12564,138,12567],[138,12568,138,12571],[138,12572,138,12575],[138,12576,138,12579],[138,12580,138,12583],[138,12584,138,12587],[138,12588,138,12591],[138,12592,138,12595],[138,12596,138,12599],[138,12600,138,12603],[138,12604,138,12607],[138,12608,138,12611],[138,12612,138,12615],[138,12616,138,12619],[138,12620,138,12623],[138,12624,138,12627],[138,12628,138,12631],[138,12632,138,12635],[138,12636,138,12639],[138,12640,138,12643],[138,12644,138,12647],[138,12648,138,12651],[138,12652,138,12655],[138,12656,138,12659],[138,12660,138,12663],[138,12664,138,12667],[138,12668,138,12671],[138,12672,138,12675],[138,12676,138,12679],[138,12416,138,12419],[138,12420,138,12423],[138,12424,138,12427],[138,12428,138,12431],[138,12432,138,12435],[138,12436,138,12439],[138,12440,138,12443],[138,12444,138,12447],[138,12448,138,12451],[138,12452,138,12455],[138,12456,138,12459],[138,12460,138,12463],[138,12464,138,12467],[138,12468,138,12471],[138,12472,138,12475],[138,12476,138,12479],[138,12480,138,12483],[138,12484,138,12487],[138,12488,138,12491],[138,12492,138,12495],[138,12496,138,12499],[138,12500,138,12503],[138,12504,138,12507],[138,12508,138,12511],[138,12512,138,12515],[138,12516,138,12519],[138,12520,138,12523],[138,12524,138,12527],[138,12528,138,12531],[138,12532,138,12535],[138,12536,138,12539],[138,12540,138,12543],[138,12544,138,12547],[138,12284,138,12287],[138,12288,138,12291],[138,12292,138,12295],[138,12296,138,12299],[138,12300,138,12303]],"bounds":{"rows_first":15,"rows_last":3,"rows_between":15,"halvings":7},"merged_total":204897,"flags":["merged_cut"]}
["P A N C H N A M A"]
[{"$f":"\"Pancha No.1 : \"&bksingh!AQ5&\", \"&bksingh!AR5&\", \"&bksingh!AS5","v":"Pancha No.1 : Ms. sdfasdfasdf, D/o sfasdfasdfasdfasdf, sdfdfjgjghjfgj"}]
[{"$f":"\"Pancha No.2 : \"&bksingh!AT5&\", \"&bksingh!AU5&\", \"&bksingh!AV5","v":"Pancha No.2 : Mr. ffghfghfgh, fghfghfgh, fghfgh"},null,null,null,null,null," "]
[{"$f":"bksingh!ACA5","v":"We, the above named Panchas, having been called by the sdfasdfasd (asdf, whose identity was verified by us from his Photo Identity Card) presented ourselves in the Customs Preventive Cell situated at the Airport, Nairobi to witness the personal search and examination of baggage proceedings of passengers namely asfsfsadf, sfasfafasfasfasdf, Park Road, Nairobi, Kenya, holder of Kenyan Passport bearing No.sfasfasfasdfas issued on 02.03.2020 at Nairobi, was arrived from Nairobi via Adis Abbaba by Flight No.ET688 dated 02.03.2019."}]
[{"$f":"bksingh!ABX5","v":""}]
[{"$f":"TRIM(\"The Customs Officers informed us that on \"&bksingh!GY5&\", the Customs Officers intercepted the above mentioned passengers \"&bksingh!ABZ5&bksingh!AP5&\" by Flight No.\"&bksingh!AN5&\" dated \"&bksingh!AO5&bksingh!ABX7&\" On being asked whether they \"&bksingh!AZA5&\"were carrying any dutiable goods or Gold, to which\"&bksingh!ABZ10&\"replied in negative. Then, to ascertain the correctness and truthfulness of\"&bksingh!ABZ11&\"submissions\"&bksingh!ABZ10&bksingh!ABZ5&\"requested to get\"&bksingh!ABZ11&\"respective\"&bksingh!ABZ12&\"scanned through the X-Ray Machine installed at the Green Channel of \"&bksingh!CA5&\". During the scanning of\"&bksingh!ABZ11&\"respective\"&bksingh!ABZ12&\"no suspicious images\"&bksingh!ABZ5&\"observed. Further,\"&bksingh!ABZ10&bksingh!ABZ5&\"requested to pass through the Door Frame Metal Detector (DFMD) installed at the International Arrival Hall of the \"&bksingh!CA5&\" for their personal screening after removal of all metallic items from\"&bksingh!ABZ11&\"person. While passing them through the DFMD, loud beep sound were heard. The\"&bksingh!ABZ8&bksingh!ABZ5&\"once again asked whether\"&bksingh!ABZ10&bksingh!ABZ5&\"carrying any dutiable goods or gold to which\"&bksingh!ABZ10&\"again replied in negative.\")","v":"The Customs Officers informed us that on suspicion, the Customs Officers intercepted the above mentioned passengers was arrived from Nairobi via Adis Abbaba by Flight No.ET688 dated 02.03.2019, while she has crossed the green channel and reaching towards the exit gate, diverted to X-Ray belt for scanning of baggage. On being asked whether they were carrying any dutiable goods or Gold, to which she replied in negative. Then, to ascertain the correctness and truthfulness of his/her submissions she was requested to get his/her respective bag scanned through the X-Ray Machine installed at the Green Channel of Airport, Nairobi. During the scanning of his/her respective bag no suspicious images was observed. Further, she was requested to pass through the Door Frame Metal Detector (DFMD) installed at the International Arrival Hall of the Airport, Nairobi for their personal screening after removal of all metallic items from his/her person. While passing them through the DFMD, loud beep sound were heard. The Pax was once again asked whether she was carrying any dutiable goods or gold to which she again replied in negative."}]
[{"$f":"TRIM(\"Once again\"&bksingh!ABZ13&bksingh!Z5&bksingh!ABZ8&bksingh!ABZ5&\" asked by the Customs officers whether\"&bksingh!ABZ10&\" had any dutiable goods/Gold or bullion to declare to Customs, to which\"&bksingh!ABZ10&\"replied in negative. For confirmity and truthfulness of oral declaration of the\"&bksingh!ABZ8&\", \"&bksingh!Z13&\"all the \"&bksingh!Z5&bksingh!ABZ8&bksingh!ABZ5&\"taken into Customs Preventive Cell located at the International Arrival Hall for physical examination of their baggage and personal search. At this stage, we, the two Panchas, were called to witness the proceedings.\")","v":"Once again 1 Pax was asked by the Customs officers whether she had any dutiable goods/Gold or bullion to declare to Customs, to which she replied in negative. For confirmity and truthfulness of oral declaration of the Pax , all the 1 Pax was taken into Customs Preventive Cell located at the International Arrival Hall for physical examination of their baggage and personal search. At this stage, we, the two Panchas, were called to witness the proceedings."}]
[{"$f":"TRIM(\"In our presence, the\"&bksingh!ABZ8&bksingh!ABZ5&\"served upon with Notices dated \"&bksingh!BY5&\" under Section 102 of the Customs Act, 1962, informing\"&bksingh!ABZ7&\"that\"&bksingh!ABZ11&\"personal & baggage search \"&bksingh!ABZ5&\"required and if\"&bksingh!ABZ10&\"wished, \"&bksingh!ABZ11&\"baggages and personal search could be conducted in the presence of a Magistrate or a Gazetted Officer of Customs. The\"&bksingh!ABZ8&\"gave their written consent on the body of the said Notice that\"&bksingh!ABZ10&\"had no objection, if \"&bksingh!ABZ11&\"personal and baggage search would be conducted by any Customs Officer.\")","v":"In our presence, the Pax was served upon with Notices dated 06.04.2019 under Section 102 of the Customs Act, 1962, informing that his/her personal & baggage search was required and if she wished, his/her baggages and personal search could be conducted in the presence of a Magistrate or a Gazetted Officer of Customs. The Pax gave their written consent on the body of the said Notice that she had no objection, if his/her personal and baggage search would be conducted by any Customs Officer."}]
[{"$f":"\"Thereafter\"&bksingh!ABZ11&\"personal and baggage search\"&bksingh!ABZ5&\"conducted before a \"&bksingh!ABZ14&\"Customs Superintendent and following recoveries\"& bksingh!ABZ5&\"made from the above mentioned \"&bksingh!Z5&\" \"&bksingh!ABZ8&\":\"","v":"Thereafter his/her personal and baggage search was conducted before a  Customs Superintendent and following recoveries was made from the above mentioned 1  Pax :"}]
[{"$f":"IF(bksingh!$ACB$5=\"\",\"\",\"During the personal and baggage search of Pax-\"&bksingh!ACB5&\" the following items were recovered:\")","v":"During the personal and baggage search of Pax-asfsfsadf, the following items were recovered:"}]
[{"$f":"bksingh!$ADA$5","v":"1. Six cut pieces of gold collectively weighing 668 grams."}]
[{"$f":"bksingh!$ADB$5","v":"2. Boarding Pass of Flight No.ET688 Dated 02.03.2019 Seat No.E26 arrived from Nairobi via Adis Abbaba."}]
[{"$f":"bksingh!$ADC$5","v":"3. Kenyan Passport No.sfasfasfasdfas."}]
[{"$f":"bksingh!$ADD$5","v":"4. sfasdfsdf."}]
[{"$f":"bksingh!$ADE$5","v":"5. asdfasf."}]
[{"$f":"bksingh!$ADG$5","v":"7. Kenyan Currency-7100, USD-500, INR-1470."}]
[{"$f":"bksingh!$ADF$6","v":""}]
[{"$f":"bksingh!$ADF$7","v":""}]
[{"$f":"bksingh!$ADA$8","v":""}]
[{"$f":"bksingh!$ADA$9","v":""}]
[{"$f":"bksingh!$ADH$9","v":""}]
[{"$f":"bksingh!$ADJ$9","v":""}]
[{"$f":"bksingh!$ADJ$10","v":""}]
[{"$f":"bksingh!$ADE$11","v":""},null,null,null,{"$f":"bksingh!$ADE$8","v":""},null,null,null,{"$f":"bksingh!$ADE$8","v":""},null,null,null,{"$f":"bksingh!$ADE$8","v":""},null,null,null,{"$f":"bksingh!$ADE$8","v":""},null,null,null,{"$f":"bksingh!$ADE$8","v":""},null,null,null,{"$f":"bksingh!$ADE$8","v":""},null,null,null,{"$f":"bksingh!$ADE$8","v":""},null,null,null,{"$f":"bksingh!$ADE$8","v":""},null,null,null,{"$f":"bksingh!$ADE$8","v":""},null,null,null,{"$f":"bksingh!$ADE$8","v":""},null,null,null,{"$f":"bksingh!$ADE$8","v":""},null,null,null,{"$f":"bksingh!$ADE$8","v":""},null,null,null,{"$f":"bksingh!$ADE$8","v":""},null,null,null,{"$f":"bksingh!$ADE$8","v":""},null,null,null,{"$f":"bksingh!$ADE$8","v":""},null,null,null,{"$f":"bksingh!$ADE$8","v":""},null,null,null,{"$f":"bksingh!$ADE$8","v":""},null,null,null,{"$f":"bksingh!$ADE$8","v":""},null,null,null,{"$f":"bksingh!$ADE$8","v":""},null,null,null,{"$f":"bksingh!$ADE$8","v":""},null,null,null,{"$f":"bksingh!$ADE$8","v":""},null,null,null,{"$f":"bksingh!$ADE$8","v":""},null,null,null,{"$f":"bksingh!$ADE$8","v":""},null,null,null,{"$f":"bksingh!$ADE$8","v":""},null,null,null,{"$f":"bksingh!$ADE$8","v":""},null,null,null,{"$f":"bksingh!$ADE$8","v":""},null,null,null,{"$f":"bksingh!$ADE$8","v":""},null,null,null,{"$f":"bksingh!$ADE$8","v":""},null,null,null,{"$f":"bksingh!$ADE$8","v":""},null,null,null,{"$f":"bksingh!$ADE$8","v":""},null,null,null,{"$f":"bksingh!$ADE$8","v":""},null,null,null,{"$f":"bksingh!$ADE$8","v":""},null,null,null,{"$f":"bksingh!$ADE$8","v":""},null,null,null,{"$f":"bksingh!$ADE$8","v":""},null,null,null,{"$f":"bksingh!$ADE$8","v":""},null,null,null,{"$f":"bksingh!$ADE$8","v":""},null,null,null,{"$f":"bksingh!$ADE$8","v":""},null,null,null,{"$f":"bksingh!$ADE$8","v":""},null,null,null,{"$f":"bksingh!$ADE$8","v":""},null,null,null,{"$f":"bksingh!$ADE$8","v":""},null,null,null,{"$f":"bksingh!$ADE$8","v":""},null,null,null,{"$f":"bksingh!$ADE$8","v":""},null,null,null,{"$f":"bksingh!$ADE$8","v":""},null,null,null,{"$f":"bksingh!$ADE$8","v":""},null,null,null,{"$f":"bksingh!$ADE$8","v":""},null,null,null,{"$f":"bksingh!$ADE$8","v":""},null,null,null,{"$f":"bksingh!$ADE$8","v":""},null,null,null,{"$f":"bksingh!$ADE$8","v":""},null,null,null,{"$f":"bksingh!$ADE$8","v":""},null,null,null,{"$f":"bksingh!$ADE$8","v":""},null,null,null,{"$f":"bksingh!$ADE$8","v":""},null,null,null,{"$f":"bksingh!$ADE$8","v":""},null,null,null,{"$f":"bksingh!$ADE$8","v":""},null,null,null,{"$f":"bksingh!$ADE$8","v":""},null,null,null,{"$f":"bksingh!$ADE$8","v":""},null,null,null,{"$f":"bksingh!$ADE$8","v":""},null,null,null,{"$f":"bksingh!$ADE$8","v":""},null,null,null,{"$f":"bksingh!$ADE$8","v":""},null,null,null,{"$f":"bksingh!$ADE$8","v":""},null,null,null,{"$f":"bksingh!$ADE$8","v":""},null,null,null,{"$f":"bksingh!$ADE$8","v":""},null,null,null,{"$f":"bksingh!$ADE$8","v":""},null,null,null,{"$f":"bksingh!$ADE$8","v":""},null,null,null,{"$f":"bksingh!$ADE$8","v":""},null,null,null,{"$f":"bksingh!$ADE$8","v":""},null,null,null,{"$f":"bksingh!$ADE$8","v":""},null,null,null,{"$f":"bksingh!$ADE$8","v":""},null,null,null,{"$f":"bksingh!$ADE$8","v":""},null,null,null,{"$f":"bksingh!$ADE$8","v":""},null,null,null,{"$f":"bksingh!$ADE$8","v":""},null,null,null,{"$f":"bksingh!$ADE$8","v":""},null,null,null,{"$f":"bksingh!$ADE$8","v":""},null,null,null,{"$f":"bksingh!$ADE$8","v":""},null,null,null,{"$f":"bksingh!$ADE$8","v":""},null,null,null,{"$f":"bksingh!$ADE$8","v":""},null,null,null,{"$f":"bksingh!$ADE$8","v":""},null,null,null,{"$f":"bksingh!$ADE$8","v":""},null,null,null,{"$f":"bksingh!$ADE$8","v":""},null,null,null,{"$f":"bksingh!$ADE$8","v":""},null,null,null,{"$f":"bksingh!$ADE$8","v":""},null,null,null,{"$f":"bksingh!$ADE$8","v":""},null,null,null,{"$f":"bksingh!$ADE$8","v":""},null,null,null,{"$f":"bksingh!$ADE$8","v":""},null,null,null,{"$f":"bksingh!$ADE$8","v":""},null,null,null,{"$f":"bksingh!$ADE$8","v":""},null,null,null,{"$f":"bksingh!$ADE$8","v":""},null,null,null,{"$f":"bksingh!$ADE$8","v":""},null,null,null,{"$f":"bksingh!$ADE$8","v":""},null,null,null,{"$f":"bksingh!$ADE$8","v":""},null,null,null,{"$f":"bksingh!$ADE$8","v":""},null,null,null,{"$f":"bksingh!$ADE$8","v":""},null,null,null,{"$f":"bksingh!$ADE$8","v":""},null,null,null,{"$f":"bksingh!$ADE$8","v":""},null,null,null,{"$f":"bksingh!$ADE$8","v":""},null,null,null,{"$f":"bksingh!$ADE$8","v":""},null,null,null,{"$f":"bksingh!$ADE$8","v":""},null,null,null,{"$f":"bksingh!$ADE$8","v":""},null,null,null,{"$f":"bksingh!$ADE$8","v":""},null,null,null,{"$f":"bksingh!$ADE$8","v":""},null,null,null,{"$f":"bksingh!$ADE$8","v":""},null,null,null,{"$f":"bksingh!$ADE$8","v":""},null,null,null,{"$f":"bksingh!$ADE$8","v":""},null,null,null,{"$f":"bksingh!$ADE$8","v":""},null,null,null,{"$f":"bksingh!$ADE$8","v":""},null,null,null,{"$f":"bksingh!$ADE$8","v":""},null,null,null,{"$f":"bksingh!$ADE$8","v":""},null,null,null,{"$f":"bksingh!$ADE$8","v":""},null,null,null,{"$f":"bksingh!$ADE$8","v":""},null,null,null,{"$f":"bksingh!$ADE$8","v":""},null,null,null,{"$f":"bksingh!$ADE$8","v":""},null,null,null,{"$f":"bksingh!$ADE$8","v":""},null,null,null,{"$f":"bksingh!$ADE$8","v":""},null,null,null,{"$f":"bksingh!$ADE$8","v":""},null,null,null,{"$f":"bksingh!$ADE$8","v":""},null,null,null,{"$f":"bksingh!$ADE$8","v":""},null,null,null,{"$f":"bksingh!$ADE$8","v":""},null,null,null,{"$f":"bksingh!$ADE$8","v":""},null,null,null,{"$f":"bksingh!$ADE$8","v":""},null,null,null,{"$f":"bksingh!$ADE$8","v":""},null,null,null,{"$f":"bksingh!$ADE$8","v":""},null,null,null,{"$f":"bksingh!$ADE$8","v":""},null,null,null,{"$f":"bksingh!$ADE$8","v":""},null,null,null,{"$f":"bksingh!$ADE$8","v":""},null,null,null,{"$f":"bksingh!$ADE$8","v":""},null,null,null,{"$f":"bksingh!$ADE$8","v":""},null,null,null,{"$f":"bksingh!$ADE$8","v":""},null,null,null,{"$f":"bksingh!$ADE$8","v":""},null,null,null,{"$f":"bksingh!$ADE$8","v":""},null,null,null,{"$f":"bksingh!$ADE$8","v":""},null,null,null,{"$f":"bksingh!$ADE$8","v":""},null,null,null,{"$f":"bksingh!$ADE$8","v":""},null,null,null,{"$f":"bksingh!$ADE$8","v":""},null,null,null,{"$f":"bksingh!$ADE$8","v":""},null,null,null,{"$f":"bksingh!$ADE$8","v":""},null,null,null,{"$f":"bksingh!$ADE$8","v":""},null,null,null,{"$f":"bksingh!$ADE$8","v":""},null,null,null,{"$f":"bksingh!$ADE$8","v":""},null,null,null,{"$f":"bksingh!$ADE$8","v":""},null,null,null,{"$f":"bksingh!$ADE$8","v":""},null,null,null,{"$f":"bksingh!$ADE$8","v":""},null,null,null,{"$f":"bksingh!$ADE$8","v":""},null,null,null,{"$f":"bksingh!$ADE$8","v":""},null,null,null,{"$f":"bksingh!$ADE$8","v":""},null,null,null,{"$f":"bksingh!$ADE$8","v":""},null,null,null,{"$f":"bksingh!$ADE$8","v":""},null,null,null,{"$f":"bksingh!$ADE$8","v":""},null,null,null,{"$f":"bksingh!$ADE$8","v":""},null,null,null,{"$f":"bksingh!$ADE$8","v":""},null,null,null,{"$f":"bksingh!$ADE$8","v":""},null,null,null,{"$f":"bksingh!$ADE$8","v":""},null,null,null,{"$f":"bksingh!$ADE$8","v":""},null,null,null,{"$f":"bksingh!$ADE$8","v":""},null,null,null,{"$f":"bksingh!$ADE$8","v":""},null,null,null,{"$f":"bksingh!$ADE$8","v":""},null,null,null,{"$f":"bksingh!$ADE$8","v":""},null,null,null,{"$f":"bksingh!$ADE$8","v":""},null,null,null,{"$f":"bksingh!$ADE$8","v":""},null,null,null,{"$f":"bksingh!$ADE$8","v":""},null,null,null,{"$f":"bksingh!$ADE$8","v":""},null,null,null,{"$f":"bksingh!$ADE$8","v":""},null,null,null,{"$f":"bksingh!$ADE$8","v":""},null,null,null,{"$f":"bksingh!$ADE$8","v":""},null,null,null,{"$f":"bksingh!$ADE$8","v":""},null,null,null,{"$f":"bksingh!$ADE$8","v":""},null,null,null,{"$f":"bksingh!$ADE$8","v":""},null,null,null,{"$f":"bksingh!$ADE$8","v":""},null,null,null,{"$f":"bksingh!$ADE$8","v":""},null,null,null,{"$f":"bksingh!$ADE$8","v":""},null,null,null,{"$f":"bksingh!$ADE$8","v":""},null,null,null,{"$f":"bksingh!$ADE$8","v":""},null,null,null,{"$f":"bksingh!$ADE$8","v":""},null,null,null,{"$f":"bksingh!$ADE$8","v":""},null,null,null,{"$f":"bksingh!$ADE$8","v":""},null,null,null,{"$f":"bksingh!$ADE$8","v":""},null,null,null,{"$f":"bksingh!$ADE$8","v":""},null,null,null,{"$f":"bksingh!$ADE$8","v":""},null,null,null,{"$f":"bksingh!$ADE$8","v":""},null,null,null,{"$f":"bksingh!$ADE$8","v":""},null,null,null,{"$f":"bksingh!$ADE$8","v":""},null,null,null,{"$f":"bksingh!$ADE$8","v":""},null,null,null,{"$f":"bksingh!$ADE$8","v":""},null,null,null,{"$f":"bksingh!$ADE$8","v":""},null,null,null,{"$f":"bksingh!$ADE$8","v":""},null,null,null,{"$f":"bksingh!$ADE$8","v":""},null,null,null,{"$f":"bksingh!$ADE$8","v":""},null,null,null,{"$f":"bksingh!$ADE$8","v":""},null,null,null,{"$f":"bksingh!$ADE$8","v":""},null,null,null,{"$f":"bksingh!$ADE$8","v":""},null,null,null,{"$f":"bksingh!$ADE$8","v":""},null,null,null,{"$f":"bksingh!$ADE$8","v":""},null,null,null,{"$f":"bksingh!$ADE$8","v":""},null,null,null,{"$f":"bksingh!$ADE$8","v":""},null,null,null,{"$f":"bksingh!$ADE$8","v":""},null,null,null,{"$f":"bksingh!$ADE$8","v":""},null,null,null,{"$f":"bksingh!$ADE$8","v":""},null,null,null,{"$f":"bksingh!$ADE$8","v":""},null,null,null,{"$f":"bksingh!$ADE$8","v":""},null,null,null,{"$f":"bksingh!$ADE$8","v":""},null,null,null,{"$f":"bksingh!$ADE$8","v":""},null,null,null,{"$f":"bksingh!$ADE$8","v":""},null,null,null,{"$f":"bksingh!$ADE$8","v":""},null,null,null,{"$f":"bksingh!$ADE$8","v":""},null,null,null,{"$f":"bksingh!$ADE$8","v":""},null,null,null,{"$f":"bksingh!$ADE$8","v":""},null,null,null,{"$f":"bksingh!$ADE$8","v":""},null,null,null,{"$f":"bksingh!$ADE$8","v":""},null,null,null,{"$f":"bksingh!$ADE$8","v":""},null,null,null,{"$f":"bksingh!$ADE$8","v":""},null,null,null,{"$f":"bksingh!$ADE$8","v":""},null,null,null,{"$f":"bksingh!$ADE$8","v":""},null,null,null,{"$f":"bksingh!$ADE$8","v":""},null,null,null,{"$f":"bksingh!$ADE$8","v":""},null,null,null,{"$f":"bksingh!$ADE$8","v":""},null,null,null,{"$f":"bksingh!$ADE$8","v":""},null,null,null,{"$f":"bksingh!$ADE$8","v":""},null,null,null,{"$f":"bksingh!$ADE$8","v":""},null,null,null,{"$f":"bksingh!$ADE$8","v":""},null,null,null,{"$f":"bksingh!$ADE$8","v":""},null,null,null,{"$f":"bksingh!$ADE$8","v":""},null,null,null,{"$f":"bksingh!$ADE$8","v":""},null,null,null,{"$f":"bksingh!$ADE$8","v":""},null,null,null,{"$f":"bksingh!$ADE$8","v":""},null,null,null,{"$f":"bksingh!$ADE$8","v":""},null,null,null,{"$f":"bksingh!$ADE$8","v":""},null,null,null,{"$f":"bksingh!$ADE$8","v":""},null,null,null,{"$f":"bksingh!$ADE$8","v":""},null,null,null,{"$f":"bksingh!$ADE$8","v":""},null,null,null,{"$f":"bksingh!$ADE$8","v":""},null,null,null,{"$f":"bksingh!$ADE$8","v":""},null,null,null,{"$f":"bksingh!$ADE$8","v":""},null,null,null,{"$f":"bksingh!$ADE$8","v":""},null,null,null,{"$f":"bksingh!$ADE$8","v":""},null,null,null,{"$f":"bksingh!$ADE$8","v":""},null,null,null,{"$f":"bksingh!$ADE$8","v":""},null,null,null,{"$f":"bksingh!$ADE$8","v":""},null,null,null,{"$f":"bksingh!$ADE$8","v":""},null,null,null,{"$f":"bksingh!$ADE$8","v":""},null,null,null,{"$f":"bksingh!$ADE$8","v":""},null,null,null,{"$f":"bksingh!$ADE$8","v":""},null,null,null,{"$f":"bksingh!$ADE$8","v":""},null,null,null,{"$f":"bksingh!$ADE$8","v":""},null,null,null,{"$f":"bksingh!$ADE$8","v":""},null,null,null,{"$f":"bksingh!$ADE$8","v":""},null,null,null,{"$f":"bksingh!$ADE$8","v":""},null,null,null,{"$f":"bksingh!$ADE$8","v":""},null,null,null,{"$f":"bksingh!$ADE$8","v":""},null,null,null,{"$f":"bksingh!$ADE$8","v":""},null,null,null,{"$f":"bksingh!$ADE$8","v":""},null,null,null,{"$f":"bksingh!$ADE$8","v":""},null,null,null,{"$f":"bksingh!$ADE$8","v":""},null,null,null,{"$f":"bksingh!$ADE$8","v":""},null,null,null,{"$f":"bksingh!$ADE$8","v":""},null,null,null,{"$f":"bksingh!$ADE$8","v":""},null,null,null,{"$f":"bksingh!$ADE$8","v":""},null,null,null,{"$f":"bksingh!$ADE$8","v":""},null,null,null,{"$f":"bksingh!$ADE$8","v":""},null,null,null,{"$f":"bksingh!$ADE$8","v":""},null,null,null,{"$f":"bksingh!$ADE$8","v":""},null,null,null,{"$f":"bksingh!$ADE$8","v":""},null,null,null,{"$f":"bksingh!$ADE$8","v":""},null,null,null,{"$f":"bksingh!$ADE$8","v":""},null,null,null,{"$f":"bksingh!$ADE$8","v":""},null,null,null,{"$f":"bksingh!$ADE$8","v":""},null,null,null,{"$f":"bksingh!$ADE$8","v":""},null,null,null,{"$f":"bksingh!$ADE$8","v":""},null,null,null,{"$f":"bksingh!$ADE$8","v":""},null,null,null,{"$f":"bksingh!$ADE$8","v":""},null,null,null,{"$f":"bksingh!$ADE$8","v":""},null,null,null,{"$f":"bksingh!$ADE$8","v":""},null,null,null,{"$f":"bksingh!$ADE$8","v":""},null,null,null,{"$f":"bksingh!$ADE$8","v":""},null,null,null,{"$f":"bksingh!$ADE$8","v":""},null,null,null,{"$f":"bksingh!$ADE$8","v":""},null,null,null,{"$f":"bksingh!$ADE$8","v":""},null,null,null,{"$f":"bksingh!$ADE$8","v":""},null,null,null,{"$f":"bksingh!$ADE$8","v":""},null,null,null,{"$f":"bksingh!$ADE$8","v":""},null,null,null,{"$f":"bksingh!$ADE$8","v":""},null,null,null,{"$f":"bksingh!$ADE$8","v":""},null,null,null,{"$f":"bksingh!$ADE$8","v":""},null,null,null,{"$f":"bksingh!$ADE$8","v":""},null,null,null,{"$f":"bksingh!$ADE$8","v":""},null,null,null,{"$f":"bksingh!$ADE$8","v":""},null,null,null,{"$f":"bksingh!$ADE$8","v":""},null,null,null,{"$f":"bksingh!$ADE$8","v":""},null,null,null,{"$f":"bksingh!$ADE$8","v":""},null,null,null,{"$f":"bksingh!$ADE$8","v":""},null,null,null,{"$f":"bksingh!$ADE$8","v":""},null,null,null,{"$f":"bksingh!$ADE$8","v":""},null,null,null,{"$f":"bksingh!$ADE$8","v":""},null,null,null,{"$f":"bksingh!$ADE$8","v":""},null,null,null,{"$f":"bksingh!$ADE$8","v":""},null,null,null,{"$f":"bksingh!$ADE$8","v":""},null,null,null,{"$f":"bksingh!$ADE$8","v":""},null,null,null,{"$f":"bksingh!$ADE$8","v":""},null,null,null,{"$f":"bksingh!$ADE$8","v":""},null,null,null,{"$f":"bksingh!$ADE$8","v":""},null,null,null,{"$f":"bksingh!$ADE$8","v":""},null,null,null,{"$f":"bksingh!$ADE$8","v":""},null,null,null,{"$f":"bksingh!$ADE$8","v":""},null,null,null,{"$f":"bksingh!$ADE$8","v":""},null,null,null,{"$f":"bksingh!$ADE$8","v":""},null,null,null,{"$f":"bksingh!$ADE$8","v":""},null,null,null,{"$f":"bksingh!$ADE$8","v":""},null,null,null,{"$f":"bksingh!$ADE$8","v":""},null,null,null,{"$f":"bksingh!$ADE$8","v":""},null,null,null,{"$f":"bksingh!$ADE$8","v":""},null,null,null,{"$f":"bksingh!$ADE$8","v":""},null,null,null,{"$f":"bksingh!$ADE$8","v":""},null,null,null,{"$f":"bksingh!$ADE$8","v":""},null,null,null,{"$f":"bksingh!$ADE$8","v":""},null,null,null,{"$f":"bksingh!$ADE$8","v":""},null,null,null,{"$f":"bksingh!$ADE$8","v":""},null,null,null,{"$f":"bksingh!$ADE$8","v":""},null,null,null,{"$f":"bksingh!$ADE$8","v":""},null,null,null,{"$f":"bksingh!$ADE$8","v":""},null,null,null,{"$f":"bksingh!$ADE$8","v":""},null,null,null,{"$f":"bksingh!$ADE$8","v":""},null,null,null,{"$f":"bksingh!$ADE$8","v":""},null,null,null,{"$f":"bksingh!$ADE$8","v":""},null,null,null,{"$f":"bksingh!$ADE$8","v":""},null,null,null,{"$f":"bksingh!$ADE$8","v":""},null,null,null,{"$f":"bksingh!$ADE$8","v":""},null,null,null,{"$f":"bksingh!$ADE$8","v":""},null,null,null,{"$f":"bksingh!$ADE$8","v":""},null,null,null,{"$f":"bksingh!$ADE$8","v":""},null,null,null,{"$f":"bksingh!$ADE$8","v":""},null,null,null,{"$f":"bksingh!$ADE$8","v":""},null,null,null,{"$f":"bksingh!$ADE$8","v":""},null,null,null,{"$f":"bksingh!$ADE$8","v":""},null,null,null,{"$f":"bksingh!$ADE$8","v":""},null,null,null,{"$f":"bksingh!$ADE$8","v":""},null,null,null,{"$f":"bksingh!$ADE$8","v":""},null,null,null,{"$f":"bksingh!$ADE$8","v":""},null,null,null,{"$f":"bksingh!$ADE$8","v":""},null,null,null,{"$f":"bksingh!$ADE$8","v":""},null,null,null,{"$f":"bksingh!$ADE$8","v":""},null,null,null,{"$f":"bksingh!$ADE$8","v":""},null,null,null,{"$f":"bksingh!$ADE$8","v":""},null,null,null,{"$f":"bksingh!$ADE$8","v":""},null,null,null,{"$f":"bksingh!$ADE$8","v":""},null,null,null,{"$f":"bksingh!$ADE$8","v":""},null,null,null,{"$f":"bksingh!$ADE$8","v":""},null,null,null,{"$f":"bksingh!$ADE$8","v":""},null,null,null,{"$f":"bksingh!$ADE$8","v":""},null,null,null,{"$f":"bksingh!$ADE$8","v":""},null,null,null,{"$f":"bksingh!$ADE$8","v":""},null,null,null,{"$f":"bksingh!$ADE$8","v":""},null,null,null,{"$f":"bksingh!$ADE$8","v":""},null,null,null,{"$f":"bksingh!$ADE$8","v":""},null,null,null,{"$f":"bksingh!$ADE$8","v":""},null,null,null,{"$f":"bksingh!$ADE$8","v":""},null,null,null,{"$f":"bksingh!$ADE$8","v":""},null,null,null,{"$f":"bksingh!$ADE$8","v":""},null,null,null,{"$f":"bksingh!$ADE$8","v":""},null,null,null,{"$f":"bksingh!$ADE$8","v":""},null,null,null,{"$f":"bksingh!$ADE$8","v":""},null,null,null,{"$f":"bksingh!$ADE$8","v":""},null,null,null,{"$f":"bksingh!$ADE$8","v":""},null,null,null,{"$f":"bksingh!$ADE$8","v":""},null,null,null,{"$f":"bksingh!$ADE$8","v":""},null,null,null,{"$f":"bksingh!$ADE$8","v":""},null,null,null,{"$f":"bksingh!$ADE$8","v":""},null,null,null,{"$f":"bksingh!$ADE$8","v":""},null,null,null,{"$f":"bksingh!$ADE$8","v":""},null,null,null,{"$f":"bksingh!$ADE$8","v":""},null,null,null,{"$f":"bksingh!$ADE$8","v":""},null,null,null,{"$f":"bksingh!$ADE$8","v":""},null,null,null,{"$f":"bksingh!$ADE$8","v":""},null,null,null,{"$f":"bksingh!$ADE$8","v":""},null,null,null,{"$f":"bksingh!$ADE$8","v":""},null,null,null,{"$f":"bksingh!$ADE$8","v":""},null,null,null,{"$f":"bksingh!$ADE$8","v":""},null,null,null,{"$f":"bksingh!$ADE$8","v":""},null,null,null,{"$f":"bksingh!$ADE$8","v":""},null,null,null,{"$f":"bksingh!$ADE$8","v":""},null,null,null,{"$f":"bksingh!$ADE$8","v":""},null,null,null,{"$f":"bksingh!$ADE$8","v":""},null,null,null,{"$f":"bksingh!$ADE$8","v":""},null,null,null,{"$f":"bksingh!$ADE$8","v":""},null,null,null,{"$f":"bksingh!$ADE$8","v":""},null,null,null,{"$f":"bksingh!$ADE$8","v":""},null,null,null,{"$f":"bksingh!$ADE$8","v":""},null,null,null,{"$f":"bksingh!$ADE$8","v":""},null,null,null,{"$f":"bksingh!$ADE$8","v":""},null,null,null,{"$f":"bksingh!$ADE$8","v":""},null,null,null,{"$f":"bksingh!$ADE$8","v":""},null,null,null,{"$f":"bksingh!$ADE$8","v":""},null,null,null,{"$f":"bksingh!$ADE$8","v":""},null,null,null,{"$f":"bksingh!$ADE$8","v":""},null,null,null,{"$f":"bksingh!$ADE$8","v":""},null,null,null,{"$f":"bksingh!$ADE$8","v":""},null,null,null,{"$f":"bksingh!$ADE$8","v":""},null,null,null,{"$f":"bksingh!$ADE$8","v":""},null,null,null,{"$f":"bksingh!$ADE$8","v":""},null,null,null,{"$f":"bksingh!$ADE$8","v":""},null,null,null,{"$f":"bksingh!$ADE$8","v":""},null,null,null,{"$f":"bksingh!$ADE$8","v":""},null,null,null,{"$f":"bksingh!$ADE$8","v":""},null,null,null,{"$f":"bksingh!$ADE$8","v":""},null,null,null,{"$f":"bksingh!$ADE$8","v":""},null,null,null,{"$f":"bksingh!$ADE$8","v":""},null,null,null,{"$f":"bksingh!$ADE$8","v":""},null,null,null,{"$f":"bksingh!$ADE$8","v":""},null,null,null,{"$f":"bksingh!$ADE$8","v":""},null,null,null,{"$f":"bksingh!$ADE$8","v":""},null,null,null,{"$f":"bksingh!$ADE$8","v":""},null,null,null,{"$f":"bksingh!$ADE$8","v":""},null,null,null,{"$f":"bksingh!$ADE$8","v":""},null,null,null,{"$f":"bksingh!$ADE$8","v":""},null,null,null,{"$f":"bksingh!$ADE$8","v":""},null,null,null,{"$f":"bksingh!$ADE$8","v":""},null,null,null,{"$f":"bksingh!$ADE$8","v":""},null,null,null,{"$f":"bksingh!$ADE$8","v":""},null,null,null,{"$f":"bksingh!$ADE$8","v":""},null,null,null,{"$f":"bksingh!$ADE$8","v":""},null,null,null,{"$f":"bksingh!$ADE$8","v":""},null,null,null,{"$f":"bksingh!$ADE$8","v":""},null,null,null,{"$f":"bksingh!$ADE$8","v":""},null,null,null,{"$f":"bksingh!$ADE$8","v":""},null,null,null,{"$f":"bksingh!$ADE$8","v":""},null,null,null,{"$f":"bksingh!$ADE$8","v":""},null,null,null,{"$f":"bksingh!$ADE$8","v":""},null,null,null,{"$f":"bksingh!$ADE$8","v":""},null,null,null,{"$f":"bksingh!$ADE$8","v":""},null,null,null,{"$f":"bksingh!$ADE$8","v":""},null,null,null,{"$f":"bksingh!$ADE$8","v":""},null,null,null,{"$f":"bksingh!$ADE$8","v":""},null,null,null,{"$f":"bksingh!$ADE$8","v":""},null,null,null,{"$f":"bksingh!$ADE$8","v":""},null,null,null,{"$f":"bksingh!$ADE$8","v":""},null,null,null,{"$f":"bksingh!$ADE$8","v":""},null,null,null,{"$f":"bksingh!$ADE$8","v":""},null,null,null,{"$f":"bksingh!$ADE$8","v":""},null,null,null,{"$f":"bksingh!$ADE$8","v":""},null,null,null,{"$f":"bksingh!$ADE$8","v":""},null,null,null,{"$f":"bksingh!$ADE$8","v":""},null,null,null,{"$f":"bksingh!$ADE$8","v":""},null,null,null,{"$f":"bksingh!$ADE$8","v":""},null,null,null,{"$f":"bksingh!$ADE$8","v":""},null,null,null,{"$f":"bksingh!$ADE$8","v":""},null,null,null,{"$f":"bksingh!$ADE$8","v":""},null,null,null,{"$f":"bksingh!$ADE$8","v":""},null,null,null,{"$f":"bksingh!$ADE$8","v":""},null,null,null,{"$f":"bksingh!$ADE$8","v":""},null,null,null,{"$f":"bksingh!$ADE$8","v":""},null,null,null,{"$f":"bksingh!$ADE$8","v":""},null,null,null,{"$f":"bksingh!$ADE$8","v":""},null,null,null,{"$f":"bksingh!$ADE$8","v":""},null,null,null,{"$f":"bksingh!$ADE$8","v":""},null,null,null,{"$f":"bksingh!$ADE$8","v":""},null,null,null,{"$f":"bksingh!$ADE$8","v":""},null,null,null,{"$f":"bksingh!$ADE$8","v":""},null,null,null,{"$f":"bksingh!$ADE$8","v":""},null,null,null,{"$f":"bksingh!$ADE$8","v":""},null,null,null,{"$f":"bksingh!$ADE$8","v":""},null,null,null,{"$f":"bksingh!$ADE$8","v":""},null,null,null,{"$f":"bksingh!$ADE$8","v":""},null,null,null,{"$f":"bksingh!$ADE$8","v":""},null,null,null,{"$f":"bksingh!$ADE$8","v":""},null,null,null,{"$f":"bksingh!$ADE$8","v":""},null,null,null,{"$f":"bksingh!$ADE$8","v":""},null,null,null,{"$f":"bksingh!$ADE$8","v":""},null,null,null,{"$f":"bksingh!$ADE$8","v":""},null,null,null,{"$f":"bksingh!$ADE$8","v":""},null,null,null,{"$f":"bksingh!$ADE$8","v":""},null,null,null,{"$f":"bksingh!$ADE$8","v":""},null,null,null,{"$f":"bksingh!$ADE$8","v":""},null,null,null,{"$f":"bksingh!$ADE$8","v":""},null,null,null,{"$f":"bksingh!$ADE$8","v":""},null,null,null,{"$f":"bksingh!$ADE$8","v":""},null,null,null,{"$f":"bksingh!$ADE$8","v":""},null,null,null,{"$f":"bksingh!$ADE$8","v":""},null,null,null,{"$f":"bksingh!$ADE$8","v":""},null,null,null,{"$f":"bksingh!$ADE$8","v":""},null,null,null,{"$f":"bksingh!$ADE$8","v":""},null,null,null,{"$f":"bksingh!$ADE$8","v":""},null,null,null,{"$f":"bksingh!$ADE$8","v":""},null,null,null,{"$f":"bksingh!$ADE$8","v":""},null,null,null,{"$f":"bksingh!$ADE$8","v":""},null,null,null,{"$f":"bksingh!$ADE$8","v":""},null,null,null,{"$f":"bksingh!$ADE$8","v":""},null,null,null,{"$f":"bksingh!$ADE$8","v":""},null,null,null,{"$f":"bksingh!$ADE$8","v":""},null,null,null,{"$f":"bksingh!$ADE$8","v":""},null,null,null,{"$f":"bksingh!$ADE$8","v":""},null,null,null,{"$f":"bksingh!$ADE$8","v":""},null,null,null,{"$f":"bksingh!$ADE$8","v":""},null,null,null,{"$f":"bksingh!$ADE$8","v":""},null,null,null,{"$f":"bksingh!$ADE$8","v":""},null,null,null,{"$f":"bksingh!$ADE$8","v":""},null,null,null,{"$f":"bksingh!$ADE$8","v":""},null,null,null,{"$f":"bksingh!$ADE$8","v":""},null,null,null,{"$f":"bksingh!$ADE$8","v":""},null,null,null,{"$f":"bksingh!$ADE$8","v":""},null,null,null,{"$f":"bksingh!$ADE$8","v":""},null,null,null,{"$f":"bksingh!$ADE$8","v":""},null,null,null,{"$f":"bksingh!$ADE$8","v":""},null,null,null,{"$f":"bksingh!$ADE$8","v":""},null,null,null,{"$f":"bksingh!$ADE$8","v":""},null,null,null,{"$f":"bksingh!$ADE$8","v":""},null,null,null,{"$f":"bksingh!$ADE$8","v":""},null,null,null,{"$f":"bksingh!$ADE$8","v":""},null,null,null,{"$f":"bksingh!$ADE$8","v":""},null,null,null,{"$f":"bksingh!$ADE$8","v":""},null,null,null,{"$f":"bksingh!$ADE$8","v":""},null,null,null,{"$f":"bksingh!$ADE$8","v":""},null,null,null,{"$f":"bksingh!$ADE$8","v":""},null,null,null,{"$f":"bksingh!$ADE$8","v":""},null,null,null,{"$f":"bksingh!$ADE$8","v":""},null,null,null,{"$f":"bksingh!$ADE$8","v":""},null,null,null,{"$f":"bksingh!$ADE$8","v":""},null,null,null,{"$f":"bksingh!$ADE$8","v":""},null,null,null,{"$f":"bksingh!$ADE$8","v":""},null,null,null,{"$f":"bksingh!$ADE$8","v":""},null,null,null,{"$f":"bksingh!$ADE$8","v":""},null,null,null,{"$f":"bksingh!$ADE$8","v":""},null,null,null,{"$f":"bksingh!$ADE$8","v":""},null,null,null,{"$f":"bksingh!$ADE$8","v":""},null,null,null,{"$f":"bksingh!$ADE$8","v":""},null,null,null,{"$f":"bksingh!$ADE$8","v":""},null,null,null,{"$f":"bksingh!$ADE$8","v":""},null,null,null,{"$f":"bksingh!$ADE$8","v":""},null,null,null,{"$f":"bksingh!$ADE$8","v":""},null,null,null,{"$f":"bksingh!$ADE$8","v":""},null,null,null,{"$f":"bksingh!$ADE$8","v":""},null,null,null,{"$f":"bksingh!$ADE$8","v":""},null,null,null,{"$f":"bksingh!$ADE$8","v":""},null,null,null,{"$f":"bksingh!$ADE$8","v":""},null,null,null,{"$f":"bksingh!$ADE$8","v":""},null,null,null,{"$f":"bksingh!$ADE$8","v":""},null,null,null,{"$f":"bksingh!$ADE$8","v":""},null,null,null,{"$f":"bksingh!$ADE$8","v":""},null,null,null,{"$f":"bksingh!$ADE$8","v":""},null,null,null,{"$f":"bksingh!$ADE$8","v":""},null,null,null,{"$f":"bksingh!$ADE$8","v":""},null,null,null,{"$f":"bksingh!$ADE$8","v":""},null,null,null,{"$f":"bksingh!$ADE$8","v":""},null,null,null,{"$f":"bksingh!$ADE$8","v":""},null,null,null,{"$f":"bksingh!$ADE$8","v":""},null,null,null,{"$f":"bksingh!$ADE$8","v":""},null,null,null,{"$f":"bksingh!$ADE$8","v":""},null,null,null,{"$f":"bksingh!$ADE$8","v":""},null,null,null,{"$f":"bksingh!$ADE$8","v":""},null,null,null,{"$f":"bksingh!$ADE$8","v":""},null,null,null,{"$f":"bksingh!$ADE$8","v":""},null,null,null,{"$f":"bksingh!$ADE$8","v":""},null,null,null,{"$f":"bksingh!$ADE$8","v":""},null,null,null,{"$f":"bksingh!$ADE$8","v":""},null,null,null,{"$f":"bksingh!$ADE$8","v":""},null,null,null,{"$f":"bksingh!$ADE$8","v":""},null,null,null,{"$f":"bksingh!$ADE$8","v":""},null,null,null,{"$f":"bksingh!$ADE$8","v":""},null,null,null,{"$f":"bksingh!$ADE$8","v":""},null,null,null,{"$f":"bksingh!$ADE$8","v":""},null,null,null,{"$f":"bksingh!$ADE$8","v":""},null,null,null,{"$f":"bksingh!$ADE$8","v":""},null,null,null,{"$f":"bksingh!$ADE$8","v":""},null,null,null,{"$f":"bksingh!$ADE$8","v":""},null,null,null,{"$f":"bksingh!$ADE$8","v":""},null,null,null,{"$f":"bksingh!$ADE$8","v":""},null,null,null,{"$f":"bksingh!$ADE$8","v":""},null,null,null,{"$f":"bksingh!$ADE$8","v":""},null,null,null,{"$f":"bksingh!$ADE$8","v":""},null,null,null,{"$f":"bksingh!$ADE$8","v":""},null,null,null,{"$f":"bksingh!$ADE$8","v":""},null,null,null,{"$f":"bksingh!$ADE$8","v":""},null,null,null,{"$f":"bksingh!$ADE$8","v":""},null,null,null,{"$f":"bksingh!$ADE$8","v":""},null,null,null,{"$f":"bksingh!$ADE$8","v":""},null,null,null,{"$f":"bksingh!$ADE$8","v":""},null,null,null,{"$f":"bksingh!$ADE$8","v":""},null,null,null,{"$f":"bksingh!$ADE$8","v":""},null,null,null,{"$f":"bksingh!$ADE$8","v":""},null,null,null,{"$f":"bksingh!$ADE$8","v":""},null,null,null,{"$f":"bksingh!$ADE$8","v":""},null,null,null,{"$f":"bksingh!$ADE$8","v":""},null,null,null,{"$f":"bksingh!$ADE$8","v":""},null,null,null,{"$f":"bksingh!$ADE$8","v":""},null,null,null,{"$f":"bksingh!$ADE$8","v":""},null,null,null,{"$f":"bksingh!$ADE$8","v":""},null,null,null,{"$f":"bksingh!$ADE$8","v":""},null,null,null,{"$f":"bksingh!$ADE$8","v":""},null,null,null,{"$f":"bksingh!$ADE$8","v":""},null,null,null,{"$f":"bksingh!$ADE$8","v":""},null,null,null,{"$f":"bksingh!$ADE$8","v":""},null,null,null,{"$f":"bksingh!$ADE$8","v":""},null,null,null,{"$f":"bksingh!$ADE$8","v":""},null,null,null,{"$f":"bksingh!$ADE$8","v":""},null,null,null,{"$f":"bksingh!$ADE$8","v":""},null,null,null,{"$f":"bksingh!$ADE$8","v":""},null,null,null,{"$f":"bksingh!$ADE$8","v":""},null,null,null,{"$f":"bksingh!$ADE$8","v":""},null,null,null,{"$f":"bksingh!$ADE$8","v":""},null,null,null,{"$f":"bksingh!$ADE$8","v":""},null,null,null,{"$f":"bksingh!$ADE$8","v":""},null,null,null,{"$f":"bksingh!$ADE$8","v":""},null,null,null,{"$f":"bksingh!$ADE$8","v":""},null,null,null,{"$f":"bksingh!$ADE$8","v":""},null,null,null,{"$f":"bksingh!$ADE$8","v":""},null,null,null,{"$f":"bksingh!$ADE$8","v":""},null,null,null,{"$f":"bksingh!$ADE$8","v":""},null,null,null,{"$f":"bksingh!$ADE$8","v":""},null,null,null,{"$f":"bksingh!$ADE$8","v":""},null,null,null,{"$f":"bksingh!$ADE$8","v":""},null,null,null,{"$f":"bksingh!$ADE$8","v":""},null,null,null,{"$f":"bksingh!$ADE$8","v":""},null,null,null,{"$f":"bksingh!$ADE$8","v":""},null,null,null,{"$f":"bksingh!$ADE$8","v":""},null,null,null,{"$f":"bksingh!$ADE$8","v":""},null,null,null,{"$f":"bksingh!$ADE$8","v":""},null,null,null,{"$f":"bksingh!$ADE$8","v":""},null,null,null,{"$f":"bksingh!$ADE$8","v":""},null,null,null,{"$f":"bksingh!$ADE$8","v":""},null,null,null,{"$f":"bksingh!$ADE$8","v":""},null,null,null,{"$f":"bksingh!$ADE$8","v":""},null,null,null,{"$f":"bksingh!$ADE$8","v":""},null,null,null,{"$f":"bksingh!$ADE$8","v":""},null,null,null,{"$f":"bksingh!$ADE$8","v":""},null,null,null,{"$f":"bksingh!$ADE$8","v":""},null,null,null,{"$f":"bksingh!$ADE$8","v":""},null,null,null,{"$f":"bksingh!$ADE$8","v":""},null,null,null,{"$f":"bksingh!$ADE$8","v":""},null,null,null,{"$f":"bksingh!$ADE$8","v":""},null,null,null,{"$f":"bksingh!$ADE$8","v":""},null,null,null,{"$f":"bksingh!$ADE$8","v":""},null,null,null,{"$f":"bksingh!$ADE$8","v":""},null,null,null,{"$f":"bksingh!$ADE$8","v":""},null,null,null,{"$f":"bksingh!$ADE$8","v":""},null,null,null,{"$f":"bksingh!$ADE$8","v":""},null,null,null,{"$f":"bksingh!$ADE$8","v":""},null,null,null,{"$f":"bksingh!$ADE$8","v":""},null,null,null,{"$f":"bksingh!$ADE$8","v":""},null,null,null,{"$f":"bksingh!$ADE$8","v":""},null,null,null,{"$f":"bksingh!$ADE$8","v":""},null,null,null,{"$f":"bksingh!$ADE$8","v":""},null,null,null,{"$f":"bksingh!$ADE$8","v":""},null,null,null,{"$f":"bksingh!$ADE$8","v":""},null,null,null,{"$f":"bksingh!$ADE$8","v":""},null,null,null,{"$f":"bksingh!$ADE$8","v":""},null,null,null,{"$f":"bksingh!$ADE$8","v":""},null,null,null,{"$f":"bksingh!$ADE$8","v":""},null,null,null,{"$f":"bksingh!$ADE$8","v":""},null,null,null,{"$f":"bksingh!$ADE$8","v":""},null,null,null,{"$f":"bksingh!$ADE$8","v":""},null,null,null,{"$f":"bksingh!$ADE$8","v":""},null,null,null,{"$f":"bksingh!$ADE$8","v":""},null,null,null,{"$f":"bksingh!$ADE$8","v":""},null,null,null,{"$f":"bksingh!$ADE$8","v":""},null,null,null,{"$f":"bksingh!$ADE$8","v":""},null,null,null,{"$f":"bksingh!$ADE$8","v":""},null,null,null,{"$f":"bksingh!$ADE$8","v":""},null,null,null,{"$f":"bksingh!$ADE$8","v":""},null,null,null,{"$f":"bksingh!$ADE$8","v":""},null,null,null,{"$f":"bksingh!$ADE$8","v":""},null,null,null,{"$f":"bksingh!$ADE$8","v":""},null,null,null,{"$f":"bksingh!$ADE$8","v":""},null,null,null,{"$f":"bksingh!$ADE$8","v":""},null,null,null,{"$f":"bksingh!$ADE$8","v":""},null,null,null,{"$f":"bksingh!$ADE$8","v":""},null,null,null,{"$f":"bksingh!$ADE$8","v":""},null,null,null,{"$f":"bksingh!$ADE$8","v":""},null,null,null,{"$f":"bksingh!$ADE$8","v":""},null,null,null,{"$f":"bksingh!$ADE$8","v":""},null,null,null,{"$f":"bksingh!$ADE$8","v":""},null,null,null,{"$f":"bksingh!$ADE$8","v":""},null,null,null,{"$f":"bksingh!$ADE$8","v":""},null,null,null,{"$f":"bksingh!$ADE$8","v":""},null,null,null,{"$f":"bksingh!$ADE$8","v":""},null,null,null,{"$f":"bksingh!$ADE$8","v":""},null,null,null,{"$f":"bksingh!$ADE$8","v":""},null,null,null,{"$f":"bksingh!$ADE$8","v":""},null,null,null,{"$f":"bksingh!$ADE$8","v":""},null,null,null,{"$f":"bksingh!$ADE$8","v":""},null,null,null,{"$f":"bksingh!$ADE$8","v":""},null,null,null,{"$f":"bksingh!$ADE$8","v":""},null,null,null,{"$f":"bksingh!$ADE$8","v":""},null,null,null,{"$f":"bksingh!$ADE$8","v":""},null,null,null,{"$f":"bksingh!$ADE$8","v":""},null,null,null,{"$f":"bksingh!$ADE$8","v":""},null,null,null,{"$f":"bksingh!$ADE$8","v":""},null,null,null,{"$f":"bksingh!$ADE$8","v":""},null,null,null,{"$f":"bksingh!$ADE$8","v":""},null,null,null,{"$f":"bksingh!$ADE$8","v":""},null,null,null,{"$f":"bksingh!$ADE$8","v":""},null,null,null,{"$f":"bksingh!$ADE$8","v":""},null,null,null,{"$f":"bksingh!$ADE$8","v":""},null,null,null,{"$f":"bksingh!$ADE$8","v":""},null,null,null,{"$f":"bksingh!$ADE$8","v":""},null,null,null,{"$f":"bksingh!$ADE$8","v":""},null,null,null,{"$f":"bksingh!$ADE$8","v":""},null,null,null,{"$f":"bksingh!$ADE$8","v":""},null,null,null,{"$f":"bksingh!$ADE$8","v":""},null,null,null,{"$f":"bksingh!$ADE$8","v":""},null,null,null,{"$f":"bksingh!$ADE$8","v":""},null,null,null,{"$f":"bksingh!$ADE$8","v":""},null,null,null,{"$f":"bksingh!$ADE$8","v":""},null,null,null,{"$f":"bksingh!$ADE$8","v":""},null,null,null,{"$f":"bksingh!$ADE$8","v":""},null,null,null,{"$f":"bksingh!$ADE$8","v":""},null,null,null,{"$f":"bksingh!$ADE$8","v":""},null,null,null,{"$f":"bksingh!$ADE$8","v":""},null,null,null,{"$f":"bksingh!$ADE$8","v":""},null,null,null,{"$f":"bksingh!$ADE$8","v":""},null,null,null,{"$f":"bksingh!$ADE$8","v":""},null,null,null,{"$f":"bksingh!$ADE$8","v":""},null,null,null,{"$f":"bksingh!$ADE$8","v":""},null,null,null,{"$f":"bksingh!$ADE$8","v":""},null,null,null,{"$f":"bksingh!$ADE$8","v":""},null,null,null,{"$f":"bksingh!$ADE$8","v":""},null,null,null,{"$f":"bksingh!$ADE$8","v":""},null,null,null,{"$f":"bksingh!$ADE$8","v":""},null,null,null,{"$f":"bksingh!$ADE$8","v":""},null,null,null,{"$f":"bksingh!$ADE$8","v":""},null,null,null,{"$f":"bksingh!$ADE$8","v":""},null,null,null,{"$f":"bksingh!$ADE$8","v":""},null,null,null,{"$f":"bksingh!$ADE$8","v":""},null,null,null,{"$f":"bksingh!$ADE$8","v":""},null,null,null,{"$f":"bksingh!$ADE$8","v":""},null,null,null,{"$f":"bksingh!$ADE$8","v":""},null,null,null,{"$f":"bksingh!$ADE$8","v":""},null,null,null,{"$f":"bksingh!$ADE$8","v":""},null,null,null,{"$f":"bksingh!$ADE$8","v":""},null,null,null,{"$f":"bksingh!$ADE$8","v":""},null,null,null,{"$f":"bksingh!$ADE$8","v":""},null,null,null,{"$f":"bksingh!$ADE$8","v":""},null,null,null,{"$f":"bksingh!$ADE$8","v":""},null,null,null,{"$f":"bksingh!$ADE$8","v":""},null,null,null,{"$f":"bksingh!$ADE$8","v":""},null,null,null,{"$f":"bksingh!$ADE$8","v":""},null,null,null,{"$f":"bksingh!$ADE$8","v":""},null,null,null,{"$f":"bksingh!$ADE$8","v":""},null,null,null,{"$f":"bksingh!$ADE$8","v":""},null,null,null,{"$f":"bksingh!$ADE$8","v":""},null,null,null,{"$f":"bksingh!$ADE$8","v":""},null,null,null,{"$f":"bksingh!$ADE$8","v":""},null,null,null,{"$f":"bksingh!$ADE$8","v":""},null,null,null,{"$f":"bksingh!$ADE$8","v":""},null,null,null,{"$f":"bksingh!$ADE$8","v":""},null,null,null,{"$f":"bksingh!$ADE$8","v":""},null,null,null,{"$f":"bksingh!$ADE$8","v":""},null,null,null,{"$f":"bksingh!$ADE$8","v":""},null,null,null,{"$f":"bksingh!$ADE$8","v":""},null,null,null,{"$f":"bksingh!$ADE$8","v":""},null,null,null,{"$f":"bksingh!$ADE$8","v":""},null,null,null,{"$f":"bksingh!$ADE$8","v":""},null,null,null,{"$f":"bksingh!$ADE$8","v":""},null,null,null,{"$f":"bksingh!$ADE$8","v":""},null,null,null,{"$f":"bksingh!$ADE$8","v":""},null,null,null,{"$f":"bksingh!$ADE$8","v":""},null,null,null,{"$f":"bksingh!$ADE$8","v":""},null,null,null,{"$f":"bksingh!$ADE$8","v":""},null,null,null,{"$f":"bksingh!$ADE$8","v":""},null,null,null,{"$f":"bksingh!$ADE$8","v":""},null,null,null,{"$f":"bksingh!$ADE$8","v":""},null,null,null,{"$f":"bksingh!$ADE$8","v":""},null,null,null,{"$f":"bksingh!$ADE$8","v":""},null,null,null,{"$f":"bksingh!$ADE$8","v":""},null,null,null,{"$f":"bksingh!$ADE$8","v":""},null,null,null,{"$f":"bksingh!$ADE$8","v":""},null,null,null,{"$f":"bksingh!$ADE$8","v":""},null,null,null,{"$f":"bksingh!$ADE$8","v":""},null,null,null,{"$f":"bksingh!$ADE$8","v":""},null,null,null,{"$f":"bksingh!$ADE$8","v":""},null,null,null,{"$f":"bksingh!$ADE$8","v":""},null,null,null,{"$f":"bksingh!$ADE$8","v":""},null,null,null,{"$f":"bksingh!$ADE$8","v":""},null,null,null,{"$f":"bksingh!$ADE$8","v":""},null,null,null,{"$f":"bksingh!$ADE$8","v":""},null,null,null,{"$f":"bksingh!$ADE$8","v":""},null,null,null,{"$f":"bksingh!$ADE$8","v":""},null,null,null,{"$f":"bksingh!$ADE$8","v":""},null,null,null,{"$f":"bksingh!$ADE$8","v":""},null,null,null,{"$f":"bksingh!$ADE$8","v":""},null,null,null,{"$f":"bksingh!$ADE$8","v":""},null,null,null,{"$f":"bksingh!$ADE$8","v":""},null,null,null,{"$f":"bksingh!$ADE$8","v":""},null,null,null,{"$f":"bksingh!$ADE$8","v":""},null,null,null,{"$f":"bksingh!$ADE$8","v":""},null,null,null,{"$f":"bksingh!$ADE$8","v":""},null,null,null,{"$f":"bksingh!$ADE$8","v":""},null,null,null,{"$f":"bksingh!$ADE$8","v":""},null,null,null,{"$f":"bksingh!$ADE$8","v":""},null,null,null,{"$f":"bksingh!$ADE$8","v":""},null,null,null,{"$f":"bksingh!$ADE$8","v":""},null,null,null,{"$f":"bksingh!$ADE$8","v":""},null,null,null,{"$f":"bksingh!$ADE$8","v":""},null,null,null,{"$f":"bksingh!$ADE$8","v":""},null,null,null,{"$f":"bksingh!$ADE$8","v":""},null,null,null,{"$f":"bksingh!$ADE$8","v":""},null,null,null,{"$f":"bksingh!$ADE$8","v":""},null,null,null,{"$f":"bksingh!$ADE$8","v":""},null,null,null,{"$f":"bksingh!$ADE$8","v":""},null,null,null,{"$f":"bksingh!$ADE$8","v":""},null,null,null,{"$f":"bksingh!$ADE$8","v":""},null,null,null,{"$f":"bksingh!$ADE$8","v":""},null,null,null,{"$f":"bksingh!$ADE$8","v":""},null,null,null,{"$f":"bksingh!$ADE$8","v":""},null,null,null,{"$f":"bksingh!$ADE$8","v":""},null,null,null,{"$f":"bksingh!$ADE$8","v":""},null,null,null,{"$f":"bksingh!$ADE$8","v":""},null,null,null,{"$f":"bksingh!$ADE$8","v":""},null,null,null,{"$f":"bksingh!$ADE$8","v":""},null,null,null,{"$f":"bksingh!$ADE$8","v":""},null,null,null,{"$f":"bksingh!$ADE$8","v":""},null,null,null,{"$f":"bksingh!$ADE$8","v":""},null,null,null,{"$f":"bksingh!$ADE$8","v":""},null,null,null,{"$f":"bksingh!$ADE$8","v":""},null,null,null,{"$f":"bksingh!$ADE$8","v":""},null,null,null,{"$f":"bksingh!$ADE$8","v":""},null,null,null,{"$f":"bksingh!$ADE$8","v":""},null,null,null,{"$f":"bksingh!$ADE$8","v":""},null,null,null,{"$f":"bksingh!$ADE$8","v":""},null,null,null,{"$f":"bksingh!$ADE$8","v":""},null,null,null,{"$f":"bksingh!$ADE$8","v":""},null,null,null,{"$f":"bksingh!$ADE$8","v":""},null,null,null,{"$f":"bksingh!$ADE$8","v":""},null,null,null,{"$f":"bksingh!$ADE$8","v":""},null,null,null,{"$f":"bksingh!$ADE$8","v":""},null,null,null,{"$f":"bksingh!$ADE$8","v":""},null,null,null,{"$f":"bksingh!$ADE$8","v":""},null,null,null,{"$f":"bksingh!$ADE$8","v":""},null,null,null,{"$f":"bksingh!$ADE$8","v":""},null,null,null,{"$f":"bksingh!$ADE$8","v":""},null,null,null,{"$f":"bksingh!$ADE$8","v":""},null,null,null,{"$f":"bksingh!$ADE$8","v":""},null,null,null,{"$f":"bksingh!$ADE$8","v":""},null,null,null,{"$f":"bksingh!$ADE$8","v":""},null,null,null,{"$f":"bksingh!$ADE$8","v":""},null,null,null,{"$f":"bksingh!$ADE$8","v":""},null,null,null,{"$f":"bksingh!$ADE$8","v":""},null,null,null,{"$f":"bksingh!$ADE$8","v":""},null,null,null,{"$f":"bksingh!$ADE$8","v":""},null,null,null,{"$f":"bksingh!$ADE$8","v":""},null,null,null,{"$f":"bksingh!$ADE$8","v":""},null,null,null,{"$f":"bksingh!$ADE$8","v":""},null,null,null,{"$f":"bksingh!$ADE$8","v":""},null,null,null,{"$f":"bksingh!$ADE$8","v":""},null,null,null,{"$f":"bksingh!$ADE$8","v":""},null,null,null,{"$f":"bksingh!$ADE$8","v":""},null,null,null,{"$f":"bksingh!$ADE$8","v":""},null,null,null,{"$f":"bksingh!$ADE$8","v":""},null,null,null,{"$f":"bksingh!$ADE$8","v":""},null,null,null,{"$f":"bksingh!$ADE$8","v":""},null,null,null,{"$f":"bksingh!$ADE$8","v":""},null,null,null,{"$f":"bksingh!$ADE$8","v":""},null,null,null,{"$f":"bksingh!$ADE$8","v":""},null,null,null,{"$f":"bksingh!$ADE$8","v":""},null,null,null,{"$f":"bksingh!$ADE$8","v":""},null,null,null,{"$f":"bksingh!$ADE$8","v":""},null,null,null,{"$f":"bksingh!$ADE$8","v":""},null,null,null,{"$f":"bksingh!$ADE$8","v":""},null,null,null,{"$f":"bksingh!$ADE$8","v":""},null,null,null,{"$f":"bksingh!$ADE$8","v":""},null,null,null,{"$f":"bksingh!$ADE$8","v":""},null,null,null,{"$f":"bksingh!$ADE$8","v":""},null,null,null,{"$f":"bksingh!$ADE$8","v":""},null,null,null,{"$f":"bksingh!$ADE$8","v":""},null,null,null,{"$f":"bksingh!$ADE$8","v":""},null,null,null,{"$f":"bksingh!$ADE$8","v":""},null,null,null,{"$f":"bksingh!$ADE$8","v":""},null,null,null,{"$f":"bksingh!$ADE$8","v":""},null,null,null,{"$f":"bksingh!$ADE$8","v":""},null,null,null,{"$f":"bksingh!$ADE$8","v":""},null,null,null,{"$f":"bksingh!$ADE$8","v":""},null,null,null,{"$f":"bksingh!$ADE$8","v":""},null,null,null,{"$f":"bksingh!$ADE$8","v":""},null,null,null,{"$f":"bksingh!$ADE$8","v":""},null,null,null,{"$f":"bksingh!$ADE$8","v":""},null,null,null,{"$f":"bksingh!$ADE$8","v":""},null,null,null,{"$f":"bksingh!$ADE$8","v":""},null,null,null,{"$f":"bksingh!$ADE$8","v":""},null,null,null,{"$f":"bksingh!$ADE$8","v":""},null,null,null,{"$f":"bksingh!$ADE$8","v":""},null,null,null,{"$f":"bksingh!$ADE$8","v":""},null,null,null,{"$f":"bksingh!$ADE$8","v":""},null,null,null,{"$f":"bksingh!$ADE$8","v":""},null,null,null,{"$f":"bksingh!$ADE$8","v":""},null,null,null,{"$f":"bksingh!$ADE$8","v":""},null,null,null,{"$f":"bksingh!$ADE$8","v":""},null,null,null,{"$f":"bksingh!$ADE$8","v":""},null,null,null,{"$f":"bksingh!$ADE$8","v":""},null,null,null,{"$f":"bksingh!$ADE$8","v":""},null,null,null,{"$f":"bksingh!$ADE$8","v":""},null,null,null,{"$f":"bksingh!$ADE$8","v":""},null,null,null,{"$f":"bksingh!$ADE$8","v":""},null,null,null,{"$f":"bksingh!$ADE$8","v":""},null,null,null,{"$f":"bksingh!$ADE$8","v":""},null,null,null,{"$f":"bksingh!$ADE$8","v":""},null,null,null,{"$f":"bksingh!$ADE$8","v":""},null,null,null,{"$f":"bksingh!$ADE$8","v":""},null,null,null,{"$f":"bksingh!$ADE$8","v":""},null,null,null,{"$f":"bksingh!$ADE$8","v":""},null,null,null,{"$f":"bksingh!$ADE$8","v":""},null,null,null,{"$f":"bksingh!$ADE$8","v":""},null,null,null,{"$f":"bksingh!$ADE$8","v":""},null,null,null,{"$f":"bksingh!$ADE$8","v":""},null,null,null,{"$f":"bksingh!$ADE$8","v":""},null,null,null,{"$f":"bksingh!$ADE$8","v":""},null,null,null,{"$f":"bksingh!$ADE$8","v":""},null,null,null,{"$f":"bksingh!$ADE$8","v":""},null,null,null,{"$f":"bksingh!$ADE$8","v":""},null,null,null,{"$f":"bksingh!$ADE$8","v":""},null,null,null,{"$f":"bksingh!$ADE$8","v":""},null,null,null,{"$f":"bksingh!$ADE$8","v":""},null,null,null,{"$f":"bksingh!$ADE$8","v":""},null,null,null,{"$f":"bksingh!$ADE$8","v":""},null,null,null,{"$f":"bksingh!$ADE$8","v":""},null,null,null,{"$f":"bksingh!$ADE$8","v":""},null,null,null,{"$f":"bksingh!$ADE$8","v":""},null,null,null,{"$f":"bksingh!$ADE$8","v":""},null,null,null,{"$f":"bksingh!$ADE$8","v":""},null,null,null,{"$f":"bksingh!$ADE$8","v":""},null,null,null,{"$f":"bksingh!$ADE$8","v":""},null,null,null,{"$f":"bksingh!$ADE$8","v":""},null,null,null,{"$f":"bksingh!$ADE$8","v":""},null,null,null,{"$f":"bksingh!$ADE$8","v":""},null,null,null,{"$f":"bksingh!$ADE$8","v":""},null,null,null,{"$f":"bksingh!$ADE$8","v":""},null,null,null,{"$f":"bksingh!$ADE$8","v":""},null,null,null,{"$f":"bksingh!$ADE$8","v":""},null,null,null,{"$f":"bksingh!$ADE$8","v":""},null,null,null,{"$f":"bksingh!$ADE$8","v":""},null,null,null,{"$f":"bksingh!$ADE$8","v":""},null,null,null,{"$f":"bksingh!$ADE$8","v":""},null,null,null,{"$f":"bksingh!$ADE$8","v":""},null,null,null,{"$f":"bksingh!$ADE$8","v":""},null,null,null,{"$f":"bksingh!$ADE$8","v":""},null,null,null,{"$f":"bksingh!$ADE$8","v":""},null,null,null,{"$f":"bksingh!$ADE$8","v":""},null,null,null,{"$f":"bksingh!$ADE$8","v":""},null,null,null,{"$f":"bksingh!$ADE$8","v":""},null,null,null,{"$f":"bksingh!$ADE$8","v":""},null,null,null,{"$f":"bksingh!$ADE$8","v":""},null,null,null,{"$f":"bksingh!$ADE$8","v":""},null,null,null,{"$f":"bksingh!$ADE$8","v":""},null,null,null,{"$f":"bksingh!$ADE$8","v":""},null,null,null,{"$f":"bksingh!$ADE$8","v":""},null,null,null,{"$f":"bksingh!$ADE$8","v":""},null,null,null,{"$f":"bksingh!$ADE$8","v":""},null,null,null,{"$f":"bksingh!$ADE$8","v":""},null,null,null,{"$f":"bksingh!$ADE$8","v":""},null,null,null,{"$f":"bksingh!$ADE$8","v":""},null,null,null,{"$f":"bksingh!$ADE$8","v":""},null,null,null,{"$f":"bksingh!$ADE$8","v":""},null,null,null,{"$f":"bksingh!$ADE$8","v":""},null,null,null,{"$f":"bksingh!$ADE$8","v":""},null,null,null,{"$f":"bksingh!$ADE$8","v":""},null,null,null,{"$f":"bksingh!$ADE$8","v":""},null,null,null,{"$f":"bksingh!$ADE$8","v":""},null,null,null,{"$f":"bksingh!$ADE$8","v":""},null,null,null,{"$f":"bksingh!$ADE$8","v":""},null,null,null,{"$f":"bksingh!$ADE$8","v":""},null,null,null,{"$f":"bksingh!$ADE$8","v":""},null,null,null,{"$f":"bksingh!$ADE$8","v":""},null,null,null,{"$f":"bksingh!$ADE$8","v":""},null,null,null,{"$f":"bksingh!$ADE$8","v":""},null,null,null,{"$f":"bksingh!$ADE$8","v":""},null,null,null,{"$f":"bksingh!$ADE$8","v":""},null,null,null,{"$f":"bksingh!$ADE$8","v":""},null,null,null,{"$f":"bksingh!$ADE$8","v":""},null,null,null,{"$f":"bksingh!$ADE$8","v":""},null,null,null,{"$f":"bksingh!$ADE$8","v":""},null,null,null,{"$f":"bksingh!$ADE$8","v":""},null,null,null,{"$f":"bksingh!$ADE$8","v":""},null,null,null,{"$f":"bksingh!$ADE$8","v":""},null,null,null,{"$f":"bksingh!$ADE$8","v":""},null,null,null,{"$f":"bksingh!$ADE$8","v":""},null,null,null,{"$f":"bksingh!$ADE$8","v":""},null,null,null,{"$f":"bksingh!$ADE$8","v":""},null,null,null,{"$f":"bksingh!$ADE$8","v":""},null,null,null,{"$f":"bksingh!$ADE$8","v":""},null,null,null,{"$f":"bksingh!$ADE$8","v":""},null,null,null,{"$f":"bksingh!$ADE$8","v":""},null,null,null,{"$f":"bksingh!$ADE$8","v":""},null,null,null,{"$f":"bksingh!$ADE$8","v":""},null,null,null,{"$f":"bksingh!$ADE$8","v":""},null,null,null,{"$f":"bksingh!$ADE$8","v":""},null,null,null,{"$f":"bksingh!$ADE$8","v":""},null,null,null,{"$f":"bksingh!$ADE$8","v":""},null,null,null,{"$f":"bksingh!$ADE$8","v":""},null,null,null,{"$f":"bksingh!$ADE$8","v":""},null,null,null,{"$f":"bksingh!$ADE$8","v":""},null,null,null,{"$f":"bksingh!$ADE$8","v":""},null,null,null,{"$f":"bksingh!$ADE$8","v":""},null,null,null,{"$f":"bksingh!$ADE$8","v":""},null,null,null,{"$f":"bksingh!$ADE$8","v":""},null,null,null,{"$f":"bksingh!$ADE$8","v":""},null,null,null,{"$f":"bksingh!$ADE$8","v":""},null,null,null,{"$f":"bksingh!$ADE$8","v":""},null,null,null,{"$f":"bksingh!$ADE$8","v":""},null,null,null,{"$f":"bksingh!$ADE$8","v":""},null,null,null,{"$f":"bksingh!$ADE$8","v":""},null,null,null,{"$f":"bksingh!$ADE$8","v":""},null,null,null,{"$f":"bksingh!$ADE$8","v":""},null,null,null,{"$f":"bksingh!$ADE$8","v":""},null,null,null,{"$f":"bksingh!$ADE$8","v":""},null,null,null,{"$f":"bksingh!$ADE$8","v":""},null,null,null,{"$f":"bksingh!$ADE$8","v":""},null,null,null,{"$f":"bksingh!$ADE$8","v":""},null,null,null,{"$f":"bksingh!$ADE$8","v":""},null,null,null,{"$f":"bksingh!$ADE$8","v":""},null,null,null,{"$f":"bksingh!$ADE$8","v":""},null,null,null,{"$f":"bksingh!$ADE$8","v":""},null,null,null,{"$f":"bksingh!$ADE$8","v":""},null,null,null,{"$f":"bksingh!$ADE$8","v":""},null,null,null,{"$f":"bksingh!$ADE$8","v":""},null,null,null,{"$f":"bksingh!$ADE$8","v":""},null,null,null,{"$f":"bksingh!$ADE$8","v":""},null,null,null,{"$f":"bksingh!$ADE$8","v":""},null,null,null,{"$f":"bksingh!$ADE$8","v":""},null,null,null,{"$f":"bksingh!$ADE$8","v":""},null,null,null,{"$f":"bksingh!$ADE$8","v":""},null,null,null,{"$f":"bksingh!$ADE$8","v":""},null,null,null,{"$f":"bksingh!$ADE$8","v":""},null,null,null,{"$f":"bksingh!$ADE$8","v":""},null,null,null,{"$f":"bksingh!$ADE$8","v":""},null,null,null,{"$f":"bksingh!$ADE$8","v":""},null,null,null,{"$f":"bksingh!$ADE$8","v":""},null,null,null,{"$f":"bksingh!$ADE$8","v":""},null,null,null,{"$f":"bksingh!$ADE$8","v":""},null,null,null,{"$f":"bksingh!$ADE$8","v":""},null,null,null,{"$f":"bksingh!$ADE$8","v":""},null,null,null,{"$f":"bksingh!$ADE$8","v":""},null,null,null,{"$f":"bksingh!$ADE$8","v":""},null,null,null,{"$f":"bksingh!$ADE$8","v":""},null,null,null,{"$f":"bksingh!$ADE$8","v":""},null,null,null,{"$f":"bksingh!$ADE$8","v":""},null,null,null,{"$f":"bksingh!$ADE$8","v":""},null,null,null,{"$f":"bksingh!$ADE$8","v":""},null,null,null,{"$f":"bksingh!$ADE$8","v":""},null,null,null,{"$f":"bksingh!$ADE$8","v":""},null,null,null,{"$f":"bksingh!$ADE$8","v":""},null,null,null,{"$f":"bksingh!$ADE$8","v":""},null,null,null,{"$f":"bksingh!$ADE$8","v":""},null,null,null,{"$f":"bksingh!$ADE$8","v":""},null,null,null,{"$f":"bksingh!$ADE$8","v":""},null,null,null,{"$f":"bksingh!$ADE$8","v":""},null,null,null,{"$f":"bksingh!$ADE$8","v":""},null,null,null,{"$f":"bksingh!$ADE$8","v":""},null,null,null,{"$f":"bksingh!$ADE$8","v":""},null,null,null,{"$f":"bksingh!$ADE$8","v":""},null,null,null,{"$f":"bksingh!$ADE$8","v":""},null,null,null,{"$f":"bksingh!$ADE$8","v":""},null,null,null,{"$f":"bksingh!$ADE$8","v":""},null,null,null,{"$f":"bksingh!$ADE$8","v":""},null,null,null,{"$f":"bksingh!$ADE$8","v":""},null,null,null,{"$f":"bksingh!$ADE$8","v":""},null,null,null,{"$f":"bksingh!$ADE$8","v":""},null,null,null,{"$f":"bksingh!$ADE$8","v":""},null,null,null,{"$f":"bksingh!$ADE$8","v":""},null,null,null,{"$f":"bksingh!$ADE$8","v":""},null,null,null,{"$f":"bksingh!$ADE$8","v":""},null,null,null,{"$f":"bksingh!$ADE$8","v":""},null,null,null,{"$f":"bksingh!$ADE$8","v":""},null,null,null,{"$f":"bksingh!$ADE$8","v":""},null,null,null,{"$f":"bksingh!$ADE$8","v":""},null,null,null,{"$f":"bksingh!$ADE$8","v":""},null,null,null,{"$f":"bksingh!$ADE$8","v":""},null,null,null,{"$f":"bksingh!$ADE$8","v":""},null,null,null,{"$f":"bksingh!$ADE$8","v":""},null,null,null,{"$f":"bksingh!$ADE$8","v":""},null,null,null,{"$f":"bksingh!$ADE$8","v":""},null,null,null,{"$f":"bksingh!$ADE$8","v":""},null,null,null,{"$f":"bksingh!$ADE$8","v":""},null,null,null,{"$f":"bksingh!$ADE$8","v":""},null,null,null,{"$f":"bksingh!$ADE$8","v":""},null,null,null,{"$f":"bksingh!$ADE$8","v":""},null,null,null,{"$f":"bksingh!$ADE$8","v":""},null,null,null,{"$f":"bksingh!$ADE$8","v":""},null,null,null,{"$f":"bksingh!$ADE$8","v":""},null,null,null,{"$f":"bksingh!$ADE$8","v":""},null,null,null,{"$f":"bksingh!$ADE$8","v":""},null,null,null,{"$f":"bksingh!$ADE$8","v":""},null,null,null,{"$f":"bksingh!$ADE$8","v":""},null,null,null,{"$f":"bksingh!$ADE$8","v":""},null,null,null,{"$f":"bksingh!$ADE$8","v":""},null,null,null,{"$f":"bksingh!$ADE$8","v":""},null,null,null,{"$f":"bksingh!$ADE$8","v":""},null,null,null,{"$f":"bksingh!$ADE$8","v":""},null,null,null,{"$f":"bksingh!$ADE$8","v":""},null,null,null,{"$f":"bksingh!$ADE$8","v":""},null,null,null,{"$f":"bksingh!$ADE$8","v":""},null,null,null,{"$f":"bksingh!$ADE$8","v":""},null,null,null,{"$f":"bksingh!$ADE$8","v":""},null,null,null,{"$f":"bksingh!$ADE$8","v":""},null,null,null,{"$f":"bksingh!$ADE$8","v":""},null,null,null,{"$f":"bksingh!$ADE$8","v":""},null,null,null,{"$f":"bksingh!$ADE$8","v":""},null,null,null,{"$f":"bksingh!$ADE$8","v":""},null,null,null,{"$f":"bksingh!$ADE$8","v":""},null,null,null,{"$f":"bksingh!$ADE$8","v":""},null,null,null,{"$f":"bksingh!$ADE$8","v":""},null,null,null,{"$f":"bksingh!$ADE$8","v":""},null,null,null,{"$f":"bksingh!$ADE$8","v":""},null,null,null,{"$f":"bksingh!$ADE$8","v":""},null,null,null,{"$f":"bksingh!$ADE$8","v":""},null,null,null,{"$f":"bksingh!$ADE$8","v":""},null,null,null,{"$f":"bksingh!$ADE$8","v":""},null,null,null,{"$f":"bksingh!$ADE$8","v":""},null,null,null,{"$f":"bksingh!$ADE$8","v":""},null,null,null,{"$f":"bksingh!$ADE$8","v":""},null,null,null,{"$f":"bksingh!$ADE$8","v":""},null,null,null,{"$f":"bksingh!$ADE$8","v":""},null,null,null,{"$f":"bksingh!$ADE$8","v":""},null,null,null,{"$f":"bksingh!$ADE$8","v":""},null,null,null,{"$f":"bksingh!$ADE$8","v":""},null,null,null,{"$f":"bksingh!$ADE$8","v":""},null,null,null,{"$f":"bksingh!$ADE$8","v":""},null,null,null,{"$f":"bksingh!$ADE$8","v":""},null,null,null,{"$f":"bksingh!$ADE$8","v":""},null,null,null,{"$f":"bksingh!$ADE$8","v":""},null,null,null,{"$f":"bksingh!$ADE$8","v":""},null,null,null,{"$f":"bksingh!$ADE$8","v":""},null,null,null,{"$f":"bksingh!$ADE$8","v":""},null,null,null,{"$f":"bksingh!$ADE$8","v":""},null,null,null,{"$f":"bksingh!$ADE$8","v":""},null,null,null,{"$f":"bksingh!$ADE$8","v":""},null,null,null,{"$f":"bksingh!$ADE$8","v":""},null,null,null,{"$f":"bksingh!$ADE$8","v":""},null,null,null,{"$f":"bksingh!$ADE$8","v":""},null,null,null,{"$f":"bksingh!$ADE$8","v":""},null,null,null,{"$f":"bksingh!$ADE$8","v":""},null,null,null,{"$f":"bksingh!$ADE$8","v":""},null,null,null,{"$f":"bksingh!$ADE$8","v":""},null,null,null,{"$f":"bksingh!$ADE$8","v":""},null,null,null,{"$f":"bksingh!$ADE$8","v":""},null,null,null,{"$f":"bksingh!$ADE$8","v":""},null,null,null,{"$f":"bksingh!$ADE$8","v":""},null,null,null,{"$f":"bksingh!$ADE$8","v":""},null,null,null,{"$f":"bksingh!$ADE$8","v":""},null,null,null,{"$f":"bksingh!$ADE$8","v":""},null,null,null,{"$f":"bksingh!$ADE$8","v":""},null,null,null,{"$f":"bksingh!$ADE$8","v":""},null,null,null,{"$f":"bksingh!$ADE$8","v":""},null,null,null,{"$f":"bksingh!$ADE$8","v":""},null,null,null,{"$f":"bksingh!$ADE$8","v":""},null,null,null,{"$f":"bksingh!$ADE$8","v":""},null,null,null,{"$f":"bksingh!$ADE$8","v":""},null,null,null,{"$f":"bksingh!$ADE$8","v":""},null,null,null,{"$f":"bksingh!$ADE$8","v":""},null,null,null,{"$f":"bksingh!$ADE$8","v":""},null,null,null,{"$f":"bksingh!$ADE$8","v":""},null,null,null,{"$f":"bksingh!$ADE$8","v":""},null,null,null,{"$f":"bksingh!$ADE$8","v":""},null,null,null,{"$f":"bksingh!$ADE$8","v":""},null,null,null,{"$f":"bksingh!$ADE$8","v":""},null,null,null,{"$f":"bksingh!$ADE$8","v":""},null,null,null,{"$f":"bksingh!$ADE$8","v":""},null,null,null,{"$f":"bksingh!$ADE$8","v":""},null,null,null,{"$f":"bksingh!$ADE$8","v":""},null,null,null,{"$f":"bksingh!$ADE$8","v":""},null,null,null,{"$f":"bksingh!$ADE$8","v":""},null,null,null,{"$f":"bksingh!$ADE$8","v":""},null,null,null,{"$f":"bksingh!$ADE$8","v":""},null,null,null,{"$f":"bksingh!$ADE$8","v":""},null,null,null,{"$f":"bksingh!$ADE$8","v":""},null,null,null,{"$f":"bksingh!$ADE$8","v":""},null,null,null,{"$f":"bksingh!$ADE$8","v":""},null,null,null,{"$f":"bksingh!$ADE$8","v":""},null,null,null,{"$f":"bksingh!$ADE$8","v":""},null,null,null,{"$f":"bksingh!$ADE$8","v":""},null,null,null,{"$f":"bksingh!$ADE$8","v":""},null,null,null,{"$f":"bksingh!$ADE$8","v":""},null,null,null,{"$f":"bksingh!$ADE$8","v":""},null,null,null,{"$f":"bksingh!$ADE$8","v":""},null,null,null,{"$f":"bksingh!$ADE$8","v":""},null,null,null,{"$f":"bksingh!$ADE$8","v":""},null,null,null,{"$f":"bksingh!$ADE$8","v":""},null,null,null,{"$f":"bksingh!$ADE$8","v":""},null,null,null,{"$f":"bksingh!$ADE$8","v":""},null,null,null,{"$f":"bksingh!$ADE$8","v":""},null,null,null,{"$f":"bksingh!$ADE$8","v":""},null,null,null,{"$f":"bksingh!$ADE$8","v":""},null,null,null,{"$f":"bksingh!$ADE$8","v":""},null,null,null,{"$f":"bksingh!$ADE$8","v":""},null,null,null,{"$f":"bksingh!$ADE$8","v":""},null,null,null,{"$f":"bksingh!$ADE$8","v":""},null,null,null,{"$f":"bksingh!$ADE$8","v":""},null,null,null,{"$f":"bksingh!$ADE$8","v":""},null,null,null,{"$f":"bksingh!$ADE$8","v":""},null,null,null,{"$f":"bksingh!$ADE$8","v":""},null,null,null,{"$f":"bksingh!$ADE$8","v":""},null,null,null,{"$f":"bksingh!$ADE$8","v":""},null,null,null,{"$f":"bksingh!$ADE$8","v":""},null,null,null,{"$f":"bksingh!$ADE$8","v":""},null,null,null,{"$f":"bksingh!$ADE$8","v":""},null,null,null,{"$f":"bksingh!$ADE$8","v":""},null,null,null,{"$f":"bksingh!$ADE$8","v":""},null,null,null,{"$f":"bksingh!$ADE$8","v":""},null,null,null,{"$f":"bksingh!$ADE$8","v":""},null,null,null,{"$f":"bksingh!$ADE$8","v":""},null,null,null,{"$f":"bksingh!$ADE$8","v":""},null,null,null,{"$f":"bksingh!$ADE$8","v":""},null,null,null,{"$f":"bksingh!$ADE$8","v":""},null,null,null,{"$f":"bksingh!$ADE$8","v":""},null,null,null,{"$f":"bksingh!$ADE$8","v":""},null,null,null,{"$f":"bksingh!$ADE$8","v":""},null,null,null,{"$f":"bksingh!$ADE$8","v":""},null,null,null,{"$f":"bksingh!$ADE$8","v":""},null,null,null,{"$f":"bksingh!$ADE$8","v":""},null,null,null,{"$f":"bksingh!$ADE$8","v":""},null,null,null,{"$f":"bksingh!$ADE$8","v":""},null,null,null,{"$f":"bksingh!$ADE$8","v":""},null,null,null,{"$f":"bksingh!$ADE$8","v":""},null,null,null,{"$f":"bksingh!$ADE$8","v":""},null,null,null,{"$f":"bksingh!$ADE$8","v":""},null,null,null,{"$f":"bksingh!$ADE$8","v":""},null,null,null,{"$f":"bksingh!$ADE$8","v":""},null,null,null,{"$f":"bksingh!$ADE$8","v":""},null,null,null,{"$f":"bksingh!$ADE$8","v":""},null,null,null,{"$f":"bksingh!$ADE$8","v":""},null,null,null,{"$f":"bksingh!$ADE$8","v":""},null,null,null,{"$f":"bksingh!$ADE$8","v":""},null,null,null,{"$f":"bksingh!$ADE$8","v":""},null,null,null,{"$f":"bksingh!$ADE$8","v":""},null,null,null,{"$f":"bksingh!$ADE$8","v":""},null,null,null,{"$f":"bksingh!$ADE$8","v":""},null,null,null,{"$f":"bksingh!$ADE$8","v":""},null,null,null,{"$f":"bksingh!$ADE$8","v":""},null,null,null,{"$f":"bksingh!$ADE$8","v":""},null,null,null,{"$f":"bksingh!$ADE$8","v":""},null,null,null,{"$f":"bksingh!$ADE$8","v":""},null,null,null,{"$f":"bksingh!$ADE$8","v":""},null,null,null,{"$f":"bksingh!$ADE$8","v":""},null,null,null,{"$f":"bksingh!$ADE$8","v":""},null,null,null,{"$f":"bksingh!$ADE$8","v":""},null,null,null,{"$f":"bksingh!$ADE$8","v":""},null,null,null,{"$f":"bksingh!$ADE$8","v":""},null,null,null,{"$f":"bksingh!$ADE$8","v":""},null,null,null,{"$f":"bksingh!$ADE$8","v":""},null,null,null,{"$f":"bksingh!$ADE$8","v":""},null,null,null,{"$f":"bksingh!$ADE$8","v":""},null,null,null,{"$f":"bksingh!$ADE$8","v":""},null,null,null,{"$f":"bksingh!$ADE$8","v":""},null,null,null,{"$f":"bksingh!$ADE$8","v":""},null,null,null,{"$f":"bksingh!$ADE$8","v":""},null,null,null,{"$f":"bksingh!$ADE$8","v":""},null,null,null,{"$f":"bksingh!$ADE$8","v":""},null,null,null,{"$f":"bksingh!$ADE$8","v":""},null,null,null,{"$f":"bksingh!$ADE$8","v":""},null,null,null,{"$f":"bksingh!$ADE$8","v":""},null,null,null,{"$f":"bksingh!$ADE$8","v":""},null,null,null,{"$f":"bksingh!$ADE$8","v":""},null,null,null,{"$f":"bksingh!$ADE$8","v":""},null,null,null,{"$f":"bksingh!$ADE$8","v":""},null,null,null,{"$f":"bksingh!$ADE$8","v":""},null,null,null,{"$f":"bksingh!$ADE$8","v":""},null,null,null,{"$f":"bksingh!$ADE$8","v":""},null,null,null,{"$f":"bksingh!$ADE$8","v":""},null,null,null,{"$f":"bksingh!$ADE$8","v":""},null,null,null,{"$f":"bksingh!$ADE$8","v":""},null,null,null,{"$f":"bksingh!$ADE$8","v":""},null,null,null,{"$f":"bksingh!$ADE$8","v":""},null,null,null,{"$f":"bksingh!$ADE$8","v":""},null,null,null,{"$f":"bksingh!$ADE$8","v":""},null,null,null,{"$f":"bksingh!$ADE$8","v":""},null,null,null,{"$f":"bksingh!$ADE$8","v":""},null,null,null,{"$f":"bksingh!$ADE$8","v":""},null,null,null,{"$f":"bksingh!$ADE$8","v":""},null,null,null,{"$f":"bksingh!$ADE$8","v":""},null,null,null,{"$f":"bksingh!$ADE$8","v":""},null,null,null,{"$f":"bksingh!$ADE$8","v":""},null,null,null,{"$f":"bksingh!$ADE$8","v":""},null,null,null,{"$f":"bksingh!$ADE$8","v":""},null,null,null,{"$f":"bksingh!$ADE$8","v":""},null,null,null,{"$f":"bksingh!$ADE$8","v":""},null,null,null,{"$f":"bksingh!$ADE$8","v":""},null,null,null,{"$f":"bksingh!$ADE$8","v":""},null,null,null,{"$f":"bksingh!$ADE$8","v":""},null,null,null,{"$f":"bksingh!$ADE$8","v":""},null,null,null,{"$f":"bksingh!$ADE$8","v":""},null,null,null,{"$f":"bksingh!$ADE$8","v":""},null,null,null,{"$f":"bksingh!$ADE$8","v":""},null,null,null,{"$f":"bksingh!$ADE$8","v":""},null,null,null,{"$f":"bksingh!$ADE$8","v":""},null,null,null,{"$f":"bksingh!$ADE$8","v":""},null,null,null,{"$f":"bksingh!$ADE$8","v":""},null,null,null,{"$f":"bksingh!$ADE$8","v":""},null,null,null,{"$f":"bksingh!$ADE$8","v":""},null,null,null,{"$f":"bksingh!$ADE$8","v":""},null,null,null,{"$f":"bksingh!$ADE$8","v":""},null,null,null,{"$f":"bksingh!$ADE$8","v":""},null,null,null,{"$f":"bksingh!$ADE$8","v":""},null,null,null,{"$f":"bksingh!$ADE$8","v":""},null,null,null,{"$f":"bksingh!$ADE$8","v":""},null,null,null,{"$f":"bksingh!$ADE$8","v":""},null,null,null,{"$f":"bksingh!$ADE$8","v":""},null,null,null,{"$f":"bksingh!$ADE$8","v":""},null,null,null,{"$f":"bksingh!$ADE$8","v":""},null,null,null,{"$f":"bksingh!$ADE$8","v":""},null,null,null,{"$f":"bksingh!$ADE$8","v":""},null,null,null,{"$f":"bksingh!$ADE$8","v":""},null,null,null,{"$f":"bksingh!$ADE$8","v":""},null,null,null,{"$f":"bksingh!$ADE$8","v":""},null,null,null,{"$f":"bksingh!$ADE$8","v":""},null,null,null,{"$f":"bksingh!$ADE$8","v":""},null,null,null,{"$f":"bksingh!$ADE$8","v":""},null,null,null,{"$f":"bksingh!$ADE$8","v":""},null,null,null,{"$f":"bksingh!$ADE$8","v":""},null,null,null,{"$f":"bksingh!$ADE$8","v":""},null,null,null,{"$f":"bksingh!$ADE$8","v":""},null,null,null,{"$f":"bksingh!$ADE$8","v":""},null,null,null,{"$f":"bksingh!$ADE$8","v":""},null,null,null,{"$f":"bksingh!$ADE$8","v":""},null,null,null,{"$f":"bksingh!$ADE$8","v":""},null,null,null,{"$f":"bksingh!$ADE$8","v":""},null,null,null,{"$f":"bksingh!$ADE$8","v":""},null,null,null,{"$f":"bksingh!$ADE$8","v":""},null,null,null,{"$f":"bksingh!$ADE$8","v":""},null,null,null,{"$f":"bksingh!$ADE$8","v":""},null,null,null,{"$f":"bksingh!$ADE$8","v":""},null,null,null,{"$f":"bksingh!$ADE$8","v":""},null,null,null,{"$f":"bksingh!$ADE$8","v":""},null,null,null,{"$f":"bksingh!$ADE$8","v":""},null,null,null,{"$f":"bksingh!$ADE$8","v":""},null,null,null,{"$f":"bksingh!$ADE$8","v":""},null,null,null,{"$f":"bksingh!$ADE$8","v":""},null,null,null,{"$f":"bksingh!$ADE$8","v":""},null,null,null,{"$f":"bksingh!$ADE$8","v":""},null,null,null,{"$f":"bksingh!$ADE$8","v":""},null,null,null,{"$f":"bksingh!$ADE$8","v":""},null,null,null,{"$f":"bksingh!$ADE$8","v":""},null,null,null,{"$f":"bksingh!$ADE$8","v":""},null,null,null,{"$f":"bksingh!$ADE$8","v":""},null,null,null,{"$f":"bksingh!$ADE$8","v":""},null,null,null,{"$f":"bksingh!$ADE$8","v":""},null,null,null,{"$f":"bksingh!$ADE$8","v":""},null,null,null,{"$f":"bksingh!$ADE$8","v":""},null,null,null,{"$f":"bksingh!$ADE$8","v":""},null,null,null,{"$f":"bksingh!$ADE$8","v":""},null,null,null,{"$f":"bksingh!$ADE$8","v":""},null,null,null,{"$f":"bksingh!$ADE$8","v":""},null,null,null,{"$f":"bksingh!$ADE$8","v":""},null,null,null,{"$f":"bksingh!$ADE$8","v":""},null,null,null,{"$f":"bksingh!$ADE$8","v":""},null,null,null,{"$f":"bksingh!$ADE$8","v":""},null,null,null,{"$f":"bksingh!$ADE$8","v":""},null,null,null,{"$f":"bksingh!$ADE$8","v":""},null,null,null,{"$f":"bksingh!$ADE$8","v":""},null,null,null,{"$f":"bksingh!$ADE$8","v":""},null,null,null,{"$f":"bksingh!$ADE$8","v":""},null,null,null,{"$f":"bksingh!$ADE$8","v":""},null,null,null,{"$f":"bksingh!$ADE$8","v":""},null,null,null,{"$f":"bksingh!$ADE$8","v":""},null,null,null,{"$f":"bksingh!$ADE$8","v":""},null,null,null,{"$f":"bksingh!$ADE$8","v":""},null,null,null,{"$f":"bksingh!$ADE$8","v":""},null,null,null,{"$f":"bksingh!$ADE$8","v":""},null,null,null,{"$f":"bksingh!$ADE$8","v":""},null,null,null,{"$f":"bksingh!$ADE$8","v":""},null,null,null,{"$f":"bksingh!$ADE$8","v":""},null,null,null,{"$f":"bksingh!$ADE$8","v":""},null,null,null,{"$f":"bksingh!$ADE$8","v":""},null,null,null,{"$f":"bksingh!$ADE$8","v":""},null,null,null,{"$f":"bksingh!$ADE$8","v":""},null,null,null,{"$f":"bksingh!$ADE$8","v":""},null,null,null,{"$f":"bksingh!$ADE$8","v":""},null,null,null,{"$f":"bksingh!$ADE$8","v":""},null,null,null,{"$f":"bksingh!$ADE$8","v":""},null,null,null,{"$f":"bksingh!$ADE$8","v":""},null,null,null,{"$f":"bksingh!$ADE$8","v":""},null,null,null,{"$f":"bksingh!$ADE$8","v":""},null,null,null,{"$f":"bksingh!$ADE$8","v":""},null,null,null,{"$f":"bksingh!$ADE$8","v":""},null,null,null,{"$f":"bksingh!$ADE$8","v":""},null,null,null,{"$f":"bksingh!$ADE$8","v":""},null,null,null,{"$f":"bksingh!$ADE$8","v":""},null,null,null,{"$f":"bksingh!$ADE$8","v":""},null,null,null,{"$f":"bksingh!$ADE$8","v":""},null,null,null,{"$f":"bksingh!$ADE$8","v":""},null,null,null,{"$f":"bksingh!$ADE$8","v":""},null,null,null,{"$f":"bksingh!$ADE$8","v":""},null,null,null,{"$f":"bksingh!$ADE$8","v":""},null,null,null,{"$f":"bksingh!$ADE$8","v":""},null,null,null,{"$f":"bksingh!$ADE$8","v":""},null,null,null,{"$f":"bksingh!$ADE$8","v":""},null,null,null,{"$f":"bksingh!$ADE$8","v":""},null,null,null,{"$f":"bksingh!$ADE$8","v":""},null,null,null,{"$f":"bksingh!$ADE$8","v":""},null,null,null,{"$f":"bksingh!$ADE$8","v":""},null,null,null,{"$f":"bksingh!$ADE$8","v":""},null,null,null,{"$f":"bksingh!$ADE$8","v":""},null,null,null,{"$f":"bksingh!$ADE$8","v":""},null,null,null,{"$f":"bksingh!$ADE$8","v":""},null,null,null,{"$f":"bksingh!$ADE$8","v":""},null,null,null,{"$f":"bksingh!$ADE$8","v":""},null,null,null,{"$f":"bksingh!$ADE$8","v":""},null,null,null,{"$f":"bksingh!$ADE$8","v":""},null,null,null,{"$f":"bksingh!$ADE$8","v":""},null,null,null,{"$f":"bksingh!$ADE$8","v":""},null,null,null,{"$f":"bksingh!$ADE$8","v":""},null,null,null,{"$f":"bksingh!$ADE$8","v":""},null,null,null,{"$f":"bksingh!$ADE$8","v":""},null,null,null,{"$f":"bksingh!$ADE$8","v":""},null,null,null,{"$f":"bksingh!$ADE$8","v":""},null,null,null,{"$f":"bksingh!$ADE$8","v":""},null,null,null,{"$f":"bksingh!$ADE$8","v":""},null,null,null,{"$f":"bksingh!$ADE$8","v":""},null,null,null,{"$f":"bksingh!$ADE$8","v":""},null,null,null,{"$f":"bksingh!$ADE$8","v":""},null,null,null,{"$f":"bksingh!$ADE$8","v":""},null,null,null,{"$f":"bksingh!$ADE$8","v":""},null,null,null,{"$f":"bksingh!$ADE$8","v":""},null,null,null,{"$f":"bksingh!$ADE$8","v":""},null,null,null,{"$f":"bksingh!$ADE$8","v":""},null,null,null,{"$f":"bksingh!$ADE$8","v":""},null,null,null,{"$f":"bksingh!$ADE$8","v":""},null,null,null,{"$f":"bksingh!$ADE$8","v":""},null,null,null,{"$f":"bksingh!$ADE$8","v":""},null,null,null,{"$f":"bksingh!$ADE$8","v":""},null,null,null,{"$f":"bksingh!$ADE$8","v":""},null,null,null,{"$f":"bksingh!$ADE$8","v":""},null,null,null,{"$f":"bksingh!$ADE$8","v":""},null,null,null,{"$f":"bksingh!$ADE$8","v":""},null,null,null,{"$f":"bksingh!$ADE$8","v":""},null,null,null,{"$f":"bksingh!$ADE$8","v":""},null,null,null,{"$f":"bksingh!$ADE$8","v":""},null,null,null,{"$f":"bksingh!$ADE$8","v":""},null,null,null,{"$f":"bksingh!$ADE$8","v":""},null,null,null,{"$f":"bksingh!$ADE$8","v":""},null,null,null,{"$f":"bksingh!$ADE$8","v":""},null,null,null,{"$f":"bksingh!$ADE$8","v":""},null,null,null,{"$f":"bksingh!$ADE$8","v":""},null,null,null,{"$f":"bksingh!$ADE$8","v":""},null,null,null,{"$f":"bksingh!$ADE$8","v":""},null,null,null,{"$f":"bksingh!$ADE$8","v":""},null,null,null,{"$f":"bksingh!$ADE$8","v":""},null,null,null,{"$f":"bksingh!$ADE$8","v":""},null,null,null,{"$f":"bksingh!$ADE$8","v":""},null,null,null,{"$f":"bksingh!$ADE$8","v":""},null,null,null,{"$f":"bksingh!$ADE$8","v":""},null,null,null,{"$f":"bksingh!$ADE$8","v":""},null,null,null,{"$f":"bksingh!$ADE$8","v":""},null,null,null,{"$f":"bksingh!$ADE$8","v":""},null,null,null,{"$f":"bksingh!$ADE$8","v":""},null,null,null,{"$f":"bksingh!$ADE$8","v":""},null,null,null,{"$f":"bksingh!$ADE$8","v":""},null,null,null,{"$f":"bksingh!$ADE$8","v":""},null,null,null,{"$f":"bksingh!$ADE$8","v":""},null,null,null,{"$f":"bksingh!$ADE$8","v":""},null,null,null,{"$f":"bksingh!$ADE$8","v":""},null,null,null,{"$f":"bksingh!$ADE$8","v":""},null,null,null,{"$f":"bksingh!$ADE$8","v":""},null,null,null,{"$f":"bksingh!$ADE$8","v":""},null,null,null,{"$f":"bksingh!$ADE$8","v":""},null,null,null,{"$f":"bksingh!$ADE$8","v":""},null,null,null,{"$f":"bksingh!$ADE$8","v":""},null,null,null,{"$f":"bksingh!$ADE$8","v":""},null,null,null,{"$f":"bksingh!$ADE$8","v":""},null,null,null,{"$f":"bksingh!$ADE$8","v":""},null,null,null,{"$f":"bksingh!$ADE$8","v":""},null,null,null,{"$f":"bksingh!$ADE$8","v":""},null,null,null,{"$f":"bksingh!$ADE$8","v":""},null,null,null,{"$f":"bksingh!$ADE$8","v":""},null,null,null,{"$f":"bksingh!$ADE$8","v":""},null,null,null,{"$f":"bksingh!$ADE$8","v":""},null,null,null,{"$f":"bksingh!$ADE$8","v":""},null,null,null,{"$f":"bksingh!$ADE$8","v":""},null,null,null,{"$f":"bksingh!$ADE$8","v":""},null,null,null,{"$f":"bksingh!$ADE$8","v":""},null,null,null,{"$f":"bksingh!$ADE$8","v":""},null,null,null,{"$f":"bksingh!$ADE$8","v":""},null,null,null,{"$f":"bksingh!$ADE$8","v":""},null,null,null,{"$f":"bksingh!$ADE$8","v":""},null,null,null,{"$f":"bksingh!$ADE$8","v":""},null,null,null,{"$f":"bksingh!$ADE$8","v":""},null,null,null,{"$f":"bksingh!$ADE$8","v":""},null,null,null,{"$f":"bksingh!$ADE$8","v":""},null,null,null,{"$f":"bksingh!$ADE$8","v":""},null,null,null,{"$f":"bksingh!$ADE$8","v":""},null,null,null,{"$f":"bksingh!$ADE$8","v":""},null,null,null,{"$f":"bksingh!$ADE$8","v":""},null,null,null,{"$f":"bksingh!$ADE$8","v":""},null,null,null,{"$f":"bksingh!$ADE$8","v":""},null,null,null,{"$f":"bksingh!$ADE$8","v":""},null,null,null,{"$f":"bksingh!$ADE$8","v":""},null,null,null,{"$f":"bksingh!$ADE$8","v":""},null,null,null,{"$f":"bksingh!$ADE$8","v":""},null,null,null,{"$f":"bksingh!$ADE$8","v":""},null,null,null,{"$f":"bksingh!$ADE$8","v":""},null,null,null,{"$f":"bksingh!$ADE$8","v":""},null,null,null,{"$f":"bksingh!$ADE$8","v":""},null,null,null,{"$f":"bksingh!$ADE$8","v":""},null,null,null,{"$f":"bksingh!$ADE$8","v":""},null,null,null,{"$f":"bksingh!$ADE$8","v":""},null,null,null,{"$f":"bksingh!$ADE$8","v":""},null,null,null,{"$f":"bksingh!$ADE$8","v":""},null,null,null,{"$f":"bksingh!$ADE$8","v":""},null,null,null,{"$f":"bksingh!$ADE$8","v":""},null,null,null,{"$f":"bksingh!$ADE$8","v":""},null,null,null,{"$f":"bksingh!$ADE$8","v":""},null,null,null,{"$f":"bksingh!$ADE$8","v":""},null,null,null,{"$f":"bksingh!$ADE$8","v":""},null,null,null,{"$f":"bksingh!$ADE$8","v":""},null,null,null,{"$f":"bksingh!$ADE$8","v":""},null,null,null,{"$f":"bksingh!$ADE$8","v":""},null,null,null,{"$f":"bksingh!$ADE$8","v":""},null,null,null,{"$f":"bksingh!$ADE$8","v":""},null,null,null,{"$f":"bksingh!$ADE$8","v":""},null,null,null,{"$f":"bksingh!$ADE$8","v":""},null,null,null,{"$f":"bksingh!$ADE$8","v":""},null,null,null,{"$f":"bksingh!$ADE$8","v":""},null,null,null,{"$f":"bksingh!$ADE$8","v":""},null,null,null,{"$f":"bksingh!$ADE$8","v":""},null,null,null,{"$f":"bksingh!$ADE$8","v":""},null,null,null,{"$f":"bksingh!$ADE$8","v":""},null,null,null,{"$f":"bksingh!$ADE$8","v":""},null,null,null,{"$f":"bksingh!$ADE$8","v":""},null,null,null,{"$f":"bksingh!$ADE$8","v":""},null,null,null,{"$f":"bksingh!$ADE$8","v":""},null,null,null,{"$f":"bksingh!$ADE$8","v":""},null,null,null,{"$f":"bksingh!$ADE$8","v":""},null,null,null,{"$f":"bksingh!$ADE$8","v":""},null,null,null,{"$f":"bksingh!$ADE$8","v":""},null,null,null,{"$f":"bksingh!$ADE$8","v":""},null,null,null,{"$f":"bksingh!$ADE$8","v":""},null,null,null,{"$f":"bksingh!$ADE$8","v":""},null,null,null,{"$f":"bksingh!$ADE$8","v":""},null,null,null,{"$f":"bksingh!$ADE$8","v":""},null,null,null,{"$f":"bksingh!$ADE$8","v":""},null,null,null,{"$f":"bksingh!$ADE$8","v":""},null,null,null,{"$f":"bksingh!$ADE$8","v":""},null,null,null,{"$f":"bksingh!$ADE$8","v":""},null,null,null,{"$f":"bksingh!$ADE$8","v":""},null,null,null,{"$f":"bksingh!$ADE$8","v":""},null,null,null,{"$f":"bksingh!$ADE$8","v":""},null,null,null,{"$f":"bksingh!$ADE$8","v":""},null,null,null,{"$f":"bksingh!$ADE$8","v":""},null,null,null,{"$f":"bksingh!$ADE$8","v":""},null,null,null,{"$f":"bksingh!$ADE$8","v":""},null,null,null,{"$f":"bksingh!$ADE$8","v":""},null,null,null,{"$f":"bksingh!$ADE$8","v":""},null,null,null,{"$f":"bksingh!$ADE$8","v":""},null,null,null,{"$f":"bksingh!$ADE$8","v":""},null,null,null,{"$f":"bksingh!$ADE$8","v":""},null,null,null,{"$f":"bksingh!$ADE$8","v":""},null,null,null,{"$f":"bksingh!$ADE$8","v":""},null,null,null,{"$f":"bksingh!$ADE$8","v":""},null,null,null,{"$f":"bksingh!$ADE$8","v":""},null,null,null,{"$f":"bksingh!$ADE$8","v":""},null,null,null,{"$f":"bksingh!$ADE$8","v":""},null,null,null,{"$f":"bksingh!$ADE$8","v":""},null,null,null,{"$f":"bksingh!$ADE$8","v":""},null,null,null,{"$f":"bksingh!$ADE$8","v":""},null,null,null,{"$f":"bksingh!$ADE$8","v":""},null,null,null,{"$f":"bksingh!$ADE$8","v":""},null,null,null,{"$f":"bksingh!$ADE$8","v":""},null,null,null,{"$f":"bksingh!$ADE$8","v":""},null,null,null,{"$f":"bksingh!$ADE$8","v":""},null,null,null,{"$f":"bksingh!$ADE$8","v":""},null,null,null,{"$f":"bksingh!$ADE$8","v":""},null,null,null,{"$f":"bksingh!$ADE$8","v":""},null,null,null,{"$f":"bksingh!$ADE$8","v":""},null,null,null,{"$f":"bksingh!$ADE$8","v":""},null,null,null,{"$f":"bksingh!$ADE$8","v":""},null,null,null,{"$f":"bksingh!$ADE$8","v":""},null,null,null,{"$f":"bksingh!$ADE$8","v":""},null,null,null,{"$f":"bksingh!$ADE$8","v":""},null,null,null,{"$f":"bksingh!$ADE$8","v":""},null,null,null,{"$f":"bksingh!$ADE$8","v":""},null,null,null,{"$f":"bksingh!$ADE$8","v":""},null,null,null,{"$f":"bksingh!$ADE$8","v":""},null,null,null,{"$f":"bksingh!$ADE$8","v":""},null,null,null,{"$f":"bksingh!$ADE$8","v":""},null,null,null,{"$f":"bksingh!$ADE$8","v":""},null,null,null,{"$f":"bksingh!$ADE$8","v":""},null,null,null,{"$f":"bksingh!$ADE$8","v":""},null,null,null,{"$f":"bksingh!$ADE$8","v":""},null,null,null,{"$f":"bksingh!$ADE$8","v":""},null,null,null,{"$f":"bksingh!$ADE$8","v":""},null,null,null,{"$f":"bksingh!$ADE$8","v":""},null,null,null,{"$f":"bksingh!$ADE$8","v":""},null,null,null,{"$f":"bksingh!$ADE$8","v":""},null,null,null,{"$f":"bksingh!$ADE$8","v":""},null,null,null,{"$f":"bksingh!$ADE$8","v":""},null,null,null,{"$f":"bksingh!$ADE$8","v":""},null,null,null,{"$f":"bksingh!$ADE$8","v":""},null,null,null,{"$f":"bksingh!$ADE$8","v":""},null,null,null,{"$f":"bksingh!$ADE$8","v":""},null,null,null,{"$f":"bksingh!$ADE$8","v":""},null,null,null,{"$f":"bksingh!$ADE$8","v":""},null,null,null,{"$f":"bksingh!$ADE$8","v":""},null,null,null,{"$f":"bksingh!$ADE$8","v":""},null,null,null,{"$f":"bksingh!$ADE$8","v":""},null,null,null,{"$f":"bksingh!$ADE$8","v":""},null,null,null,{"$f":"bksingh!$ADE$8","v":""},null,null,null,{"$f":"bksingh!$ADE$8","v":""},null,null,null,{"$f":"bksingh!$ADE$8","v":""},null,null,null,{"$f":"bksingh!$ADE$8","v":""},null,null,null,{"$f":"bksingh!$ADE$8","v":""},null,null,null,{"$f":"bksingh!$ADE$8","v":""},null,null,null,{"$f":"bksingh!$ADE$8","v":""},null,null,null,{"$f":"bksingh!$ADE$8","v":""},null,null,null,{"$f":"bksingh!$ADE$8","v":""},null,null,null,{"$f":"bksingh!$ADE$8","v":""},null,null,null,{"$f":"bksingh!$ADE$8","v":""},null,null,null,{"$f":"bksingh!$ADE$8","v":""},null,null,null,{"$f":"bksingh!$ADE$8","v":""},null,null,null,{"$f":"bksingh!$ADE$8","v":""},null,null,null,{"$f":"bksingh!$ADE$8","v":""},null,null,null,{"$f":"bksingh!$ADE$8","v":""},null,null,null,{"$f":"bksingh!$ADE$8","v":""},null,null,null,{"$f":"bksingh!$ADE$8","v":""},null,null,null,{"$f":"bksingh!$ADE$8","v":""},null,null,null,{"$f":"bksingh!$ADE$8","v":""},null,null,null,{"$f":"bksingh!$ADE$8","v":""},null,null,null,{"$f":"bksingh!$ADE$8","v":""},null,null,null,{"$f":"bksingh!$ADE$8","v":""},null,null,null,{"$f":"bksingh!$ADE$8","v":""},null,null,null,{"$f":"bksingh!$ADE$8","v":""},null,null,null,{"$f":"bksingh!$ADE$8","v":""},null,null,null,{"$f":"bksingh!$ADE$8","v":""},null,null,null,{"$f":"bksingh!$ADE$8","v":""},null,null,null,{"$f":"bksingh!$ADE$8","v":""},null,null,null,{"$f":"bksingh!$ADE$8","v":""},null,null,null,{"$f":"bksingh!$ADE$8","v":""},null,null,null,{"$f":"bksingh!$ADE$8","v":""},null,null,null,{"$f":"bksingh!$ADE$8","v":""},null,null,null,{"$f":"bksingh!$ADE$8","v":""},null,null,null,{"$f":"bksingh!$ADE$8","v":""},null,null,null,{"$f":"bksingh!$ADE$8","v":""},null,null,null,{"$f":"bksingh!$ADE$8","v":""},null,null,null,{"$f":"bksingh!$ADE$8","v":""},null,null,null,{"$f":"bksingh!$ADE$8","v":""},null,null,null,{"$f":"bksingh!$ADE$8","v":""},null,null,null,{"$f":"bksingh!$ADE$8","v":""},null,null,null,{"$f":"bksingh!$ADE$8","v":""},null,null,null,{"$f":"bksingh!$ADE$8","v":""},null,null,null,{"$f":"bksingh!$ADE$8","v":""},null,null,null,{"$f":"bksingh!$ADE$8","v":""},null,null,null,{"$f":"bksingh!$ADE$8","v":""},null,null,null,{"$f":"bksingh!$ADE$8","v":""},null,null,null,{"$f":"bksingh!$ADE$8","v":""},null,null,null,{"$f":"bksingh!$ADE$8","v":""},null,null,null,{"$f":"bksingh!$ADE$8","v":""},null,null,null,{"$f":"bksingh!$ADE$8","v":""},null,null,null,{"$f":"bksingh!$ADE$8","v":""},null,null,null,{"$f":"bksingh!$ADE$8","v":""},null,null,null,{"$f":"bksingh!$ADE$8","v":""},null,null,null,{"$f":"bksingh!$ADE$8","v":""},null,null,null,{"$f":"bksingh!$ADE$8","v":""},null,null,null,{"$f":"bksingh!$ADE$8","v":""},null,null,null,{"$f":"bksingh!$ADE$8","v":""},null,null,null,{"$f":"bksingh!$ADE$8","v":""},null,null,null,{"$f":"bksingh!$ADE$8","v":""},null,null,null,{"$f":"bksingh!$ADE$8","v":""},null,null,null,{"$f":"bksingh!$ADE$8","v":""},null,null,null,{"$f":"bksingh!$ADE$8","v":""},null,null,null,{"$f":"bksingh!$ADE$8","v":""},null,null,null,{"$f":"bksingh!$ADE$8","v":""},null,null,null,{"$f":"bksingh!$ADE$8","v":""},null,null,null,{"$f":"bksingh!$ADE$8","v":""},null,null,null,{"$f":"bksingh!$ADE$8","v":""},null,null,null,{"$f":"bksingh!$ADE$8","v":""},null,null,null,{"$f":"bksingh!$ADE$8","v":""},null,null,null,{"$f":"bksingh!$ADE$8","v":""},null,null,null,{"$f":"bksingh!$ADE$8","v":""},null,null,null,{"$f":"bksingh!$ADE$8","v":""},null,null,null,{"$f":"bksingh!$ADE$8","v":""},null,null,null,{"$f":"bksingh!$ADE$8","v":""},null,null,null,{"$f":"bksingh!$ADE$8","v":""},null,null,null,{"$f":"bksingh!$ADE$8","v":""},null,null,null,{"$f":"bksingh!$ADE$8","v":""},null,null,null,{"$f":"bksingh!$ADE$8","v":""},null,null,null,{"$f":"bksingh!$ADE$8","v":""},null,null,null,{"$f":"bksingh!$ADE$8","v":""},null,null,null,{"$f":"bksingh!$ADE$8","v":""},null,null,null,{"$f":"bksingh!$ADE$8","v":""},null,null,null,{"$f":"bksingh!$ADE$8","v":""},null,null,null,{"$f":"bksingh!$ADE$8","v":""},null,null,null,{"$f":"bksingh!$ADE$8","v":""},null,null,null,{"$f":"bksingh!$ADE$8","v":""},null,null,null,{"$f":"bksingh!$ADE$8","v":""},null,null,null,{"$f":"bksingh!$ADE$8","v":""},null,null,null,{"$f":"bksingh!$ADE$8","v":""},null,null,null,{"$f":"bksingh!$ADE$8","v":""},null,null,null,{"$f":"bksingh!$ADE$8","v":""},null,null,null,{"$f":"bksingh!$ADE$8","v":""},null,null,null,{"$f":"bksingh!$ADE$8","v":""},null,null,null,{"$f":"bksingh!$ADE$8","v":""},null,null,null,{"$f":"bksingh!$ADE$8","v":""},null,null,null,{"$f":"bksingh!$ADE$8","v":""},null,null,null,{"$f":"bksingh!$ADE$8","v":""},null,null,null,{"$f":"bksingh!$ADE$8","v":""},null,null,null,{"$f":"bksingh!$ADE$8","v":""},null,null,null,{"$f":"bksingh!$ADE$8","v":""},null,null,null,{"$f":"bksingh!$ADE$8","v":""},null,null,null,{"$f":"bksingh!$ADE$8","v":""},null,null,null,{"$f":"bksingh!$ADE$8","v":""},null,null,null,{"$f":"bksingh!$ADE$8","v":""},null,null,null,{"$f":"bksingh!$ADE$8","v":""},null,null,null,{"$f":"bksingh!$ADE$8","v":""},null,null,null,{"$f":"bksingh!$ADE$8","v":""},null,null,null,{"$f":"bksingh!$ADE$8","v":""},null,null,null,{"$f":"bksingh!$ADE$8","v":""},null,null,null,{"$f":"bksingh!$ADE$8","v":""},null,null,null,{"$f":"bksingh!$ADE$8","v":""},null,null,null,{"$f":"bksingh!$ADE$8","v":""},null,null,null,{"$f":"bksingh!$ADE$8","v":""},null,null,null,{"$f":"bksingh!$ADE$8","v":""},null,null,null,{"$f":"bksingh!$ADE$8","v":""},null,null,null,{"$f":"bksingh!$ADE$8","v":""},null,null,null,{"$f":"bksingh!$ADE$8","v":""},null,null,null,{"$f":"bksingh!$ADE$8","v":""},null,null,null,{"$f":"bksingh!$ADE$8","v":""},null,null,null,{"$f":"bksingh!$ADE$8","v":""},null,null,null,{"$f":"bksingh!$ADE$8","v":""},null,null,null,{"$f":"bksingh!$ADE$8","v":""},null,null,null,{"$f":"bksingh!$ADE$8","v":""},null,null,null,{"$f":"bksingh!$ADE$8","v":""},null,null,null,{"$f":"bksingh!$ADE$8","v":""},null,null,null,{"$f":"bksingh!$ADE$8","v":""},null,null,null,{"$f":"bksingh!$ADE$8","v":""},null,null,null,{"$f":"bksingh!$ADE$8","v":""},null,null,null,{"$f":"bksingh!$ADE$8","v":""},null,null,null,{"$f":"bksingh!$ADE$8","v":""},null,null,null,{"$f":"bksingh!$ADE$8","v":""},null,null,null,{"$f":"bksingh!$ADE$8","v":""},null,null,null,{"$f":"bksingh!$ADE$8","v":""},null,null,null,{"$f":"bksingh!$ADE$8","v":""},null,null,null,{"$f":"bksingh!$ADE$8","v":""},null,null,null,{"$f":"bksingh!$ADE$8","v":""},null,null,null,{"$f":"bksingh!$ADE$8","v":""},null,null,null,{"$f":"bksingh!$ADE$8","v":""},null,null,null,{"$f":"bksingh!$ADE$8","v":""},null,null,null,{"$f":"bksingh!$ADE$8","v":""},null,null,null,{"$f":"bksingh!$ADE$8","v":""},null,null,null,{"$f":"bksingh!$ADE$8","v":""},null,null,null,{"$f":"bksingh!$ADE$8","v":""},null,null,null,{"$f":"bksingh!$ADE$8","v":""},null,null,null,{"$f":"bksingh!$ADE$8","v":""},null,null,null,{"$f":"bksingh!$ADE$8","v":""},null,null,null,{"$f":"bksingh!$ADE$8","v":""},null,null,null,{"$f":"bksingh!$ADE$8","v":""},null,null,null,{"$f":"bksingh!$ADE$8","v":""},null,null,null,{"$f":"bksingh!$ADE$8","v":""},null,null,null,{"$f":"bksingh!$ADE$8","v":""},null,null,null,{"$f":"bksingh!$ADE$8","v":""},null,null,null,{"$f":"bksingh!$ADE$8","v":""},null,null,null,{"$f":"bksingh!$ADE$8","v":""},null,null,null,{"$f":"bksingh!$ADE$8","v":""},null,null,null,{"$f":"bksingh!$ADE$8","v":""},null,null,null,{"$f":"bksingh!$ADE$8","v":""},null,null,null,{"$f":"bksingh!$ADE$8","v":""},null,null,null,{"$f":"bksingh!$ADE$8","v":""},null,null,null,{"$f":"bksingh!$ADE$8","v":""},null,null,null,{"$f":"bksingh!$ADE$8","v":""},null,null,null,{"$f":"bksingh!$ADE$8","v":""},null,null,null,{"$f":"bksingh!$ADE$8","v":""},null,null,null,{"$f":"bksingh!$ADE$8","v":""},null,null,null,{"$f":"bksingh!$ADE$8","v":""},null,null,null,{"$f":"bksingh!$ADE$8","v":""},null,null,null,{"$f":"bksingh!$ADE$8","v":""},null,null,null,{"$f":"bksingh!$ADE$8","v":""},null,null,null,{"$f":"bksingh!$ADE$8","v":""},null,null,null,{"$f":"bksingh!$ADE$8","v":""},null,null,null,{"$f":"bksingh!$ADE$8","v":""},null,null,null,{"$f":"bksingh!$ADE$8","v":""},null,null,null,{"$f":"bksingh!$ADE$8","v":""},null,null,null,{"$f":"bksingh!$ADE$8","v":""},null,null,null,{"$f":"bksingh!$ADE$8","v":""},null,null,null,{"$f":"bksingh!$ADE$8","v":""},null,null,null,{"$f":"bksingh!$ADE$8","v":""},null,null,null,{"$f":"bksingh!$ADE$8","v":""},null,null,null,{"$f":"bksingh!$ADE$8","v":""},null,null,null,{"$f":"bksingh!$ADE$8","v":""},null,null,null,{"$f":"bksingh!$ADE$8","v":""},null,null,null,{"$f":"bksingh!$ADE$8","v":""},null,null,null,{"$f":"bksingh!$ADE$8","v":""},null,null,null,{"$f":"bksingh!$ADE$8","v":""},null,null,null,{"$f":"bksingh!$ADE$8","v":""},null,null,null,{"$f":"bksingh!$ADE$8","v":""},null,null,null,{"$f":"bksingh!$ADE$8","v":""},null,null,null,{"$f":"bksingh!$ADE$8","v":""},null,null,null,{"$f":"bksingh!$ADE$8","v":""},null,null,null,{"$f":"bksingh!$ADE$8","v":""},null,null,null,{"$f":"bksingh!$ADE$8","v":""},null,null,null,{"$f":"bksingh!$ADE$8","v":""},null,null,null,{"$f":"bksingh!$ADE$8","v":""},null,null,null,{"$f":"bksingh!$ADE$8","v":""},null,null,null,{"$f":"bksingh!$ADE$8","v":""},null,null,null,{"$f":"bksingh!$ADE$8","v":""},null,null,null,{"$f":"bksingh!$ADE$8","v":""},null,null,null,{"$f":"bksingh!$ADE$8","v":""},null,null,null,{"$f":"bksingh!$ADE$8","v":""},null,null,null,{"$f":"bksingh!$ADE$8","v":""},null,null,null,{"$f":"bksingh!$ADE$8","v":""},null,null,null,{"$f":"bksingh!$ADE$8","v":""},null,null,null,{"$f":"bksingh!$ADE$8","v":""},null,null,null,{"$f":"bksingh!$ADE$8","v":""},null,null,null,{"$f":"bksingh!$ADE$8","v":""},null,null,null,{"$f":"bksingh!$ADE$8","v":""},null,null,null,{"$f":"bksingh!$ADE$8","v":""},null,null,null,{"$f":"bksingh!$ADE$8","v":""},null,null,null,{"$f":"bksingh!$ADE$8","v":""},null,null,null,{"$f":"bksingh!$ADE$8","v":""},null,null,null,{"$f":"bksingh!$ADE$8","v":""},null,null,null,{"$f":"bksingh!$ADE$8","v":""},null,null,null,{"$f":"bksingh!$ADE$8","v":""},null,null,null,{"$f":"bksingh!$ADE$8","v":""},null,null,null,{"$f":"bksingh!$ADE$8","v":""},null,null,null,{"$f":"bksingh!$ADE$8","v":""},null,null,null,{"$f":"bksingh!$ADE$8","v":""},null,null,null,{"$f":"bksingh!$ADE$8","v":""},null,null,null,{"$f":"bksingh!$ADE$8","v":""},null,null,null,{"$f":"bksingh!$ADE$8","v":""},null,null,null,{"$f":"bksingh!$ADE$8","v":""},null,null,null,{"$f":"bksingh!$ADE$8","v":""},null,null,null,{"$f":"bksingh!$ADE$8","v":""},null,null,null,{"$f":"bksingh!$ADE$8","v":""},null,null,null,{"$f":"bksingh!$ADE$8","v":""},null,null,null,{"$f":"bksingh!$ADE$8","v":""},null,null,null,{"$f":"bksingh!$ADE$8","v":""},null,null,null,{"$f":"bksingh!$ADE$8","v":""},null,null,null,{"$f":"bksingh!$ADE$8","v":""},null,null,null,{"$f":"bksingh!$ADE$8","v":""},null,null,null,{"$f":"bksingh!$ADE$8","v":""},null,null,null,{"$f":"bksingh!$ADE$8","v":""},null,null,null,{"$f":"bksingh!$ADE$8","v":""},null,null,null,{"$f":"bksingh!$ADE$8","v":""},null,null,null,{"$f":"bksingh!$ADE$8","v":""},null,null,null,{"$f":"bksingh!$ADE$8","v":""},null,null,null,{"$f":"bksingh!$ADE$8","v":""},null,null,null,{"$f":"bksingh!$ADE$8","v":""},null,null,null,{"$f":"bksingh!$ADE$8","v":""},null,null,null,{"$f":"bksingh!$ADE$8","v":""},null,null,null,{"$f":"bksingh!$ADE$8","v":""},null,null,null,{"$f":"bksingh!$ADE$8","v":""},null,null,null,{"$f":"bksingh!$ADE$8","v":""},null,null,null,{"$f":"bksingh!$ADE$8","v":""},null,null,null,{"$f":"bksingh!$ADE$8","v":""},null,null,null,{"$f":"bksingh!$ADE$8","v":""},null,null,null,{"$f":"bksingh!$ADE$8","v":""},null,null,null,{"$f":"bksingh!$ADE$8","v":""},null,null,null,{"$f":"bksingh!$ADE$8","v":""},null,null,null,{"$f":"bksingh!$ADE$8","v":""},null,null,null,{"$f":"bksingh!$ADE$8","v":""},null,null,null,{"$f":"bksingh!$ADE$8","v":""},null,null,null,{"$f":"bksingh!$ADE$8","v":""},null,null,null,{"$f":"bksingh!$ADE$8","v":""},null,null,null,{"$f":"bksingh!$ADE$8","v":""},null,null,null,{"$f":"bksingh!$ADE$8","v":""},null,null,null,{"$f":"bksingh!$ADE$8","v":""},null,null,null,{"$f":"bksingh!$ADE$8","v":""},null,null,null,{"$f":"bksingh!$ADE$8","v":""},null,null,null,{"$f":"bksingh!$ADE$8","v":""},null,null,null,{"$f":"bksingh!$ADE$8","v":""},null,null,null,{"$f":"bksingh!$ADE$8","v":""},null,null,null,{"$f":"bksingh!$ADE$8","v":""},null,null,null,{"$f":"bksingh!$ADE$8","v":""},null,null,null,{"$f":"bksingh!$ADE$8","v":""},null,null,null,{"$f":"bksingh!$ADE$8","v":""},null,null,null,{"$f":"bksingh!$ADE$8","v":""},null,null,null,{"$f":"bksingh!$ADE$8","v":""},null,null,null,{"$f":"bksingh!$ADE$8","v":""},null,null,null,{"$f":"bksingh!$ADE$8","v":""},null,null,null,{"$f":"bksingh!$ADE$8","v":""},null,null,null,{"$f":"bksingh!$ADE$8","v":""},null,null,null,{"$f":"bksingh!$ADE$8","v":""},null,null,null,{"$f":"bksingh!$ADE$8","v":""},null,null,null,{"$f":"bksingh!$ADE$8","v":""},null,null,null,{"$f":"bksingh!$ADE$8","v":""},null,null,null,{"$f":"bksingh!$ADE$8","v":""},null,null,null,{"$f":"bksingh!$ADE$8","v":""},null,null,null,{"$f":"bksingh!$ADE$8","v":""},null,null,null,{"$f":"bksingh!$ADE$8","v":""},null,null,null,{"$f":"bksingh!$ADE$8","v":""},null,null,null,{"$f":"bksingh!$ADE$8","v":""},null,null,null,{"$f":"bksingh!$ADE$8","v":""},null,null,null,{"$f":"bksingh!$ADE$8","v":""},null,null,null,{"$f":"bksingh!$ADE$8","v":""},null,null,null,{"$f":"bksingh!$ADE$8","v":""},null,null,null,{"$f":"bksingh!$ADE$8","v":""},null,null,null,{"$f":"bksingh!$ADE$8","v":""},null,null,null,{"$f":"bksingh!$ADE$8","v":""},null,null,null,{"$f":"bksingh!$ADE$8","v":""},null,null,null,{"$f":"bksingh!$ADE$8","v":""},null,null,null,{"$f":"bksingh!$ADE$8","v":""},null,null,null,{"$f":"bksingh!$ADE$8","v":""},null,null,null,{"$f":"bksingh!$ADE$8","v":""},null,null,null,{"$f":"bksingh!$ADE$8","v":""},null,null,null,{"$f":"bksingh!$ADE$8","v":""},null,null,null,{"$f":"bksingh!$ADE$8","v":""},null,null,null,{"$f":"bksingh!$ADE$8","v":""},null,null,null,{"$f":"bksingh!$ADE$8","v":""},null,null,null,{"$f":"bksingh!$ADE$8","v":""},null,null,null,{"$f":"bksingh!$ADE$8","v":""},null,null,null,{"$f":"bksingh!$ADE$8","v":""},null,null,null,{"$f":"bksingh!$ADE$8","v":""},null,null,null,{"$f":"bksingh!$ADE$8","v":""},null,null,null,{"$f":"bksingh!$ADE$8","v":""},null,null,null,{"$f":"bksingh!$ADE$8","v":""},null,null,null,{"$f":"bksingh!$ADE$8","v":""},null,null,null,{"$f":"bksingh!$ADE$8","v":""},null,null,null,{"$f":"bksingh!$ADE$8","v":""},null,null,null,{"$f":"bksingh!$ADE$8","v":""},null,null,null,{"$f":"bksingh!$ADE$8","v":""},null,null,null,{"$f":"bksingh!$ADE$8","v":""},null,null,null,{"$f":"bksingh!$ADE$8","v":""},null,null,null,{"$f":"bksingh!$ADE$8","v":""},null,null,null,{"$f":"bksingh!$ADE$8","v":""},null,null,null,{"$f":"bksingh!$ADE$8","v":""},null,null,null,{"$f":"bksingh!$ADE$8","v":""},null,null,null,{"$f":"bksingh!$ADE$8","v":""},null,null,null,{"$f":"bksingh!$ADE$8","v":""},null,null,null,{"$f":"bksingh!$ADE$8","v":""},null,null,null,{"$f":"bksingh!$ADE$8","v":""},null,null,null,{"$f":"bksingh!$ADE$8","v":""},null,null,null,{"$f":"bksingh!$ADE$8","v":""},null,null,null,{"$f":"bksingh!$ADE$8","v":""},null,null,null,{"$f":"bksingh!$ADE$8","v":""},null,null,null,{"$f":"bksingh!$ADE$8","v":""},null,null,null,{"$f":"bksingh!$ADE$8","v":""},null,null,null,{"$f":"bksingh!$ADE$8","v":""},null,null,null,{"$f":"bksingh!$ADE$8","v":""},null,null,null,{"$f":"bksingh!$ADE$8","v":""},null,null,null,{"$f":"bksingh!$ADE$8","v":""},null,null,null,{"$f":"bksingh!$ADE$8","v":""},null,null,null,{"$f":"bksingh!$ADE$8","v":""},null,null,null,{"$f":"bksingh!$ADE$8","v":""},null,null,null,{"$f":"bksingh!$ADE$8","v":""},null,null,null,{"$f":"bksingh!$ADE$8","v":""},null,null,null,{"$f":"bksingh!$ADE$8","v":""},null,null,null,{"$f":"bksingh!$ADE$8","v":""},null,null,null,{"$f":"bksingh!$ADE$8","v":""},null,null,null,{"$f":"bksingh!$ADE$8","v":""},null,null,null,{"$f":"bksingh!$ADE$8","v":""},null,null,null,{"$f":"bksingh!$ADE$8","v":""},null,null,null,{"$f":"bksingh!$ADE$8","v":""},null,null,null,{"$f":"bksingh!$ADE$8","v":""},null,null,null,{"$f":"bksingh!$ADE$8","v":""},null,null,null,{"$f":"bksingh!$ADE$8","v":""},null,null,null,{"$f":"bksingh!$ADE$8","v":""},null,null,null,{"$f":"bksingh!$ADE$8","v":""},null,null,null,{"$f":"bksingh!$ADE$8","v":""},null,null,null,{"$f":"bksingh!$ADE$8","v":""},null,null,null,{"$f":"bksingh!$ADE$8","v":""},null,null,null,{"$f":"bksingh!$ADE$8","v":""},null,null,null,{"$f":"bksingh!$ADE$8","v":""},null,null,null,{"$f":"bksingh!$ADE$8","v":""},null,null,null,{"$f":"bksingh!$ADE$8","v":""},null,null,null,{"$f":"bksingh!$ADE$8","v":""},null,null,null,{"$f":"bksingh!$ADE$8","v":""},null,null,null,{"$f":"bksingh!$ADE$8","v":""},null,null,null,{"$f":"bksingh!$ADE$8","v":""},null,null,null,{"$f":"bksingh!$ADE$8","v":""},null,null,null,{"$f":"bksingh!$ADE$8","v":""},null,null,null,{"$f":"bksingh!$ADE$8","v":""},null,null,null,{"$f":"bksingh!$ADE$8","v":""},null,null,null,{"$f":"bksingh!$ADE$8","v":""},null,null,null,{"$f":"bksingh!$ADE$8","v":""},null,null,null,{"$f":"bksingh!$ADE$8","v":""},null,null,null,{"$f":"bksingh!$ADE$8","v":""},null,null,null,{"$f":"bksingh!$ADE$8","v":""},null,null,null,{"$f":"bksingh!$ADE$8","v":""},null,null,null,{"$f":"bksingh!$ADE$8","v":""},null,null,null,{"$f":"bksingh!$ADE$8","v":""},null,null,null,{"$f":"bksingh!$ADE$8","v":""},null,null,null,{"$f":"bksingh!$ADE$8","v":""},null,null,null,{"$f":"bksingh!$ADE$8","v":""},null,null,null,{"$f":"bksingh!$ADE$8","v":""},null,null,null,{"$f":"bksingh!$ADE$8","v":""},null,null,null,{"$f":"bksingh!$ADE$8","v":""},null,null,null,{"$f":"bksingh!$ADE$8","v":""},null,null,null,{"$f":"bksingh!$ADE$8","v":""},null,null,null,{"$f":"bksingh!$ADE$8","v":""},null,null,null,{"$f":"bksingh!$ADE$8","v":""},null,null,null,{"$f":"bksingh!$ADE$8","v":""},null,null,null,{"$f":"bksingh!$ADE$8","v":""},null,null,null,{"$f":"bksingh!$ADE$8","v":""},null,null,null,{"$f":"bksingh!$ADE$8","v":""},null,null,null,{"$f":"bksingh!$ADE$8","v":""},null,null,null,{"$f":"bksingh!$ADE$8","v":""},null,null,null,{"$f":"bksingh!$ADE$8","v":""},null,null,null,{"$f":"bksingh!$ADE$8","v":""},null,null,null,{"$f":"bksingh!$ADE$8","v":""},null,null,null,{"$f":"bksingh!$ADE$8","v":""},null,null,null,{"$f":"bksingh!$ADE$8","v":""},null,null,null,{"$f":"bksingh!$ADE$8","v":""},null,null,null,{"$f":"bksingh!$ADE$8","v":""},null,null,null,{"$f":"bksingh!$ADE$8","v":""},null,null,null,{"$f":"bksingh!$ADE$8","v":""},null,null,null,{"$f":"bksingh!$ADE$8","v":""},null,null,null,{"$f":"bksingh!$ADE$8","v":""},null,null,null,{"$f":"bksingh!$ADE$8","v":""},null,null,null,{"$f":"bksingh!$ADE$8","v":""},null,null,null,{"$f":"bksingh!$ADE$8","v":""},null,null,null,{"$f":"bksingh!$ADE$8","v":""},null,null,null,{"$f":"bksingh!$ADE$8","v":""},null,null,null,{"$f":"bksingh!$ADE$8","v":""},null,null,null,{"$f":"bksingh!$ADE$8","v":""},null,null,null,{"$f":"bksingh!$ADE$8","v":""},null,null,null,{"$f":"bksingh!$ADE$8","v":""},null,null,null,{"$f":"bksingh!$ADE$8","v":""},null,null,null,{"$f":"bksingh!$ADE$8","v":""},null,null,null,{"$f":"bksingh!$ADE$8","v":""},null,null,null,{"$f":"bksingh!$ADE$8","v":""},null,null,null,{"$f":"bksingh!$ADE$8","v":""},null,null,null,{"$f":"bksingh!$ADE$8","v":""},null,null,null,{"$f":"bksingh!$ADE$8","v":""},null,null,null,{"$f":"bksingh!$ADE$8","v":""},null,null,null,{"$f":"bksingh!$ADE$8","v":""},null,null,null,{"$f":"bksingh!$ADE$8","v":""},null,null,null,{"$f":"bksingh!$ADE$8","v":""},null,null,null,{"$f":"bksingh!$ADE$8","v":""},null,null,null,{"$f":"bksingh!$ADE$8","v":""},null,null,null,{"$f":"bksingh!$ADE$8","v":""},null,null,null,{"$f":"bksingh!$ADE$8","v":""},null,null,null,{"$f":"bksingh!$ADE$8","v":""},null,null,null,{"$f":"bksingh!$ADE$8","v":""},null,null,null,{"$f":"bksingh!$ADE$8","v":""},null,null,null,{"$f":"bksingh!$ADE$8","v":""},null,null,null,{"$f":"bksingh!$ADE$8","v":""},null,null,null,{"$f":"bksingh!$ADE$8","v":""},null,null,null,{"$f":"bksingh!$ADE$8","v":""},null,null,null,{"$f":"bksingh!$ADE$8","v":""},null,null,null,{"$f":"bksingh!$ADE$8","v":""},null,null,null,{"$f":"bksingh!$ADE$8","v":""},null,null,null,{"$f":"bksingh!$ADE$8","v":""},null,null,null,{"$f":"bksingh!$ADE$8","v":""},null,null,null,{"$f":"bksingh!$ADE$8","v":""},null,null,null,{"$f":"bksingh!$ADE$8","v":""},null,null,null,{"$f":"bksingh!$ADE$8","v":""},null,null,null,{"$f":"bksingh!$ADE$8","v":""},null,null,null,{"$f":"bksingh!$ADE$8","v":""},null,null,null,{"$f":"bksingh!$ADE$8","v":""},null,null,null,{"$f":"bksingh!$ADE$8","v":""},null,null,null,{"$f":"bksingh!$ADE$8","v":""},null,null,null,{"$f":"bksingh!$ADE$8","v":""},null,null,null,{"$f":"bksingh!$ADE$8","v":""},null,null,null,{"$f":"bksingh!$ADE$8","v":""},null,null,null,{"$f":"bksingh!$ADE$8","v":""},null,null,null,{"$f":"bksingh!$ADE$8","v":""},null,null,null,{"$f":"bksingh!$ADE$8","v":""},null,null,null,{"$f":"bksingh!$ADE$8","v":""},null,null,null,{"$f":"bksingh!$ADE$8","v":""},null,null,null,{"$f":"bksingh!$ADE$8","v":""},null,null,null,{"$f":"bksingh!$ADE$8","v":""},null,null,null,{"$f":"bksingh!$ADE$8","v":""},null,null,null,{"$f":"bksingh!$ADE$8","v":""},null,null,null,{"$f":"bksingh!$ADE$8","v":""},null,null,null,{"$f":"bksingh!$ADE$8","v":""},null,null,null,{"$f":"bksingh!$ADE$8","v":""},null,null,null,{"$f":"bksingh!$ADE$8","v":""},null,null,null,{"$f":"bksingh!$ADE$8","v":""},null,null,null,{"$f":"bksingh!$ADE$8","v":""},null,null,null,{"$f":"bksingh!$ADE$8","v":""},null,null,null,{"$f":"bksingh!$ADE$8","v":""},null,null,null,{"$f":"bksingh!$ADE$8","v":""},null,null,null,{"$f":"bksingh!$ADE$8","v":""},null,null,null,{"$f":"bksingh!$ADE$8","v":""},null,null,null,{"$f":"bksingh!$ADE$8","v":""},null,null,null,{"$f":"bksingh!$ADE$8","v":""},null,null,null,{"$f":"bksingh!$ADE$8","v":""},null,null,null,{"$f":"bksingh!$ADE$8","v":""},null,null,null,{"$f":"bksingh!$ADE$8","v":""},null,null,null,{"$f":"bksingh!$ADE$8","v":""},null,null,null,{"$f":"bksingh!$ADE$8","v":""},null,null,null,{"$f":"bksingh!$ADE$8","v":""},null,null,null,{"$f":"bksingh!$ADE$8","v":""},null,null,null,{"$f":"bksingh!$ADE$8","v":""},null,null,null,{"$f":"bksingh!$ADE$8","v":""},null,null,null,{"$f":"bksingh!$ADE$8","v":""},null,null,null,{"$f":"bksingh!$ADE$8","v":""},null,null,null,{"$f":"bksingh!$ADE$8","v":""},null,null,null,{"$f":"bksingh!$ADE$8","v":""},null,null,null,{"$f":"bksingh!$ADE$8","v":""},null,null,null,{"$f":"bksingh!$ADE$8","v":""},null,null,null,{"$f":"bksingh!$ADE$8","v":""},null,null,null,{"$f":"bksingh!$ADE$8","v":""},null,null,null,{"$f":"bksingh!$ADE$8","v":""},null,null,null,{"$f":"bksingh!$ADE$8","v":""},null,null,null,{"$f":"bksingh!$ADE$8","v":""},null,null,null,{"$f":"bksingh!$ADE$8","v":""},null,null,null,{"$f":"bksingh!$ADE$8","v":""},null,null,null,{"$f":"bksingh!$ADE$8","v":""},null,null,null,{"$f":"bksingh!$ADE$8","v":""},null,null,null,{"$f":"bksingh!$ADE$8","v":""},null,null,null,{"$f":"bksingh!$ADE$8","v":""},null,null,null,{"$f":"bksingh!$ADE$8","v":""},null,null,null,{"$f":"bksingh!$ADE$8","v":""},null,null,null,{"$f":"bksingh!$ADE$8","v":""},null,null,null,{"$f":"bksingh!$ADE$8","v":""},null,null,null,{"$f":"bksingh!$ADE$8","v":""},null,null,null,{"$f":"bksingh!$ADE$8","v":""},null,null,null,{"$f":"bksingh!$ADE$8","v":""},null,null,null,{"$f":"bksingh!$ADE$8","v":""},null,null,null,{"$f":"bksingh!$ADE$8","v":""},null,null,null,{"$f":"bksingh!$ADE$8","v":""},null,null,null,{"$f":"bksingh!$ADE$8","v":""},null,null,null,{"$f":"bksingh!$ADE$8","v":""},null,null,null,{"$f":"bksingh!$ADE$8","v":""},null,null,null,{"$f":"bksingh!$ADE$8","v":""},null,null,null,{"$f":"bksingh!$ADE$8","v":""},null,null,null,{"$f":"bksingh!$ADE$8","v":""},null,null,null,{"$f":"bksingh!$ADE$8","v":""},null,null,null,{"$f":"bksingh!$ADE$8","v":""},null,null,null,{"$f":"bksingh!$ADE$8","v":""},null,null,null,{"$f":"bksingh!$ADE$8","v":""},null,null,null,{"$f":"bksingh!$ADE$8","v":""},null,null,null,{"$f":"bksingh!$ADE$8","v":""},null,null,null,{"$f":"bksingh!$ADE$8","v":""},null,null,null,{"$f":"bksingh!$ADE$8","v":""},null,null,null,{"$f":"bksingh!$ADE$8","v":""},null,null,null,{"$f":"bksingh!$ADE$8","v":""},null,null,null,{"$f":"bksingh!$ADE$8","v":""},null,null,null,{"$f":"bksingh!$ADE$8","v":""},null,null,null,{"$f":"bksingh!$ADE$8","v":""},null,null,null,{"$f":"bksingh!$ADE$8","v":""},null,null,null,{"$f":"bksingh!$ADE$8","v":""},null,null,null,{"$f":"bksingh!$ADE$8","v":""},null,null,null,{"$f":"bksingh!$ADE$8","v":""},null,null,null,{"$f":"bksingh!$ADE$8","v":""},null,null,null,{"$f":"bksingh!$ADE$8","v":""},null,null,null,{"$f":"bksingh!$ADE$8","v":""},null,null,null,{"$f":"bksingh!$ADE$8","v":""},null,null,null,{"$f":"bksingh!$ADE$8","v":""},null,null,null,{"$f":"bksingh!$ADE$8","v":""},null,null,null,{"$f":"bksingh!$ADE$8","v":""},null,null,null,{"$f":"bksingh!$ADE$8","v":""},null,null,null,{"$f":"bksingh!$ADE$8","v":""},null,null,null,{"$f":"bksingh!$ADE$8","v":""},null,null,null,{"$f":"bksingh!$ADE$8","v":""},null,null,null,{"$f":"bksingh!$ADE$8","v":""},null,null,null,{"$f":"bksingh!$ADE$8","v":""},null,null,null,{"$f":"bksingh!$ADE$8","v":""},null,null,null,{"$f":"bksingh!$ADE$8","v":""},null,null,null,{"$f":"bksingh!$ADE$8","v":""},null,null,null,{"$f":"bksingh!$ADE$8","v":""},null,null,null,{"$f":"bksingh!$ADE$8","v":""},null,null,null,{"$f":"bksingh!$ADE$8","v":""},null,null,null,{"$f":"bksingh!$ADE$8","v":""},null,null,null,{"$f":"bksingh!$ADE$8","v":""},null,null,null,{"$f":"bksingh!$ADE$8","v":""},null,null,null,{"$f":"bksingh!$ADE$8","v":""},null,null,null,{"$f":"bksingh!$ADE$8","v":""},null,null,null,{"$f":"bksingh!$ADE$8","v":""},null,null,null,{"$f":"bksingh!$ADE$8","v":""},null,null,null,{"$f":"bksingh!$ADE$8","v":""},null,null,null,{"$f":"bksingh!$ADE$8","v":""},null,null,null,{"$f":"bksingh!$ADE$8","v":""},null,null,null,{"$f":"bksingh!$ADE$8","v":""},null,null,null,{"$f":"bksingh!$ADE$8","v":""},null,null,null,{"$f":"bksingh!$ADE$8","v":""},null,null,null,{"$f":"bksingh!$ADE$8","v":""},null,null,null,{"$f":"bksingh!$ADE$8","v":""},null,null,null,{"$f":"bksingh!$ADE$8","v":""},null,null,null,{"$f":"bksingh!$ADE$8","v":""},null,null,null,{"$f":"bksingh!$ADE$8","v":""},null,null,null,{"$f":"bksingh!$ADE$8","v":""},null,null,null,{"$f":"bksingh!$ADE$8","v":""},null,null,null,{"$f":"bksingh!$ADE$8","v":""},null,null,null,{"$f":"bksingh!$ADE$8","v":""},null,null,null,{"$f":"bksingh!$ADE$8","v":""},null,null,null,{"$f":"bksingh!$ADE$8","v":""},null,null,null,{"$f":"bksingh!$ADE$8","v":""},null,null,null,{"$f":"bksingh!$ADE$8","v":""},null,null,null,{"$f":"bksingh!$ADE$8","v":""},null,null,null,{"$f":"bksingh!$ADE$8","v":""},null,null,null,{"$f":"bksingh!$ADE$8","v":""},null,null,null,{"$f":"bksingh!$ADE$8","v":""},null,null,null,{"$f":"bksingh!$ADE$8","v":""},null,null,null,{"$f":"bksingh!$ADE$8","v":""},null,null,null,{"$f":"bksingh!$ADE$8","v":""},null,null,null,{"$f":"bksingh!$ADE$8","v":""},null,null,null,{"$f":"bksingh!$ADE$8","v":""},null,null,null,{"$f":"bksingh!$ADE$8","v":""},null,null,null,{"$f":"bksingh!$ADE$8","v":""},null,null,null,{"$f":"bksingh!$ADE$8","v":""},null,null,null,{"$f":"bksingh!$ADE$8","v":""},null,null,null,{"$f":"bksingh!$ADE$8","v":""},null,null,null,{"$f":"bksingh!$ADE$8","v":""},null,null,null,{"$f":"bksingh!$ADE$8","v":""},null,null,null,{"$f":"bksingh!$ADE$8","v":""},null,null,null,{"$f":"bksingh!$ADE$8","v":""},null,null,null,{"$f":"bksingh!$ADE$8","v":""},null,null,null,{"$f":"bksingh!$ADE$8","v":""},null,null,null,{"$f":"bksingh!$ADE$8","v":""},null,null,null,{"$f":"bksingh!$ADE$8","v":""},null,null,null,{"$f":"bksingh!$ADE$8","v":""},null,null,null,{"$f":"bksingh!$ADE$8","v":""},null,null,null,{"$f":"bksingh!$ADE$8","v":""},null,null,null,{"$f":"bksingh!$ADE$8","v":""},null,null,null,{"$f":"bksingh!$ADE$8","v":""},null,null,null,{"$f":"bksingh!$ADE$8","v":""},null,null,null,{"$f":"bksingh!$ADE$8","v":""},null,null,null,{"$f":"bksingh!$ADE$8","v":""},null,null,null,{"$f":"bksingh!$ADE$8","v":""},null,null,null,{"$f":"bksingh!$ADE$8","v":""},null,null,null,{"$f":"bksingh!$ADE$8","v":""},null,null,null,{"$f":"bksingh!$ADE$8","v":""},null,null,null,{"$f":"bksingh!$ADE$8","v":""},null,null,null,{"$f":"bksingh!$ADE$8","v":""},null,null,null,{"$f":"bksingh!$ADE$8","v":""},null,null,null,{"$f":"bksingh!$ADE$8","v":""},null,null,null,{"$f":"bksingh!$ADE$8","v":""},null,null,null,{"$f":"bksingh!$ADE$8","v":""},null,null,null,{"$f":"bksingh!$ADE$8","v":""},null,null,null,{"$f":"bksingh!$ADE$8","v":""},null,null,null,{"$f":"bksingh!$ADE$8","v":""},null,null,null,{"$f":"bksingh!$ADE$8","v":""},null,null,null,{"$f":"bksingh!$ADE$8","v":""},null,null,null,{"$f":"bksingh!$ADE$8","v":""},null,null,null,{"$f":"bksingh!$ADE$8","v":""},null,null,null,{"$f":"bksingh!$ADE$8","v":""},null,null,null,{"$f":"bksingh!$ADE$8","v":""},null,null,null,{"$f":"bksingh!$ADE$8","v":""},null,null,null,{"$f":"bksingh!$ADE$8","v":""},null,null,null,{"$f":"bksingh!$ADE$8","v":""},null,null,null,{"$f":"bksingh!$ADE$8","v":""},null,null,null,{"$f":"bksingh!$ADE$8","v":""},null,null,null,{"$f":"bksingh!$ADE$8","v":""},null,null,null,{"$f":"bksingh!$ADE$8","v":""},null,null,null,{"$f":"bksingh!$ADE$8","v":""},null,null,null,{"$f":"bksingh!$ADE$8","v":""},null,null,null,{"$f":"bksingh!$ADE$8","v":""},null,null,null,{"$f":"bksingh!$ADE$8","v":""},null,null,null,{"$f":"bksingh!$ADE$8","v":""},null,null,null,{"$f":"bksingh!$ADE$8","v":""},null,null,null,{"$f":"bksingh!$ADE$8","v":""},null,null,null,{"$f":"bksingh!$ADE$8","v":""},null,null,null,{"$f":"bksingh!$ADE$8","v":""},null,null,null,{"$f":"bksingh!$ADE$8","v":""},null,null,null,{"$f":"bksingh!$ADE$8","v":""},null,null,null,{"$f":"bksingh!$ADE$8","v":""},null,null,null,{"$f":"bksingh!$ADE$8","v":""},null,null,null,{"$f":"bksingh!$ADE$8","v":""},null,null,null,{"$f":"bksingh!$ADE$8","v":""},null,null,null,{"$f":"bksingh!$ADE$8","v":""},null,null,null,{"$f":"bksingh!$ADE$8","v":""},null,null,null,{"$f":"bksingh!$ADE$8","v":""},null,null,null,{"$f":"bksingh!$ADE$8","v":""},null,null,null,{"$f":"bksingh!$ADE$8","v":""},null,null,null,{"$f":"bksingh!$ADE$8","v":""},null,null,null,{"$f":"bksingh!$ADE$8","v":""},null,null,null,{"$f":"bksingh!$ADE$8","v":""},null,null,null,{"$f":"bksingh!$ADE$8","v":""},null,null,null,{"$f":"bksingh!$ADE$8","v":""},null,null,null,{"$f":"bksingh!$ADE$8","v":""},null,null,null,{"$f":"bksingh!$ADE$8","v":""},null,null,null,{"$f":"bksingh!$ADE$8","v":""},null,null,null,{"$f":"bksingh!$ADE$8","v":""},null,null,null,{"$f":"bksingh!$ADE$8","v":""},null,null,null,{"$f":"bksingh!$ADE$8","v":""},null,null,null,{"$f":"bksingh!$ADE$8","v":""},null,null,null,{"$f":"bksingh!$ADE$8","v":""},null,null,null,{"$f":"bksingh!$ADE$8","v":""},null,null,null,{"$f":"bksingh!$ADE$8","v":""},null,null,null,{"$f":"bksingh!$ADE$8","v":""},null,null,null,{"$f":"bksingh!$ADE$8","v":""},null,null,null,{"$f":"bksingh!$ADE$8","v":""},null,null,null,{"$f":"bksingh!$ADE$8","v":""},null,null,null,{"$f":"bksingh!$ADE$8","v":""},null,null,null,{"$f":"bksingh!$ADE$8","v":""},null,null,null,{"$f":"bksingh!$ADE$8","v":""},null,null,null,{"$f":"bksingh!$ADE$8","v":""},null,null,null,{"$f":"bksingh!$ADE$8","v":""},null,null,null,{"$f":"bksingh!$ADE$8","v":""},null,null,null,{"$f":"bksingh!$ADE$8","v":""},null,null,null,{"$f":"bksingh!$ADE$8","v":""},null,null,null,{"$f":"bksingh!$ADE$8","v":""},null,null,null,{"$f":"bksingh!$ADE$8","v":""},null,null,null,{"$f":"bksingh!$ADE$8","v":""},null,null,null,{"$f":"bksingh!$ADE$8","v":""},null,null,null,{"$f":"bksingh!$ADE$8","v":""},null,null,null,{"$f":"bksingh!$ADE$8","v":""},null,null,null,{"$f":"bksingh!$ADE$8","v":""},null,null,null,{"$f":"bksingh!$ADE$8","v":""},null,null,null,{"$f":"bksingh!$ADE$8","v":""},null,null,null,{"$f":"bksingh!$ADE$8","v":""},null,null,null,{"$f":"bksingh!$ADE$8","v":""},null,null,null,{"$f":"bksingh!$ADE$8","v":""},null,null,null,{"$f":"bksingh!$ADE$8","v":""},null,null,null,{"$f":"bksingh!$ADE$8","v":""},null,null,null,{"$f":"bksingh!$ADE$8","v":""},null,null,null,{"$f":"bksingh!$ADE$8","v":""},null,null,null,{"$f":"bksingh!$ADE$8","v":""},null,null,null,{"$f":"bksingh!$ADE$8","v":""},null,null,null,{"$f":"bksingh!$ADE$8","v":""},null,null,null,{"$f":"bksingh!$ADE$8","v":""},null,null,null,{"$f":"bksingh!$ADE$8","v":""},null,null,null,{"$f":"bksingh!$ADE$8","v":""},null,null,null,{"$f":"bksingh!$ADE$8","v":""},null,null,null,{"$f":"bksingh!$ADE$8","v":""},null,null,null,{"$f":"bksingh!$ADE$8","v":""},null,null,null,{"$f":"bksingh!$ADE$8","v":""},null,null,null,{"$f":"bksingh!$ADE$8","v":""},null,null,null,{"$f":"bksingh!$ADE$8","v":""},null,null,null,{"$f":"bksingh!$ADE$8","v":""},null,null,null,{"$f":"bksingh!$ADE$8","v":""},null,null,null,{"$f":"bksingh!$ADE$8","v":""},null,null,null,{"$f":"bksingh!$ADE$8","v":""},null,null,null,{"$f":"bksingh!$ADE$8","v":""},null,null,null,{"$f":"bksingh!$ADE$8","v":""},null,null,null,{"$f":"bksingh!$ADE$8","v":""},null,null,null,{"$f":"bksingh!$ADE$8","v":""},null,null,null,{"$f":"bksingh!$ADE$8","v":""},null,null,null,{"$f":"bksingh!$ADE$8","v":""},null,null,null,{"$f":"bksingh!$ADE$8","v":""},null,null,null,{"$f":"bksingh!$ADE$8","v":""},null,null,null,{"$f":"bksingh!$ADE$8","v":""},null,null,null,{"$f":"bksingh!$ADE$8","v":""},null,null,null,{"$f":"bksingh!$ADE$8","v":""},null,null,null,{"$f":"bksingh!$ADE$8","v":""},null,null,null,{"$f":"bksingh!$ADE$8","v":""},null,null,null,{"$f":"bksingh!$ADE$8","v":""},null,null,null,{"$f":"bksingh!$ADE$8","v":""},null,null,null,{"$f":"bksingh!$ADE$8","v":""},null,null,null,{"$f":"bksingh!$ADE$8","v":""},null,null,null,{"$f":"bksingh!$ADE$8","v":""},null,null,null,{"$f":"bksingh!$ADE$8","v":""},null,null,null,{"$f":"bksingh!$ADE$8","v":""},null,null,null,{"$f":"bksingh!$ADE$8","v":""},null,null,null,{"$f":"bksingh!$ADE$8","v":""},null,null,null,{"$f":"bksingh!$ADE$8","v":""},null,null,null,{"$f":"bksingh!$ADE$8","v":""},null,null,null,{"$f":"bksingh!$ADE$8","v":""},null,null,null,{"$f":"bksingh!$ADE$8","v":""},null,null,null,{"$f":"bksingh!$ADE$8","v":""},null,null,null,{"$f":"bksingh!$ADE$8","v":""},null,null,null,{"$f":"bksingh!$ADE$8","v":""},null,null,null,{"$f":"bksingh!$ADE$8","v":""},null,null,null,{"$f":"bksingh!$ADE$8","v":""},null,null,null,{"$f":"bksingh!$ADE$8","v":""},null,null,null,{"$f":"bksingh!$ADE$8","v":""},null,null,null,{"$f":"bksingh!$ADE$8","v":""},null,null,null,{"$f":"bksingh!$ADE$8","v":""},null,null,null,{"$f":"bksingh!$ADE$8","v":""},null,null,null,{"$f":"bksingh!$ADE$8","v":""},null,null,null,{"$f":"bksingh!$ADE$8","v":""},null,null,null,{"$f":"bksingh!$ADE$8","v":""},null,null,null,{"$f":"bksingh!$ADE$8","v":""},null,null,null,{"$f":"bksingh!$ADE$8","v":""},null,null,null,{"$f":"bksingh!$ADE$8","v":""},null,null,null,{"$f":"bksingh!$ADE$8","v":""},null,null,null,{"$f":"bksingh!$ADE$8","v":""},null,null,null,{"$f":"bksingh!$ADE$8","v":""},null,null,null,{"$f":"bksingh!$ADE$8","v":""},null,null,null,{"$f":"bksingh!$ADE$8","v":""},null,null,null,{"$f":"bksingh!$ADE$8","v":""},null,null,null,{"$f":"bksingh!$ADE$8","v":""},null,null,null,{"$f":"bksingh!$ADE$8","v":""},null,null,null,{"$f":"bksingh!$ADE$8","v":""},null,null,null,{"$f":"bksingh!$ADE$8","v":""},null,null,null,{"$f":"bksingh!$ADE$8","v":""},null,null,null,{"$f":"bksingh!$ADE$8","v":""},null,null,null,{"$f":"bksingh!$ADE$8","v":""},null,null,null,{"$f":"bksingh!$ADE$8","v":""},null,null,null,{"$f":"bksingh!$ADE$8","v":""},null,null,null,{"$f":"bksingh!$ADE$8","v":""},null,null,null,{"$f":"bksingh!$ADE$8","v":""},null,null,null,{"$f":"bksingh!$ADE$8","v":""},null,null,null,{"$f":"bksingh!$ADE$8","v":""},null,null,null,{"$f":"bksingh!$ADE$8","v":""},null,null,null,{"$f":"bksingh!$ADE$8","v":""},null,null,null,{"$f":"bksingh!$ADE$8","v":""},null,null,null,{"$f":"bksingh!$ADE$8","v":""},null,null,null,{"$f":"bksingh!$ADE$8","v":""},null,null,null,{"$f":"bksingh!$ADE$8","v":""},null,null,null,{"$f":"bksingh!$ADE$8","v":""},null,null,null,{"$f":"bksingh!$ADE$8","v":""},null,null,null,{"$f":"bksingh!$ADE$8","v":""},null,null,null,{"$f":"bksingh!$ADE$8","v":""},null,null,null,{"$f":"bksingh!$ADE$8","v":""},null,null,null,{"$f":"bksingh!$ADE$8","v":""},null,null,null,{"$f":"bksingh!$ADE$8","v":""},null,null,null,{"$f":"bksingh!$ADE$8","v":""},null,null,null,{"$f":"bksingh!$ADE$8","v":""},null,null,null,{"$f":"bksingh!$ADE$8","v":""},null,null,null,{"$f":"bksingh!$ADE$8","v":""},null,null,null,{"$f":"bksingh!$ADE$8","v":""},null,null,null,{"$f":"bksingh!$ADE$8","v":""},null,null,null,{"$f":"bksingh!$ADE$8","v":""},null,null,null,{"$f":"bksingh!$ADE$8","v":""},null,null,null,{"$f":"bksingh!$ADE$8","v":""},null,null,null,{"$f":"bksingh!$ADE$8","v":""},null,null,null,{"$f":"bksingh!$ADE$8","v":""},null,null,null,{"$f":"bksingh!$ADE$8","v":""},null,null,null,{"$f":"bksingh!$ADE$8","v":""},null,null,null,{"$f":"bksingh!$ADE$8","v":""},null,null,null,{"$f":"bksingh!$ADE$8","v":""},null,null,null,{"$f":"bksingh!$ADE$8","v":""},null,null,null,{"$f":"bksingh!$ADE$8","v":""},null,null,null,{"$f":"bksingh!$ADE$8","v":""},null,null,null,{"$f":"bksingh!$ADE$8","v":""},null,null,null,{"$f":"bksingh!$ADE$8","v":""},null,null,null,{"$f":"bksingh!$ADE$8","v":""},null,null,null,{"$f":"bksingh!$ADE$8","v":""},null,null,null,{"$f":"bksingh!$ADE$8","v":""},null,null,null,{"$f":"bksingh!$ADE$8","v":""},null,null,null,{"$f":"bksingh!$ADE$8","v":""},null,null,null,{"$f":"bksingh!$ADE$8","v":""},null,null,null,{"$f":"bksingh!$ADE$8","v":""},null,null,null,{"$f":"bksingh!$ADE$8","v":""},null,null,null,{"$f":"bksingh!$ADE$8","v":""},null,null,null,{"$f":"bksingh!$ADE$8","v":""},null,null,null,{"$f":"bksingh!$ADE$8","v":""},null,null,null,{"$f":"bksingh!$ADE$8","v":""},null,null,null,{"$f":"bksingh!$ADE$8","v":""},null,null,null,{"$f":"bksingh!$ADE$8","v":""},null,null,null,{"$f":"bksingh!$ADE$8","v":""},null,null,null,{"$f":"bksingh!$ADE$8","v":""},null,null,null,{"$f":"bksingh!$ADE$8","v":""},null,null,null,{"$f":"bksingh!$ADE$8","v":""},null,null,null,{"$f":"bksingh!$ADE$8","v":""},null,null,null,{"$f":"bksingh!$ADE$8","v":""},null,null,null,{"$f":"bksingh!$ADE$8","v":""},null,null,null,{"$f":"bksingh!$ADE$8","v":""},null,null,null,{"$f":"bksingh!$ADE$8","v":""},null,null,null,{"$f":"bksingh!$ADE$8","v":""},null,null,null,{"$f":"bksingh!$ADE$8","v":""},null,null,null,{"$f":"bksingh!$ADE$8","v":""},null,null,null,{"$f":"bksingh!$ADE$8","v":""},null,null,null,{"$f":"bksingh!$ADE$8","v":""},null,null,null,{"$f":"bksingh!$ADE$8","v":""},null,null,null,{"$f":"bksingh!$ADE$8","v":""},null,null,null,{"$f":"bksingh!$ADE$8","v":""},null,null,null,{"$f":"bksingh!$ADE$8","v":""},null,null,null,{"$f":"bksingh!$ADE$8","v":""},null,null,null,{"$f":"bksingh!$ADE$8","v":""},null,null,null,{"$f":"bksingh!$ADE$8","v":""},null,null,null,{"$f":"bksingh!$ADE$8","v":""},null,null,null,{"$f":"bksingh!$ADE$8","v":""},null,null,null,{"$f":"bksingh!$ADE$8","v":""},null,null,null,{"$f":"bksingh!$ADE$8","v":""},null,null,null,{"$f":"bksingh!$ADE$8","v":""},null,null,null,{"$f":"bksingh!$ADE$8","v":""},null,null,null,{"$f":"bksingh!$ADE$8","v":""},null,null,null,{"$f":"bksingh!$ADE$8","v":""},null,null,null,{"$f":"bksingh!$ADE$8","v":""},null,null,null,{"$f":"bksingh!$ADE$8","v":""},null,null,null,{"$f":"bksingh!$ADE$8","v":""},null,null,null,{"$f":"bksingh!$ADE$8","v":""},null,null,null,{"$f":"bksingh!$ADE$8","v":""},null,null,null,{"$f":"bksingh!$ADE$8","v":""},null,null,null,{"$f":"bksingh!$ADE$8","v":""},null,null,null,{"$f":"bksingh!$ADE$8","v":""},null,null,null,{"$f":"bksingh!$ADE$8","v":""},null,null,null,{"$f":"bksingh!$ADE$8","v":""},null,null,null,{"$f":"bksingh!$ADE$8","v":""},null,null,null,{"$f":"bksingh!$ADE$8","v":""},null,null,null,{"$f":"bksingh!$ADE$8","v":""},null,null,null,{"$f":"bksingh!$ADE$8","v":""},null,null,null,{"$f":"bksingh!$ADE$8","v":""},null,null,null,{"$f":"bksingh!$ADE$8","v":""},null,null,null,{"$f":"bksingh!$ADE$8","v":""},null,null,null,{"$f":"bksingh!$ADE$8","v":""},null,null,null,{"$f":"bksingh!$ADE$8","v":""},null,null,null,{"$f":"bksingh!$ADE$8","v":""},null,null,null,{"$f":"bksingh!$ADE$8","v":""},null,null,null,{"$f":"bksingh!$ADE$8","v":""},null,null,null,{"$f":"bksingh!$ADE$8","v":""},null,null,null,{"$f":"bksingh!$ADE$8","v":""},null,null,null,{"$f":"bksingh!$ADE$8","v":""},null,null,null,{"$f":"bksingh!$ADE$8","v":""},null,null,null,{"$f":"bksingh!$ADE$8","v":""},null,null,null,{"$f":"bksingh!$ADE$8","v":""},null,null,null,{"$f":"bksingh!$ADE$8","v":""},null,null,null,{"$f":"bksingh!$ADE$8","v":""},null,null,null,{"$f":"bksingh!$ADE$8","v":""},null,null,null,{"$f":"bksingh!$ADE$8","v":""},null,null,null,{"$f":"bksingh!$ADE$8","v":""},null,null,null,{"$f":"bksingh!$ADE$8","v":""},null,null,null,{"$f":"bksingh!$ADE$8","v":""},null,null,null,{"$f":"bksingh!$ADE$8","v":""},null,null,null,{"$f":"bksingh!$ADE$8","v":""},null,null,null,{"$f":"bksingh!$ADE$8","v":""},null,null,null,{"$f":"bksingh!$ADE$8","v":""},null,null,null,{"$f":"bksingh!$ADE$8","v":""},null,null,null,{"$f":"bksingh!$ADE$8","v":""},null,null,null,{"$f":"bksingh!$ADE$8","v":""},null,null,null,{"$f":"bksingh!$ADE$8","v":""},null,null,null,{"$f":"bksingh!$ADE$8","v":""},null,null,null,{"$f":"bksingh!$ADE$8","v":""},null,null,null,{"$f":"bksingh!$ADE$8","v":""},null,null,null,{"$f":"bksingh!$ADE$8","v":""},null,null,null,{"$f":"bksingh!$ADE$8","v":""},null,null,null,{"$f":"bksingh!$ADE$8","v":""},null,null,null,{"$f":"bksingh!$ADE$8","v":""},null,null,null,{"$f":"bksingh!$ADE$8","v":""},null,null,null,{"$f":"bksingh!$ADE$8","v":""},null,null,null,{"$f":"bksingh!$ADE$8","v":""},null,null,null,{"$f":"bksingh!$ADE$8","v":""},null,null,null,{"$f":"bksingh!$ADE$8","v":""},null,null,null,{"$f":"bksingh!$ADE$8","v":""},null,null,null,{"$f":"bksingh!$ADE$8","v":""},null,null,null,{"$f":"bksingh!$ADE$8","v":""},null,null,null,{"$f":"bksingh!$ADE$8","v":""},null,null,null,{"$f":"bksingh!$ADE$8","v":""},null,null,null,{"$f":"bksingh!$ADE$8","v":""},null,null,null,{"$f":"bksingh!$ADE$8","v":""},null,null,null,{"$f":"bksingh!$ADE$8","v":""},null,null,null,{"$f":"bksingh!$ADE$8","v":""},null,null,null,{"$f":"bksingh!$ADE$8","v":""},null,null,null,{"$f":"bksingh!$ADE$8","v":""},null,null,null,{"$f":"bksingh!$ADE$8","v":""},null,null,null,{"$f":"bksingh!$ADE$8","v":""},null,null,null,{"$f":"bksingh!$ADE$8","v":""},null,null,null,{"$f":"bksingh!$ADE$8","v":""},null,null,null,{"$f":"bksingh!$ADE$8","v":""},null,null,null,{"$f":"bksingh!$ADE$8","v":""},null,null,null,{"$f":"bksingh!$ADE$8","v":""},null,null,null,{"$f":"bksingh!$ADE$8","v":""},null,null,null,{"$f":"bksingh!$ADE$8","v":""},null,null,null,{"$f":"bksingh!$ADE$8","v":""},null,null,null,{"$f":"bksingh!$ADE$8","v":""},null,null,null,{"$f":"bksingh!$ADE$8","v":""},null,null,null,{"$f":"bksingh!$ADE$8","v":""},null,null,null,{"$f":"bksingh!$ADE$8","v":""},null,null,null,{"$f":"bksingh!$ADE$8","v":""},null,null,null,{"$f":"bksingh!$ADE$8","v":""},null,null,null,{"$f":"bksingh!$ADE$8","v":""},null,null,null,{"$f":"bksingh!$ADE$8","v":""},null,null,null,{"$f":"bksingh!$ADE$8","v":""},null,null,null,{"$f":"bksingh!$ADE$8","v":""},null,null,null,{"$f":"bksingh!$ADE$8","v":""},null,null,null,{"$f":"bksingh!$ADE$8","v":""},null,null,null,{"$f":"bksingh!$ADE$8","v":""},null,null,null,{"$f":"bksingh!$ADE$8","v":""},null,null,null,{"$f":"bksingh!$ADE$8","v":""},null,null,null,{"$f":"bksingh!$ADE$8","v":""},null,null,null,{"$f":"bksingh!$ADE$8","v":""},null,null,null,{"$f":"bksingh!$ADE$8","v":""},null,null,null,{"$f":"bksingh!$ADE$8","v":""},null,null,null,{"$f":"bksingh!$ADE$8","v":""},null,null,null,{"$f":"bksingh!$ADE$8","v":""},null,null,null,{"$f":"bksingh!$ADE$8","v":""},null,null,null,{"$f":"bksingh!$ADE$8","v":""},null,null,null,{"$f":"bksingh!$ADE$8","v":""},null,null,null,{"$f":"bksingh!$ADE$8","v":""},null,null,null,{"$f":"bksingh!$ADE$8","v":""},null,null,null,{"$f":"bksingh!$ADE$8","v":""},null,null,null,{"$f":"bksingh!$ADE$8","v":""},null,null,null,{"$f":"bksingh!$ADE$8","v":""},null,null,null,{"$f":"bksingh!$ADE$8","v":""},null,null,null,{"$f":"bksingh!$ADE$8","v":""},null,null,null,{"$f":"bksingh!$ADE$8","v":""},null,null,null,{"$f":"bksingh!$ADE$8","v":""},null,null,null,{"$f":"bksingh!$ADE$8","v":""},null,null,null,{"$f":"bksingh!$ADE$8","v":""},null,null,null,{"$f":"bksingh!$ADE$8","v":""},null,null,null,{"$f":"bksingh!$ADE$8","v":""},null,null,null,{"$f":"bksingh!$ADE$8","v":""},null,null,null,{"$f":"bksingh!$ADE$8","v":""},null,null,null,{"$f":"bksingh!$ADE$8","v":""},null,null,null,{"$f":"bksingh!$ADE$8","v":""},null,null,null,{"$f":"bksingh!$ADE$8","v":""},null,null,null,{"$f":"bksingh!$ADE$8","v":""},null,null,null,{"$f":"bksingh!$ADE$8","v":""},null,null,null,{"$f":"bksingh!$ADE$8","v":""},null,null,null,{"$f":"bksingh!$ADE$8","v":""},null,null,null,{"$f":"bksingh!$ADE$8","v":""},null,null,null,{"$f":"bksingh!$ADE$8","v":""},null,null,null,{"$f":"bksingh!$ADE$8","v":""},null,null,null,{"$f":"bksingh!$ADE$8","v":""},null,null,null,{"$f":"bksingh!$ADE$8","v":""},null,null,null,{"$f":"bksingh!$ADE$8","v":""},null,null,null,{"$f":"bksingh!$ADE$8","v":""},null,null,null,{"$f":"bksingh!$ADE$8","v":""},null,null,null,{"$f":"bksingh!$ADE$8","v":""},null,null,null,{"$f":"bksingh!$ADE$8","v":""},null,null,null,{"$f":"bksingh!$ADE$8","v":""},null,null,null,{"$f":"bksingh!$ADE$8","v":""},null,null,null,{"$f":"bksingh!$ADE$8","v":""},null,null,null,{"$f":"bksingh!$ADE$8","v":""},null,null,null,{"$f":"bksingh!$ADE$8","v":""},null,null,null,{"$f":"bksingh!$ADE$8","v":""},null,null,null,{"$f":"bksingh!$ADE$8","v":""},null,null,null,{"$f":"bksingh!$ADE$8","v":""},null,null,null,{"$f":"bksingh!$ADE$8","v":""},null,null,null,{"$f":"bksingh!$ADE$8","v":""},null,null,null,{"$f":"bksingh!$ADE$8","v":""},null,null,null,{"$f":"bksingh!$ADE$8","v":""},null,null,null,{"$f":"bksingh!$ADE$8","v":""},null,null,null,{"$f":"bksingh!$ADE$8","v":""},null,null,null,{"$f":"bksingh!$ADE$8","v":""},null,null,null,{"$f":"bksingh!$ADE$8","v":""},null,null,null,{"$f":"bksingh!$ADE$8","v":""},null,null,null,{"$f":"bksingh!$ADE$8","v":""},null,null,null,{"$f":"bksingh!$ADE$8","v":""},null,null,null,{"$f":"bksingh!$ADE$8","v":""},null,null,null,{"$f":"bksingh!$ADE$8","v":""},null,null,null,{"$f":"bksingh!$ADE$8","v":""},null,null,null,{"$f":"bksingh!$ADE$8","v":""},null,null,null,{"$f":"bksingh!$ADE$8","v":""},null,null,null,{"$f":"bksingh!$ADE$8","v":""},null,null,null,{"$f":"bksingh!$ADE$8","v":""},null,null,null,{"$f":"bksingh!$ADE$8","v":""},null,null,null,{"$f":"bksingh!$ADE$8","v":""},null,null,null,{"$f":"bksingh!$ADE$8","v":""},null,null,null,{"$f":"bksingh!$ADE$8","v":""},null,null,null,{"$f":"bksingh!$ADE$8","v":""},null,null,null,{"$f":"bksingh!$ADE$8","v":""},null,null,null,{"$f":"bksingh!$ADE$8","v":""},null,null,null,{"$f":"bksingh!$ADE$8","v":""},null,null,null,{"$f":"bksingh!$ADE$8","v":""},null,null,null,{"$f":"bksingh!$ADE$8","v":""},null,null,null,{"$f":"bksingh!$ADE$8","v":""},null,null,null,{"$f":"bksingh!$ADE$8","v":""},null,null,null,{"$f":"bksingh!$ADE$8","v":""},null,null,null,{"$f":"bksingh!$ADE$8","v":""},null,null,null,{"$f":"bksingh!$ADE$8","v":""},null,null,null,{"$f":"bksingh!$ADE$8","v":""},null,null,null,{"$f":"bksingh!$ADE$8","v":""},null,null,null,{"$f":"bksingh!$ADE$8","v":""},null,null,null,{"$f":"bksingh!$ADE$8","v":""},null,null,null,{"$f":"bksingh!$ADE$8","v":""},null,null,null,{"$f":"bksingh!$ADE$8","v":""},null,null,null,{"$f":"bksingh!$ADE$8","v":""},null,null,null,{"$f":"bksingh!$ADE$8","v":""},null,null,null,{"$f":"bksingh!$ADE$8","v":""},null,null,null,{"$f":"bksingh!$ADE$8","v":""},null,null,null,{"$f":"bksingh!$ADE$8","v":""},null,null,null,{"$f":"bksingh!$ADE$8","v":""},null,null,null,{"$f":"bksingh!$ADE$8","v":""},null,null,null,{"$f":"bksingh!$ADE$8","v":""},null,null,null,{"$f":"bksingh!$ADE$8","v":""},null,null,null,{"$f":"bksingh!$ADE$8","v":""},null,null,null,{"$f":"bksingh!$ADE$8","v":""},null,null,null,{"$f":"bksingh!$ADE$8","v":""},null,null,null,{"$f":"bksingh!$ADE$8","v":""},null,null,null,{"$f":"bksingh!$ADE$8","v":""},null,null,null,{"$f":"bksingh!$ADE$8","v":""},null,null,null,{"$f":"bksingh!$ADE$8","v":""},null,null,null,{"$f":"bksingh!$ADE$8","v":""},null,null,null,{"$f":"bksingh!$ADE$8","v":""},null,null,null,{"$f":"bksingh!$ADE$8","v":""},null,null,null,{"$f":"bksingh!$ADE$8","v":""},null,null,null,{"$f":"bksingh!$ADE$8","v":""},null,null,null,{"$f":"bksingh!$ADE$8","v":""},null,null,null,{"$f":"bksingh!$ADE$8","v":""},null,null,null,{"$f":"bksingh!$ADE$8","v":""},null,null,null,{"$f":"bksingh!$ADE$8","v":""},null,null,null,{"$f":"bksingh!$ADE$8","v":""},null,null,null,{"$f":"bksingh!$ADE$8","v":""},null,null,null,{"$f":"bksingh!$ADE$8","v":""},null,null,null,{"$f":"bksingh!$ADE$8","v":""},null,null,null,{"$f":"bksingh!$ADE$8","v":""},null,null,null,{"$f":"bksingh!$ADE$8","v":""},null,null,null,{"$f":"bksingh!$ADE$8","v":""},null,null,null,{"$f":"bksingh!$ADE$8","v":""},null,null,null,{"$f":"bksingh!$ADE$8","v":""},null,null,null,{"$f":"bksingh!$ADE$8","v":""},null,null,null,{"$f":"bksingh!$ADE$8","v":""},null,null,null,{"$f":"bksingh!$ADE$8","v":""},null,null,null,{"$f":"bksingh!$ADE$8","v":""},null,null,null,{"$f":"bksingh!$ADE$8","v":""},null,null,null,{"$f":"bksingh!$ADE$8","v":""},null,null,null,{"$f":"bksingh!$ADE$8","v":""},null,null,null,{"$f":"bksingh!$ADE$8","v":""},null,null,null,{"$f":"bksingh!$ADE$8","v":""},null,null,null,{"$f":"bksingh!$ADE$8","v":""},null,null,null,{"$f":"bksingh!$ADE$8","v":""},null,null,null,{"$f":"bksingh!$ADE$8","v":""},null,null,null,{"$f":"bksingh!$ADE$8","v":""},null,null,null,{"$f":"bksingh!$ADE$8","v":""},null,null,null,{"$f":"bksingh!$ADE$8","v":""},null,null,null,{"$f":"bksingh!$ADE$8","v":""},null,null,null,{"$f":"bksingh!$ADE$8","v":""},null,null,null,{"$f":"bksingh!$ADE$8","v":""},null,null,null,{"$f":"bksingh!$ADE$8","v":""},null,null,null,{"$f":"bksingh!$ADE$8","v":""},null,null,null,{"$f":"bksingh!$ADE$8","v":""},null,null,null,{"$f":"bksingh!$ADE$8","v":""},null,null,null,{"$f":"bksingh!$ADE$8","v":""},null,null,null,{"$f":"bksingh!$ADE$8","v":""},null,null,null,{"$f":"bksingh!$ADE$8","v":""},null,null,null,{"$f":"bksingh!$ADE$8","v":""},null,null,null,{"$f":"bksingh!$ADE$8","v":""},null,null,null,{"$f":"bksingh!$ADE$8","v":""},null,null,null,{"$f":"bksingh!$ADE$8","v":""},null,null,null,{"$f":"bksingh!$ADE$8","v":""},null,null,null,{"$f":"bksingh!$ADE$8","v":""},null,null,null,{"$f":"bksingh!$ADE$8","v":""},null,null,null,{"$f":"bksingh!$ADE$8","v":""},null,null,null,{"$f":"bksingh!$ADE$8","v":""},null,null,null,{"$f":"bksingh!$ADE$8","v":""},null,null,null,{"$f":"bksingh!$ADE$8","v":""},null,null,null,{"$f":"bksingh!$ADE$8","v":""},null,null,null,{"$f":"bksingh!$ADE$8","v":""},null,null,null,{"$f":"bksingh!$ADE$8","v":""},null,null,null,{"$f":"bksingh!$ADE$8","v":""},null,null,null,{"$f":"bksingh!$ADE$8","v":""},null,null,null,{"$f":"bksingh!$ADE$8","v":""},null,null,null,{"$f":"bksingh!$ADE$8","v":""},null,null,null,{"$f":"bksingh!$ADE$8","v":""},null,null,null,{"$f":"bksingh!$ADE$8","v":""},null,null,null,{"$f":"bksingh!$ADE$8","v":""},null,null,null,{"$f":"bksingh!$ADE$8","v":""},null,null,null,{"$f":"bksingh!$ADE$8","v":""},null,null,null,{"$f":"bksingh!$ADE$8","v":""},null,null,null,{"$f":"bksingh!$ADE$8","v":""},null,null,null,{"$f":"bksingh!$ADE$8","v":""},null,null,null,{"$f":"bksingh!$ADE$8","v":""},null,null,null,{"$f":"bksingh!$ADE$8","v":""},null,null,null,{"$f":"bksingh!$ADE$8","v":""},null,null,null,{"$f":"bksingh!$ADE$8","v":""},null,null,null,{"$f":"bksingh!$ADE$8","v":""},null,null,null,{"$f":"bksingh!$ADE$8","v":""},null,null,null,{"$f":"bksingh!$ADE$8","v":""},null,null,null,{"$f":"bksingh!$ADE$8","v":""},null,null,null,{"$f":"bksingh!$ADE$8","v":""},null,null,null,{"$f":"bksingh!$ADE$8","v":""},null,null,null,{"$f":"bksingh!$ADE$8","v":""},null,null,null,{"$f":"bksingh!$ADE$8","v":""},null,null,null,{"$f":"bksingh!$ADE$8","v":""},null,null,null,{"$f":"bksingh!$ADE$8","v":""},null,null,null,{"$f":"bksingh!$ADE$8","v":""},null,null,null,{"$f":"bksingh!$ADE$8","v":""},null,null,null,{"$f":"bksingh!$ADE$8","v":""},null,null,null,{"$f":"bksingh!$ADE$8","v":""},null,null,null,{"$f":"bksingh!$ADE$8","v":""},null,null,null,{"$f":"bksingh!$ADE$8","v":""},null,null,null,{"$f":"bksingh!$ADE$8","v":""},null,null,null,{"$f":"bksingh!$ADE$8","v":""},null,null,null,{"$f":"bksingh!$ADE$8","v":""},null,null,null,{"$f":"bksingh!$ADE$8","v":""},null,null,null,{"$f":"bksingh!$ADE$8","v":""},null,null,null,{"$f":"bksingh!$ADE$8","v":""},null,null,null,{"$f":"bksingh!$ADE$8","v":""},null,null,null,{"$f":"bksingh!$ADE$8","v":""},null,null,null,{"$f":"bksingh!$ADE$8","v":""},null,null,null,{"$f":"bksingh!$ADE$8","v":""},null,null,null,{"$f":"bksingh!$ADE$8","v":""},null,null,null,{"$f":"bksingh!$ADE$8","v":""},null,null,null,{"$f":"bksingh!$ADE$8","v":""},null,null,null,{"$f":"bksingh!$ADE$8","v":""},null,null,null,{"$f":"bksingh!$ADE$8","v":""},null,null,null,{"$f":"bksingh!$ADE$8","v":""},null,null,null,{"$f":"bksingh!$ADE$8","v":""},null,null,null,{"$f":"bksingh!$ADE$8","v":""},null,null,null,{"$f":"bksingh!$ADE$8","v":""},null,null,null,{"$f":"bksingh!$ADE$8","v":""},null,null,null,{"$f":"bksingh!$ADE$8","v":""},null,null,null,{"$f":"bksingh!$ADE$8","v":""},null,null,null,{"$f":"bksingh!$ADE$8","v":""},null,null,null,{"$f":"bksingh!$ADE$8","v":""},null,null,null,{"$f":"bksingh!$ADE$8","v":""},null,null,null,{"$f":"bksingh!$ADE$8","v":""},null,null,null,{"$f":"bksingh!$ADE$8","v":""},null,null,null,{"$f":"bksingh!$ADE$8","v":""},null,null,null,{"$f":"bksingh!$ADE$8","v":""},null,null,null,{"$f":"bksingh!$ADE$8","v":""},null,null,null,{"$f":"bksingh!$ADE$8","v":""},null,null,null,{"$f":"bksingh!$ADE$8","v":""},null,null,null,{"$f":"bksingh!$ADE$8","v":""},null,null,null,{"$f":"bksingh!$ADE$8","v":""},null,null,null,{"$f":"bksingh!$ADE$8","v":""},null,null,null,{"$f":"bksingh!$ADE$8","v":""},null,null,null,{"$f":"bksingh!$ADE$8","v":""},null,null,null,{"$f":"bksingh!$ADE$8","v":""},null,null,null,{"$f":"bksingh!$ADE$8","v":""},null,null,null,{"$f":"bksingh!$ADE$8","v":""},null,null,null,{"$f":"bksingh!$ADE$8","v":""},null,null,null,{"$f":"bksingh!$ADE$8","v":""},null,null,null,{"$f":"bksingh!$ADE$8","v":""},null,null,null,{"$f":"bksingh!$ADE$8","v":""},null,null,null,{"$f":"bksingh!$ADE$8","v":""},null,null,null,{"$f":"bksingh!$ADE$8","v":""},null,null,null,{"$f":"bksingh!$ADE$8","v":""},null,null,null,{"$f":"bksingh!$ADE$8","v":""},null,null,null,{"$f":"bksingh!$ADE$8","v":""},null,null,null,{"$f":"bksingh!$ADE$8","v":""},null,null,null,{"$f":"bksingh!$ADE$8","v":""},null,null,null,{"$f":"bksingh!$ADE$8","v":""},null,null,null,{"$f":"bksingh!$ADE$8","v":""},null,null,null,{"$f":"bksingh!$ADE$8","v":""},null,null,null,{"$f":"bksingh!$ADE$8","v":""},null,null,null,{"$f":"bksingh!$ADE$8","v":""},null,null,null,{"$f":"bksingh!$ADE$8","v":""},null,null,null,{"$f":"bksingh!$ADE$8","v":""},null,null,null,{"$f":"bksingh!$ADE$8","v":""},null,null,null,{"$f":"bksingh!$ADE$8","v":""},null,null,null,{"$f":"bksingh!$ADE$8","v":""},null,null,null,{"$f":"bksingh!$ADE$8","v":""},null,null,null,{"$f":"bksingh!$ADE$8","v":""},null,null,null,{"$f":"bksingh!$ADE$8","v":""},null,null,null,{"$f":"bksingh!$ADE$8","v":""},null,null,null,{"$f":"bksingh!$ADE$8","v":""},null,null,null,{"$f":"bksingh!$ADE$8","v":""},null,null,null,{"$f":"bksingh!$ADE$8","v":""},null,null,null,{"$f":"bksingh!$ADE$8","v":""},null,null,null,{"$f":"bksingh!$ADE$8","v":""},null,null,null,{"$f":"bksingh!$ADE$8","v":""},null,null,null,{"$f":"bksingh!$ADE$8","v":""},null,null,null,{"$f":"bksingh!$ADE$8","v":""},null,null,null,{"$f":"bksingh!$ADE$8","v":""},null,null,null,{"$f":"bksingh!$ADE$8","v":""},null,null,null,{"$f":"bksingh!$ADE$8","v":""},null,null,null,{"$f":"bksingh!$ADE$8","v":""},null,null,null,{"$f":"bksingh!$ADE$8","v":""},null,null,null,{"$f":"bksingh!$ADE$8","v":""},null,null,null,{"$f":"bksingh!$ADE$8","v":""},null,null,null,{"$f":"bksingh!$ADE$8","v":""},null,null,null,{"$f":"bksingh!$ADE$8","v":""},null,null,null,{"$f":"bksingh!$ADE$8","v":""},null,null,null,{"$f":"bksingh!$ADE$8","v":""},null,null,null,{"$f":"bksingh!$ADE$8","v":""},null,null,null,{"$f":"bksingh!$ADE$8","v":""},null,null,null,{"$f":"bksingh!$ADE$8","v":""},null,null,null,{"$f":"bksingh!$ADE$8","v":""},null,null,null,{"$f":"bksingh!$ADE$8","v":""},null,null,null,{"$f":"bksingh!$ADE$8","v":""},null,null,null,{"$f":"bksingh!$ADE$8","v":""},null,null,null,{"$f":"bksingh!$ADE$8","v":""},null,null,null,{"$f":"bksingh!$ADE$8","v":""},null,null,null,{"$f":"bksingh!$ADE$8","v":""},null,null,null,{"$f":"bksingh!$ADE$8","v":""},null,null,null,{"$f":"bksingh!$ADE$8","v":""},null,null,null,{"$f":"bksingh!$ADE$8","v":""},null,null,null,{"$f":"bksingh!$ADE$8","v":""},null,null,null,{"$f":"bksingh!$ADE$8","v":""},null,null,null,{"$f":"bksingh!$ADE$8","v":""},null,null,null,{"$f":"bksingh!$ADE$8","v":""},null,null,null,{"$f":"bksingh!$ADE$8","v":""},null,null,null,{"$f":"bksingh!$ADE$8","v":""},null,null,null,{"$f":"bksingh!$ADE$8","v":""},null,null,null,{"$f":"bksingh!$ADE$8","v":""},null,null,null,{"$f":"bksingh!$ADE$8","v":""},null,null,null,{"$f":"bksingh!$ADE$8","v":""},null,null,null,{"$f":"bksingh!$ADE$8","v":""},null,null,null,{"$f":"bksingh!$ADE$8","v":""},null,null,null,{"$f":"bksingh!$ADE$8","v":""},null,null,null,{"$f":"bksingh!$ADE$8","v":""},null,null,null,{"$f":"bksingh!$ADE$8","v":""},null,null,null,{"$f":"bksingh!$ADE$8","v":""},null,null,null,{"$f":"bksingh!$ADE$8","v":""},null,null,null,{"$f":"bksingh!$ADE$8","v":""},null,null,null,{"$f":"bksingh!$ADE$8","v":""},null,null,null,{"$f":"bksingh!$ADE$8","v":""},null,null,null,{"$f":"bksingh!$ADE$8","v":""},null,null,null,{"$f":"bksingh!$ADE$8","v":""},null,null,null,{"$f":"bksingh!$ADE$8","v":""},null,null,null,{"$f":"bksingh!$ADE$8","v":""},null,null,null,{"$f":"bksingh!$ADE$8","v":""},null,null,null,{"$f":"bksingh!$ADE$8","v":""},null,null,null,{"$f":"bksingh!$ADE$8","v":""},null,null,null,{"$f":"bksingh!$ADE$8","v":""},null,null,null,{"$f":"bksingh!$ADE$8","v":""},null,null,null,{"$f":"bksingh!$ADE$8","v":""},null,null,null,{"$f":"bksingh!$ADE$8","v":""},null,null,null,{"$f":"bksingh!$ADE$8","v":""},null,null,null,{"$f":"bksingh!$ADE$8","v":""},null,null,null,{"$f":"bksingh!$ADE$8","v":""},null,null,null,{"$f":"bksingh!$ADE$8","v":""},null,null,null,{"$f":"bksingh!$ADE$8","v":""},null,null,null,{"$f":"bksingh!$ADE$8","v":""},null,null,null,{"$f":"bksingh!$ADE$8","v":""},null,null,null,{"$f":"bksingh!$ADE$8","v":""},null,null,null,{"$f":"bksingh!$ADE$8","v":""},null,null,null,{"$f":"bksingh!$ADE$8","v":""},null,null,null,{"$f":"bksingh!$ADE$8","v":""},null,null,null,{"$f":"bksingh!$ADE$8","v":""},null,null,null,{"$f":"bksingh!$ADE$8","v":""},null,null,null,{"$f":"bksingh!$ADE$8","v":""},null,null,null,{"$f":"bksingh!$ADE$8","v":""},null,null,null,{"$f":"bksingh!$ADE$8","v":""},null,null,null,{"$f":"bksingh!$ADE$8","v":""},null,null,null,{"$f":"bksingh!$ADE$8","v":""},null,null,null,{"$f":"bksingh!$ADE$8","v":""},null,null,null,{"$f":"bksingh!$ADE$8","v":""},null,null,null,{"$f":"bksingh!$ADE$8","v":""},null,null,null,{"$f":"bksingh!$ADE$8","v":""},null,null,null,{"$f":"bksingh!$ADE$8","v":""},null,null,null,{"$f":"bksingh!$ADE$8","v":""},null,null,null,{"$f":"bksingh!$ADE$8","v":""},null,null,null,{"$f":"bksingh!$ADE$8","v":""},null,null,null,{"$f":"bksingh!$ADE$8","v":""},null,null,null,{"$f":"bksingh!$ADE$8","v":""},null,null,null,{"$f":"bksingh!$ADE$8","v":""},null,null,null,{"$f":"bksingh!$ADE$8","v":""},null,null,null,{"$f":"bksingh!$ADE$8","v":""},null,null,null,{"$f":"bksingh!$ADE$8","v":""},null,null,null,{"$f":"bksingh!$ADE$8","v":""},null,null,null,{"$f":"bksingh!$ADE$8","v":""},null,null,null,{"$f":"bksingh!$ADE$8","v":""},null,null,null,{"$f":"bksingh!$ADE$8","v":""},null,null,null,{"$f":"bksingh!$ADE$8","v":""},null,null,null,{"$f":"bksingh!$ADE$8","v":""},null,null,null,{"$f":"bksingh!$ADE$8","v":""},null,null,null,{"$f":"bksingh!$ADE$8","v":""},null,null,null,{"$f":"bksingh!$ADE$8","v":""},null,null,null,{"$f":"bksingh!$ADE$8","v":""},null,null,null,{"$f":"bksingh!$ADE$8","v":""},null,null,null,{"$f":"bksingh!$ADE$8","v":""},null,null,null,{"$f":"bksingh!$ADE$8","v":""},null,null,null,{"$f":"bksingh!$ADE$8","v":""},null,null,null,{"$f":"bksingh!$ADE$8","v":""},null,null,null,{"$f":"bksingh!$ADE$8","v":""},null,null,null,{"$f":"bksingh!$ADE$8","v":""},null,null,null,{"$f":"bksingh!$ADE$8","v":""},null,null,null,{"$f":"bksingh!$ADE$8","v":""},null,null,null,{"$f":"bksingh!$ADE$8","v":""},null,null,null,{"$f":"bksingh!$ADE$8","v":""},null,null,null,{"$f":"bksingh!$ADE$8","v":""},null,null,null,{"$f":"bksingh!$ADE$8","v":""},null,null,null,{"$f":"bksingh!$ADE$8","v":""},null,null,null,{"$f":"bksingh!$ADE$8","v":""},null,null,null,{"$f":"bksingh!$ADE$8","v":""},null,null,null,{"$f":"bksingh!$ADE$8","v":""},null,null,null,{"$f":"bksingh!$ADE$8","v":""},null,null,null,{"$f":"bksingh!$ADE$8","v":""},null,null,null,{"$f":"bksingh!$ADE$8","v":""},null,null,null,{"$f":"bksingh!$ADE$8","v":""},null,null,null,{"$f":"bksingh!$ADE$8","v":""},null,null,null,{"$f":"bksingh!$ADE$8","v":""},null,null,null,{"$f":"bksingh!$ADE$8","v":""},null,null,null,{"$f":"bksingh!$ADE$8","v":""},null,null,null,{"$f":"bksingh!$ADE$8","v":""},null,null,null,{"$f":"bksingh!$ADE$8","v":""},null,null,null,{"$f":"bksingh!$ADE$8","v":""},null,null,null,{"$f":"bksingh!$ADE$8","v":""},null,null,null,{"$f":"bksingh!$ADE$8","v":""},null,null,null,{"$f":"bksingh!$ADE$8","v":""},null,null,null,{"$f":"bksingh!$ADE$8","v":""},null,null,null,{"$f":"bksingh!$ADE$8","v":""},null,null,null,{"$f":"bksingh!$ADE$8","v":""},null,null,null,{"$f":"bksingh!$ADE$8","v":""},null,null,null,{"$f":"bksingh!$ADE$8","v":""},null,null,null,{"$f":"bksingh!$ADE$8","v":""},null,null,null,{"$f":"bksingh!$ADE$8","v":""},null,null,null,{"$f":"bksingh!$ADE$8","v":""},null,null,null,{"$f":"bksingh!$ADE$8","v":""},null,null,null,{"$f":"bksingh!$ADE$8","v":""},null,null,null,{"$f":"bksingh!$ADE$8","v":""},null,null,null,{"$f":"bksingh!$ADE$8","v":""},null,null,null,{"$f":"bksingh!$ADE$8","v":""},null,null,null,{"$f":"bksingh!$ADE$8","v":""},null,null,null,{"$f":"bksingh!$ADE$8","v":""},null,null,null,{"$f":"bksingh!$ADE$8","v":""},null,null,null,{"$f":"bksingh!$ADE$8","v":""},null,null,null,{"$f":"bksingh!$ADE$8","v":""},null,null,null,{"$f":"bksingh!$ADE$8","v":""},null,null,null,{"$f":"bksingh!$ADE$8","v":""},null,null,null,{"$f":"bksingh!$ADE$8","v":""},null,null,null,{"$f":"bksingh!$ADE$8","v":""},null,null,null,{"$f":"bksingh!$ADE$8","v":""},null,null,null,{"$f":"bksingh!$ADE$8","v":""},null,null,null,{"$f":"bksingh!$ADE$8","v":""},null,null,null,{"$f":"bksingh!$ADE$8","v":""},null,null,null,{"$f":"bksingh!$ADE$8","v":""},null,null,null,{"$f":"bksingh!$ADE$8","v":""},null,null,null,{"$f":"bksingh!$ADE$8","v":""},null,null,null,{"$f":"bksingh!$ADE$8","v":""},null,null,null,{"$f":"bksingh!$ADE$8","v":""},null,null,null,{"$f":"bksingh!$ADE$8","v":""},null,null,null,{"$f":"bksingh!$ADE$8","v":""},null,null,null,{"$f":"bksingh!$ADE$8","v":""},null,null,null,{"$f":"bksingh!$ADE$8","v":""},null,null,null,{"$f":"bksingh!$ADE$8","v":""},null,null,null,{"$f":"bksingh!$ADE$8","v":""},null,null,null,{"$f":"bksingh!$ADE$8","v":""},null,null,null,{"$f":"bksingh!$ADE$8","v":""},null,null,null,{"$f":"bksingh!$ADE$8","v":""},null,null,null,{"$f":"bksingh!$ADE$8","v":""},null,null,null,{"$f":"bksingh!$ADE$8","v":""},null,null,null,{"$f":"bksingh!$ADE$8","v":""},null,null,null,{"$f":"bksingh!$ADE$8","v":""},null,null,null,{"$f":"bksingh!$ADE$8","v":""},null,null,null,{"$f":"bksingh!$ADE$8","v":""},null,null,null,{"$f":"bksingh!$ADE$8","v":""},null,null,null,{"$f":"bksingh!$ADE$8","v":""},null,null,null,{"$f":"bksingh!$ADE$8","v":""},null,null,null,{"$f":"bksingh!$ADE$8","v":""},null,null,null,{"$f":"bksingh!$ADE$8","v":""},null,null,null,{"$f":"bksingh!$ADE$8","v":""},null,null,null,{"$f":"bksingh!$ADE$8","v":""},null,null,null,{"$f":"bksingh!$ADE$8","v":""},null,null,null,{"$f":"bksingh!$ADE$8","v":""},null,null,null,{"$f":"bksingh!$ADE$8","v":""},null,null,null,{"$f":"bksingh!$ADE$8","v":""},null,null,null,{"$f":"bksingh!$ADE$8","v":""},null,null,null,{"$f":"bksingh!$ADE$8","v":""},null,null,null,{"$f":"bksingh!$ADE$8","v":""},null,null,null,{"$f":"bksingh!$ADE$8","v":""},null,null,null,{"$f":"bksingh!$ADE$8","v":""},null,null,null,{"$f":"bksingh!$ADE$8","v":""},null,null,null,{"$f":"bksingh!$ADE$8","v":""},null,null,null,{"$f":"bksingh!$ADE$8","v":""},null,null,null,{"$f":"bksingh!$ADE$8","v":""},null,null,null,{"$f":"bksingh!$ADE$8","v":""},null,null,null,{"$f":"bksingh!$ADE$8","v":""},null,null,null,{"$f":"bksingh!$ADE$8","v":""},null,null,null,{"$f":"bksingh!$ADE$8","v":""},null,null,null,{"$f":"bksingh!$ADE$8","v":""},null,null,null,{"$f":"bksingh!$ADE$8","v":""},null,null,null,{"$f":"bksingh!$ADE$8","v":""},null,null,null,{"$f":"bksingh!$ADE$8","v":""},null,null,null,{"$f":"bksingh!$ADE$8","v":""},null,null,null,{"$f":"bksingh!$ADE$8","v":""},null,null,null,{"$f":"bksingh!$ADE$8","v":""},null,null,null,{"$f":"bksingh!$ADE$8","v":""},null,null,null,{"$f":"bksingh!$ADE$8","v":""},null,null,null,{"$f":"bksingh!$ADE$8","v":""},null,null,null,{"$f":"bksingh!$ADE$8","v":""},null,null,null,{"$f":"bksingh!$ADE$8","v":""},null,null,null,{"$f":"bksingh!$ADE$8","v":""},null,null,null,{"$f":"bksingh!$ADE$8","v":""},null,null,null,{"$f":"bksingh!$ADE$8","v":""},null,null,null,{"$f":"bksingh!$ADE$8","v":""},null,null,null,{"$f":"bksingh!$ADE$8","v":""},null,null,null,{"$f":"bksingh!$ADE$8","v":""},null,null,null,{"$f":"bksingh!$ADE$8","v":""},null,null,null,{"$f":"bksingh!$ADE$8","v":""},null,null,null,{"$f":"bksingh!$ADE$8","v":""},null,null,null,{"$f":"bksingh!$ADE$8","v":""},null,null,null,{"$f":"bksingh!$ADE$8","v":""},null,null,null,{"$f":"bksingh!$ADE$8","v":""},null,null,null,{"$f":"bksingh!$ADE$8","v":""},null,null,null,{"$f":"bksingh!$ADE$8","v":""},null,null,null,{"$f":"bksingh!$ADE$8","v":""},null,null,null,{"$f":"bksingh!$ADE$8","v":""},null,null,null,{"$f":"bksingh!$ADE$8","v":""},null,null,null,{"$f":"bksingh!$ADE$8","v":""},null,null,null,{"$f":"bksingh!$ADE$8","v":""},null,null,null,{"$f":"bksingh!$ADE$8","v":""},null,null,null,{"$f":"bksingh!$ADE$8","v":""},null,null,null,{"$f":"bksingh!$ADE$8","v":""},null,null,null,{"$f":"bksingh!$ADE$8","v":""},null,null,null,{"$f":"bksingh!$ADE$8","v":""},null,null,null,{"$f":"bksingh!$ADE$8","v":""},null,null,null,{"$f":"bksingh!$ADE$8","v":""},null,null,null,{"$f":"bksingh!$ADE$8","v":""},null,null,null,{"$f":"bksingh!$ADE$8","v":""},null,null,null,{"$f":"bksingh!$ADE$8","v":""},null,null,null,{"$f":"bksingh!$ADE$8","v":""},null,null,null,{"$f":"bksingh!$ADE$8","v":""},null,null,null,{"$f":"bksingh!$ADE$8","v":""},null,null,null,{"$f":"bksingh!$ADE$8","v":""},null,null,null,{"$f":"bksingh!$ADE$8","v":""},null,null,null,{"$f":"bksingh!$ADE$8","v":""},null,null,null,{"$f":"bksingh!$ADE$8","v":""},null,null,null,{"$f":"bksingh!$ADE$8","v":""},null,null,null,{"$f":"bksingh!$ADE$8","v":""},null,null,null,{"$f":"bksingh!$ADE$8","v":""},null,null,null,{"$f":"bksingh!$ADE$8","v":""},null,null,null,{"$f":"bksingh!$ADE$8","v":""},null,null,null,{"$f":"bksingh!$ADE$8","v":""},null,null,null,{"$f":"bksingh!$ADE$8","v":""},null,null,null,{"$f":"bksingh!$ADE$8","v":""},null,null,null,{"$f":"bksingh!$ADE$8","v":""},null,null,null,{"$f":"bksingh!$ADE$8","v":""},null,null,null,{"$f":"bksingh!$ADE$8","v":""},null,null,null,{"$f":"bksingh!$ADE$8","v":""},null,null,null,{"$f":"bksingh!$ADE$8","v":""},null,null,null,{"$f":"bksingh!$ADE$8","v":""},null,null,null,{"$f":"bksingh!$ADE$8","v":""},null,null,null,{"$f":"bksingh!$ADE$8","v":""},null,null,null,{"$f":"bksingh!$ADE$8","v":""},null,null,null,{"$f":"bksingh!$ADE$8","v":""},null,null,null,{"$f":"bksingh!$ADE$8","v":""},null,null,null,{"$f":"bksingh!$ADE$8","v":""},null,null,null,{"$f":"bksingh!$ADE$8","v":""},null,null,null,{"$f":"bksingh!$ADE$8","v":""},null,null,null,{"$f":"bksingh!$ADE$8","v":""},null,null,null,{"$f":"bksingh!$ADE$8","v":""},null,null,null,{"$f":"bksingh!$ADE$8","v":""},null,null,null,{"$f":"bksingh!$ADE$8","v":""},null,null,null,{"$f":"bksingh!$ADE$8","v":""},null,null,null,{"$f":"bksingh!$ADE$8","v":""},null,null,null,{"$f":"bksingh!$ADE$8","v":""},null,null,null,{"$f":"bksingh!$ADE$8","v":""},null,null,null,{"$f":"bksingh!$ADE$8","v":""},null,null,null,{"$f":"bksingh!$ADE$8","v":""},null,null,null,{"$f":"bksingh!$ADE$8","v":""},null,null,null,{"$f":"bksingh!$ADE$8","v":""},null,null,null,{"$f":"bksingh!$ADE$8","v":""},null,null,null,{"$f":"bksingh!$ADE$8","v":""},null,null,null,{"$f":"bksingh!$ADE$8","v":""},null,null,null,{"$f":"bksingh!$ADE$8","v":""},null,null,null,{"$f":"bksingh!$ADE$8","v":""},null,null,null,{"$f":"bksingh!$ADE$8","v":""},null,null,null,{"$f":"bksingh!$ADE$8","v":""},null,null,null,{"$f":"bksingh!$ADE$8","v":""},null,null,null,{"$f":"bksingh!$ADE$8","v":""},null,null,null,{"$f":"bksingh!$ADE$8","v":""},null,null,null,{"$f":"bksingh!$ADE$8","v":""},null,null,null,{"$f":"bksingh!$ADE$8","v":""},null,null,null,{"$f":"bksingh!$ADE$8","v":""},null,null,null,{"$f":"bksingh!$ADE$8","v":""},null,null,null,{"$f":"bksingh!$ADE$8","v":""},null,null,null,{"$f":"bksingh!$ADE$8","v":""},null,null,null,{"$f":"bksingh!$ADE$8","v":""},null,null,null,{"$f":"bksingh!$ADE$8","v":""},null,null,null,{"$f":"bksingh!$ADE$8","v":""},null,null,null,{"$f":"bksingh!$ADE$8","v":""},null,null,null,{"$f":"bksingh!$ADE$8","v":""},null,null,null,{"$f":"bksingh!$ADE$8","v":""},null,null,null,{"$f":"bksingh!$ADE$8","v":""},null,null,null,{"$f":"bksingh!$ADE$8","v":""},null,null,null,{"$f":"bksingh!$ADE$8","v":""},null,null,null,{"$f":"bksingh!$ADE$8","v":""},null,null,null,{"$f":"bksingh!$ADE$8","v":""},null,null,null,{"$f":"bksingh!$ADE$8","v":""},null,null,null,{"$f":"bksingh!$ADE$8","v":""},null,null,null,{"$f":"bksingh!$ADE$8","v":""},null,null,null,{"$f":"bksingh!$ADE$8","v":""},null,null,null,{"$f":"bksingh!$ADE$8","v":""},null,null,null,{"$f":"bksingh!$ADE$8","v":""},null,null,null,{"$f":"bksingh!$ADE$8","v":""},null,null,null,{"$f":"bksingh!$ADE$8","v":""},null,null,null,{"$f":"bksingh!$ADE$8","v":""},null,null,null,{"$f":"bksingh!$ADE$8","v":""},null,null,null,{"$f":"bksingh!$ADE$8","v":""},null,null,null,{"$f":"bksingh!$ADE$8","v":""},null,null,null,{"$f":"bksingh!$ADE$8","v":""},null,null,null,{"$f":"bksingh!$ADE$8","v":""},null,null,null,{"$f":"bksingh!$ADE$8","v":""},null,null,null,{"$f":"bksingh!$ADE$8","v":""},null,null,null,{"$f":"bksingh!$ADE$8","v":""},null,null,null,{"$f":"bksingh!$ADE$8","v":""},null,null,null,{"$f":"bksingh!$ADE$8","v":""},null,null,null,{"$f":"bksingh!$ADE$8","v":""},null,null,null,{"$f":"bksingh!$ADE$8","v":""},null,null,null,{"$f":"bksingh!$ADE$8","v":""},null,null,null,{"$f":"bksingh!$ADE$8","v":""},null,null,null,{"$f":"bksingh!$ADE$8","v":""},null,null,null,{"$f":"bksingh!$ADE$8","v":""},null,null,null,{"$f":"bksingh!$ADE$8","v":""},null,null,null,{"$f":"bksingh!$ADE$8","v":""},null,null,null,{"$f":"bksingh!$ADE$8","v":""},null,null,null,{"$f":"bksingh!$ADE$8","v":""},null,null,null,{"$f":"bksingh!$ADE$8","v":""},null,null,null,{"$f":"bksingh!$ADE$8","v":""},null,null,null,{"$f":"bksingh!$ADE$8","v":""},null,null,null,{"$f":"bksingh!$ADE$8","v":""},null,null,null,{"$f":"bksingh!$ADE$8","v":""},null,null,null,{"$f":"bksingh!$ADE$8","v":""},null,null,null,{"$f":"bksingh!$ADE$8","v":""},null,null,null,{"$f":"bksingh!$ADE$8","v":""},null,null,null,{"$f":"bksingh!$ADE$8","v":""},null,null,null,{"$f":"bksingh!$ADE$8","v":""},null,null,null,{"$f":"bksingh!$ADE$8","v":""},null,null,null,{"$f":"bksingh!$ADE$8","v":""},null,null,null,{"$f":"bksingh!$ADE$8","v":""},null,null,null,{"$f":"bksingh!$ADE$8","v":""},null,null,null,{"$f":"bksingh!$ADE$8","v":""},null,null,null,{"$f":"bksingh!$ADE$8","v":""},null,null,null,{"$f":"bksingh!$ADE$8","v":""},null,null,null,{"$f":"bksingh!$ADE$8","v":""},null,null,null,{"$f":"bksingh!$ADE$8","v":""},null,null,null,{"$f":"bksingh!$ADE$8","v":""},null,null,null,{"$f":"bksingh!$ADE$8","v":""},null,null,null,{"$f":"bksingh!$ADE$8","v":""},null,null,null,{"$f":"bksingh!$ADE$8","v":""},null,null,null,{"$f":"bksingh!$ADE$8","v":""},null,null,null,{"$f":"bksingh!$ADE$8","v":""},null,null,null,{"$f":"bksingh!$ADE$8","v":""},null,null,null,{"$f":"bksingh!$ADE$8","v":""},null,null,null,{"$f":"bksingh!$ADE$8","v":""},null,null,null,{"$f":"bksingh!$ADE$8","v":""},null,null,null,{"$f":"bksingh!$ADE$8","v":""},null,null,null,{"$f":"bksingh!$ADE$8","v":""},null,null,null,{"$f":"bksingh!$ADE$8","v":""},null,null,null,{"$f":"bksingh!$ADE$8","v":""},null,null,null,{"$f":"bksingh!$ADE$8","v":""},null,null,null,{"$f":"bksingh!$ADE$8","v":""},null,null,null,{"$f":"bksingh!$ADE$8","v":""},null,null,null,{"$f":"bksingh!$ADE$8","v":""},null,null,null,{"$f":"bksingh!$ADE$8","v":""},null,null,null,{"$f":"bksingh!$ADE$8","v":""},null,null,null,{"$f":"bksingh!$ADE$8","v":""},null,null,null,{"$f":"bksingh!$ADE$8","v":""},null,null,null,{"$f":"bksingh!$ADE$8","v":""},null,null,null,{"$f":"bksingh!$ADE$8","v":""},null,null,null,{"$f":"bksingh!$ADE$8","v":""},null,null,null,{"$f":"bksingh!$ADE$8","v":""},null,null,null,{"$f":"bksingh!$ADE$8","v":""},null,null,null,{"$f":"bksingh!$ADE$8","v":""},null,null,null,{"$f":"bksingh!$ADE$8","v":""},null,null,null,{"$f":"bksingh!$ADE$8","v":""},null,null,null,{"$f":"bksingh!$ADE$8","v":""},null,null,null,{"$f":"bksingh!$ADE$8","v":""},null,null,null,{"$f":"bksingh!$ADE$8","v":""},null,null,null,{"$f":"bksingh!$ADE$8","v":""},null,null,null,{"$f":"bksingh!$ADE$8","v":""},null,null,null,{"$f":"bksingh!$ADE$8","v":""},null,null,null,{"$f":"bksingh!$ADE$8","v":""},null,null,null,{"$f":"bksingh!$ADE$8","v":""},null,null,null,{"$f":"bksingh!$ADE$8","v":""},null,null,null,{"$f":"bksingh!$ADE$8","v":""},null,null,null,{"$f":"bksingh!$ADE$8","v":""},null,null,null,{"$f":"bksingh!$ADE$8","v":""},null,null,null,{"$f":"bksingh!$ADE$8","v":""},null,null,null,{"$f":"bksingh!$ADE$8","v":""},null,null,null,{"$f":"bksingh!$ADE$8","v":""},null,null,null,{"$f":"bksingh!$ADE$8","v":""},null,null,null,{"$f":"bksingh!$ADE$8","v":""},null,null,null,{"$f":"bksingh!$ADE$8","v":""},null,null,null,{"$f":"bksingh!$ADE$8","v":""},null,null,null,{"$f":"bksingh!$ADE$8","v":""},null,null,null,{"$f":"bksingh!$ADE$8","v":""},null,null,null,{"$f":"bksingh!$ADE$8","v":""},null,null,null,{"$f":"bksingh!$ADE$8","v":""},null,null,null,{"$f":"bksingh!$ADE$8","v":""},null,null,null,{"$f":"bksingh!$ADE$8","v":""},null,null,null,{"$f":"bksingh!$ADE$8","v":""},null,null,null,{"$f":"bksingh!$ADE$8","v":""},null,null,null,{"$f":"bksingh!$ADE$8","v":""},null,null,null,{"$f":"bksingh!$ADE$8","v":""},null,null,null,{"$f":"bksingh!$ADE$8","v":""},null,null,null,{"$f":"bksingh!$ADE$8","v":""},null,null,null,{"$f":"bksingh!$ADE$8","v":""},null,null,null,{"$f":"bksingh!$ADE$8","v":""},null,null,null,{"$f":"bksingh!$ADE$8","v":""},null,null,null,{"$f":"bksingh!$ADE$8","v":""},null,null,null,{"$f":"bksingh!$ADE$8","v":""},null,null,null,{"$f":"bksingh!$ADE$8","v":""},null,null,null,{"$f":"bksingh!$ADE$8","v":""},null,null,null,{"$f":"bksingh!$ADE$8","v":""},null,null,null,{"$f":"bksingh!$ADE$8","v":""},null,null,null,{"$f":"bksingh!$ADE$8","v":""},null,null,null,{"$f":"bksingh!$ADE$8","v":""},null,null,null,{"$f":"bksingh!$ADE$8","v":""},null,null,null,{"$f":"bksingh!$ADE$8","v":""},null,null,null,{"$f":"bksingh!$ADE$8","v":""},null,null,null,{"$f":"bksingh!$ADE$8","v":""},null,null,null,{"$f":"bksingh!$ADE$8","v":""},null,null,null,{"$f":"bksingh!$ADE$8","v":""},null,null,null,{"$f":"bksingh!$ADE$8","v":""},null,null,null,{"$f":"bksingh!$ADE$8","v":""},null,null,null,{"$f":"bksingh!$ADE$8","v":""},null,null,null,{"$f":"bksingh!$ADE$8","v":""},null,null,null,{"$f":"bksingh!$ADE$8","v":""},null,null,null,{"$f":"bksingh!$ADE$8","v":""},null,null,null,{"$f":"bksingh!$ADE$8","v":""},null,null,null,{"$f":"bksingh!$ADE$8","v":""},null,null,null,{"$f":"bksingh!$ADE$8","v":""},null,null,null,{"$f":"bksingh!$ADE$8","v":""},null,null,null,{"$f":"bksingh!$ADE$8","v":""},null,null,null,{"$f":"bksingh!$ADE$8","v":""},null,null,null,{"$f":"bksingh!$ADE$8","v":""},null,null,null,{"$f":"bksingh!$ADE$8","v":""},null,null,null,{"$f":"bksingh!$ADE$8","v":""},null,null,null,{"$f":"bksingh!$ADE$8","v":""},null,null,null,{"$f":"bksingh!$ADE$8","v":""},null,null,null,{"$f":"bksingh!$ADE$8","v":""},null,null,null,{"$f":"bksingh!$ADE$8","v":""},null,null,null,{"$f":"bksingh!$ADE$8","v":""},null,null,null,{"$f":"bksingh!$ADE$8","v":""},null,null,null,{"$f":"bksingh!$ADE$8","v":""},null,null,null,{"$f":"bksingh!$ADE$8","v":""},null,null,null,{"$f":"bksingh!$ADE$8","v":""},null,null,null,{"$f":"bksingh!$ADE$8","v":""},null,null,null,{"$f":"bksingh!$ADE$8","v":""},null,null,null,{"$f":"bksingh!$ADE$8","v":""},null,null,null,{"$f":"bksingh!$ADE$8","v":""},null,null,null,{"$f":"bksingh!$ADE$8","v":""},null,null,null,{"$f":"bksingh!$ADE$8","v":""},null,null,null,{"$f":"bksingh!$ADE$8","v":""},null,null,null,{"$f":"bksingh!$ADE$8","v":""},null,null,null,{"$f":"bksingh!$ADE$8","v":""},null,null,null,{"$f":"bksingh!$ADE$8","v":""},null,null,null,{"$f":"bksingh!$ADE$8","v":""},null,null,null,{"$f":"bksingh!$ADE$8","v":""},null,null,null,{"$f":"bksingh!$ADE$8","v":""},null,null,null,{"$f":"bksingh!$ADE$8","v":""},null,null,null,{"$f":"bksingh!$ADE$8","v":""},null,null,null,{"$f":"bksingh!$ADE$8","v":""},null,null,null,{"$f":"bksingh!$ADE$8","v":""},null,null,null,{"$f":"bksingh!$ADE$8","v":""},null,null,null,{"$f":"bksingh!$ADE$8","v":""},null,null,null,{"$f":"bksingh!$ADE$8","v":""},null,null,null,{"$f":"bksingh!$ADE$8","v":""},null,null,null,{"$f":"bksingh!$ADE$8","v":""},null,null,null,{"$f":"bksingh!$ADE$8","v":""},null,null,null,{"$f":"bksingh!$ADE$8","v":""},null,null,null,{"$f":"bksingh!$ADE$8","v":""},null,null,null,{"$f":"bksingh!$ADE$8","v":""},null,null,null,{"$f":"bksingh!$ADE$8","v":""},null,null,null,{"$f":"bksingh!$ADE$8","v":""},null,null,null,{"$f":"bksingh!$ADE$8","v":""},null,null,null,{"$f":"bksingh!$ADE$8","v":""},null,null,null,{"$f":"bksingh!$ADE$8","v":""},null,null,null,{"$f":"bksingh!$ADE$8","v":""},null,null,null,{"$f":"bksingh!$ADE$8","v":""},null,null,null,{"$f":"bksingh!$ADE$8","v":""},null,null,null,{"$f":"bksingh!$ADE$8","v":""},null,null,null,{"$f":"bksingh!$ADE$8","v":""},null,null,null,{"$f":"bksingh!$ADE$8","v":""},null,null,null,{"$f":"bksingh!$ADE$8","v":""},null,null,null,{"$f":"bksingh!$ADE$8","v":""},null,null,null,{"$f":"bksingh!$ADE$8","v":""},null,null,null,{"$f":"bksingh!$ADE$8","v":""},null,null,null,{"$f":"bksingh!$ADE$8","v":""},null,null,null,{"$f":"bksingh!$ADE$8","v":""},null,null,null,{"$f":"bksingh!$ADE$8","v":""},null,null,null,{"$f":"bksingh!$ADE$8","v":""},null,null,null,{"$f":"bksingh!$ADE$8","v":""},null,null,null,{"$f":"bksingh!$ADE$8","v":""},null,null,null,{"$f":"bksingh!$ADE$8","v":""},null,null,null,{"$f":"bksingh!$ADE$8","v":""},null,null,null,{"$f":"bksingh!$ADE$8","v":""},null,null,null,{"$f":"bksingh!$ADE$8","v":""},null,null,null,{"$f":"bksingh!$ADE$8","v":""},null,null,null,{"$f":"bksingh!$ADE$8","v":""},null,null,null,{"$f":"bksingh!$ADE$8","v":""},null,null,null,{"$f":"bksingh!$ADE$8","v":""},null,null,null,{"$f":"bksingh!$ADE$8","v":""},null,null,null,{"$f":"bksingh!$ADE$8","v":""},null,null,null,{"$f":"bksingh!$ADE$8","v":""},null,null,null,{"$f":"bksingh!$ADE$8","v":""},null,null,null,{"$f":"bksingh!$ADE$8","v":""},null,null,null,{"$f":"bksingh!$ADE$8","v":""},null,null,null,{"$f":"bksingh!$ADE$8","v":""},null,null,null,{"$f":"bksingh!$ADE$8","v":""},null,null,null,{"$f":"bksingh!$ADE$8","v":""},null,null,null,{"$f":"bksingh!$ADE$8","v":""},null,null,null,{"$f":"bksingh!$ADE$8","v":""},null,null,null,{"$f":"bksingh!$ADE$8","v":""},null,null,null,{"$f":"bksingh!$ADE$8","v":""},null,null,null,{"$f":"bksingh!$ADE$8","v":""},null,null,null,{"$f":"bksingh!$ADE$8","v":""},null,null,null,{"$f":"bksingh!$ADE$8","v":""},null,null,null,{"$f":"bksingh!$ADE$8","v":""},null,null,null,{"$f":"bksingh!$ADE$8","v":""},null,null,null,{"$f":"bksingh!$ADE$8","v":""},null,null,null,{"$f":"bksingh!$ADE$8","v":""},null,null,null,{"$f":"bksingh!$ADE$8","v":""},null,null,null,{"$f":"bksingh!$ADE$8","v":""},null,null,null,{"$f":"bksingh!$ADE$8","v":""},null,null,null,{"$f":"bksingh!$ADE$8","v":""},null,null,null,{"$f":"bksingh!$ADE$8","v":""},null,null,null,{"$f":"bksingh!$ADE$8","v":""},null,null,null,{"$f":"bksingh!$ADE$8","v":""},null,null,null,{"$f":"bksingh!$ADE$8","v":""},null,null,null,{"$f":"bksingh!$ADE$8","v":""},null,null,null,{"$f":"bksingh!$ADE$8","v":""},null,null,null,{"$f":"bksingh!$ADE$8","v":""},null,null,null,{"$f":"bksingh!$ADE$8","v":""},null,null,null,{"$f":"bksingh!$ADE$8","v":""},null,null,null,{"$f":"bksingh!$ADE$8","v":""},null,null,null,{"$f":"bksingh!$ADE$8","v":""},null,null,null,{"$f":"bksingh!$ADE$8","v":""},null,null,null,{"$f":"bksingh!$ADE$8","v":""},null,null,null,{"$f":"bksingh!$ADE$8","v":""},null,null,null,{"$f":"bksingh!$ADE$8","v":""},null,null,null,{"$f":"bksingh!$ADE$8","v":""},null,null,null,{"$f":"bksingh!$ADE$8","v":""},null,null,null,{"$f":"bksingh!$ADE$8","v":""},null,null,null,{"$f":"bksingh!$ADE$8","v":""},null,null,null,{"$f":"bksingh!$ADE$8","v":""},null,null,null,{"$f":"bksingh!$ADE$8","v":""},null,null,null,{"$f":"bksingh!$ADE$8","v":""},null,null,null,{"$f":"bksingh!$ADE$8","v":""},null,null,null,{"$f":"bksingh!$ADE$8","v":""},null,null,null,{"$f":"bksingh!$ADE$8","v":""},null,null,null,{"$f":"bksingh!$ADE$8","v":""},null,null,null,{"$f":"bksingh!$ADE$8","v":""},null,null,null,{"$f":"bksingh!$ADE$8","v":""},null,null,null,{"$f":"bksingh!$ADE$8","v":""},null,null,null,{"$f":"bksingh!$ADE$8","v":""},null,null,null,{"$f":"bksingh!$ADE$8","v":""},null,null,null,{"$f":"bksingh!$ADE$8","v":""},null,null,null,{"$f":"bksingh!$ADE$8","v":""},null,null,null,{"$f":"bksingh!$ADE$8","v":""},null,null,null,{"$f":"bksingh!$ADE$8","v":""},null,null,null,{"$f":"bksingh!$ADE$8","v":""},null,null,null,{"$f":"bksingh!$ADE$8","v":""},null,null,null,{"$f":"bksingh!$ADE$8","v":""},null,null,null,{"$f":"bksingh!$ADE$8","v":""},null,null,null,{"$f":"bksingh!$ADE$8","v":""},null,null,null,{"$f":"bksingh!$ADE$8","v":""},null,null,null,{"$f":"bksingh!$ADE$8","v":""},null,null,null,{"$f":"bksingh!$ADE$8","v":""},null,null,null,{"$f":"bksingh!$ADE$8","v":""},null,null,null,{"$f":"bksingh!$ADE$8","v":""},null,null,null,{"$f":"bksingh!$ADE$8","v":""},null,null,null,{"$f":"bksingh!$ADE$8","v":""},null,null,null,{"$f":"bksingh!$ADE$8","v":""},null,null,null,{"$f":"bksingh!$ADE$8","v":""},null,null,null,{"$f":"bksingh!$ADE$8","v":""},null,null,null,{"$f":"bksingh!$ADE$8","v":""},null,null,null,{"$f":"bksingh!$ADE$8","v":""},null,null,null,{"$f":"bksingh!$ADE$8","v":""},null,null,null,{"$f":"bksingh!$ADE$8","v":""},null,null,null,{"$f":"bksingh!$ADE$8","v":""},null,null,null,{"$f":"bksingh!$ADE$8","v":""},null,null,null,{"$f":"bksingh!$ADE$8","v":""},null,null,null,{"$f":"bksingh!$ADE$8","v":""},null,null,null,{"$f":"bksingh!$ADE$8","v":""},null,null,null,{"$f":"bksingh!$ADE$8","v":""},null,null,null,{"$f":"bksingh!$ADE$8","v":""},null,null,null,{"$f":"bksingh!$ADE$8","v":""},null,null,null,{"$f":"bksingh!$ADE$8","v":""},null,null,null,{"$f":"bksingh!$ADE$8","v":""},null,null,null,{"$f":"bksingh!$ADE$8","v":""},null,null,null,{"$f":"bksingh!$ADE$8","v":""},null,null,null,{"$f":"bksingh!$ADE$8","v":""},null,null,null,{"$f":"bksingh!$ADE$8","v":""},null,null,null,{"$f":"bksingh!$ADE$8","v":""},null,null,null,{"$f":"bksingh!$ADE$8","v":""},null,null,null,{"$f":"bksingh!$ADE$8","v":""},null,null,null,{"$f":"bksingh!$ADE$8","v":""},null,null,null,{"$f":"bksingh!$ADE$8","v":""},null,null,null,{"$f":"bksingh!$ADE$8","v":""},null,null,null,{"$f":"bksingh!$ADE$8","v":""},null,null,null,{"$f":"bksingh!$ADE$8","v":""},null,null,null,{"$f":"bksingh!$ADE$8","v":""},null,null,null,{"$f":"bksingh!$ADE$8","v":""},null,null,null,{"$f":"bksingh!$ADE$8","v":""},null,null,null,{"$f":"bksingh!$ADE$8","v":""},null,null,null,{"$f":"bksingh!$ADE$8","v":""},null,null,null,{"$f":"bksingh!$ADE$8","v":""},null,null,null,{"$f":"bksingh!$ADE$8","v":""},null,null,null,{"$f":"bksingh!$ADE$8","v":""},null,null,null,{"$f":"bksingh!$ADE$8","v":""},null,null,null,{"$f":"bksingh!$ADE$8","v":""},null,null,null,{"$f":"bksingh!$ADE$8","v":""},null,null,null,{"$f":"bksingh!$ADE$8","v":""},null,null,null,{"$f":"bksingh!$ADE$8","v":""},null,null,null,{"$f":"bksingh!$ADE$8","v":""},null,null,null,{"$f":"bksingh!$ADE$8","v":""},null,null,null,{"$f":"bksingh!$ADE$8","v":""},null,null,null,{"$f":"bksingh!$ADE$8","v":""},null,null,null,{"$f":"bksingh!$ADE$8","v":""},null,null,null,{"$f":"bksingh!$ADE$8","v":""},null,null,null,{"$f":"bksingh!$ADE$8","v":""},null,null,null,{"$f":"bksingh!$ADE$8","v":""},null,null,null,{"$f":"bksingh!$ADE$8","v":""},null,null,null,{"$f":"bksingh!$ADE$8","v":""},null,null,null,{"$f":"bksingh!$ADE$8","v":""},null,null,null,{"$f":"bksingh!$ADE$8","v":""},null,null,null,{"$f":"bksingh!$ADE$8","v":""},null,null,null,{"$f":"bksingh!$ADE$8","v":""},null,null,null,{"$f":"bksingh!$ADE$8","v":""},null,null,null,{"$f":"bksingh!$ADE$8","v":""},null,null,null,{"$f":"bksingh!$ADE$8","v":""},null,null,null,{"$f":"bksingh!$ADE$8","v":""},null,null,null,{"$f":"bksingh!$ADE$8","v":""},null,null,null,{"$f":"bksingh!$ADE$8","v":""},null,null,null,{"$f":"bksingh!$ADE$8","v":""},null,null,null,{"$f":"bksingh!$ADE$8","v":""},null,null,null,{"$f":"bksingh!$ADE$8","v":""},null,null,null,{"$f":"bksingh!$ADE$8","v":""},null,null,null,{"$f":"bksingh!$ADE$8","v":""},null,null,null,{"$f":"bksingh!$ADE$8","v":""},null,null,null,{"$f":"bksingh!$ADE$8","v":""},null,null,null,{"$f":"bksingh!$ADE$8","v":""},null,null,null,{"$f":"bksingh!$ADE$8","v":""},null,null,null,{"$f":"bksingh!$ADE$8","v":""},null,null,null,{"$f":"bksingh!$ADE$8","v":""},null,null,null,{"$f":"bksingh!$ADE$8","v":""},null,null,null,{"$f":"bksingh!$ADE$8","v":""},null,null,null,{"$f":"bksingh!$ADE$8","v":""},null,null,null,{"$f":"bksingh!$ADE$8","v":""},null,null,null,{"$f":"bksingh!$ADE$8","v":""},null,null,null,{"$f":"bksingh!$ADE$8","v":""},null,null,null,{"$f":"bksingh!$ADE$8","v":""},null,null,null,{"$f":"bksingh!$ADE$8","v":""},null,null,null,{"$f":"bksingh!$ADE$8","v":""},null,null,null,{"$f":"bksingh!$ADE$8","v":""},null,null,null,{"$f":"bksingh!$ADE$8","v":""},null,null,null,{"$f":"bksingh!$ADE$8","v":""},null,null,null,{"$f":"bksingh!$ADE$8","v":""},null,null,null,{"$f":"bksingh!$ADE$8","v":""},null,null,null,{"$f":"bksingh!$ADE$8","v":""},null,null,null,{"$f":"bksingh!$ADE$8","v":""},null,null,null,{"$f":"bksingh!$ADE$8","v":""},null,null,null,{"$f":"bksingh!$ADE$8","v":""},null,null,null,{"$f":"bksingh!$ADE$8","v":""},null,null,null,{"$f":"bksingh!$ADE$8","v":""},null,null,null,{"$f":"bksingh!$ADE$8","v":""},null,null,null,{"$f":"bksingh!$ADE$8","v":""},null,null,null,{"$f":"bksingh!$ADE$8","v":""},null,null,null,{"$f":"bksingh!$ADE$8","v":""},null,null,null,{"$f":"bksingh!$ADE$8","v":""},null,null,null,{"$f":"bksingh!$ADE$8","v":""},null,null,null,{"$f":"bksingh!$ADE$8","v":""},null,null,null,{"$f":"bksingh!$ADE$8","v":""},null,null,null,{"$f":"bksingh!$ADE$8","v":""},null,null,null,{"$f":"bksingh!$ADE$8","v":""},null,null,null,{"$f":"bksingh!$ADE$8","v":""},null,null,null,{"$f":"bksingh!$ADE$8","v":""},null,null,null,{"$f":"bksingh!$ADE$8","v":""},null,null,null,{"$f":"bksingh!$ADE$8","v":""},null,null,null,{"$f":"bksingh!$ADE$8","v":""},null,null,null,{"$f":"bksingh!$ADE$8","v":""},null,null,null,{"$f":"bksingh!$ADE$8","v":""},null,null,null,{"$f":"bksingh!$ADE$8","v":""},null,null,null,{"$f":"bksingh!$ADE$8","v":""},null,null,null,{"$f":"bksingh!$ADE$8","v":""},null,null,null,{"$f":"bksingh!$ADE$8","v":""},null,null,null,{"$f":"bksingh!$ADE$8","v":""},null,null,null,{"$f":"bksingh!$ADE$8","v":""},null,null,null,{"$f":"bksingh!$ADE$8","v":""},null,null,null,{"$f":"bksingh!$ADE$8","v":""},null,null,null,{"$f":"bksingh!$ADE$8","v":""},null,null,null,{"$f":"bksingh!$ADE$8","v":""},null,null,null,{"$f":"bksingh!$ADE$8","v":""},null,null,null,{"$f":"bksingh!$ADE$8","v":""},null,null,null,{"$f":"bksingh!$ADE$8","v":""},null,null,null,{"$f":"bksingh!$ADE$8","v":""},null,null,null,{"$f":"bksingh!$ADE$8","v":""},null,null,null,{"$f":"bksingh!$ADE$8","v":""},null,null,null,{"$f":"bksingh!$ADE$8","v":""},null,null,null,{"$f":"bksingh!$ADE$8","v":""},null,null,null,{"$f":"bksingh!$ADE$8","v":""},null,null,null,{"$f":"bksingh!$ADE$8","v":""},null,null,null,{"$f":"bksingh!$ADE$8","v":""},null,null,null,{"$f":"bksingh!$ADE$8","v":""},null,null,null,{"$f":"bksingh!$ADE$8","v":""},null,null,null,{"$f":"bksingh!$ADE$8","v":""},null,null,null,{"$f":"bksingh!$ADE$8","v":""},null,null,null,{"$f":"bksingh!$ADE$8","v":""},null,null,null,{"$f":"bksingh!$ADE$8","v":""},null,null,null,{"$f":"bksingh!$ADE$8","v":""},null,null,null,{"$f":"bksingh!$ADE$8","v":""},null,null,null,{"$f":"bksingh!$ADE$8","v":""},null,null,null,{"$f":"bksingh!$ADE$8","v":""},null,null,null,{"$f":"bksingh!$ADE$8","v":""},null,null,null,{"$f":"bksingh!$ADE$8","v":""},null,null,null,{"$f":"bksingh!$ADE$8","v":""},null,null,null,{"$f":"bksingh!$ADE$8","v":""},null,null,null,{"$f":"bksingh!$ADE$8","v":""},null,null,null,{"$f":"bksingh!$ADE$8","v":""},null,null,null,{"$f":"bksingh!$ADE$8","v":""},null,null,null,{"$f":"bksingh!$ADE$8","v":""},null,null,null,{"$f":"bksingh!$ADE$8","v":""},null,null,null,{"$f":"bksingh!$ADE$8","v":""},null,null,null,{"$f":"bksingh!$ADE$8","v":""},null,null,null,{"$f":"bksingh!$ADE$8","v":""},null,null,null,{"$f":"bksingh!$ADE$8","v":""},null,null,null,{"$f":"bksingh!$ADE$8","v":""},null,null,null,{"$f":"bksingh!$ADE$8","v":""},null,null,null,{"$f":"bksingh!$ADE$8","v":""},null,null,null,{"$f":"bksingh!$ADE$8","v":""},null,null,null,{"$f":"bksingh!$ADE$8","v":""},null,null,null,{"$f":"bksingh!$ADE$8","v":""},null,null,null,{"$f":"bksingh!$ADE$8","v":""},null,null,null,{"$f":"bksingh!$ADE$8","v":""},null,null,null,{"$f":"bksingh!$ADE$8","v":""},null,null,null,{"$f":"bksingh!$ADE$8","v":""},null,null,null,{"$f":"bksingh!$ADE$8","v":""},null,null,null,{"$f":"bksingh!$ADE$8","v":""},null,null,null,{"$f":"bksingh!$ADE$8","v":""},null,null,null,{"$f":"bksingh!$ADE$8","v":""},null,null,null,{"$f":"bksingh!$ADE$8","v":""},null,null,null,{"$f":"bksingh!$ADE$8","v":""},null,null,null,{"$f":"bksingh!$ADE$8","v":""},null,null,null,{"$f":"bksingh!$ADE$8","v":""},null,null,null,{"$f":"bksingh!$ADE$8","v":""},null,null,null,{"$f":"bksingh!$ADE$8","v":""},null,null,null,{"$f":"bksingh!$ADE$8","v":""},null,null,null,{"$f":"bksingh!$ADE$8","v":""},null,null,null,{"$f":"bksingh!$ADE$8","v":""},null,null,null,{"$f":"bksingh!$ADE$8","v":""},null,null,null,{"$f":"bksingh!$ADE$8","v":""},null,null,null,{"$f":"bksingh!$ADE$8","v":""},null,null,null,{"$f":"bksingh!$ADE$8","v":""},null,null,null,{"$f":"bksingh!$ADE$8","v":""},null,null,null,{"$f":"bksingh!$ADE$8","v":""},null,null,null,{"$f":"bksingh!$ADE$8","v":""},null,null,null,{"$f":"bksingh!$ADE$8","v":""},null,null,null,{"$f":"bksingh!$ADE$8","v":""},null,null,null,{"$f":"bksingh!$ADE$8","v":""},null,null,null,{"$f":"bksingh!$ADE$8","v":""},null,null,null,{"$f":"bksingh!$ADE$8","v":""},null,null,null,{"$f":"bksingh!$ADE$8","v":""},null,null,null,{"$f":"bksingh!$ADE$8","v":""},null,null,null,{"$f":"bksingh!$ADE$8","v":""},null,null,null,{"$f":"bksingh!$ADE$8","v":""},null,null,null,{"$f":"bksingh!$ADE$8","v":""},null,null,null,{"$f":"bksingh!$ADE$8","v":""},null,null,null,{"$f":"bksingh!$ADE$8","v":""},null,null,null,{"$f":"bksingh!$ADE$8","v":""},null,null,null,{"$f":"bksingh!$ADE$8","v":""},null,null,null,{"$f":"bksingh!$ADE$8","v":""},null,null,null,{"$f":"bksingh!$ADE$8","v":""},null,null,null,{"$f":"bksingh!$ADE$8","v":""},null,null,null,{"$f":"bksingh!$ADE$8","v":""},null,null,null,{"$f":"bksingh!$ADE$8","v":""},null,null,null,{"$f":"bksingh!$ADE$8","v":""},null,null,null,{"$f":"bksingh!$ADE$8","v":""},null,null,null,{"$f":"bksingh!$ADE$8","v":""},null,null,null,{"$f":"bksingh!$ADE$8","v":""},null,null,null,{"$f":"bksingh!$ADE$8","v":""},null,null,null,{"$f":"bksingh!$ADE$8","v":""},null,null,null,{"$f":"bksingh!$ADE$8","v":""},null,null,null,{"$f":"bksingh!$ADE$8","v":""},null,null,null,{"$f":"bksingh!$ADE$8","v":""},null,null,null,{"$f":"bksingh!$ADE$8","v":""},null,null,null,{"$f":"bksingh!$ADE$8","v":""},null,null,null,{"$f":"bksingh!$ADE$8","v":""},null,null,null,{"$f":"bksingh!$ADE$8","v":""},null,null,null,{"$f":"bksingh!$ADE$8","v":""},null,null,null,{"$f":"bksingh!$ADE$8","v":""},null,null,null,{"$f":"bksingh!$ADE$8","v":""},null,null,null,{"$f":"bksingh!$ADE$8","v":""},null,null,null,{"$f":"bksingh!$ADE$8","v":""},null,null,null,{"$f":"bksingh!$ADE$8","v":""},null,null,null,{"$f":"bksingh!$ADE$8","v":""},null,null,null,{"$f":"bksingh!$ADE$8","v":""},null,null,null,{"$f":"bksingh!$ADE$8","v":""},null,null,null,{"$f":"bksingh!$ADE$8","v":""},null,null,null,{"$f":"bksingh!$ADE$8","v":""},null,null,null,{"$f":"bksingh!$ADE$8","v":""},null,null,null,{"$f":"bksingh!$ADE$8","v":""},null,null,null,{"$f":"bksingh!$ADE$8","v":""},null,null,null,{"$f":"bksingh!$ADE$8","v":""},null,null,null,{"$f":"bksingh!$ADE$8","v":""},null,null,null,{"$f":"bksingh!$ADE$8","v":""},null,null,null,{"$f":"bksingh!$ADE$8","v":""},null,null,null,{"$f":"bksingh!$ADE$8","v":""},null,null,null,{"$f":"bksingh!$ADE$8","v":""},null,null,null,{"$f":"bksingh!$ADE$8","v":""},null,null,null,{"$f":"bksingh!$ADE$8","v":""},null,null,null,{"$f":"bksingh!$ADE$8","v":""},null,null,null,{"$f":"bksingh!$ADE$8","v":""},null,null,null,{"$f":"bksingh!$ADE$8","v":""},null,null,null,{"$f":"bksingh!$ADE$8","v":""},null,null,null,{"$f":"bksingh!$ADE$8","v":""},null,null,null,{"$f":"bksingh!$ADE$8","v":""},null,null,null,{"$f":"bksingh!$ADE$8","v":""},null,null,null,{"$f":"bksingh!$ADE$8","v":""},null,null,null,{"$f":"bksingh!$ADE$8","v":""},null,null,null,{"$f":"bksingh!$ADE$8","v":""},null,null,null,{"$f":"bksingh!$ADE$8","v":""},null,null,null,{"$f":"bksingh!$ADE$8","v":""},null,null,null,{"$f":"bksingh!$ADE$8","v":""},null,null,null,{"$f":"bksingh!$ADE$8","v":""},null,null,null,{"$f":"bksingh!$ADE$8","v":""},null,null,null,{"$f":"bksingh!$ADE$8","v":""},null,null,null,{"$f":"bksingh!$ADE$8","v":""},null,null,null,{"$f":"bksingh!$ADE$8","v":""},null,null,null,{"$f":"bksingh!$ADE$8","v":""},null,null,null,{"$f":"bksingh!$ADE$8","v":""},null,null,null,{"$f":"bksingh!$ADE$8","v":""},null,null,null,{"$f":"bksingh!$ADE$8","v":""},null,null,null,{"$f":"bksingh!$ADE$8","v":""},null,null,null,{"$f":"bksingh!$ADE$8","v":""},null,null,null,{"$f":"bksingh!$ADE$8","v":""},null,null,null,{"$f":"bksingh!$ADE$8","v":""},null,null,null,{"$f":"bksingh!$ADE$8","v":""},null,null,null,{"$f":"bksingh!$ADE$8","v":""},null,null,null,{"$f":"bksingh!$ADE$8","v":""},null,null,null,{"$f":"bksingh!$ADE$8","v":""},null,null,null,{"$f":"bksingh!$ADE$8","v":""},null,null,null,{"$f":"bksingh!$ADE$8","v":""},null,null,null,{"$f":"bksingh!$ADE$8","v":""},null,null,null,{"$f":"bksingh!$ADE$8","v":""},null,null,null,{"$f":"bksingh!$ADE$8","v":""},null,null,null,{"$f":"bksingh!$ADE$8","v":""},null,null,null,{"$f":"bksingh!$ADE$8","v":""},null,null,null,{"$f":"bksingh!$ADE$8","v":""},null,null,null,{"$f":"bksingh!$ADE$8","v":""},null,null,null,{"$f":"bksingh!$ADE$8","v":""},null,null,null,{"$f":"bksingh!$ADE$8","v":""},null,null,null,{"$f":"bksingh!$ADE$8","v":""},null,null,null,{"$f":"bksingh!$ADE$8","v":""},null,null,null,{"$f":"bksingh!$ADE$8","v":""},null,null,null,{"$f":"bksingh!$ADE$8","v":""},null,null,null,{"$f":"bksingh!$ADE$8","v":""},null,null,null,{"$f":"bksingh!$ADE$8","v":""},null,null,null,{"$f":"bksingh!$ADE$8","v":""},null,null,null,{"$f":"bksingh!$ADE$8","v":""},null,null,null,{"$f":"bksingh!$ADE$8","v":""},null,null,null,{"$f":"bksingh!$ADE$8","v":""},null,null,null,{"$f":"bksingh!$ADE$8","v":""},null,null,null,{"$f":"bksingh!$ADE$8","v":""},null,null,null,{"$f":"bksingh!$ADE$8","v":""},null,null,null,{"$f":"bksingh!$ADE$8","v":""},null,null,null,{"$f":"bksingh!$ADE$8","v":""},null,null,null,{"$f":"bksingh!$ADE$8","v":""},null,null,null,{"$f":"bksingh!$ADE$8","v":""},null,null,null,{"$f":"bksingh!$ADE$8","v":""},null,null,null,{"$f":"bksingh!$ADE$8","v":""},null,null,null,{"$f":"bksingh!$ADE$8","v":""},null,null,null,{"$f":"bksingh!$ADE$8","v":""},null,null,null,{"$f":"bksingh!$ADE$8","v":""},null,null,null,{"$f":"bksingh!$ADE$8","v":""},null,null,null,{"$f":"bksingh!$ADE$8","v":""},null,null,null,{"$f":"bksingh!$ADE$8","v":""},null,null,null,{"$f":"bksingh!$ADE$8","v":""},null,null,null,{"$f":"bksingh!$ADE$8","v":""},null,null,null,{"$f":"bksingh!$ADE$8","v":""},null,null,null,{"$f":"bksingh!$ADE$8","v":""},null,null,null,{"$f":"bksingh!$ADE$8","v":""},null,null,null,{"$f":"bksingh!$ADE$8","v":""},null,null,null,{"$f":"bksingh!$ADE$8","v":""},null,null,null,{"$f":"bksingh!$ADE$8","v":""},null,null,null,{"$f":"bksingh!$ADE$8","v":""},null,null,null,{"$f":"bksingh!$ADE$8","v":""},null,null,null,{"$f":"bksingh!$ADE$8","v":""},null,null,null,{"$f":"bksingh!$ADE$8","v":""},null,null,null,{"$f":"bksingh!$ADE$8","v":""},null,null,null,{"$f":"bksingh!$ADE$8","v":""},null,null,null,{"$f":"bksingh!$ADE$8","v":""},null,null,null,{"$f":"bksingh!$ADE$8","v":""},null,null,null,{"$f":"bksingh!$ADE$8","v":""},null,null,null,{"$f":"bksingh!$ADE$8","v":""},null,null,null,{"$f":"bksingh!$ADE$8","v":""},null,null,null,{"$f":"bksingh!$ADE$8","v":""},null,null,null,{"$f":"bksingh!$ADE$8","v":""},null,null,null,{"$f":"bksingh!$ADE$8","v":""},null,null,null,{"$f":"bksingh!$ADE$8","v":""},null,null,null,{"$f":"bksingh!$ADE$8","v":""},null,null,null,{"$f":"bksingh!$ADE$8","v":""},null,null,null,{"$f":"bksingh!$ADE$8","v":""},null,null,null,{"$f":"bksingh!$ADE$8","v":""},null,null,null,{"$f":"bksingh!$ADE$8","v":""},null,null,null,{"$f":"bksingh!$ADE$8","v":""},null,null,null,{"$f":"bksingh!$ADE$8","v":""},null,null,null,{"$f":"bksingh!$ADE$8","v":""},null,null,null,{"$f":"bksingh!$ADE$8","v":""},null,null,null,{"$f":"bksingh!$ADE$8","v":""},null,null,null,{"$f":"bksingh!$ADE$8","v":""},null,null,null,{"$f":"bksingh!$ADE$8","v":""},null,null,null,{"$f":"bksingh!$ADE$8","v":""},null,null,null,{"$f":"bksingh!$ADE$8","v":""},null,null,null,{"$f":"bksingh!$ADE$8","v":""},null,null,null,{"$f":"bksingh!$ADE$8","v":""},null,null,null,{"$f":"bksingh!$ADE$8","v":""},null,null,null,{"$f":"bksingh!$ADE$8","v":""},null,null,null,{"$f":"bksingh!$ADE$8","v":""},null,null,null,{"$f":"bksingh!$ADE$8","v":""},null,null,null,{"$f":"bksingh!$ADE$8","v":""},null,null,null,{"$f":"bksingh!$ADE$8","v":""},null,null,null,{"$f":"bksingh!$ADE$8","v":""},null,null,null,{"$f":"bksingh!$ADE$8","v":""},null,null,null,{"$f":"bksingh!$ADE$8","v":""},null,null,null,{"$f":"bksingh!$ADE$8","v":""},null,null,null,{"$f":"bksingh!$ADE$8","v":""},null,null,null,{"$f":"bksingh!$ADE$8","v":""},null,null,null,{"$f":"bksingh!$ADE$8","v":""},null,null,null,{"$f":"bksingh!$ADE$8","v":""},null,null,null,{"$f":"bksingh!$ADE$8","v":""},null,null,null,{"$f":"bksingh!$ADE$8","v":""},null,null,null,{"$f":"bksingh!$ADE$8","v":""},null,null,null,{"$f":"bksingh!$ADE$8","v":""},null,null,null,{"$f":"bksingh!$ADE$8","v":""},null,null,null,{"$f":"bksingh!$ADE$8","v":""},null,null,null,{"$f":"bksingh!$ADE$8","v":""},null,null,null,{"$f":"bksingh!$ADE$8","v":""},null,null,null,{"$f":"bksingh!$ADE$8","v":""},null,null,null,{"$f":"bksingh!$ADE$8","v":""},null,null,null,{"$f":"bksingh!$ADE$8","v":""},null,null,null,{"$f":"bksingh!$ADE$8","v":""},null,null,null,{"$f":"bksingh!$ADE$8","v":""},null,null,null,{"$f":"bksingh!$ADE$8","v":""},null,null,null,{"$f":"bksingh!$ADE$8","v":""},null,null,null,{"$f":"bksingh!$ADE$8","v":""},null,null,null,{"$f":"bksingh!$ADE$8","v":""},null,null,null,{"$f":"bksingh!$ADE$8","v":""},null,null,null,{"$f":"bksingh!$ADE$8","v":""},null,null,null,{"$f":"bksingh!$ADE$8","v":""},null,null,null,{"$f":"bksingh!$ADE$8","v":""},null,null,null,{"$f":"bksingh!$ADE$8","v":""},null,null,null,{"$f":"bksingh!$ADE$8","v":""},null,null,null,{"$f":"bksingh!$ADE$8","v":""},null,null,null,{"$f":"bksingh!$ADE$8","v":""},null,null,null,{"$f":"bksingh!$ADE$8","v":""},null,null,null,{"$f":"bksingh!$ADE$8","v":""},null,null,null,{"$f":"bksingh!$ADE$8","v":""},null,null,null,{"$f":"bksingh!$ADE$8","v":""},null,null,null,{"$f":"bksingh!$ADE$8","v":""},null,null,null,{"$f":"bksingh!$ADE$8","v":""},null,null,null,{"$f":"bksingh!$ADE$8","v":""},null,null,null,{"$f":"bksingh!$ADE$8","v":""},null,null,null,{"$f":"bksingh!$ADE$8","v":""},null,null,null,{"$f":"bksingh!$ADE$8","v":""},null,null,null,{"$f":"bksingh!$ADE$8","v":""},null,null,null,{"$f":"bksingh!$ADE$8","v":""},null,null,null,{"$f":"bksingh!$ADE$8","v":""},null,null,null,{"$f":"bksingh!$ADE$8","v":""},null,null,null,{"$f":"bksingh!$ADE$8","v":""},null,null,null,{"$f":"bksingh!$ADE$8","v":""},null,null,null,{"$f":"bksingh!$ADE$8","v":""},null,null,null,{"$f":"bksingh!$ADE$8","v":""},null,null,null,{"$f":"bksingh!$ADE$8","v":""},null,null,null,{"$f":"bksingh!$ADE$8","v":""},null,null,null,{"$f":"bksingh!$ADE$8","v":""},null,null,null,{"$f":"bksingh!$ADE$8","v":""},null,null,null,{"$f":"bksingh!$ADE$8","v":""},null,null,null,{"$f":"bksingh!$ADE$8","v":""},null,null,null,{"$f":"bksingh!$ADE$8","v":""},null,null,null,{"$f":"bksingh!$ADE$8","v":""},null,null,null,{"$f":"bksingh!$ADE$8","v":""},null,null,null,{"$f":"bksingh!$ADE$8","v":""},null,null,null,{"$f":"bksingh!$ADE$8","v":""},null,null,null,{"$f":"bksingh!$ADE$8","v":""},null,null,null,{"$f":"bksingh!$ADE$8","v":""},null,null,null,{"$f":"bksingh!$ADE$8","v":""},null,null,null,{"$f":"bksingh!$ADE$8","v":""},null,null,null,{"$f":"bksingh!$ADE$8","v":""},null,null,null,{"$f":"bksingh!$ADE$8","v":""},null,null,null,{"$f":"bksingh!$ADE$8","v":""},null,null,null,{"$f":"bksingh!$ADE$8","v":""},null,null,null,{"$f":"bksingh!$ADE$8","v":""},null,null,null,{"$f":"bksingh!$ADE$8","v":""},null,null,null,{"$f":"bksingh!$ADE$8","v":""},null,null,null,{"$f":"bksingh!$ADE$8","v":""},null,null,null,{"$f":"bksingh!$ADE$8","v":""},null,null,null,{"$f":"bksingh!$ADE$8","v":""},null,null,null,{"$f":"bksingh!$ADE$8","v":""},null,null,null,{"$f":"bksingh!$ADE$8","v":""},null,null,null,{"$f":"bksingh!$ADE$8","v":""},null,null,null,{"$f":"bksingh!$ADE$8","v":""},null,null,null,{"$f":"bksingh!$ADE$8","v":""},null,null,null,{"$f":"bksingh!$ADE$8","v":""},null,null,null,{"$f":"bksingh!$ADE$8","v":""},null,null,null,{"$f":"bksingh!$ADE$8","v":""},null,null,null,{"$f":"bksingh!$ADE$8","v":""},null,null,null,{"$f":"bksingh!$ADE$8","v":""},null,null,null,{"$f":"bksingh!$ADE$8","v":""},null,null,null,{"$f":"bksingh!$ADE$8","v":""},null,null,null,{"$f":"bksingh!$ADE$8","v":""},null,null,null,{"$f":"bksingh!$ADE$8","v":""},null,null,null,{"$f":"bksingh!$ADE$8","v":""},null,null,null,{"$f":"bksingh!$ADE$8","v":""},null,null,null,{"$f":"bksingh!$ADE$8","v":""},null,null,null,{"$f":"bksingh!$ADE$8","v":""},null,null,null,{"$f":"bksingh!$ADE$8","v":""},null,null,null,{"$f":"bksingh!$ADE$8","v":""},null,null,null,{"$f":"bksingh!$ADE$8","v":""},null,null,null,{"$f":"bksingh!$ADE$8","v":""},null,null,null,{"$f":"bksingh!$ADE$8","v":""},null,null,null,{"$f":"bksingh!$ADE$8","v":""},null,null,null,{"$f":"bksingh!$ADE$8","v":""},null,null,null,{"$f":"bksingh!$ADE$8","v":""},null,null,null,{"$f":"bksingh!$ADE$8","v":""},null,null,null,{"$f":"bksingh!$ADE$8","v":""},null,null,null,{"$f":"bksingh!$ADE$8","v":""},null,null,null,{"$f":"bksingh!$ADE$8","v":""},null,null,null,{"$f":"bksingh!$ADE$8","v":""},null,null,null,{"$f":"bksingh!$ADE$8","v":""},null,null,null,{"$f":"bksingh!$ADE$8","v":""},null,null,null,{"$f":"bksingh!$ADE$8","v":""},null,null,null,{"$f":"bksingh!$ADE$8","v":""},null,null,null,{"$f":"bksingh!$ADE$8","v":""},null,null,null,{"$f":"bksingh!$ADE$8","v":""},null,null,null,{"$f":"bksingh!$ADE$8","v":""},null,null,null,{"$f":"bksingh!$ADE$8","v":""},null,null,null,{"$f":"bksingh!$ADE$8","v":""},null,null,null,{"$f":"bksingh!$ADE$8","v":""},null,null,null,{"$f":"bksingh!$ADE$8","v":""},null,null,null,{"$f":"bksingh!$ADE$8","v":""},null,null,null,{"$f":"bksingh!$ADE$8","v":""},null,null,null,{"$f":"bksingh!$ADE$8","v":""},null,null,null,{"$f":"bksingh!$ADE$8","v":""},null,null,null,{"$f":"bksingh!$ADE$8","v":""},null,null,null,{"$f":"bksingh!$ADE$8","v":""},null,null,null,{"$f":"bksingh!$ADE$8","v":""},null,null,null,{"$f":"bksingh!$ADE$8","v":""},null,null,null,{"$f":"bksingh!$ADE$8","v":""},null,null,null,{"$f":"bksingh!$ADE$8","v":""},null,null,null,{"$f":"bksingh!$ADE$8","v":""},null,null,null,{"$f":"bksingh!$ADE$8","v":""},null,null,null,{"$f":"bksingh!$ADE$8","v":""},null,null,null,{"$f":"bksingh!$ADE$8","v":""},null,null,null,{"$f":"bksingh!$ADE$8","v":""},null,null,null,{"$f":"bksingh!$ADE$8","v":""},null,null,null,{"$f":"bksingh!$ADE$8","v":""},null,null,null,{"$f":"bksingh!$ADE$8","v":""},null,null,null,{"$f":"bksingh!$ADE$8","v":""},null,null,null,{"$f":"bksingh!$ADE$8","v":""},null,null,null,{"$f":"bksingh!$ADE$8","v":""},null,null,null,{"$f":"bksingh!$ADE$8","v":""},null,null,null,{"$f":"bksingh!$ADE$8","v":""},null,null,null,{"$f":"bksingh!$ADE$8","v":""},null,null,null,{"$f":"bksingh!$ADE$8","v":""},null,null,null,{"$f":"bksingh!$ADE$8","v":""},null,null,null,{"$f":"bksingh!$ADE$8","v":""},null,null,null,{"$f":"bksingh!$ADE$8","v":""},null,null,null,{"$f":"bksingh!$ADE$8","v":""},null,null,null,{"$f":"bksingh!$ADE$8","v":""},null,null,null,{"$f":"bksingh!$ADE$8","v":""},null,null,null,{"$f":"bksingh!$ADE$8","v":""},null,null,null,{"$f":"bksingh!$ADE$8","v":""},null,null,null,{"$f":"bksingh!$ADE$8","v":""},null,null,null,{"$f":"bksingh!$ADE$8","v":""},null,null,null,{"$f":"bksingh!$ADE$8","v":""},null,null,null,{"$f":"bksingh!$ADE$8","v":""},null,null,null,{"$f":"bksingh!$ADE$8","v":""},null,null,null,{"$f":"bksingh!$ADE$8","v":""},null,null,null,{"$f":"bksingh!$ADE$8","v":""},null,null,null,{"$f":"bksingh!$ADE$8","v":""},null,null,null,{"$f":"bksingh!$ADE$8","v":""},null,null,null,{"$f":"bksingh!$ADE$8","v":""},null,null,null,{"$f":"bksingh!$ADE$8","v":""},null,null,null,{"$f":"bksingh!$ADE$8","v":""},null,null,null,{"$f":"bksingh!$ADE$8","v":""},null,null,null,{"$f":"bksingh!$ADE$8","v":""},null,null,null,{"$f":"bksingh!$ADE$8","v":""},null,null,null,{"$f":"bksingh!$ADE$8","v":""},null,null,null,{"$f":"bksingh!$ADE$8","v":""},null,null,null,{"$f":"bksingh!$ADE$8","v":""},null,null,null,{"$f":"bksingh!$ADE$8","v":""},null,null,null,{"$f":"bksingh!$ADE$8","v":""},null,null,null,{"$f":"bksingh!$ADE$8","v":""},null,null,null,{"$f":"bksingh!$ADE$8","v":""},null,null,null,{"$f":"bksingh!$ADE$8","v":""},null,null,null,{"$f":"bksingh!$ADE$8","v":""},null,null,null,{"$f":"bksingh!$ADE$8","v":""},null,null,null,{"$f":"bksingh!$ADE$8","v":""},null,null,null,{"$f":"bksingh!$ADE$8","v":""},null,null,null,{"$f":"bksingh!$ADE$8","v":""},null,null,null,{"$f":"bksingh!$ADE$8","v":""},null,null,null,{"$f":"bksingh!$ADE$8","v":""},null,null,null,{"$f":"bksingh!$ADE$8","v":""},null,null,null,{"$f":"bksingh!$ADE$8","v":""},null,null,null,{"$f":"bksingh!$ADE$8","v":""},null,null,null,{"$f":"bksingh!$ADE$8","v":""},null,null,null,{"$f":"bksingh!$ADE$8","v":""},null,null,null,{"$f":"bksingh!$ADE$8","v":""},null,null,null,{"$f":"bksingh!$ADE$8","v":""},null,null,null,{"$f":"bksingh!$ADE$8","v":""},null,null,null,{"$f":"bksingh!$ADE$8","v":""},null,null,null,{"$f":"bksingh!$ADE$8","v":""},null,null,null,{"$f":"bksingh!$ADE$8","v":""},null,null,null,{"$f":"bksingh!$ADE$8","v":""},null,null,null,{"$f":"bksingh!$ADE$8","v":""},null,null,null,{"$f":"bksingh!$ADE$8","v":""},null,null,null,{"$f":"bksingh!$ADE$8","v":""},null,null,null,{"$f":"bksingh!$ADE$8","v":""},null,null,null,{"$f":"bksingh!$ADE$8","v":""},null,null,null,{"$f":"bksingh!$ADE$8","v":""},null,null,null,{"$f":"bksingh!$ADE$8","v":""},null,null,null,{"$f":"bksingh!$ADE$8","v":""},null,null,null,{"$f":"bksingh!$ADE$8","v":""},null,null,null,{"$f":"bksingh!$ADE$8","v":""},null,null,null,{"$f":"bksingh!$ADE$8","v":""},null,null,null,{"$f":"bksingh!$ADE$8","v":""},null,null,null,{"$f":"bksingh!$ADE$8","v":""},null,null,null,{"$f":"bksingh!$ADE$8","v":""},null,null,null,{"$f":"bksingh!$ADE$8","v":""},null,null,null,{"$f":"bksingh!$ADE$8","v":""},null,null,null,{"$f":"bksingh!$ADE$8","v":""},null,null,null,{"$f":"bksingh!$ADE$8","v":""},null,null,null,{"$f":"bksingh!$ADE$8","v":""},null,null,null,{"$f":"bksingh!$ADE$8","v":""},null,null,null,{"$f":"bksingh!$ADE$8","v":""},null,null,null,{"$f":"bksingh!$ADE$8","v":""},null,null,null,{"$f":"bksingh!$ADE$8","v":""},null,null,null,{"$f":"bksingh!$ADE$8","v":""},null,null,null,{"$f":"bksingh!$ADE$8","v":""},null,null,null,{"$f":"bksingh!$ADE$8","v":""},null,null,null,{"$f":"bksingh!$ADE$8","v":""},null,null,null,{"$f":"bksingh!$ADE$8","v":""},null,null,null,{"$f":"bksingh!$ADE$8","v":""},null,null,null,{"$f":"bksingh!$ADE$8","v":""},null,null,null,{"$f":"bksingh!$ADE$8","v":""},null,null,null,{"$f":"bksingh!$ADE$8","v":""},null,null,null,{"$f":"bksingh!$ADE$8","v":""},null,null,null,{"$f":"bksingh!$ADE$8","v":""},null,null,null,{"$f":"bksingh!$ADE$8","v":""},null,null,null,{"$f":"bksingh!$ADE$8","v":""},null,null,null,{"$f":"bksingh!$ADE$8","v":""},null,null,null,{"$f":"bksingh!$ADE$8","v":""},null,null,null,{"$f":"bksingh!$ADE$8","v":""},null,null,null,{"$f":"bksingh!$ADE$8","v":""},null,null,null,{"$f":"bksingh!$ADE$8","v":""},null,null,null,{"$f":"bksingh!$ADE$8","v":""},null,null,null,{"$f":"bksingh!$ADE$8","v":""},null,null,null,{"$f":"bksingh!$ADE$8","v":""},null,null,null,{"$f":"bksingh!$ADE$8","v":""},null,null,null,{"$f":"bksingh!$ADE$8","v":""},null,null,null,{"$f":"bksingh!$ADE$8","v":""},null,null,null,{"$f":"bksingh!$ADE$8","v":""},null,null,null,{"$f":"bksingh!$ADE$8","v":""},null,null,null,{"$f":"bksingh!$ADE$8","v":""},null,null,null,{"$f":"bksingh!$ADE$8","v":""},null,null,null,{"$f":"bksingh!$ADE$8","v":""},null,null,null,{"$f":"bksingh!$ADE$8","v":""},null,null,null,{"$f":"bksingh!$ADE$8","v":""},null,null,null,{"$f":"bksingh!$ADE$8","v":""},null,null,null,{"$f":"bksingh!$ADE$8","v":""},null,null,null,{"$f":"bksingh!$ADE$8","v":""},null,null,null,{"$f":"bksingh!$ADE$8","v":""},null,null,null,{"$f":"bksingh!$ADE$8","v":""},null,null,null,{"$f":"bksingh!$ADE$8","v":""},null,null,null,{"$f":"bksingh!$ADE$8","v":""},null,null,null,{"$f":"bksingh!$ADE$8","v":""},null,null,null,{"$f":"bksingh!$ADE$8","v":""},null,null,null,{"$f":"bksingh!$ADE$8","v":""},null,null,null,{"$f":"bksingh!$ADE$8","v":""},null,null,null,{"$f":"bksingh!$ADE$8","v":""},null,null,null,{"$f":"bksingh!$ADE$8","v":""},null,null,null,{"$f":"bksingh!$ADE$8","v":""},null,null,null,{"$f":"bksingh!$ADE$8","v":""},null,null,null,{"$f":"bksingh!$ADE$8","v":""},null,null,null,{"$f":"bksingh!$ADE$8","v":""},null,null,null,{"$f":"bksingh!$ADE$8","v":""},null,null,null,{"$f":"bksingh!$ADE$8","v":""},null,null,null,{"$f":"bksingh!$ADE$8","v":""},null,null,null,{"$f":"bksingh!$ADE$8","v":""},null,null,null,{"$f":"bksingh!$ADE$8","v":""},null,null,null,{"$f":"bksingh!$ADE$8","v":""},null,null,null,{"$f":"bksingh!$ADE$8","v":""},null,null,null,{"$f":"bksingh!$ADE$8","v":""},null,null,null,{"$f":"bksingh!$ADE$8","v":""},null,null,null,{"$f":"bksingh!$ADE$8","v":""},null,null,null,{"$f":"bksingh!$ADE$8","v":""},null,null,null,{"$f":"bksingh!$ADE$8","v":""},null,null,null,{"$f":"bksingh!$ADE$8","v":""},null,null,null,{"$f":"bksingh!$ADE$8","v":""},null,null,null,{"$f":"bksingh!$ADE$8","v":""},null,null,null,{"$f":"bksingh!$ADE$8","v":""},null,null,null,{"$f":"bksingh!$ADE$8","v":""},null,null,null,{"$f":"bksingh!$ADE$8","v":""},null,null,null,{"$f":"bksingh!$ADE$8","v":""},null,null,null,{"$f":"bksingh!$ADE$8","v":""},null,null,null,{"$f":"bksingh!$ADE$8","v":""},null,null,null,{"$f":"bksingh!$ADE$8","v":""},null,null,null,{"$f":"bksingh!$ADE$8","v":""},null,null,null,{"$f":"bksingh!$ADE$8","v":""},null,null,null,{"$f":"bksingh!$ADE$8","v":""},null,null,null,{"$f":"bksingh!$ADE$8","v":""},null,null,null,{"$f":"bksingh!$ADE$8","v":""},null,null,null,{"$f":"bksingh!$ADE$8","v":""},null,null,null,{"$f":"bksingh!$ADE$8","v":""},null,null,null,{"$f":"bksingh!$ADE$8","v":""},null,null,null,{"$f":"bksingh!$ADE$8","v":""},null,null,null,{"$f":"bksingh!$ADE$8","v":""},null,null,null,{"$f":"bksingh!$ADE$8","v":""},null,null,null,{"$f":"bksingh!$ADE$8","v":""},null,null,null,{"$f":"bksingh!$ADE$8","v":""},null,null,null,{"$f":"bksingh!$ADE$8","v":""},null,null,null,{"$f":"bksingh!$ADE$8","v":""},null,null,null,{"$f":"bksingh!$ADE$8","v":""},null,null,null,{"$f":"bksingh!$ADE$8","v":""},null,null,null,{"$f":"bksingh!$ADE$8","v":""},null,null,null,{"$f":"bksingh!$ADE$8","v":""},null,null,null,{"$f":"bksingh!$ADE$8","v":""},null,null,null,{"$f":"bksingh!$ADE$8","v":""},null,null,null,{"$f":"bksingh!$ADE$8","v":""},null,null,null,{"$f":"bksingh!$ADE$8","v":""},null,null,null,{"$f":"bksingh!$ADE$8","v":""},null,null,null,{"$f":"bksingh!$ADE$8","v":""},null,null,null,{"$f":"bksingh!$ADE$8","v":""},null,null,null,{"$f":"bksingh!$ADE$8","v":""},null,null,null,{"$f":"bksingh!$ADE$8","v":""},null,null,null,{"$f":"bksingh!$ADE$8","v":""},null,null,null,{"$f":"bksingh!$ADE$8","v":""},null,null,null,{"$f":"bksingh!$ADE$8","v":""},null,null,null,{"$f":"bksingh!$ADE$8","v":""},null,null,null,{"$f":"bksingh!$ADE$8","v":""},null,null,null,{"$f":"bksingh!$ADE$8","v":""},null,null,null,{"$f":"bksingh!$ADE$8","v":""},null,null,null,{"$f":"bksingh!$ADE$8","v":""},null,null,null,{"$f":"bksingh!$ADE$8","v":""},null,null,null,{"$f":"bksingh!$ADE$8","v":""},null,null,null,{"$f":"bksingh!$ADE$8","v":""},null,null,null,{"$f":"bksingh!$ADE$8","v":""},null,null,null,{"$f":"bksingh!$ADE$8","v":""},null,null,null,{"$f":"bksingh!$ADE$8","v":""},null,null,null,{"$f":"bksingh!$ADE$8","v":""},null,null,null,{"$f":"bksingh!$ADE$8","v":""},null,null,null,{"$f":"bksingh!$ADE$8","v":""},null,null,null,{"$f":"bksingh!$ADE$8","v":""},null,null,null,{"$f":"bksingh!$ADE$8","v":""},null,null,null,{"$f":"bksingh!$ADE$8","v":""},null,null,null,{"$f":"bksingh!$ADE$8","v":""},null,null,null,{"$f":"bksingh!$ADE$8","v":""},null,null,null,{"$f":"bksingh!$ADE$8","v":""},null,null,null,{"$f":"bksingh!$ADE$8","v":""},null,null,null,{"$f":"bksingh!$ADE$8","v":""},null,null,null,{"$f":"bksingh!$ADE$8","v":""},null,null,null,{"$f":"bksingh!$ADE$8","v":""},null,null,null,{"$f":"bksingh!$ADE$8","v":""},null,null,null,{"$f":"bksingh!$ADE$8","v":""},null,null,null,{"$f":"bksingh!$ADE$8","v":""},null,null,null,{"$f":"bksingh!$ADE$8","v":""},null,null,null,{"$f":"bksingh!$ADE$8","v":""},null,null,null,{"$f":"bksingh!$ADE$8","v":""},null,null,null,{"$f":"bksingh!$ADE$8","v":""},null,null,null,{"$f":"bksingh!$ADE$8","v":""},null,null,null,{"$f":"bksingh!$ADE$8","v":""},null,null,null,{"$f":"bksingh!$ADE$8","v":""},null,null,null,{"$f":"bksingh!$ADE$8","v":""},null,null,null,{"$f":"bksingh!$ADE$8","v":""},null,null,null,{"$f":"bksingh!$ADE$8","v":""},null,null,null,{"$f":"bksingh!$ADE$8","v":""},null,null,null,{"$f":"bksingh!$ADE$8","v":""},null,null,null,{"$f":"bksingh!$ADE$8","v":""},null,null,null,{"$f":"bksingh!$ADE$8","v":""},null,null,null,{"$f":"bksingh!$ADE$8","v":""},null,null,null,{"$f":"bksingh!$ADE$8","v":""},null,null,null,{"$f":"bksingh!$ADE$8","v":""},null,null,null,{"$f":"bksingh!$ADE$8","v":""},null,null,null,{"$f":"bksingh!$ADE$8","v":""},null,null,null,{"$f":"bksingh!$ADE$8","v":""},null,null,null,{"$f":"bksingh!$ADE$8","v":""},null,null,null,{"$f":"bksingh!$ADE$8","v":""},null,null,null,{"$f":"bksingh!$ADE$8","v":""},null,null,null,{"$f":"bksingh!$ADE$8","v":""},null,null,null,{"$f":"bksingh!$ADE$8","v":""},null,null,null,{"$f":"bksingh!$ADE$8","v":""},null,null,null,{"$f":"bksingh!$ADE$8","v":""},null,null,null,{"$f":"bksingh!$ADE$8","v":""},null,null,null,{"$f":"bksingh!$ADE$8","v":""},null,null,null,{"$f":"bksingh!$ADE$8","v":""},null,null,null,{"$f":"bksingh!$ADE$8","v":""},null,null,null,{"$f":"bksingh!$ADE$8","v":""}]
[{"$f":"bksingh!$ADE$12","v":""},null,null,null,{"$f":"bksingh!$ADE$8","v":""},null,null,null,{"$f":"bksingh!$ADE$8","v":""},null,null,null,{"$f":"bksingh!$ADE$8","v":""},null,null,null,{"$f":"bksingh!$ADE$8","v":""},null,null,null,{"$f":"bksingh!$ADE$8","v":""},null,null,null,{"$f":"bksingh!$ADE$8","v":""},null,null,null,{"$f":"bksingh!$ADE$8","v":""},null,null,null,{"$f":"bksingh!$ADE$8","v":""},null,null,null,{"$f":"bksingh!$ADE$8","v":""},null,null,null,{"$f":"bksingh!$ADE$8","v":""},null,null,null,{"$f":"bksingh!$ADE$8","v":""},null,null,null,{"$f":"bksingh!$ADE$8","v":""},null,null,null,{"$f":"bksingh!$ADE$8","v":""},null,null,null,{"$f":"bksingh!$ADE$8","v":""},null,null,null,{"$f":"bksingh!$ADE$8","v":""},null,null,null,{"$f":"bksingh!$ADE$8","v":""},null,null,null,{"$f":"bksingh!$ADE$8","v":""},null,null,null,{"$f":"bksingh!$ADE$8","v":""},null,null,null,{"$f":"bksingh!$ADE$8","v":""},null,null,null,{"$f":"bksingh!$ADE$8","v":""},null,null,null,{"$f":"bksingh!$ADE$8","v":""},null,null,null,{"$f":"bksingh!$ADE$8","v":""},null,null,null,{"$f":"bksingh!$ADE$8","v":""},null,null,null,{"$f":"bksingh!$ADE$8","v":""},null,null,null,{"$f":"bksingh!$ADE$8","v":""},null,null,null,{"$f":"bksingh!$ADE$8","v":""},null,null,null,{"$f":"bksingh!$ADE$8","v":""},null,null,null,{"$f":"bksingh!$ADE$8","v":""},null,null,null,{"$f":"bksingh!$ADE$8","v":""},null,null,null,{"$f":"bksingh!$ADE$8","v":""},null,null,null,{"$f":"bksingh!$ADE$8","v":""},null,null,null,{"$f":"bksingh!$ADE$8","v":""},null,null,null,{"$f":"bksingh!$ADE$8","v":""},null,null,null,{"$f":"bksingh!$ADE$8","v":""},null,null,null,{"$f":"bksingh!$ADE$8","v":""},null,null,null,{"$f":"bksingh!$ADE$8","v":""},null,null,null,{"$f":"bksingh!$ADE$8","v":""},null,null,null,{"$f":"bksingh!$ADE$8","v":""},null,null,null,{"$f":"bksingh!$ADE$8","v":""},null,null,null,{"$f":"bksingh!$ADE$8","v":""},null,null,null,{"$f":"bksingh!$ADE$8","v":""},null,null,null,{"$f":"bksingh!$ADE$8","v":""},null,null,null,{"$f":"bksingh!$ADE$8","v":""},null,null,null,{"$f":"bksingh!$ADE$8","v":""},null,null,null,{"$f":"bksingh!$ADE$8","v":""},null,null,null,{"$f":"bksingh!$ADE$8","v":""},null,null,null,{"$f":"bksingh!$ADE$8","v":""},null,null,null,{"$f":"bksingh!$ADE$8","v":""},null,null,null,{"$f":"bksingh!$ADE$8","v":""},null,null,null,{"$f":"bksingh!$ADE$8","v":""},null,null,null,{"$f":"bksingh!$ADE$8","v":""},null,null,null,{"$f":"bksingh!$ADE$8","v":""},null,null,null,{"$f":"bksingh!$ADE$8","v":""},null,null,null,{"$f":"bksingh!$ADE$8","v":""},null,null,null,{"$f":"bksingh!$ADE$8","v":""},null,null,null,{"$f":"bksingh!$ADE$8","v":""},null,null,null,{"$f":"bksingh!$ADE$8","v":""},null,null,null,{"$f":"bksingh!$ADE$8","v":""},null,null,null,{"$f":"bksingh!$ADE$8","v":""},null,null,null,{"$f":"bksingh!$ADE$8","v":""},null,null,null,{"$f":"bksingh!$ADE$8","v":""},null,null,null,{"$f":"bksingh!$ADE$8","v":""},null,null,null,{"$f":"bksingh!$ADE$8","v":""},null,null,null,{"$f":"bksingh!$ADE$8","v":""},null,null,null,{"$f":"bksingh!$ADE$8","v":""},null,null,null,{"$f":"bksingh!$ADE$8","v":""},null,null,null,{"$f":"bksingh!$ADE$8","v":""},null,null,null,{"$f":"bksingh!$ADE$8","v":""},null,null,null,{"$f":"bksingh!$ADE$8","v":""},null,null,null,{"$f":"bksingh!$ADE$8","v":""},null,null,null,{"$f":"bksingh!$ADE$8","v":""},null,null,null,{"$f":"bksingh!$ADE$8","v":""},null,null,null,{"$f":"bksingh!$ADE$8","v":""},null,null,null,{"$f":"bksingh!$ADE$8","v":""},null,null,null,{"$f":"bksingh!$ADE$8","v":""},null,null,null,{"$f":"bksingh!$ADE$8","v":""},null,null,null,{"$f":"bksingh!$ADE$8","v":""},null,null,null,{"$f":"bksingh!$ADE$8","v":""},null,null,null,{"$f":"bksingh!$ADE$8","v":""},null,null,null,{"$f":"bksingh!$ADE$8","v":""},null,null,null,{"$f":"bksingh!$ADE$8","v":""},null,null,null,{"$f":"bksingh!$ADE$8","v":""},null,null,null,{"$f":"bksingh!$ADE$8","v":""},null,null,null,{"$f":"bksingh!$ADE$8","v":""},null,null,null,{"$f":"bksingh!$ADE$8","v":""},null,null,null,{"$f":"bksingh!$ADE$8","v":""},null,null,null,{"$f":"bksingh!$ADE$8","v":""},null,null,null,{"$f":"bksingh!$ADE$8","v":""},null,null,null,{"$f":"bksingh!$ADE$8","v":""},null,null,null,{"$f":"bksingh!$ADE$8","v":""},null,null,null,{"$f":"bksingh!$ADE$8","v":""},null,null,null,{"$f":"bksingh!$ADE$8","v":""},null,null,null,{"$f":"bksingh!$ADE$8","v":""},null,null,null,{"$f":"bksingh!$ADE$8","v":""},null,null,null,{"$f":"bksingh!$ADE$8","v":""},null,null,null,{"$f":"bksingh!$ADE$8","v":""},null,null,null,{"$f":"bksingh!$ADE$8","v":""},null,null,null,{"$f":"bksingh!$ADE$8","v":""},null,null,null,{"$f":"bksingh!$ADE$8","v":""},null,null,null,{"$f":"bksingh!$ADE$8","v":""},null,null,null,{"$f":"bksingh!$ADE$8","v":""},null,null,null,{"$f":"bksingh!$ADE$8","v":""},null,null,null,{"$f":"bksingh!$ADE$8","v":""},null,null,null,{"$f":"bksingh!$ADE$8","v":""},null,null,null,{"$f":"bksingh!$ADE$8","v":""},null,null,null,{"$f":"bksingh!$ADE$8","v":""},null,null,null,{"$f":"bksingh!$ADE$8","v":""},null,null,null,{"$f":"bksingh!$ADE$8","v":""},null,null,null,{"$f":"bksingh!$ADE$8","v":""},null,null,null,{"$f":"bksingh!$ADE$8","v":""},null,null,null,{"$f":"bksingh!$ADE$8","v":""},null,null,null,{"$f":"bksingh!$ADE$8","v":""},null,null,null,{"$f":"bksingh!$ADE$8","v":""},null,null,null,{"$f":"bksingh!$ADE$8","v":""},null,null,null,{"$f":"bksingh!$ADE$8","v":""},null,null,null,{"$f":"bksingh!$ADE$8","v":""},null,null,null,{"$f":"bksingh!$ADE$8","v":""},null,null,null,{"$f":"bksingh!$ADE$8","v":""},null,null,null,{"$f":"bksingh!$ADE$8","v":""},null,null,null,{"$f":"bksingh!$ADE$8","v":""},null,null,null,{"$f":"bksingh!$ADE$8","v":""},null,null,null,{"$f":"bksingh!$ADE$8","v":""},null,null,null,{"$f":"bksingh!$ADE$8","v":""},null,null,null,{"$f":"bksingh!$ADE$8","v":""},null,null,null,{"$f":"bksingh!$ADE$8","v":""},null,null,null,{"$f":"bksingh!$ADE$8","v":""},null,null,null,{"$f":"bksingh!$ADE$8","v":""},null,null,null,{"$f":"bksingh!$ADE$8","v":""},null,null,null,{"$f":"bksingh!$ADE$8","v":""},null,null,null,{"$f":"bksingh!$ADE$8","v":""},null,null,null,{"$f":"bksingh!$ADE$8","v":""},null,null,null,{"$f":"bksingh!$ADE$8","v":""},null,null,null,{"$f":"bksingh!$ADE$8","v":""},null,null,null,{"$f":"bksingh!$ADE$8","v":""},null,null,null,{"$f":"bksingh!$ADE$8","v":""},null,null,null,{"$f":"bksingh!$ADE$8","v":""},null,null,null,{"$f":"bksingh!$ADE$8","v":""},null,null,null,{"$f":"bksingh!$ADE$8","v":""},null,null,null,{"$f":"bksingh!$ADE$8","v":""},null,null,null,{"$f":"bksingh!$ADE$8","v":""},null,null,null,{"$f":"bksingh!$ADE$8","v":""},null,null,null,{"$f":"bksingh!$ADE$8","v":""},null,null,null,{"$f":"bksingh!$ADE$8","v":""},null,null,null,{"$f":"bksingh!$ADE$8","v":""},null,null,null,{"$f":"bksingh!$ADE$8","v":""},null,null,null,{"$f":"bksingh!$ADE$8","v":""},null,null,null,{"$f":"bksingh!$ADE$8","v":""},null,null,null,{"$f":"bksingh!$ADE$8","v":""},null,null,null,{"$f":"bksingh!$ADE$8","v":""},null,null,null,{"$f":"bksingh!$ADE$8","v":""},null,null,null,{"$f":"bksingh!$ADE$8","v":""},null,null,null,{"$f":"bksingh!$ADE$8","v":""},null,null,null,{"$f":"bksingh!$ADE$8","v":""},null,null,null,{"$f":"bksingh!$ADE$8","v":""},null,null,null,{"$f":"bksingh!$ADE$8","v":""},null,null,null,{"$f":"bksingh!$ADE$8","v":""},null,null,null,{"$f":"bksingh!$ADE$8","v":""},null,null,null,{"$f":"bksingh!$ADE$8","v":""},null,null,null,{"$f":"bksingh!$ADE$8","v":""},null,null,null,{"$f":"bksingh!$ADE$8","v":""},null,null,null,{"$f":"bksingh!$ADE$8","v":""},null,null,null,{"$f":"bksingh!$ADE$8","v":""},null,null,null,{"$f":"bksingh!$ADE$8","v":""},null,null,null,{"$f":"bksingh!$ADE$8","v":""},null,null,null,{"$f":"bksingh!$ADE$8","v":""},null,null,null,{"$f":"bksingh!$ADE$8","v":""},null,null,null,{"$f":"bksingh!$ADE$8","v":""},null,null,null,{"$f":"bksingh!$ADE$8","v":""},null,null,null,{"$f":"bksingh!$ADE$8","v":""},null,null,null,{"$f":"bksingh!$ADE$8","v":""},null,null,null,{"$f":"bksingh!$ADE$8","v":""},null,null,null,{"$f":"bksingh!$ADE$8","v":""},null,null,null,{"$f":"bksingh!$ADE$8","v":""},null,null,null,{"$f":"bksingh!$ADE$8","v":""},null,null,null,{"$f":"bksingh!$ADE$8","v":""},null,null,null,{"$f":"bksingh!$ADE$8","v":""},null,null,null,{"$f":"bksingh!$ADE$8","v":""},null,null,null,{"$f":"bksingh!$ADE$8","v":""},null,null,null,{"$f":"bksingh!$ADE$8","v":""},null,null,null,{"$f":"bksingh!$ADE$8","v":""},null,null,null,{"$f":"bksingh!$ADE$8","v":""},null,null,null,{"$f":"bksingh!$ADE$8","v":""},null,null,null,{"$f":"bksingh!$ADE$8","v":""},null,null,null,{"$f":"bksingh!$ADE$8","v":""},null,null,null,{"$f":"bksingh!$ADE$8","v":""},null,null,null,{"$f":"bksingh!$ADE$8","v":""},null,null,null,{"$f":"bksingh!$ADE$8","v":""},null,null,null,{"$f":"bksingh!$ADE$8","v":""},null,null,null,{"$f":"bksingh!$ADE$8","v":""},null,null,null,{"$f":"bksingh!$ADE$8","v":""},null,null,null,{"$f":"bksingh!$ADE$8","v":""},null,null,null,{"$f":"bksingh!$ADE$8","v":""},null,null,null,{"$f":"bksingh!$ADE$8","v":""},null,null,null,{"$f":"bksingh!$ADE$8","v":""},null,null,null,{"$f":"bksingh!$ADE$8","v":""},null,null,null,{"$f":"bksingh!$ADE$8","v":""},null,null,null,{"$f":"bksingh!$ADE$8","v":""},null,null,null,{"$f":"bksingh!$ADE$8","v":""},null,null,null,{"$f":"bksingh!$ADE$8","v":""},null,null,null,{"$f":"bksingh!$ADE$8","v":""},null,null,null,{"$f":"bksingh!$ADE$8","v":""},null,null,null,{"$f":"bksingh!$ADE$8","v":""},null,null,null,{"$f":"bksingh!$ADE$8","v":""},null,null,null,{"$f":"bksingh!$ADE$8","v":""},null,null,null,{"$f":"bksingh!$ADE$8","v":""},null,null,null,{"$f":"bksingh!$ADE$8","v":""},null,null,null,{"$f":"bksingh!$ADE$8","v":""},null,null,null,{"$f":"bksingh!$ADE$8","v":""},null,null,null,{"$f":"bksingh!$ADE$8","v":""},null,null,null,{"$f":"bksingh!$ADE$8","v":""},null,null,null,{"$f":"bksingh!$ADE$8","v":""},null,null,null,{"$f":"bksingh!$ADE$8","v":""},null,null,null,{"$f":"bksingh!$ADE$8","v":""},null,null,null,{"$f":"bksingh!$ADE$8","v":""},null,null,null,{"$f":"bksingh!$ADE$8","v":""},null,null,null,{"$f":"bksingh!$ADE$8","v":""},null,null,null,{"$f":"bksingh!$ADE$8","v":""},null,null,null,{"$f":"bksingh!$ADE$8","v":""},null,null,null,{"$f":"bksingh!$ADE$8","v":""},null,null,null,{"$f":"bksingh!$ADE$8","v":""},null,null,null,{"$f":"bksingh!$ADE$8","v":""},null,null,null,{"$f":"bksingh!$ADE$8","v":""},null,null,null,{"$f":"bksingh!$ADE$8","v":""},null,null,null,{"$f":"bksingh!$ADE$8","v":""},null,null,null,{"$f":"bksingh!$ADE$8","v":""},null,null,null,{"$f":"bksingh!$ADE$8","v":""},null,null,null,{"$f":"bksingh!$ADE$8","v":""},null,null,null,{"$f":"bksingh!$ADE$8","v":""},null,null,null,{"$f":"bksingh!$ADE$8","v":""},null,null,null,{"$f":"bksingh!$ADE$8","v":""},null,null,null,{"$f":"bksingh!$ADE$8","v":""},null,null,null,{"$f":"bksingh!$ADE$8","v":""},null,null,null,{"$f":"bksingh!$ADE$8","v":""},null,null,null,{"$f":"bksingh!$ADE$8","v":""},null,null,null,{"$f":"bksingh!$ADE$8","v":""},null,null,null,{"$f":"bksingh!$ADE$8","v":""},null,null,null,{"$f":"bksingh!$ADE$8","v":""},null,null,null,{"$f":"bksingh!$ADE$8","v":""},null,null,null,{"$f":"bksingh!$ADE$8","v":""},null,null,null,{"$f":"bksingh!$ADE$8","v":""},null,null,null,{"$f":"bksingh!$ADE$8","v":""},null,null,null,{"$f":"bksingh!$ADE$8","v":""},null,null,null,{"$f":"bksingh!$ADE$8","v":""},null,null,null,{"$f":"bksingh!$ADE$8","v":""},null,null,null,{"$f":"bksingh!$ADE$8","v":""},null,null,null,{"$f":"bksingh!$ADE$8","v":""},null,null,null,{"$f":"bksingh!$ADE$8","v":""},null,null,null,{"$f":"bksingh!$ADE$8","v":""},null,null,null,{"$f":"bksingh!$ADE$8","v":""},null,null,null,{"$f":"bksingh!$ADE$8","v":""},null,null,null,{"$f":"bksingh!$ADE$8","v":""},null,null,null,{"$f":"bksingh!$ADE$8","v":""},null,null,null,{"$f":"bksingh!$ADE$8","v":""},null,null,null,{"$f":"bksingh!$ADE$8","v":""},null,null,null,{"$f":"bksingh!$ADE$8","v":""},null,null,null,{"$f":"bksingh!$ADE$8","v":""},null,null,null,{"$f":"bksingh!$ADE$8","v":""},null,null,null,{"$f":"bksingh!$ADE$8","v":""},null,null,null,{"$f":"bksingh!$ADE$8","v":""},null,null,null,{"$f":"bksingh!$ADE$8","v":""},null,null,null,{"$f":"bksingh!$ADE$8","v":""},null,null,null,{"$f":"bksingh!$ADE$8","v":""},null,null,null,{"$f":"bksingh!$ADE$8","v":""},null,null,null,{"$f":"bksingh!$ADE$8","v":""},null,null,null,{"$f":"bksingh!$ADE$8","v":""},null,null,null,{"$f":"bksingh!$ADE$8","v":""},null,null,null,{"$f":"bksingh!$ADE$8","v":""},null,null,null,{"$f":"bksingh!$ADE$8","v":""},null,null,null,{"$f":"bksingh!$ADE$8","v":""},null,null,null,{"$f":"bksingh!$ADE$8","v":""},null,null,null,{"$f":"bksingh!$ADE$8","v":""},null,null,null,{"$f":"bksingh!$ADE$8","v":""},null,null,null,{"$f":"bksingh!$ADE$8","v":""},null,null,null,{"$f":"bksingh!$ADE$8","v":""},null,null,null,{"$f":"bksingh!$ADE$8","v":""},null,null,null,{"$f":"bksingh!$ADE$8","v":""},null,null,null,{"$f":"bksingh!$ADE$8","v":""},null,null,null,{"$f":"bksingh!$ADE$8","v":""},null,null,null,{"$f":"bksingh!$ADE$8","v":""},null,null,null,{"$f":"bksingh!$ADE$8","v":""},null,null,null,{"$f":"bksingh!$ADE$8","v":""},null,null,null,{"$f":"bksingh!$ADE$8","v":""},null,null,null,{"$f":"bksingh!$ADE$8","v":""},null,null,null,{"$f":"bksingh!$ADE$8","v":""},null,null,null,{"$f":"bksingh!$ADE$8","v":""},null,null,null,{"$f":"bksingh!$ADE$8","v":""},null,null,null,{"$f":"bksingh!$ADE$8","v":""},null,null,null,{"$f":"bksingh!$ADE$8","v":""},null,null,null,{"$f":"bksingh!$ADE$8","v":""},null,null,null,{"$f":"bksingh!$ADE$8","v":""},null,null,null,{"$f":"bksingh!$ADE$8","v":""},null,null,null,{"$f":"bksingh!$ADE$8","v":""},null,null,null,{"$f":"bksingh!$ADE$8","v":""},null,null,null,{"$f":"bksingh!$ADE$8","v":""},null,null,null,{"$f":"bksingh!$ADE$8","v":""},null,null,null,{"$f":"bksingh!$ADE$8","v":""},null,null,null,{"$f":"bksingh!$ADE$8","v":""},null,null,null,{"$f":"bksingh!$ADE$8","v":""},null,null,null,{"$f":"bksingh!$ADE$8","v":""},null,null,null,{"$f":"bksingh!$ADE$8","v":""},null,null,null,{"$f":"bksingh!$ADE$8","v":""},null,null,null,{"$f":"bksingh!$ADE$8","v":""},null,null,null,{"$f":"bksingh!$ADE$8","v":""},null,null,null,{"$f":"bksingh!$ADE$8","v":""},null,null,null,{"$f":"bksingh!$ADE$8","v":""},null,null,null,{"$f":"bksingh!$ADE$8","v":""},null,null,null,{"$f":"bksingh!$ADE$8","v":""},null,null,null,{"$f":"bksingh!$ADE$8","v":""},null,null,null,{"$f":"bksingh!$ADE$8","v":""},null,null,null,{"$f":"bksingh!$ADE$8","v":""},null,null,null,{"$f":"bksingh!$ADE$8","v":""},null,null,null,{"$f":"bksingh!$ADE$8","v":""},null,null,null,{"$f":"bksingh!$ADE$8","v":""},null,null,null,{"$f":"bksingh!$ADE$8","v":""},null,null,null,{"$f":"bksingh!$ADE$8","v":""},null,null,null,{"$f":"bksingh!$ADE$8","v":""},null,null,null,{"$f":"bksingh!$ADE$8","v":""},null,null,null,{"$f":"bksingh!$ADE$8","v":""},null,null,null,{"$f":"bksingh!$ADE$8","v":""},null,null,null,{"$f":"bksingh!$ADE$8","v":""},null,null,null,{"$f":"bksingh!$ADE$8","v":""},null,null,null,{"$f":"bksingh!$ADE$8","v":""},null,null,null,{"$f":"bksingh!$ADE$8","v":""},null,null,null,{"$f":"bksingh!$ADE$8","v":""},null,null,null,{"$f":"bksingh!$ADE$8","v":""},null,null,null,{"$f":"bksingh!$ADE$8","v":""},null,null,null,{"$f":"bksingh!$ADE$8","v":""},null,null,null,{"$f":"bksingh!$ADE$8","v":""},null,null,null,{"$f":"bksingh!$ADE$8","v":""},null,null,null,{"$f":"bksingh!$ADE$8","v":""},null,null,null,{"$f":"bksingh!$ADE$8","v":""},null,null,null,{"$f":"bksingh!$ADE$8","v":""},null,null,null,{"$f":"bksingh!$ADE$8","v":""},null,null,null,{"$f":"bksingh!$ADE$8","v":""},null,null,null,{"$f":"bksingh!$ADE$8","v":""},null,null,null,{"$f":"bksingh!$ADE$8","v":""},null,null,null,{"$f":"bksingh!$ADE$8","v":""},null,null,null,{"$f":"bksingh!$ADE$8","v":""},null,null,null,{"$f":"bksingh!$ADE$8","v":""},null,null,null,{"$f":"bksingh!$ADE$8","v":""},null,null,null,{"$f":"bksingh!$ADE$8","v":""},null,null,null,{"$f":"bksingh!$ADE$8","v":""},null,null,null,{"$f":"bksingh!$ADE$8","v":""},null,null,null,{"$f":"bksingh!$ADE$8","v":""},null,null,null,{"$f":"bksingh!$ADE$8","v":""},null,null,null,{"$f":"bksingh!$ADE$8","v":""},null,null,null,{"$f":"bksingh!$ADE$8","v":""},null,null,null,{"$f":"bksingh!$ADE$8","v":""},null,null,null,{"$f":"bksingh!$ADE$8","v":""},null,null,null,{"$f":"bksingh!$ADE$8","v":""},null,null,null,{"$f":"bksingh!$ADE$8","v":""},null,null,null,{"$f":"bksingh!$ADE$8","v":""},null,null,null,{"$f":"bksingh!$ADE$8","v":""},null,null,null,{"$f":"bksingh!$ADE$8","v":""},null,null,null,{"$f":"bksingh!$ADE$8","v":""},null,null,null,{"$f":"bksingh!$ADE$8","v":""},null,null,null,{"$f":"bksingh!$ADE$8","v":""},null,null,null,{"$f":"bksingh!$ADE$8","v":""},null,null,null,{"$f":"bksingh!$ADE$8","v":""},null,null,null,{"$f":"bksingh!$ADE$8","v":""},null,null,null,{"$f":"bksingh!$ADE$8","v":""},null,null,null,{"$f":"bksingh!$ADE$8","v":""},null,null,null,{"$f":"bksingh!$ADE$8","v":""},null,null,null,{"$f":"bksingh!$ADE$8","v":""},null,null,null,{"$f":"bksingh!$ADE$8","v":""},null,null,null,{"$f":"bksingh!$ADE$8","v":""},null,null,null,{"$f":"bksingh!$ADE$8","v":""},null,null,null,{"$f":"bksingh!$ADE$8","v":""},null,null,null,{"$f":"bksingh!$ADE$8","v":""},null,null,null,{"$f":"bksingh!$ADE$8","v":""},null,null,null,{"$f":"bksingh!$ADE$8","v":""},null,null,null,{"$f":"bksingh!$ADE$8","v":""},null,null,null,{"$f":"bksingh!$ADE$8","v":""},null,null,null,{"$f":"bksingh!$ADE$8","v":""},null,null,null,{"$f":"bksingh!$ADE$8","v":""},null,null,null,{"$f":"bksingh!$ADE$8","v":""},null,null,null,{"$f":"bksingh!$ADE$8","v":""},null,null,null,{"$f":"bksingh!$ADE$8","v":""},null,null,null,{"$f":"bksingh!$ADE$8","v":""},null,null,null,{"$f":"bksingh!$ADE$8","v":""},null,null,null,{"$f":"bksingh!$ADE$8","v":""},null,null,null,{"$f":"bksingh!$ADE$8","v":""},null,null,null,{"$f":"bksingh!$ADE$8","v":""},null,null,null,{"$f":"bksingh!$ADE$8","v":""},null,null,null,{"$f":"bksingh!$ADE$8","v":""},null,null,null,{"$f":"bksingh!$ADE$8","v":""},null,null,null,{"$f":"bksingh!$ADE$8","v":""},null,null,null,{"$f":"bksingh!$ADE$8","v":""},null,null,null,{"$f":"bksingh!$ADE$8","v":""},null,null,null,{"$f":"bksingh!$ADE$8","v":""},null,null,null,{"$f":"bksingh!$ADE$8","v":""},null,null,null,{"$f":"bksingh!$ADE$8","v":""},null,null,null,{"$f":"bksingh!$ADE$8","v":""},null,null,null,{"$f":"bksingh!$ADE$8","v":""},null,null,null,{"$f":"bksingh!$ADE$8","v":""},null,null,null,{"$f":"bksingh!$ADE$8","v":""},null,null,null,{"$f":"bksingh!$ADE$8","v":""},null,null,null,{"$f":"bksingh!$ADE$8","v":""},null,null,null,{"$f":"bksingh!$ADE$8","v":""},null,null,null,{"$f":"bksingh!$ADE$8","v":""},null,null,null,{"$f":"bksingh!$ADE$8","v":""},null,null,null,{"$f":"bksingh!$ADE$8","v":""},null,null,null,{"$f":"bksingh!$ADE$8","v":""},null,null,null,{"$f":"bksingh!$ADE$8","v":""},null,null,null,{"$f":"bksingh!$ADE$8","v":""},null,null,null,{"$f":"bksingh!$ADE$8","v":""},null,null,null,{"$f":"bksingh!$ADE$8","v":""},null,null,null,{"$f":"bksingh!$ADE$8","v":""},null,null,null,{"$f":"bksingh!$ADE$8","v":""},null,null,null,{"$f":"bksingh!$ADE$8","v":""},null,null,null,{"$f":"bksingh!$ADE$8","v":""},null,null,null,{"$f":"bksingh!$ADE$8","v":""},null,null,null,{"$f":"bksingh!$ADE$8","v":""},null,null,null,{"$f":"bksingh!$ADE$8","v":""},null,null,null,{"$f":"bksingh!$ADE$8","v":""},null,null,null,{"$f":"bksingh!$ADE$8","v":""},null,null,null,{"$f":"bksingh!$ADE$8","v":""},null,null,null,{"$f":"bksingh!$ADE$8","v":""},null,null,null,{"$f":"bksingh!$ADE$8","v":""},null,null,null,{"$f":"bksingh!$ADE$8","v":""},null,null,null,{"$f":"bksingh!$ADE$8","v":""},null,null,null,{"$f":"bksingh!$ADE$8","v":""},null,null,null,{"$f":"bksingh!$ADE$8","v":""},null,null,null,{"$f":"bksingh!$ADE$8","v":""},null,null,null,{"$f":"bksingh!$ADE$8","v":""},null,null,null,{"$f":"bksingh!$ADE$8","v":""},null,null,null,{"$f":"bksingh!$ADE$8","v":""},null,null,null,{"$f":"bksingh!$ADE$8","v":""},null,null,null,{"$f":"bksingh!$ADE$8","v":""},null,null,null,{"$f":"bksingh!$ADE$8","v":""},null,null,null,{"$f":"bksingh!$ADE$8","v":""},null,null,null,{"$f":"bksingh!$ADE$8","v":""},null,null,null,{"$f":"bksingh!$ADE$8","v":""},null,null,null,{"$f":"bksingh!$ADE$8","v":""},null,null,null,{"$f":"bksingh!$ADE$8","v":""},null,null,null,{"$f":"bksingh!$ADE$8","v":""},null,null,null,{"$f":"bksingh!$ADE$8","v":""},null,null,null,{"$f":"bksingh!$ADE$8","v":""},null,null,null,{"$f":"bksingh!$ADE$8","v":""},null,null,null,{"$f":"bksingh!$ADE$8","v":""},null,null,null,{"$f":"bksingh!$ADE$8","v":""},null,null,null,{"$f":"bksingh!$ADE$8","v":""},null,null,null,{"$f":"bksingh!$ADE$8","v":""},null,null,null,{"$f":"bksingh!$ADE$8","v":""},null,null,null,{"$f":"bksingh!$ADE$8","v":""},null,null,null,{"$f":"bksingh!$ADE$8","v":""},null,null,null,{"$f":"bksingh!$ADE$8","v":""},null,null,null,{"$f":"bksingh!$ADE$8","v":""},null,null,null,{"$f":"bksingh!$ADE$8","v":""},null,null,null,{"$f":"bksingh!$ADE$8","v":""},null,null,null,{"$f":"bksingh!$ADE$8","v":""},null,null,null,{"$f":"bksingh!$ADE$8","v":""},null,null,null,{"$f":"bksingh!$ADE$8","v":""},null,null,null,{"$f":"bksingh!$ADE$8","v":""},null,null,null,{"$f":"bksingh!$ADE$8","v":""},null,null,null,{"$f":"bksingh!$ADE$8","v":""},null,null,null,{"$f":"bksingh!$ADE$8","v":""},null,null,null,{"$f":"bksingh!$ADE$8","v":""},null,null,null,{"$f":"bksingh!$ADE$8","v":""},null,null,null,{"$f":"bksingh!$ADE$8","v":""},null,null,null,{"$f":"bksingh!$ADE$8","v":""},null,null,null,{"$f":"bksingh!$ADE$8","v":""},null,null,null,{"$f":"bksingh!$ADE$8","v":""},null,null,null,{"$f":"bksingh!$ADE$8","v":""},null,null,null,{"$f":"bksingh!$ADE$8","v":""},null,null,null,{"$f":"bksingh!$ADE$8","v":""},null,null,null,{"$f":"bksingh!$ADE$8","v":""},null,null,null,{"$f":"bksingh!$ADE$8","v":""},null,null,null,{"$f":"bksingh!$ADE$8","v":""},null,null,null,{"$f":"bksingh!$ADE$8","v":""},null,null,null,{"$f":"bksingh!$ADE$8","v":""},null,null,null,{"$f":"bksingh!$ADE$8","v":""},null,null,null,{"$f":"bksingh!$ADE$8","v":""},null,null,null,{"$f":"bksingh!$ADE$8","v":""},null,null,null,{"$f":"bksingh!$ADE$8","v":""},null,null,null,{"$f":"bksingh!$ADE$8","v":""},null,null,null,{"$f":"bksingh!$ADE$8","v":""},null,null,null,{"$f":"bksingh!$ADE$8","v":""},null,null,null,{"$f":"bksingh!$ADE$8","v":""},null,null,null,{"$f":"bksingh!$ADE$8","v":""},null,null,null,{"$f":"bksingh!$ADE$8","v":""},null,null,null,{"$f":"bksingh!$ADE$8","v":""},null,null,null,{"$f":"bksingh!$ADE$8","v":""},null,null,null,{"$f":"bksingh!$ADE$8","v":""},null,null,null,{"$f":"bksingh!$ADE$8","v":""},null,null,null,{"$f":"bksingh!$ADE$8","v":""},null,null,null,{"$f":"bksingh!$ADE$8","v":""},null,null,null,{"$f":"bksingh!$ADE$8","v":""},null,null,null,{"$f":"bksingh!$ADE$8","v":""},null,null,null,{"$f":"bksingh!$ADE$8","v":""},null,null,null,{"$f":"bksingh!$ADE$8","v":""},null,null,null,{"$f":"bksingh!$ADE$8","v":""},null,null,null,{"$f":"bksingh!$ADE$8","v":""},null,null,null,{"$f":"bksingh!$ADE$8","v":""},null,null,null,{"$f":"bksingh!$ADE$8","v":""},null,null,null,{"$f":"bksingh!$ADE$8","v":""},null,null,null,{"$f":"bksingh!$ADE$8","v":""},null,null,null,{"$f":"bksingh!$ADE$8","v":""},null,null,null,{"$f":"bksingh!$ADE$8","v":""},null,null,null,{"$f":"bksingh!$ADE$8","v":""},null,null,null,{"$f":"bksingh!$ADE$8","v":""},null,null,null,{"$f":"bksingh!$ADE$8","v":""},null,null,null,{"$f":"bksingh!$ADE$8","v":""},null,null,null,{"$f":"bksingh!$ADE$8","v":""},null,null,null,{"$f":"bksingh!$ADE$8","v":""},null,null,null,{"$f":"bksingh!$ADE$8","v":""},null,null,null,{"$f":"bksingh!$ADE$8","v":""},null,null,null,{"$f":"bksingh!$ADE$8","v":""},null,null,null,{"$f":"bksingh!$ADE$8","v":""},null,null,null,{"$f":"bksingh!$ADE$8","v":""},null,null,null,{"$f":"bksingh!$ADE$8","v":""},null,null,null,{"$f":"bksingh!$ADE$8","v":""},null,null,null,{"$f":"bksingh!$ADE$8","v":""},null,null,null,{"$f":"bksingh!$ADE$8","v":""},null,null,null,{"$f":"bksingh!$ADE$8","v":""},null,null,null,{"$f":"bksingh!$ADE$8","v":""},null,null,null,{"$f":"bksingh!$ADE$8","v":""},null,null,null,{"$f":"bksingh!$ADE$8","v":""},null,null,null,{"$f":"bksingh!$ADE$8","v":""},null,null,null,{"$f":"bksingh!$ADE$8","v":""},null,null,null,{"$f":"bksingh!$ADE$8","v":""},null,null,null,{"$f":"bksingh!$ADE$8","v":""},null,null,null,{"$f":"bksingh!$ADE$8","v":""},null,null,null,{"$f":"bksingh!$ADE$8","v":""},null,null,null,{"$f":"bksingh!$ADE$8","v":""},null,null,null,{"$f":"bksingh!$ADE$8","v":""},null,null,null,{"$f":"bksingh!$ADE$8","v":""},null,null,null,{"$f":"bksingh!$ADE$8","v":""},null,null,null,{"$f":"bksingh!$ADE$8","v":""},null,null,null,{"$f":"bksingh!$ADE$8","v":""},null,null,null,{"$f":"bksingh!$ADE$8","v":""},null,null,null,{"$f":"bksingh!$ADE$8","v":""},null,null,null,{"$f":"bksingh!$ADE$8","v":""},null,null,null,{"$f":"bksingh!$ADE$8","v":""},null,null,null,{"$f":"bksingh!$ADE$8","v":""},null,null,null,{"$f":"bksingh!$ADE$8","v":""},null,null,null,{"$f":"bksingh!$ADE$8","v":""},null,null,null,{"$f":"bksingh!$ADE$8","v":""},null,null,null,{"$f":"bksingh!$ADE$8","v":""},null,null,null,{"$f":"bksingh!$ADE$8","v":""},null,null,null,{"$f":"bksingh!$ADE$8","v":""},null,null,null,{"$f":"bksingh!$ADE$8","v":""},null,null,null,{"$f":"bksingh!$ADE$8","v":""},null,null,null,{"$f":"bksingh!$ADE$8","v":""},null,null,null,{"$f":"bksingh!$ADE$8","v":""},null,null,null,{"$f":"bksingh!$ADE$8","v":""},null,null,null,{"$f":"bksingh!$ADE$8","v":""},null,null,null,{"$f":"bksingh!$ADE$8","v":""},null,null,null,{"$f":"bksingh!$ADE$8","v":""},null,null,null,{"$f":"bksingh!$ADE$8","v":""},null,null,null,{"$f":"bksingh!$ADE$8","v":""},null,null,null,{"$f":"bksingh!$ADE$8","v":""},null,null,null,{"$f":"bksingh!$ADE$8","v":""},null,null,null,{"$f":"bksingh!$ADE$8","v":""},null,null,null,{"$f":"bksingh!$ADE$8","v":""},null,null,null,{"$f":"bksingh!$ADE$8","v":""},null,null,null,{"$f":"bksingh!$ADE$8","v":""},null,null,null,{"$f":"bksingh!$ADE$8","v":""},null,null,null,{"$f":"bksingh!$ADE$8","v":""},null,null,null,{"$f":"bksingh!$ADE$8","v":""},null,null,null,{"$f":"bksingh!$ADE$8","v":""},null,null,null,{"$f":"bksingh!$ADE$8","v":""},null,null,null,{"$f":"bksingh!$ADE$8","v":""},null,null,null,{"$f":"bksingh!$ADE$8","v":""},null,null,null,{"$f":"bksingh!$ADE$8","v":""},null,null,null,{"$f":"bksingh!$ADE$8","v":""},null,null,null,{"$f":"bksingh!$ADE$8","v":""},null,null,null,{"$f":"bksingh!$ADE$8","v":""},null,null,null,{"$f":"bksingh!$ADE$8","v":""},null,null,null,{"$f":"bksingh!$ADE$8","v":""},null,null,null,{"$f":"bksingh!$ADE$8","v":""},null,null,null,{"$f":"bksingh!$ADE$8","v":""},null,null,null,{"$f":"bksingh!$ADE$8","v":""},null,null,null,{"$f":"bksingh!$ADE$8","v":""},null,null,null,{"$f":"bksingh!$ADE$8","v":""},null,null,null,{"$f":"bksingh!$ADE$8","v":""},null,null,null,{"$f":"bksingh!$ADE$8","v":""},null,null,null,{"$f":"bksingh!$ADE$8","v":""},null,null,null,{"$f":"bksingh!$ADE$8","v":""},null,null,null,{"$f":"bksingh!$ADE$8","v":""},null,null,null,{"$f":"bksingh!$ADE$8","v":""},null,null,null,{"$f":"bksingh!$ADE$8","v":""},null,null,null,{"$f":"bksingh!$ADE$8","v":""},null,null,null,{"$f":"bksingh!$ADE$8","v":""},null,null,null,{"$f":"bksingh!$ADE$8","v":""},null,null,null,{"$f":"bksingh!$ADE$8","v":""},null,null,null,{"$f":"bksingh!$ADE$8","v":""},null,null,null,{"$f":"bksingh!$ADE$8","v":""},null,null,null,{"$f":"bksingh!$ADE$8","v":""},null,null,null,{"$f":"bksingh!$ADE$8","v":""},null,null,null,{"$f":"bksingh!$ADE$8","v":""},null,null,null,{"$f":"bksingh!$ADE$8","v":""},null,null,null,{"$f":"bksingh!$ADE$8","v":""},null,null,null,{"$f":"bksingh!$ADE$8","v":""},null,null,null,{"$f":"bksingh!$ADE$8","v":""},null,null,null,{"$f":"bksingh!$ADE$8","v":""},null,null,null,{"$f":"bksingh!$ADE$8","v":""},null,null,null,{"$f":"bksingh!$ADE$8","v":""},null,null,null,{"$f":"bksingh!$ADE$8","v":""},null,null,null,{"$f":"bksingh!$ADE$8","v":""},null,null,null,{"$f":"bksingh!$ADE$8","v":""},null,null,null,{"$f":"bksingh!$ADE$8","v":""},null,null,null,{"$f":"bksingh!$ADE$8","v":""},null,null,null,{"$f":"bksingh!$ADE$8","v":""},null,null,null,{"$f":"bksingh!$ADE$8","v":""},null,null,null,{"$f":"bksingh!$ADE$8","v":""},null,null,null,{"$f":"bksingh!$ADE$8","v":""},null,null,null,{"$f":"bksingh!$ADE$8","v":""},null,null,null,{"$f":"bksingh!$ADE$8","v":""},null,null,null,{"$f":"bksingh!$ADE$8","v":""},null,null,null,{"$f":"bksingh!$ADE$8","v":""},null,null,null,{"$f":"bksingh!$ADE$8","v":""},null,null,null,{"$f":"bksingh!$ADE$8","v":""},null,null,null,{"$f":"bksingh!$ADE$8","v":""},null,null,null,{"$f":"bksingh!$ADE$8","v":""},null,null,null,{"$f":"bksingh!$ADE$8","v":""},null,null,null,{"$f":"bksingh!$ADE$8","v":""},null,null,null,{"$f":"bksingh!$ADE$8","v":""},null,null,null,{"$f":"bksingh!$ADE$8","v":""},null,null,null,{"$f":"bksingh!$ADE$8","v":""},null,null,null,{"$f":"bksingh!$ADE$8","v":""},null,null,null,{"$f":"bksingh!$ADE$8","v":""},null,null,null,{"$f":"bksingh!$ADE$8","v":""},null,null,null,{"$f":"bksingh!$ADE$8","v":""},null,null,null,{"$f":"bksingh!$ADE$8","v":""},null,null,null,{"$f":"bksingh!$ADE$8","v":""},null,null,null,{"$f":"bksingh!$ADE$8","v":""},null,null,null,{"$f":"bksingh!$ADE$8","v":""},null,null,null,{"$f":"bksingh!$ADE$8","v":""},null,null,null,{"$f":"bksingh!$ADE$8","v":""},null,null,null,{"$f":"bksingh!$ADE$8","v":""},null,null,null,{"$f":"bksingh!$ADE$8","v":""},null,null,null,{"$f":"bksingh!$ADE$8","v":""},null,null,null,{"$f":"bksingh!$ADE$8","v":""},null,null,null,{"$f":"bksingh!$ADE$8","v":""},null,null,null,{"$f":"bksingh!$ADE$8","v":""},null,null,null,{"$f":"bksingh!$ADE$8","v":""},null,null,null,{"$f":"bksingh!$ADE$8","v":""},null,null,null,{"$f":"bksingh!$ADE$8","v":""},null,null,null,{"$f":"bksingh!$ADE$8","v":""},null,null,null,{"$f":"bksingh!$ADE$8","v":""},null,null,null,{"$f":"bksingh!$ADE$8","v":""},null,null,null,{"$f":"bksingh!$ADE$8","v":""},null,null,null,{"$f":"bksingh!$ADE$8","v":""},null,null,null,{"$f":"bksingh!$ADE$8","v":""},null,null,null,{"$f":"bksingh!$ADE$8","v":""},null,null,null,{"$f":"bksingh!$ADE$8","v":""},null,null,null,{"$f":"bksingh!$ADE$8","v":""},null,null,null,{"$f":"bksingh!$ADE$8","v":""},null,null,null,{"$f":"bksingh!$ADE$8","v":""},null,null,null,{"$f":"bksingh!$ADE$8","v":""},null,null,null,{"$f":"bksingh!$ADE$8","v":""},null,null,null,{"$f":"bksingh!$ADE$8","v":""},null,null,null,{"$f":"bksingh!$ADE$8","v":""},null,null,null,{"$f":"bksingh!$ADE$8","v":""},null,null,null,{"$f":"bksingh!$ADE$8","v":""},null,null,null,{"$f":"bksingh!$ADE$8","v":""},null,null,null,{"$f":"bksingh!$ADE$8","v":""},null,null,null,{"$f":"bksingh!$ADE$8","v":""},null,null,null,{"$f":"bksingh!$ADE$8","v":""},null,null,null,{"$f":"bksingh!$ADE$8","v":""},null,null,null,{"$f":"bksingh!$ADE$8","v":""},null,null,null,{"$f":"bksingh!$ADE$8","v":""},null,null,null,{"$f":"bksingh!$ADE$8","v":""},null,null,null,{"$f":"bksingh!$ADE$8","v":""},null,null,null,{"$f":"bksingh!$ADE$8","v":""},null,null,null,{"$f":"bksingh!$ADE$8","v":""},null,null,null,{"$f":"bksingh!$ADE$8","v":""},null,null,null,{"$f":"bksingh!$ADE$8","v":""},null,null,null,{"$f":"bksingh!$ADE$8","v":""},null,null,null,{"$f":"bksingh!$ADE$8","v":""},null,null,null,{"$f":"bksingh!$ADE$8","v":""},null,null,null,{"$f":"bksingh!$ADE$8","v":""},null,null,null,{"$f":"bksingh!$ADE$8","v":""},null,null,null,{"$f":"bksingh!$ADE$8","v":""},null,null,null,{"$f":"bksingh!$ADE$8","v":""},null,null,null,{"$f":"bksingh!$ADE$8","v":""},null,null,null,{"$f":"bksingh!$ADE$8","v":""},null,null,null,{"$f":"bksingh!$ADE$8","v":""},null,null,null,{"$f":"bksingh!$ADE$8","v":""},null,null,null,{"$f":"bksingh!$ADE$8","v":""},null,null,null,{"$f":"bksingh!$ADE$8","v":""},null,null,null,{"$f":"bksingh!$ADE$8","v":""},null,null,null,{"$f":"bksingh!$ADE$8","v":""},null,null,null,{"$f":"bksingh!$ADE$8","v":""},null,null,null,{"$f":"bksingh!$ADE$8","v":""},null,null,null,{"$f":"bksingh!$ADE$8","v":""},null,null,null,{"$f":"bksingh!$ADE$8","v":""},null,null,null,{"$f":"bksingh!$ADE$8","v":""},null,null,null,{"$f":"bksingh!$ADE$8","v":""},null,null,null,{"$f":"bksingh!$ADE$8","v":""},null,null,null,{"$f":"bksingh!$ADE$8","v":""},null,null,null,{"$f":"bksingh!$ADE$8","v":""},null,null,null,{"$f":"bksingh!$ADE$8","v":""},null,null,null,{"$f":"bksingh!$ADE$8","v":""},null,null,null,{"$f":"bksingh!$ADE$8","v":""},null,null,null,{"$f":"bksingh!$ADE$8","v":""},null,null,null,{"$f":"bksingh!$ADE$8","v":""},null,null,null,{"$f":"bksingh!$ADE$8","v":""},null,null,null,{"$f":"bksingh!$ADE$8","v":""},null,null,null,{"$f":"bksingh!$ADE$8","v":""},null,null,null,{"$f":"bksingh!$ADE$8","v":""},null,null,null,{"$f":"bksingh!$ADE$8","v":""},null,null,null,{"$f":"bksingh!$ADE$8","v":""},null,null,null,{"$f":"bksingh!$ADE$8","v":""},null,null,null,{"$f":"bksingh!$ADE$8","v":""},null,null,null,{"$f":"bksingh!$ADE$8","v":""},null,null,null,{"$f":"bksingh!$ADE$8","v":""},null,null,null,{"$f":"bksingh!$ADE$8","v":""},null,null,null,{"$f":"bksingh!$ADE$8","v":""},null,null,null,{"$f":"bksingh!$ADE$8","v":""},null,null,null,{"$f":"bksingh!$ADE$8","v":""},null,null,null,{"$f":"bksingh!$ADE$8","v":""},null,null,null,{"$f":"bksingh!$ADE$8","v":""},null,null,null,{"$f":"bksingh!$ADE$8","v":""},null,null,null,{"$f":"bksingh!$ADE$8","v":""},null,null,null,{"$f":"bksingh!$ADE$8","v":""},null,null,null,{"$f":"bksingh!$ADE$8","v":""},null,null,null,{"$f":"bksingh!$ADE$8","v":""},null,null,null,{"$f":"bksingh!$ADE$8","v":""},null,null,null,{"$f":"bksingh!$ADE$8","v":""},null,null,null,{"$f":"bksingh!$ADE$8","v":""},null,null,null,{"$f":"bksingh!$ADE$8","v":""},null,null,null,{"$f":"bksingh!$ADE$8","v":""},null,null,null,{"$f":"bksingh!$ADE$8","v":""},null,null,null,{"$f":"bksingh!$ADE$8","v":""},null,null,null,{"$f":"bksingh!$ADE$8","v":""},null,null,null,{"$f":"bksingh!$ADE$8","v":""},null,null,null,{"$f":"bksingh!$ADE$8","v":""},null,null,null,{"$f":"bksingh!$ADE$8","v":""},null,null,null,{"$f":"bksingh!$ADE$8","v":""},null,null,null,{"$f":"bksingh!$ADE$8","v":""},null,null,null,{"$f":"bksingh!$ADE$8","v":""},null,null,null,{"$f":"bksingh!$ADE$8","v":""},null,null,null,{"$f":"bksingh!$ADE$8","v":""},null,null,null,{"$f":"bksingh!$ADE$8","v":""},null,null,null,{"$f":"bksingh!$ADE$8","v":""},null,null,null,{"$f":"bksingh!$ADE$8","v":""},null,null,null,{"$f":"bksingh!$ADE$8","v":""},null,null,null,{"$f":"bksingh!$ADE$8","v":""},null,null,null,{"$f":"bksingh!$ADE$8","v":""},null,null,null,{"$f":"bksingh!$ADE$8","v":""},null,null,null,{"$f":"bksingh!$ADE$8","v":""},null,null,null,{"$f":"bksingh!$ADE$8","v":""},null,null,null,{"$f":"bksingh!$ADE$8","v":""},null,null,null,{"$f":"bksingh!$ADE$8","v":""},null,null,null,{"$f":"bksingh!$ADE$8","v":""},null,null,null,{"$f":"bksingh!$ADE$8","v":""},null,null,null,{"$f":"bksingh!$ADE$8","v":""},null,null,null,{"$f":"bksingh!$ADE$8","v":""},null,null,null,{"$f":"bksingh!$ADE$8","v":""},null,null,null,{"$f":"bksingh!$ADE$8","v":""},null,null,null,{"$f":"bksingh!$ADE$8","v":""},null,null,null,{"$f":"bksingh!$ADE$8","v":""},null,null,null,{"$f":"bksingh!$ADE$8","v":""},null,null,null,{"$f":"bksingh!$ADE$8","v":""},null,null,null,{"$f":"bksingh!$ADE$8","v":""},null,null,null,{"$f":"bksingh!$ADE$8","v":""},null,null,null,{"$f":"bksingh!$ADE$8","v":""},null,null,null,{"$f":"bksingh!$ADE$8","v":""},null,null,null,{"$f":"bksingh!$ADE$8","v":""},null,null,null,{"$f":"bksingh!$ADE$8","v":""},null,null,null,{"$f":"bksingh!$ADE$8","v":""},null,null,null,{"$f":"bksingh!$ADE$8","v":""},null,null,null,{"$f":"bksingh!$ADE$8","v":""},null,null,null,{"$f":"bksingh!$ADE$8","v":""},null,null,null,{"$f":"bksingh!$ADE$8","v":""},null,null,null,{"$f":"bksingh!$ADE$8","v":""},null,null,null,{"$f":"bksingh!$ADE$8","v":""},null,null,null,{"$f":"bksingh!$ADE$8","v":""},null,null,null,{"$f":"bksingh!$ADE$8","v":""},null,null,null,{"$f":"bksingh!$ADE$8","v":""},null,null,null,{"$f":"bksingh!$ADE$8","v":""},null,null,null,{"$f":"bksingh!$ADE$8","v":""},null,null,null,{"$f":"bksingh!$ADE$8","v":""},null,null,null,{"$f":"bksingh!$ADE$8","v":""},null,null,null,{"$f":"bksingh!$ADE$8","v":""},null,null,null,{"$f":"bksingh!$ADE$8","v":""},null,null,null,{"$f":"bksingh!$ADE$8","v":""},null,null,null,{"$f":"bksingh!$ADE$8","v":""},null,null,null,{"$f":"bksingh!$ADE$8","v":""},null,null,null,{"$f":"bksingh!$ADE$8","v":""},null,null,null,{"$f":"bksingh!$ADE$8","v":""},null,null,null,{"$f":"bksingh!$ADE$8","v":""},null,null,null,{"$f":"bksingh!$ADE$8","v":""},null,null,null,{"$f":"bksingh!$ADE$8","v":""},null,null,null,{"$f":"bksingh!$ADE$8","v":""},null,null,null,{"$f":"bksingh!$ADE$8","v":""},null,null,null,{"$f":"bksingh!$ADE$8","v":""},null,null,null,{"$f":"bksingh!$ADE$8","v":""},null,null,null,{"$f":"bksingh!$ADE$8","v":""},null,null,null,{"$f":"bksingh!$ADE$8","v":""},null,null,null,{"$f":"bksingh!$ADE$8","v":""},null,null,null,{"$f":"bksingh!$ADE$8","v":""},null,null,null,{"$f":"bksingh!$ADE$8","v":""},null,null,null,{"$f":"bksingh!$ADE$8","v":""},null,null,null,{"$f":"bksingh!$ADE$8","v":""},null,null,null,{"$f":"bksingh!$ADE$8","v":""},null,null,null,{"$f":"bksingh!$ADE$8","v":""},null,null,null,{"$f":"bksingh!$ADE$8","v":""},null,null,null,{"$f":"bksingh!$ADE$8","v":""},null,null,null,{"$f":"bksingh!$ADE$8","v":""},null,null,null,{"$f":"bksingh!$ADE$8","v":""},null,null,null,{"$f":"bksingh!$ADE$8","v":""},null,null,null,{"$f":"bksingh!$ADE$8","v":""},null,null,null,{"$f":"bksingh!$ADE$8","v":""},null,null,null,{"$f":"bksingh!$ADE$8","v":""},null,null,null,{"$f":"bksingh!$ADE$8","v":""},null,null,null,{"$f":"bksingh!$ADE$8","v":""},null,null,null,{"$f":"bksingh!$ADE$8","v":""},null,null,null,{"$f":"bksingh!$ADE$8","v":""},null,null,null,{"$f":"bksingh!$ADE$8","v":""},null,null,null,{"$f":"bksingh!$ADE$8","v":""},null,null,null,{"$f":"bksingh!$ADE$8","v":""},null,null,null,{"$f":"bksingh!$ADE$8","v":""},null,null,null,{"$f":"bksingh!$ADE$8","v":""},null,null,null,{"$f":"bksingh!$ADE$8","v":""},null,null,null,{"$f":"bksingh!$ADE$8","v":""},null,null,null,{"$f":"bksingh!$ADE$8","v":""},null,null,null,{"$f":"bksingh!$ADE$8","v":""},null,null,null,{"$f":"bksingh!$ADE$8","v":""},null,null,null,{"$f":"bksingh!$ADE$8","v":""},null,null,null,{"$f":"bksingh!$ADE$8","v":""},null,null,null,{"$f":"bksingh!$ADE$8","v":""},null,null,null,{"$f":"bksingh!$ADE$8","v":""},null,null,null,{"$f":"bksingh!$ADE$8","v":""},null,null,null,{"$f":"bksingh!$ADE$8","v":""},null,null,null,{"$f":"bksingh!$ADE$8","v":""},null,null,null,{"$f":"bksingh!$ADE$8","v":""},null,null,null,{"$f":"bksingh!$ADE$8","v":""},null,null,null,{"$f":"bksingh!$ADE$8","v":""},null,null,null,{"$f":"bksingh!$ADE$8","v":""},null,null,null,{"$f":"bksingh!$ADE$8","v":""},null,null,null,{"$f":"bksingh!$ADE$8","v":""},null,null,null,{"$f":"bksingh!$ADE$8","v":""},null,null,null,{"$f":"bksingh!$ADE$8","v":""},null,null,null,{"$f":"bksingh!$ADE$8","v":""},null,null,null,{"$f":"bksingh!$ADE$8","v":""},null,null,null,{"$f":"bksingh!$ADE$8","v":""},null,null,null,{"$f":"bksingh!$ADE$8","v":""},null,null,null,{"$f":"bksingh!$ADE$8","v":""},null,null,null,{"$f":"bksingh!$ADE$8","v":""},null,null,null,{"$f":"bksingh!$ADE$8","v":""},null,null,null,{"$f":"bksingh!$ADE$8","v":""},null,null,null,{"$f":"bksingh!$ADE$8","v":""},null,null,null,{"$f":"bksingh!$ADE$8","v":""},null,null,null,{"$f":"bksingh!$ADE$8","v":""},null,null,null,{"$f":"bksingh!$ADE$8","v":""},null,null,null,{"$f":"bksingh!$ADE$8","v":""},null,null,null,{"$f":"bksingh!$ADE$8","v":""},null,null,null,{"$f":"bksingh!$ADE$8","v":""},null,null,null,{"$f":"bksingh!$ADE$8","v":""},null,null,null,{"$f":"bksingh!$ADE$8","v":""},null,null,null,{"$f":"bksingh!$ADE$8","v":""},null,null,null,{"$f":"bksingh!$ADE$8","v":""},null,null,null,{"$f":"bksingh!$ADE$8","v":""},null,null,null,{"$f":"bksingh!$ADE$8","v":""},null,null,null,{"$f":"bksingh!$ADE$8","v":""},null,null,null,{"$f":"bksingh!$ADE$8","v":""},null,null,null,{"$f":"bksingh!$ADE$8","v":""},null,null,null,{"$f":"bksingh!$ADE$8","v":""},null,null,null,{"$f":"bksingh!$ADE$8","v":""},null,null,null,{"$f":"bksingh!$ADE$8","v":""},null,null,null,{"$f":"bksingh!$ADE$8","v":""},null,null,null,{"$f":"bksingh!$ADE$8","v":""},null,null,null,{"$f":"bksingh!$ADE$8","v":""},null,null,null,{"$f":"bksingh!$ADE$8","v":""},null,null,null,{"$f":"bksingh!$ADE$8","v":""},null,null,null,{"$f":"bksingh!$ADE$8","v":""},null,null,null,{"$f":"bksingh!$ADE$8","v":""},null,null,null,{"$f":"bksingh!$ADE$8","v":""},null,null,null,{"$f":"bksingh!$ADE$8","v":""},null,null,null,{"$f":"bksingh!$ADE$8","v":""},null,null,null,{"$f":"bksingh!$ADE$8","v":""},null,null,null,{"$f":"bksingh!$ADE$8","v":""},null,null,null,{"$f":"bksingh!$ADE$8","v":""},null,null,null,{"$f":"bksingh!$ADE$8","v":""},null,null,null,{"$f":"bksingh!$ADE$8","v":""},null,null,null,{"$f":"bksingh!$ADE$8","v":""},null,null,null,{"$f":"bksingh!$ADE$8","v":""},null,null,null,{"$f":"bksingh!$ADE$8","v":""},null,null,null,{"$f":"bksingh!$ADE$8","v":""},null,null,null,{"$f":"bksingh!$ADE$8","v":""},null,null,null,{"$f":"bksingh!$ADE$8","v":""},null,null,null,{"$f":"bksingh!$ADE$8","v":""},null,null,null,{"$f":"bksingh!$ADE$8","v":""},null,null,null,{"$f":"bksingh!$ADE$8","v":""},null,null,null,{"$f":"bksingh!$ADE$8","v":""},null,null,null,{"$f":"bksingh!$ADE$8","v":""},null,null,null,{"$f":"bksingh!$ADE$8","v":""},null,null,null,{"$f":"bksingh!$ADE$8","v":""},null,null,null,{"$f":"bksingh!$ADE$8","v":""},null,null,null,{"$f":"bksingh!$ADE$8","v":""},null,null,null,{"$f":"bksingh!$ADE$8","v":""},null,null,null,{"$f":"bksingh!$ADE$8","v":""},null,null,null,{"$f":"bksingh!$ADE$8","v":""},null,null,null,{"$f":"bksingh!$ADE$8","v":""},null,null,null,{"$f":"bksingh!$ADE$8","v":""},null,null,null,{"$f":"bksingh!$ADE$8","v":""},null,null,null,{"$f":"bksingh!$ADE$8","v":""},null,null,null,{"$f":"bksingh!$ADE$8","v":""},null,null,null,{"$f":"bksingh!$ADE$8","v":""},null,null,null,{"$f":"bksingh!$ADE$8","v":""},null,null,null,{"$f":"bksingh!$ADE$8","v":""},null,null,null,{"$f":"bksingh!$ADE$8","v":""},null,null,null,{"$f":"bksingh!$ADE$8","v":""},null,null,null,{"$f":"bksingh!$ADE$8","v":""},null,null,null,{"$f":"bksingh!$ADE$8","v":""},null,null,null,{"$f":"bksingh!$ADE$8","v":""},null,null,null,{"$f":"bksingh!$ADE$8","v":""},null,null,null,{"$f":"bksingh!$ADE$8","v":""},null,null,null,{"$f":"bksingh!$ADE$8","v":""},null,null,null,{"$f":"bksingh!$ADE$8","v":""},null,null,null,{"$f":"bksingh!$ADE$8","v":""},null,null,null,{"$f":"bksingh!$ADE$8","v":""},null,null,null,{"$f":"bksingh!$ADE$8","v":""},null,null,null,{"$f":"bksingh!$ADE$8","v":""},null,null,null,{"$f":"bksingh!$ADE$8","v":""},null,null,null,{"$f":"bksingh!$ADE$8","v":""},null,null,null,{"$f":"bksingh!$ADE$8","v":""},null,null,null,{"$f":"bksingh!$ADE$8","v":""},null,null,null,{"$f":"bksingh!$ADE$8","v":""},null,null,null,{"$f":"bksingh!$ADE$8","v":""},null,null,null,{"$f":"bksingh!$ADE$8","v":""},null,null,null,{"$f":"bksingh!$ADE$8","v":""},null,null,null,{"$f":"bksingh!$ADE$8","v":""},null,null,null,{"$f":"bksingh!$ADE$8","v":""},null,null,null,{"$f":"bksingh!$ADE$8","v":""},null,null,null,{"$f":"bksingh!$ADE$8","v":""},null,null,null,{"$f":"bksingh!$ADE$8","v":""},null,null,null,{"$f":"bksingh!$ADE$8","v":""},null,null,null,{"$f":"bksingh!$ADE$8","v":""},null,null,null,{"$f":"bksingh!$ADE$8","v":""},null,null,null,{"$f":"bksingh!$ADE$8","v":""},null,null,null,{"$f":"bksingh!$ADE$8","v":""},null,null,null,{"$f":"bksingh!$ADE$8","v":""},null,null,null,{"$f":"bksingh!$ADE$8","v":""},null,null,null,{"$f":"bksingh!$ADE$8","v":""},null,null,null,{"$f":"bksingh!$ADE$8","v":""},null,null,null,{"$f":"bksingh!$ADE$8","v":""},null,null,null,{"$f":"bksingh!$ADE$8","v":""},null,null,null,{"$f":"bksingh!$ADE$8","v":""},null,null,null,{"$f":"bksingh!$ADE$8","v":""},null,null,null,{"$f":"bksingh!$ADE$8","v":""},null,null,null,{"$f":"bksingh!$ADE$8","v":""},null,null,null,{"$f":"bksingh!$ADE$8","v":""},null,null,null,{"$f":"bksingh!$ADE$8","v":""},null,null,null,{"$f":"bksingh!$ADE$8","v":""},null,null,null,{"$f":"bksingh!$ADE$8","v":""},null,null,null,{"$f":"bksingh!$ADE$8","v":""},null,null,null,{"$f":"bksingh!$ADE$8","v":""},null,null,null,{"$f":"bksingh!$ADE$8","v":""},null,null,null,{"$f":"bksingh!$ADE$8","v":""},null,null,null,{"$f":"bksingh!$ADE$8","v":""},null,null,null,{"$f":"bksingh!$ADE$8","v":""},null,null,null,{"$f":"bksingh!$ADE$8","v":""},null,null,null,{"$f":"bksingh!$ADE$8","v":""},null,null,null,{"$f":"bksingh!$ADE$8","v":""},null,null,null,{"$f":"bksingh!$ADE$8","v":""},null,null,null,{"$f":"bksingh!$ADE$8","v":""},null,null,null,{"$f":"bksingh!$ADE$8","v":""},null,null,null,{"$f":"bksingh!$ADE$8","v":""},null,null,null,{"$f":"bksingh!$ADE$8","v":""},null,null,null,{"$f":"bksingh!$ADE$8","v":""},null,null,null,{"$f":"bksingh!$ADE$8","v":""},null,null,null,{"$f":"bksingh!$ADE$8","v":""},null,null,null,{"$f":"bksingh!$ADE$8","v":""},null,null,null,{"$f":"bksingh!$ADE$8","v":""},null,null,null,{"$f":"bksingh!$ADE$8","v":""},null,null,null,{"$f":"bksingh!$ADE$8","v":""},null,null,null,{"$f":"bksingh!$ADE$8","v":""},null,null,null,{"$f":"bksingh!$ADE$8","v":""},null,null,null,{"$f":"bksingh!$ADE$8","v":""},null,null,null,{"$f":"bksingh!$ADE$8","v":""},null,null,null,{"$f":"bksingh!$ADE$8","v":""},null,null,null,{"$f":"bksingh!$ADE$8","v":""},null,null,null,{"$f":"bksingh!$ADE$8","v":""},null,null,null,{"$f":"bksingh!$ADE$8","v":""},null,null,null,{"$f":"bksingh!$ADE$8","v":""},null,null,null,{"$f":"bksingh!$ADE$8","v":""},null,null,null,{"$f":"bksingh!$ADE$8","v":""},null,null,null,{"$f":"bksingh!$ADE$8","v":""},null,null,null,{"$f":"bksingh!$ADE$8","v":""},null,null,null,{"$f":"bksingh!$ADE$8","v":""},null,null,null,{"$f":"bksingh!$ADE$8","v":""},null,null,null,{"$f":"bksingh!$ADE$8","v":""},null,null,null,{"$f":"bksingh!$ADE$8","v":""},null,null,null,{"$f":"bksingh!$ADE$8","v":""},null,null,null,{"$f":"bksingh!$ADE$8","v":""},null,null,null,{"$f":"bksingh!$ADE$8","v":""},null,null,null,{"$f":"bksingh!$ADE$8","v":""},null,null,null,{"$f":"bksingh!$ADE$8","v":""},null,null,null,{"$f":"bksingh!$ADE$8","v":""},null,null,null,{"$f":"bksingh!$ADE$8","v":""},null,null,null,{"$f":"bksingh!$ADE$8","v":""},null,null,null,{"$f":"bksingh!$ADE$8","v":""},null,null,null,{"$f":"bksingh!$ADE$8","v":""},null,null,null,{"$f":"bksingh!$ADE$8","v":""},null,null,null,{"$f":"bksingh!$ADE$8","v":""},null,null,null,{"$f":"bksingh!$ADE$8","v":""},null,null,null,{"$f":"bksingh!$ADE$8","v":""},null,null,null,{"$f":"bksingh!$ADE$8","v":""},null,null,null,{"$f":"bksingh!$ADE$8","v":""},null,null,null,{"$f":"bksingh!$ADE$8","v":""},null,null,null,{"$f":"bksingh!$ADE$8","v":""},null,null,null,{"$f":"bksingh!$ADE$8","v":""},null,null,null,{"$f":"bksingh!$ADE$8","v":""},null,null,null,{"$f":"bksingh!$ADE$8","v":""},null,null,null,{"$f":"bksingh!$ADE$8","v":""},null,null,null,{"$f":"bksingh!$ADE$8","v":""},null,null,null,{"$f":"bksingh!$ADE$8","v":""},null,null,null,{"$f":"bksingh!$ADE$8","v":""},null,null,null,{"$f":"bksingh!$ADE$8","v":""},null,null,null,{"$f":"bksingh!$ADE$8","v":""},null,null,null,{"$f":"bksingh!$ADE$8","v":""},null,null,null,{"$f":"bksingh!$ADE$8","v":""},null,null,null,{"$f":"bksingh!$ADE$8","v":""},null,null,null,{"$f":"bksingh!$ADE$8","v":""},null,null,null,{"$f":"bksingh!$ADE$8","v":""},null,null,null,{"$f":"bksingh!$ADE$8","v":""},null,null,null,{"$f":"bksingh!$ADE$8","v":""},null,null,null,{"$f":"bksingh!$ADE$8","v":""},null,null,null,{"$f":"bksingh!$ADE$8","v":""},null,null,null,{"$f":"bksingh!$ADE$8","v":""},null,null,null,{"$f":"bksingh!$ADE$8","v":""},null,null,null,{"$f":"bksingh!$ADE$8","v":""},null,null,null,{"$f":"bksingh!$ADE$8","v":""},null,null,null,{"$f":"bksingh!$ADE$8","v":""},null,null,null,{"$f":"bksingh!$ADE$8","v":""},null,null,null,{"$f":"bksingh!$ADE$8","v":""},null,null,null,{"$f":"bksingh!$ADE$8","v":""},null,null,null,{"$f":"bksingh!$ADE$8","v":""},null,null,null,{"$f":"bksingh!$ADE$8","v":""},null,null,null,{"$f":"bksingh!$ADE$8","v":""},null,null,null,{"$f":"bksingh!$ADE$8","v":""},null,null,null,{"$f":"bksingh!$ADE$8","v":""},null,null,null,{"$f":"bksingh!$ADE$8","v":""},null,null,null,{"$f":"bksingh!$ADE$8","v":""},null,null,null,{"$f":"bksingh!$ADE$8","v":""},null,null,null,{"$f":"bksingh!$ADE$8","v":""},null,null,null,{"$f":"bksingh!$ADE$8","v":""},null,null,null,{"$f":"bksingh!$ADE$8","v":""},null,null,null,{"$f":"bksingh!$ADE$8","v":""},null,null,null,{"$f":"bksingh!$ADE$8","v":""},null,null,null,{"$f":"bksingh!$ADE$8","v":""},null,null,null,{"$f":"bksingh!$ADE$8","v":""},null,null,null,{"$f":"bksingh!$ADE$8","v":""},null,null,null,{"$f":"bksingh!$ADE$8","v":""},null,null,null,{"$f":"bksingh!$ADE$8","v":""},null,null,null,{"$f":"bksingh!$ADE$8","v":""},null,null,null,{"$f":"bksingh!$ADE$8","v":""},null,null,null,{"$f":"bksingh!$ADE$8","v":""},null,null,null,{"$f":"bksingh!$ADE$8","v":""},null,null,null,{"$f":"bksingh!$ADE$8","v":""},null,null,null,{"$f":"bksingh!$ADE$8","v":""},null,null,null,{"$f":"bksingh!$ADE$8","v":""},null,null,null,{"$f":"bksingh!$ADE$8","v":""},null,null,null,{"$f":"bksingh!$ADE$8","v":""},null,null,null,{"$f":"bksingh!$ADE$8","v":""},null,null,null,{"$f":"bksingh!$ADE$8","v":""},null,null,null,{"$f":"bksingh!$ADE$8","v":""},null,null,null,{"$f":"bksingh!$ADE$8","v":""},null,null,null,{"$f":"bksingh!$ADE$8","v":""},null,null,null,{"$f":"bksingh!$ADE$8","v":""},null,null,null,{"$f":"bksingh!$ADE$8","v":""},null,null,null,{"$f":"bksingh!$ADE$8","v":""},null,null,null,{"$f":"bksingh!$ADE$8","v":""},null,null,null,{"$f":"bksingh!$ADE$8","v":""},null,null,null,{"$f":"bksingh!$ADE$8","v":""},null,null,null,{"$f":"bksingh!$ADE$8","v":""},null,null,null,{"$f":"bksingh!$ADE$8","v":""},null,null,null,{"$f":"bksingh!$ADE$8","v":""},null,null,null,{"$f":"bksingh!$ADE$8","v":""},null,null,null,{"$f":"bksingh!$ADE$8","v":""},null,null,null,{"$f":"bksingh!$ADE$8","v":""},null,null,null,{"$f":"bksingh!$ADE$8","v":""},null,null,null,{"$f":"bksingh!$ADE$8","v":""},null,null,null,{"$f":"bksingh!$ADE$8","v":""},null,null,null,{"$f":"bksingh!$ADE$8","v":""},null,null,null,{"$f":"bksingh!$ADE$8","v":""},null,null,null,{"$f":"bksingh!$ADE$8","v":""},null,null,null,{"$f":"bksingh!$ADE$8","v":""},null,null,null,{"$f":"bksingh!$ADE$8","v":""},null,null,null,{"$f":"bksingh!$ADE$8","v":""},null,null,null,{"$f":"bksingh!$ADE$8","v":""},null,null,null,{"$f":"bksingh!$ADE$8","v":""},null,null,null,{"$f":"bksingh!$ADE$8","v":""},null,null,null,{"$f":"bksingh!$ADE$8","v":""},null,null,null,{"$f":"bksingh!$ADE$8","v":""},null,null,null,{"$f":"bksingh!$ADE$8","v":""},null,null,null,{"$f":"bksingh!$ADE$8","v":""},null,null,null,{"$f":"bksingh!$ADE$8","v":""},null,null,null,{"$f":"bksingh!$ADE$8","v":""},null,null,null,{"$f":"bksingh!$ADE$8","v":""},null,null,null,{"$f":"bksingh!$ADE$8","v":""},null,null,null,{"$f":"bksingh!$ADE$8","v":""},null,null,null,{"$f":"bksingh!$ADE$8","v":""},null,null,null,{"$f":"bksingh!$ADE$8","v":""},null,null,null,{"$f":"bksingh!$ADE$8","v":""},null,null,null,{"$f":"bksingh!$ADE$8","v":""},null,null,null,{"$f":"bksingh!$ADE$8","v":""},null,null,null,{"$f":"bksingh!$ADE$8","v":""},null,null,null,{"$f":"bksingh!$ADE$8","v":""},null,null,null,{"$f":"bksingh!$ADE$8","v":""},null,null,null,{"$f":"bksingh!$ADE$8","v":""},null,null,null,{"$f":"bksingh!$ADE$8","v":""},null,null,null,{"$f":"bksingh!$ADE$8","v":""},null,null,null,{"$f":"bksingh!$ADE$8","v":""},null,null,null,{"$f":"bksingh!$ADE$8","v":""},null,null,null,{"$f":"bksingh!$ADE$8","v":""},null,null,null,{"$f":"bksingh!$ADE$8","v":""},null,null,null,{"$f":"bksingh!$ADE$8","v":""},null,null,null,{"$f":"bksingh!$ADE$8","v":""},null,null,null,{"$f":"bksingh!$ADE$8","v":""},null,null,null,{"$f":"bksingh!$ADE$8","v":""},null,null,null,{"$f":"bksingh!$ADE$8","v":""},null,null,null,{"$f":"bksingh!$ADE$8","v":""},null,null,null,{"$f":"bksingh!$ADE$8","v":""},null,null,null,{"$f":"bksingh!$ADE$8","v":""},null,null,null,{"$f":"bksingh!$ADE$8","v":""},null,null,null,{"$f":"bksingh!$ADE$8","v":""},null,null,null,{"$f":"bksingh!$ADE$8","v":""},null,null,null,{"$f":"bksingh!$ADE$8","v":""},null,null,null,{"$f":"bksingh!$ADE$8","v":""},null,null,null,{"$f":"bksingh!$ADE$8","v":""},null,null,null,{"$f":"bksingh!$ADE$8","v":""},null,null,null,{"$f":"bksingh!$ADE$8","v":""},null,null,null,{"$f":"bksingh!$ADE$8","v":""},null,null,null,{"$f":"bksingh!$ADE$8","v":""},null,null,null,{"$f":"bksingh!$ADE$8","v":""},null,null,null,{"$f":"bksingh!$ADE$8","v":""},null,null,null,{"$f":"bksingh!$ADE$8","v":""},null,null,null,{"$f":"bksingh!$ADE$8","v":""},null,null,null,{"$f":"bksingh!$ADE$8","v":""},null,null,null,{"$f":"bksingh!$ADE$8","v":""},null,null,null,{"$f":"bksingh!$ADE$8","v":""},null,null,null,{"$f":"bksingh!$ADE$8","v":""},null,null,null,{"$f":"bksingh!$ADE$8","v":""},null,null,null,{"$f":"bksingh!$ADE$8","v":""},null,null,null,{"$f":"bksingh!$ADE$8","v":""},null,null,null,{"$f":"bksingh!$ADE$8","v":""},null,null,null,{"$f":"bksingh!$ADE$8","v":""},null,null,null,{"$f":"bksingh!$ADE$8","v":""},null,null,null,{"$f":"bksingh!$ADE$8","v":""},null,null,null,{"$f":"bksingh!$ADE$8","v":""},null,null,null,{"$f":"bksingh!$ADE$8","v":""},null,null,null,{"$f":"bksingh!$ADE$8","v":""},null,null,null,{"$f":"bksingh!$ADE$8","v":""},null,null,null,{"$f":"bksingh!$ADE$8","v":""},null,null,null,{"$f":"bksingh!$ADE$8","v":""},null,null,null,{"$f":"bksingh!$ADE$8","v":""},null,null,null,{"$f":"bksingh!$ADE$8","v":""},null,null,null,{"$f":"bksingh!$ADE$8","v":""},null,null,null,{"$f":"bksingh!$ADE$8","v":""},null,null,null,{"$f":"bksingh!$ADE$8","v":""},null,null,null,{"$f":"bksingh!$ADE$8","v":""},null,null,null,{"$f":"bksingh!$ADE$8","v":""},null,null,null,{"$f":"bksingh!$ADE$8","v":""},null,null,null,{"$f":"bksingh!$ADE$8","v":""},null,null,null,{"$f":"bksingh!$ADE$8","v":""},null,null,null,{"$f":"bksingh!$ADE$8","v":""},null,null,null,{"$f":"bksingh!$ADE$8","v":""},null,null,null,{"$f":"bksingh!$ADE$8","v":""},null,null,null,{"$f":"bksingh!$ADE$8","v":""},null,null,null,{"$f":"bksingh!$ADE$8","v":""},null,null,null,{"$f":"bksingh!$ADE$8","v":""},null,null,null,{"$f":"bksingh!$ADE$8","v":""},null,null,null,{"$f":"bksingh!$ADE$8","v":""},null,null,null,{"$f":"bksingh!$ADE$8","v":""},null,null,null,{"$f":"bksingh!$ADE$8","v":""},null,null,null,{"$f":"bksingh!$ADE$8","v":""},null,null,null,{"$f":"bksingh!$ADE$8","v":""},null,null,null,{"$f":"bksingh!$ADE$8","v":""},null,null,null,{"$f":"bksingh!$ADE$8","v":""},null,null,null,{"$f":"bksingh!$ADE$8","v":""},null,null,null,{"$f":"bksingh!$ADE$8","v":""},null,null,null,{"$f":"bksingh!$ADE$8","v":""},null,null,null,{"$f":"bksingh!$ADE$8","v":""},null,null,null,{"$f":"bksingh!$ADE$8","v":""},null,null,null,{"$f":"bksingh!$ADE$8","v":""},null,null,null,{"$f":"bksingh!$ADE$8","v":""},null,null,null,{"$f":"bksingh!$ADE$8","v":""},null,null,null,{"$f":"bksingh!$ADE$8","v":""},null,null,null,{"$f":"bksingh!$ADE$8","v":""},null,null,null,{"$f":"bksingh!$ADE$8","v":""},null,null,null,{"$f":"bksingh!$ADE$8","v":""},null,null,null,{"$f":"bksingh!$ADE$8","v":""},null,null,null,{"$f":"bksingh!$ADE$8","v":""},null,null,null,{"$f":"bksingh!$ADE$8","v":""},null,null,null,{"$f":"bksingh!$ADE$8","v":""},null,null,null,{"$f":"bksingh!$ADE$8","v":""},null,null,null,{"$f":"bksingh!$ADE$8","v":""},null,null,null,{"$f":"bksingh!$ADE$8","v":""},null,null,null,{"$f":"bksingh!$ADE$8","v":""},null,null,null,{"$f":"bksingh!$ADE$8","v":""},null,null,null,{"$f":"bksingh!$ADE$8","v":""},null,null,null,{"$f":"bksingh!$ADE$8","v":""},null,null,null,{"$f":"bksingh!$ADE$8","v":""},null,null,null,{"$f":"bksingh!$ADE$8","v":""},null,null,null,{"$f":"bksingh!$ADE$8","v":""},null,null,null,{"$f":"bksingh!$ADE$8","v":""},null,null,null,{"$f":"bksingh!$ADE$8","v":""},null,null,null,{"$f":"bksingh!$ADE$8","v":""},null,null,null,{"$f":"bksingh!$ADE$8","v":""},null,null,null,{"$f":"bksingh!$ADE$8","v":""},null,null,null,{"$f":"bksingh!$ADE$8","v":""},null,null,null,{"$f":"bksingh!$ADE$8","v":""},null,null,null,{"$f":"bksingh!$ADE$8","v":""},null,null,null,{"$f":"bksingh!$ADE$8","v":""},null,null,null,{"$f":"bksingh!$ADE$8","v":""},null,null,null,{"$f":"bksingh!$ADE$8","v":""},null,null,null,{"$f":"bksingh!$ADE$8","v":""},null,null,null,{"$f":"bksingh!$ADE$8","v":""},null,null,null,{"$f":"bksingh!$ADE$8","v":""},null,null,null,{"$f":"bksingh!$ADE$8","v":""},null,null,null,{"$f":"bksingh!$ADE$8","v":""},null,null,null,{"$f":"bksingh!$ADE$8","v":""},null,null,null,{"$f":"bksingh!$ADE$8","v":""},null,null,null,{"$f":"bksingh!$ADE$8","v":""},null,null,null,{"$f":"bksingh!$ADE$8","v":""},null,null,null,{"$f":"bksingh!$ADE$8","v":""},null,null,null,{"$f":"bksingh!$ADE$8","v":""},null,null,null,{"$f":"bksingh!$ADE$8","v":""},null,null,null,{"$f":"bksingh!$ADE$8","v":""},null,null,null,{"$f":"bksingh!$ADE$8","v":""},null,null,null,{"$f":"bksingh!$ADE$8","v":""},null,null,null,{"$f":"bksingh!$ADE$8","v":""},null,null,null,{"$f":"bksingh!$ADE$8","v":""},null,null,null,{"$f":"bksingh!$ADE$8","v":""},null,null,null,{"$f":"bksingh!$ADE$8","v":""},null,null,null,{"$f":"bksingh!$ADE$8","v":""},null,null,null,{"$f":"bksingh!$ADE$8","v":""},null,null,null,{"$f":"bksingh!$ADE$8","v":""},null,null,null,{"$f":"bksingh!$ADE$8","v":""},null,null,null,{"$f":"bksingh!$ADE$8","v":""},null,null,null,{"$f":"bksingh!$ADE$8","v":""},null,null,null,{"$f":"bksingh!$ADE$8","v":""},null,null,null,{"$f":"bksingh!$ADE$8","v":""},null,null,null,{"$f":"bksingh!$ADE$8","v":""},null,null,null,{"$f":"bksingh!$ADE$8","v":""},null,null,null,{"$f":"bksingh!$ADE$8","v":""},null,null,null,{"$f":"bksingh!$ADE$8","v":""},null,null,null,{"$f":"bksingh!$ADE$8","v":""},null,null,null,{"$f":"bksingh!$ADE$8","v":""},null,null,null,{"$f":"bksingh!$ADE$8","v":""},null,null,null,{"$f":"bksingh!$ADE$8","v":""},null,null,null,{"$f":"bksingh!$ADE$8","v":""},null,null,null,{"$f":"bksingh!$ADE$8","v":""},null,null,null,{"$f":"bksingh!$ADE$8","v":""},null,null,null,{"$f":"bksingh!$ADE$8","v":""},null,null,null,{"$f":"bksingh!$ADE$8","v":""},null,null,null,{"$f":"bksingh!$ADE$8","v":""},null,null,null,{"$f":"bksingh!$ADE$8","v":""},null,null,null,{"$f":"bksingh!$ADE$8","v":""},null,null,null,{"$f":"bksingh!$ADE$8","v":""},null,null,null,{"$f":"bksingh!$ADE$8","v":""},null,null,null,{"$f":"bksingh!$ADE$8","v":""},null,null,null,{"$f":"bksingh!$ADE$8","v":""},null,null,null,{"$f":"bksingh!$ADE$8","v":""},null,null,null,{"$f":"bksingh!$ADE$8","v":""},null,null,null,{"$f":"bksingh!$ADE$8","v":""},null,null,null,{"$f":"bksingh!$ADE$8","v":""},null,null,null,{"$f":"bksingh!$ADE$8","v":""},null,null,null,{"$f":"bksingh!$ADE$8","v":""},null,null,null,{"$f":"bksingh!$ADE$8","v":""},null,null,null,{"$f":"bksingh!$ADE$8","v":""},null,null,null,{"$f":"bksingh!$ADE$8","v":""},null,null,null,{"$f":"bksingh!$ADE$8","v":""},null,null,null,{"$f":"bksingh!$ADE$8","v":""},null,null,null,{"$f":"bksingh!$ADE$8","v":""},null,null,null,{"$f":"bksingh!$ADE$8","v":""},null,null,null,{"$f":"bksingh!$ADE$8","v":""},null,null,null,{"$f":"bksingh!$ADE$8","v":""},null,null,null,{"$f":"bksingh!$ADE$8","v":""},null,null,null,{"$f":"bksingh!$ADE$8","v":""},null,null,null,{"$f":"bksingh!$ADE$8","v":""},null,null,null,{"$f":"bksingh!$ADE$8","v":""},null,null,null,{"$f":"bksingh!$ADE$8","v":""},null,null,null,{"$f":"bksingh!$ADE$8","v":""},null,null,null,{"$f":"bksingh!$ADE$8","v":""},null,null,null,{"$f":"bksingh!$ADE$8","v":""},null,null,null,{"$f":"bksingh!$ADE$8","v":""},null,null,null,{"$f":"bksingh!$ADE$8","v":""},null,null,null,{"$f":"bksingh!$ADE$8","v":""},null,null,null,{"$f":"bksingh!$ADE$8","v":""},null,null,null,{"$f":"bksingh!$ADE$8","v":""},null,null,null,{"$f":"bksingh!$ADE$8","v":""},null,null,null,{"$f":"bksingh!$ADE$8","v":""},null,null,null,{"$f":"bksingh!$ADE$8","v":""},null,null,null,{"$f":"bksingh!$ADE$8","v":""},null,null,null,{"$f":"bksingh!$ADE$8","v":""},null,null,null,{"$f":"bksingh!$ADE$8","v":""},null,null,null,{"$f":"bksingh!$ADE$8","v":""},null,null,null,{"$f":"bksingh!$ADE$8","v":""},null,null,null,{"$f":"bksingh!$ADE$8","v":""},null,null,null,{"$f":"bksingh!$ADE$8","v":""},null,null,null,{"$f":"bksingh!$ADE$8","v":""},null,null,null,{"$f":"bksingh!$ADE$8","v":""},null,null,null,{"$f":"bksingh!$ADE$8","v":""},null,null,null,{"$f":"bksingh!$ADE$8","v":""},null,null,null,{"$f":"bksingh!$ADE$8","v":""},null,null,null,{"$f":"bksingh!$ADE$8","v":""},null,null,null,{"$f":"bksingh!$ADE$8","v":""},null,null,null,{"$f":"bksingh!$ADE$8","v":""},null,null,null,{"$f":"bksingh!$ADE$8","v":""},null,null,null,{"$f":"bksingh!$ADE$8","v":""},null,null,null,{"$f":"bksingh!$ADE$8","v":""},null,null,null,{"$f":"bksingh!$ADE$8","v":""},null,null,null,{"$f":"bksingh!$ADE$8","v":""},null,null,null,{"$f":"bksingh!$ADE$8","v":""},null,null,null,{"$f":"bksingh!$ADE$8","v":""},null,null,null,{"$f":"bksingh!$ADE$8","v":""},null,null,null,{"$f":"bksingh!$ADE$8","v":""},null,null,null,{"$f":"bksingh!$ADE$8","v":""},null,null,null,{"$f":"bksingh!$ADE$8","v":""},null,null,null,{"$f":"bksingh!$ADE$8","v":""},null,null,null,{"$f":"bksingh!$ADE$8","v":""},null,null,null,{"$f":"bksingh!$ADE$8","v":""},null,null,null,{"$f":"bksingh!$ADE$8","v":""},null,null,null,{"$f":"bksingh!$ADE$8","v":""},null,null,null,{"$f":"bksingh!$ADE$8","v":""},null,null,null,{"$f":"bksingh!$ADE$8","v":""},null,null,null,{"$f":"bksingh!$ADE$8","v":""},null,null,null,{"$f":"bksingh!$ADE$8","v":""},null,null,null,{"$f":"bksingh!$ADE$8","v":""},null,null,null,{"$f":"bksingh!$ADE$8","v":""},null,null,null,{"$f":"bksingh!$ADE$8","v":""},null,null,null,{"$f":"bksingh!$ADE$8","v":""},null,null,null,{"$f":"bksingh!$ADE$8","v":""},null,null,null,{"$f":"bksingh!$ADE$8","v":""},null,null,null,{"$f":"bksingh!$ADE$8","v":""},null,null,null,{"$f":"bksingh!$ADE$8","v":""},null,null,null,{"$f":"bksingh!$ADE$8","v":""},null,null,null,{"$f":"bksingh!$ADE$8","v":""},null,null,null,{"$f":"bksingh!$ADE$8","v":""},null,null,null,{"$f":"bksingh!$ADE$8","v":""},null,null,null,{"$f":"bksingh!$ADE$8","v":""},null,null,null,{"$f":"bksingh!$ADE$8","v":""},null,null,null,{"$f":"bksingh!$ADE$8","v":""},null,null,null,{"$f":"bksingh!$ADE$8","v":""},null,null,null,{"$f":"bksingh!$ADE$8","v":""},null,null,null,{"$f":"bksingh!$ADE$8","v":""},null,null,null,{"$f":"bksingh!$ADE$8","v":""},null,null,null,{"$f":"bksingh!$ADE$8","v":""},null,null,null,{"$f":"bksingh!$ADE$8","v":""},null,null,null,{"$f":"bksingh!$ADE$8","v":""},null,null,null,{"$f":"bksingh!$ADE$8","v":""},null,null,null,{"$f":"bksingh!$ADE$8","v":""},null,null,null,{"$f":"bksingh!$ADE$8","v":""},null,null,null,{"$f":"bksingh!$ADE$8","v":""},null,null,null,{"$f":"bksingh!$ADE$8","v":""},null,null,null,{"$f":"bksingh!$ADE$8","v":""},null,null,null,{"$f":"bksingh!$ADE$8","v":""},null,null,null,{"$f":"bksingh!$ADE$8","v":""},null,null,null,{"$f":"bksingh!$ADE$8","v":""},null,null,null,{"$f":"bksingh!$ADE$8","v":""},null,null,null,{"$f":"bksingh!$ADE$8","v":""},null,null,null,{"$f":"bksingh!$ADE$8","v":""},null,null,null,{"$f":"bksingh!$ADE$8","v":""},null,null,null,{"$f":"bksingh!$ADE$8","v":""},null,null,null,{"$f":"bksingh!$ADE$8","v":""},null,null,null,{"$f":"bksingh!$ADE$8","v":""},null,null,null,{"$f":"bksingh!$ADE$8","v":""},null,null,null,{"$f":"bksingh!$ADE$8","v":""},null,null,null,{"$f":"bksingh!$ADE$8","v":""},null,null,null,{"$f":"bksingh!$ADE$8","v":""},null,null,null,{"$f":"bksingh!$ADE$8","v":""},null,null,null,{"$f":"bksingh!$ADE$8","v":""},null,null,null,{"$f":"bksingh!$ADE$8","v":""},null,null,null,{"$f":"bksingh!$ADE$8","v":""},null,null,null,{"$f":"bksingh!$ADE$8","v":""},null,null,null,{"$f":"bksingh!$ADE$8","v":""},null,null,null,{"$f":"bksingh!$ADE$8","v":""},null,null,null,{"$f":"bksingh!$ADE$8","v":""},null,null,null,{"$f":"bksingh!$ADE$8","v":""},null,null,null,{"$f":"bksingh!$ADE$8","v":""},null,null,null,{"$f":"bksingh!$ADE$8","v":""},null,null,null,{"$f":"bksingh!$ADE$8","v":""},null,null,null,{"$f":"bksingh!$ADE$8","v":""},null,null,null,{"$f":"bksingh!$ADE$8","v":""},null,null,null,{"$f":"bksingh!$ADE$8","v":""},null,null,null,{"$f":"bksingh!$ADE$8","v":""},null,null,null,{"$f":"bksingh!$ADE$8","v":""},null,null,null,{"$f":"bksingh!$ADE$8","v":""},null,null,null,{"$f":"bksingh!$ADE$8","v":""},null,null,null,{"$f":"bksingh!$ADE$8","v":""},null,null,null,{"$f":"bksingh!$ADE$8","v":""},null,null,null,{"$f":"bksingh!$ADE$8","v":""},null,null,null,{"$f":"bksingh!$ADE$8","v":""},null,null,null,{"$f":"bksingh!$ADE$8","v":""},null,null,null,{"$f":"bksingh!$ADE$8","v":""},null,null,null,{"$f":"bksingh!$ADE$8","v":""},null,null,null,{"$f":"bksingh!$ADE$8","v":""},null,null,null,{"$f":"bksingh!$ADE$8","v":""},null,null,null,{"$f":"bksingh!$ADE$8","v":""},null,null,null,{"$f":"bksingh!$ADE$8","v":""},null,null,null,{"$f":"bksingh!$ADE$8","v":""},null,null,null,{"$f":"bksingh!$ADE$8","v":""},null,null,null,{"$f":"bksingh!$ADE$8","v":""},null,null,null,{"$f":"bksingh!$ADE$8","v":""},null,null,null,{"$f":"bksingh!$ADE$8","v":""},null,null,null,{"$f":"bksingh!$ADE$8","v":""},null,null,null,{"$f":"bksingh!$ADE$8","v":""},null,null,null,{"$f":"bksingh!$ADE$8","v":""},null,null,null,{"$f":"bksingh!$ADE$8","v":""},null,null,null,{"$f":"bksingh!$ADE$8","v":""},null,null,null,{"$f":"bksingh!$ADE$8","v":""},null,null,null,{"$f":"bksingh!$ADE$8","v":""},null,null,null,{"$f":"bksingh!$ADE$8","v":""},null,null,null,{"$f":"bksingh!$ADE$8","v":""},null,null,null,{"$f":"bksingh!$ADE$8","v":""},null,null,null,{"$f":"bksingh!$ADE$8","v":""},null,null,null,{"$f":"bksingh!$ADE$8","v":""},null,null,null,{"$f":"bksingh!$ADE$8","v":""},null,null,null,{"$f":"bksingh!$ADE$8","v":""},null,null,null,{"$f":"bksingh!$ADE$8","v":""},null,null,null,{"$f":"bksingh!$ADE$8","v":""},null,null,null,{"$f":"bksingh!$ADE$8","v":""},null,null,null,{"$f":"bksingh!$ADE$8","v":""},null,null,null,{"$f":"bksingh!$ADE$8","v":""},null,null,null,{"$f":"bksingh!$ADE$8","v":""},null,null,null,{"$f":"bksingh!$ADE$8","v":""},null,null,null,{"$f":"bksingh!$ADE$8","v":""},null,null,null,{"$f":"bksingh!$ADE$8","v":""},null,null,null,{"$f":"bksingh!$ADE$8","v":""},null,null,null,{"$f":"bksingh!$ADE$8","v":""},null,null,null,{"$f":"bksingh!$ADE$8","v":""},null,null,null,{"$f":"bksingh!$ADE$8","v":""},null,null,null,{"$f":"bksingh!$ADE$8","v":""},null,null,null,{"$f":"bksingh!$ADE$8","v":""},null,null,null,{"$f":"bksingh!$ADE$8","v":""},null,null,null,{"$f":"bksingh!$ADE$8","v":""},null,null,null,{"$f":"bksingh!$ADE$8","v":""},null,null,null,{"$f":"bksingh!$ADE$8","v":""},null,null,null,{"$f":"bksingh!$ADE$8","v":""},null,null,null,{"$f":"bksingh!$ADE$8","v":""},null,null,null,{"$f":"bksingh!$ADE$8","v":""},null,null,null,{"$f":"bksingh!$ADE$8","v":""},null,null,null,{"$f":"bksingh!$ADE$8","v":""},null,null,null,{"$f":"bksingh!$ADE$8","v":""},null,null,null,{"$f":"bksingh!$ADE$8","v":""},null,null,null,{"$f":"bksingh!$ADE$8","v":""},null,null,null,{"$f":"bksingh!$ADE$8","v":""},null,null,null,{"$f":"bksingh!$ADE$8","v":""},null,null,null,{"$f":"bksingh!$ADE$8","v":""},null,null,null,{"$f":"bksingh!$ADE$8","v":""},null,null,null,{"$f":"bksingh!$ADE$8","v":""},null,null,null,{"$f":"bksingh!$ADE$8","v":""},null,null,null,{"$f":"bksingh!$ADE$8","v":""},null,null,null,{"$f":"bksingh!$ADE$8","v":""},null,null,null,{"$f":"bksingh!$ADE$8","v":""},null,null,null,{"$f":"bksingh!$ADE$8","v":""},null,null,null,{"$f":"bksingh!$ADE$8","v":""},null,null,null,{"$f":"bksingh!$ADE$8","v":""},null,null,null,{"$f":"bksingh!$ADE$8","v":""},null,null,null,{"$f":"bksingh!$ADE$8","v":""},null,null,null,{"$f":"bksingh!$ADE$8","v":""},null,null,null,{"$f":"bksingh!$ADE$8","v":""},null,null,null,{"$f":"bksingh!$ADE$8","v":""},null,null,null,{"$f":"bksingh!$ADE$8","v":""},null,null,null,{"$f":"bksingh!$ADE$8","v":""},null,null,null,{"$f":"bksingh!$ADE$8","v":""},null,null,null,{"$f":"bksingh!$ADE$8","v":""},null,null,null,{"$f":"bksingh!$ADE$8","v":""},null,null,null,{"$f":"bksingh!$ADE$8","v":""},null,null,null,{"$f":"bksingh!$ADE$8","v":""},null,null,null,{"$f":"bksingh!$ADE$8","v":""},null,null,null,{"$f":"bksingh!$ADE$8","v":""},null,null,null,{"$f":"bksingh!$ADE$8","v":""},null,null,null,{"$f":"bksingh!$ADE$8","v":""},null,null,null,{"$f":"bksingh!$ADE$8","v":""},null,null,null,{"$f":"bksingh!$ADE$8","v":""},null,null,null,{"$f":"bksingh!$ADE$8","v":""},null,null,null,{"$f":"bksingh!$ADE$8","v":""},null,null,null,{"$f":"bksingh!$ADE$8","v":""},null,null,null,{"$f":"bksingh!$ADE$8","v":""},null,null,null,{"$f":"bksingh!$ADE$8","v":""},null,null,null,{"$f":"bksingh!$ADE$8","v":""},null,null,null,{"$f":"bksingh!$ADE$8","v":""},null,null,null,{"$f":"bksingh!$ADE$8","v":""},null,null,null,{"$f":"bksingh!$ADE$8","v":""},null,null,null,{"$f":"bksingh!$ADE$8","v":""},null,null,null,{"$f":"bksingh!$ADE$8","v":""},null,null,null,{"$f":"bksingh!$ADE$8","v":""},null,null,null,{"$f":"bksingh!$ADE$8","v":""},null,null,null,{"$f":"bksingh!$ADE$8","v":""},null,null,null,{"$f":"bksingh!$ADE$8","v":""},null,null,null,{"$f":"bksingh!$ADE$8","v":""},null,null,null,{"$f":"bksingh!$ADE$8","v":""},null,null,null,{"$f":"bksingh!$ADE$8","v":""},null,null,null,{"$f":"bksingh!$ADE$8","v":""},null,null,null,{"$f":"bksingh!$ADE$8","v":""},null,null,null,{"$f":"bksingh!$ADE$8","v":""},null,null,null,{"$f":"bksingh!$ADE$8","v":""},null,null,null,{"$f":"bksingh!$ADE$8","v":""},null,null,null,{"$f":"bksingh!$ADE$8","v":""},null,null,null,{"$f":"bksingh!$ADE$8","v":""},null,null,null,{"$f":"bksingh!$ADE$8","v":""},null,null,null,{"$f":"bksingh!$ADE$8","v":""},null,null,null,{"$f":"bksingh!$ADE$8","v":""},null,null,null,{"$f":"bksingh!$ADE$8","v":""},null,null,null,{"$f":"bksingh!$ADE$8","v":""},null,null,null,{"$f":"bksingh!$ADE$8","v":""},null,null,null,{"$f":"bksingh!$ADE$8","v":""},null,null,null,{"$f":"bksingh!$ADE$8","v":""},null,null,null,{"$f":"bksingh!$ADE$8","v":""},null,null,null,{"$f":"bksingh!$ADE$8","v":""},null,null,null,{"$f":"bksingh!$ADE$8","v":""},null,null,null,{"$f":"bksingh!$ADE$8","v":""},null,null,null,{"$f":"bksingh!$ADE$8","v":""},null,null,null,{"$f":"bksingh!$ADE$8","v":""},null,null,null,{"$f":"bksingh!$ADE$8","v":""},null,null,null,{"$f":"bksingh!$ADE$8","v":""},null,null,null,{"$f":"bksingh!$ADE$8","v":""},null,null,null,{"$f":"bksingh!$ADE$8","v":""},null,null,null,{"$f":"bksingh!$ADE$8","v":""},null,null,null,{"$f":"bksingh!$ADE$8","v":""},null,null,null,{"$f":"bksingh!$ADE$8","v":""},null,null,null,{"$f":"bksingh!$ADE$8","v":""},null,null,null,{"$f":"bksingh!$ADE$8","v":""},null,null,null,{"$f":"bksingh!$ADE$8","v":""},null,null,null,{"$f":"bksingh!$ADE$8","v":""},null,null,null,{"$f":"bksingh!$ADE$8","v":""},null,null,null,{"$f":"bksingh!$ADE$8","v":""},null,null,null,{"$f":"bksingh!$ADE$8","v":""},null,null,null,{"$f":"bksingh!$ADE$8","v":""},null,null,null,{"$f":"bksingh!$ADE$8","v":""},null,null,null,{"$f":"bksingh!$ADE$8","v":""},null,null,null,{"$f":"bksingh!$ADE$8","v":""},null,null,null,{"$f":"bksingh!$ADE$8","v":""},null,null,null,{"$f":"bksingh!$ADE$8","v":""},null,null,null,{"$f":"bksingh!$ADE$8","v":""},null,null,null,{"$f":"bksingh!$ADE$8","v":""},null,null,null,{"$f":"bksingh!$ADE$8","v":""},null,null,null,{"$f":"bksingh!$ADE$8","v":""},null,null,null,{"$f":"bksingh!$ADE$8","v":""},null,null,null,{"$f":"bksingh!$ADE$8","v":""},null,null,null,{"$f":"bksingh!$ADE$8","v":""},null,null,null,{"$f":"bksingh!$ADE$8","v":""},null,null,null,{"$f":"bksingh!$ADE$8","v":""},null,null,null,{"$f":"bksingh!$ADE$8","v":""},null,null,null,{"$f":"bksingh!$ADE$8","v":""},null,null,null,{"$f":"bksingh!$ADE$8","v":""},null,null,null,{"$f":"bksingh!$ADE$8","v":""},null,null,null,{"$f":"bksingh!$ADE$8","v":""},null,null,null,{"$f":"bksingh!$ADE$8","v":""},null,null,null,{"$f":"bksingh!$ADE$8","v":""},null,null,null,{"$f":"bksingh!$ADE$8","v":""},null,null,null,{"$f":"bksingh!$ADE$8","v":""},null,null,null,{"$f":"bksingh!$ADE$8","v":""},null,null,null,{"$f":"bksingh!$ADE$8","v":""},null,null,null,{"$f":"bksingh!$ADE$8","v":""},null,null,null,{"$f":"bksingh!$ADE$8","v":""},null,null,null,{"$f":"bksingh!$ADE$8","v":""},null,null,null,{"$f":"bksingh!$ADE$8","v":""},null,null,null,{"$f":"bksingh!$ADE$8","v":""},null,null,null,{"$f":"bksingh!$ADE$8","v":""},null,null,null,{"$f":"bksingh!$ADE$8","v":""},null,null,null,{"$f":"bksingh!$ADE$8","v":""},null,null,null,{"$f":"bksingh!$ADE$8","v":""},null,null,null,{"$f":"bksingh!$ADE$8","v":""},null,null,null,{"$f":"bksingh!$ADE$8","v":""},null,null,null,{"$f":"bksingh!$ADE$8","v":""},null,null,null,{"$f":"bksingh!$ADE$8","v":""},null,null,null,{"$f":"bksingh!$ADE$8","v":""},null,null,null,{"$f":"bksingh!$ADE$8","v":""},null,null,null,{"$f":"bksingh!$ADE$8","v":""},null,null,null,{"$f":"bksingh!$ADE$8","v":""},null,null,null,{"$f":"bksingh!$ADE$8","v":""},null,null,null,{"$f":"bksingh!$ADE$8","v":""},null,null,null,{"$f":"bksingh!$ADE$8","v":""},null,null,null,{"$f":"bksingh!$ADE$8","v":""},null,null,null,{"$f":"bksingh!$ADE$8","v":""},null,null,null,{"$f":"bksingh!$ADE$8","v":""},null,null,null,{"$f":"bksingh!$ADE$8","v":""},null,null,null,{"$f":"bksingh!$ADE$8","v":""},null,null,null,{"$f":"bksingh!$ADE$8","v":""},null,null,null,{"$f":"bksingh!$ADE$8","v":""},null,null,null,{"$f":"bksingh!$ADE$8","v":""},null,null,null,{"$f":"bksingh!$ADE$8","v":""},null,null,null,{"$f":"bksingh!$ADE$8","v":""},null,null,null,{"$f":"bksingh!$ADE$8","v":""},null,null,null,{"$f":"bksingh!$ADE$8","v":""},null,null,null,{"$f":"bksingh!$ADE$8","v":""},null,null,null,{"$f":"bksingh!$ADE$8","v":""},null,null,null,{"$f":"bksingh!$ADE$8","v":""},null,null,null,{"$f":"bksingh!$ADE$8","v":""},null,null,null,{"$f":"bksingh!$ADE$8","v":""},null,null,null,{"$f":"bksingh!$ADE$8","v":""},null,null,null,{"$f":"bksingh!$ADE$8","v":""},null,null,null,{"$f":"bksingh!$ADE$8","v":""},null,null,null,{"$f":"bksingh!$ADE$8","v":""},null,null,null,{"$f":"bksingh!$ADE$8","v":""},null,null,null,{"$f":"bksingh!$ADE$8","v":""},null,null,null,{"$f":"bksingh!$ADE$8","v":""},null,null,null,{"$f":"bksingh!$ADE$8","v":""},null,null,null,{"$f":"bksingh!$ADE$8","v":""},null,null,null,{"$f":"bksingh!$ADE$8","v":""},null,null,null,{"$f":"bksingh!$ADE$8","v":""},null,null,null,{"$f":"bksingh!$ADE$8","v":""},null,null,null,{"$f":"bksingh!$ADE$8","v":""},null,null,null,{"$f":"bksingh!$ADE$8","v":""},null,null,null,{"$f":"bksingh!$ADE$8","v":""},null,null,null,{"$f":"bksingh!$ADE$8","v":""},null,null,null,{"$f":"bksingh!$ADE$8","v":""},null,null,null,{"$f":"bksingh!$ADE$8","v":""},null,null,null,{"$f":"bksingh!$ADE$8","v":""},null,null,null,{"$f":"bksingh!$ADE$8","v":""},null,null,null,{"$f":"bksingh!$ADE$8","v":""},null,null,null,{"$f":"bksingh!$ADE$8","v":""},null,null,null,{"$f":"bksingh!$ADE$8","v":""},null,null,null,{"$f":"bksingh!$ADE$8","v":""},null,null,null,{"$f":"bksingh!$ADE$8","v":""},null,null,null,{"$f":"bksingh!$ADE$8","v":""},null,null,null,{"$f":"bksingh!$ADE$8","v":""},null,null,null,{"$f":"bksingh!$ADE$8","v":""},null,null,null,{"$f":"bksingh!$ADE$8","v":""},null,null,null,{"$f":"bksingh!$ADE$8","v":""},null,null,null,{"$f":"bksingh!$ADE$8","v":""},null,null,null,{"$f":"bksingh!$ADE$8","v":""},null,null,null,{"$f":"bksingh!$ADE$8","v":""},null,null,null,{"$f":"bksingh!$ADE$8","v":""},null,null,null,{"$f":"bksingh!$ADE$8","v":""},null,null,null,{"$f":"bksingh!$ADE$8","v":""},null,null,null,{"$f":"bksingh!$ADE$8","v":""},null,null,null,{"$f":"bksingh!$ADE$8","v":""},null,null,null,{"$f":"bksingh!$ADE$8","v":""},null,null,null,{"$f":"bksingh!$ADE$8","v":""},null,null,null,{"$f":"bksingh!$ADE$8","v":""},null,null,null,{"$f":"bksingh!$ADE$8","v":""},null,null,null,{"$f":"bksingh!$ADE$8","v":""},null,null,null,{"$f":"bksingh!$ADE$8","v":""},null,null,null,{"$f":"bksingh!$ADE$8","v":""},null,null,null,{"$f":"bksingh!$ADE$8","v":""},null,null,null,{"$f":"bksingh!$ADE$8","v":""},null,null,null,{"$f":"bksingh!$ADE$8","v":""},null,null,null,{"$f":"bksingh!$ADE$8","v":""},null,null,null,{"$f":"bksingh!$ADE$8","v":""},null,null,null,{"$f":"bksingh!$ADE$8","v":""},null,null,null,{"$f":"bksingh!$ADE$8","v":""},null,null,null,{"$f":"bksingh!$ADE$8","v":""},null,null,null,{"$f":"bksingh!$ADE$8","v":""},null,null,null,{"$f":"bksingh!$ADE$8","v":""},null,null,null,{"$f":"bksingh!$ADE$8","v":""},null,null,null,{"$f":"bksingh!$ADE$8","v":""},null,null,null,{"$f":"bksingh!$ADE$8","v":""},null,null,null,{"$f":"bksingh!$ADE$8","v":""},null,null,null,{"$f":"bksingh!$ADE$8","v":""},null,null,null,{"$f":"bksingh!$ADE$8","v":""},null,null,null,{"$f":"bksingh!$ADE$8","v":""},null,null,null,{"$f":"bksingh!$ADE$8","v":""},null,null,null,{"$f":"bksingh!$ADE$8","v":""},null,null,null,{"$f":"bksingh!$ADE$8","v":""},null,null,null,{"$f":"bksingh!$ADE$8","v":""},null,null,null,{"$f":"bksingh!$ADE$8","v":""},null,null,null,{"$f":"bksingh!$ADE$8","v":""},null,null,null,{"$f":"bksingh!$ADE$8","v":""},null,null,null,{"$f":"bksingh!$ADE$8","v":""},null,null,null,{"$f":"bksingh!$ADE$8","v":""},null,null,null,{"$f":"bksingh!$ADE$8","v":""},null,null,null,{"$f":"bksingh!$ADE$8","v":""},null,null,null,{"$f":"bksingh!$ADE$8","v":""},null,null,null,{"$f":"bksingh!$ADE$8","v":""},null,null,null,{"$f":"bksingh!$ADE$8","v":""},null,null,null,{"$f":"bksingh!$ADE$8","v":""},null,null,null,{"$f":"bksingh!$ADE$8","v":""},null,null,null,{"$f":"bksingh!$ADE$8","v":""},null,null,null,{"$f":"bksingh!$ADE$8","v":""},null,null,null,{"$f":"bksingh!$ADE$8","v":""},null,null,null,{"$f":"bksingh!$ADE$8","v":""},null,null,null,{"$f":"bksingh!$ADE$8","v":""},null,null,null,{"$f":"bksingh!$ADE$8","v":""},null,null,null,{"$f":"bksingh!$ADE$8","v":""},null,null,null,{"$f":"bksingh!$ADE$8","v":""},null,null,null,{"$f":"bksingh!$ADE$8","v":""},null,null,null,{"$f":"bksingh!$ADE$8","v":""},null,null,null,{"$f":"bksingh!$ADE$8","v":""},null,null,null,{"$f":"bksingh!$ADE$8","v":""},null,null,null,{"$f":"bksingh!$ADE$8","v":""},null,null,null,{"$f":"bksingh!$ADE$8","v":""},null,null,null,{"$f":"bksingh!$ADE$8","v":""},null,null,null,{"$f":"bksingh!$ADE$8","v":""},null,null,null,{"$f":"bksingh!$ADE$8","v":""},null,null,null,{"$f":"bksingh!$ADE$8","v":""},null,null,null,{"$f":"bksingh!$ADE$8","v":""},null,null,null,{"$f":"bksingh!$ADE$8","v":""},null,null,null,{"$f":"bksingh!$ADE$8","v":""},null,null,null,{"$f":"bksingh!$ADE$8","v":""},null,null,null,{"$f":"bksingh!$ADE$8","v":""},null,null,null,{"$f":"bksingh!$ADE$8","v":""},null,null,null,{"$f":"bksingh!$ADE$8","v":""},null,null,null,{"$f":"bksingh!$ADE$8","v":""},null,null,null,{"$f":"bksingh!$ADE$8","v":""},null,null,null,{"$f":"bksingh!$ADE$8","v":""},null,null,null,{"$f":"bksingh!$ADE$8","v":""},null,null,null,{"$f":"bksingh!$ADE$8","v":""},null,null,null,{"$f":"bksingh!$ADE$8","v":""},null,null,null,{"$f":"bksingh!$ADE$8","v":""},null,null,null,{"$f":"bksingh!$ADE$8","v":""},null,null,null,{"$f":"bksingh!$ADE$8","v":""},null,null,null,{"$f":"bksingh!$ADE$8","v":""},null,null,null,{"$f":"bksingh!$ADE$8","v":""},null,null,null,{"$f":"bksingh!$ADE$8","v":""},null,null,null,{"$f":"bksingh!$ADE$8","v":""},null,null,null,{"$f":"bksingh!$ADE$8","v":""},null,null,null,{"$f":"bksingh!$ADE$8","v":""},null,null,null,{"$f":"bksingh!$ADE$8","v":""},null,null,null,{"$f":"bksingh!$ADE$8","v":""},null,null,null,{"$f":"bksingh!$ADE$8","v":""},null,null,null,{"$f":"bksingh!$ADE$8","v":""},null,null,null,{"$f":"bksingh!$ADE$8","v":""},null,null,null,{"$f":"bksingh!$ADE$8","v":""},null,null,null,{"$f":"bksingh!$ADE$8","v":""},null,null,null,{"$f":"bksingh!$ADE$8","v":""},null,null,null,{"$f":"bksingh!$ADE$8","v":""},null,null,null,{"$f":"bksingh!$ADE$8","v":""},null,null,null,{"$f":"bksingh!$ADE$8","v":""},null,null,null,{"$f":"bksingh!$ADE$8","v":""},null,null,null,{"$f":"bksingh!$ADE$8","v":""},null,null,null,{"$f":"bksingh!$ADE$8","v":""},null,null,null,{"$f":"bksingh!$ADE$8","v":""},null,null,null,{"$f":"bksingh!$ADE$8","v":""},null,null,null,{"$f":"bksingh!$ADE$8","v":""},null,null,null,{"$f":"bksingh!$ADE$8","v":""},null,null,null,{"$f":"bksingh!$ADE$8","v":""},null,null,null,{"$f":"bksingh!$ADE$8","v":""},null,null,null,{"$f":"bksingh!$ADE$8","v":""},null,null,null,{"$f":"bksingh!$ADE$8","v":""},null,null,null,{"$f":"bksingh!$ADE$8","v":""},null,null,null,{"$f":"bksingh!$ADE$8","v":""},null,null,null,{"$f":"bksingh!$ADE$8","v":""},null,null,null,{"$f":"bksingh!$ADE$8","v":""},null,null,null,{"$f":"bksingh!$ADE$8","v":""},null,null,null,{"$f":"bksingh!$ADE$8","v":""},null,null,null,{"$f":"bksingh!$ADE$8","v":""},null,null,null,{"$f":"bksingh!$ADE$8","v":""},null,null,null,{"$f":"bksingh!$ADE$8","v":""},null,null,null,{"$f":"bksingh!$ADE$8","v":""},null,null,null,{"$f":"bksingh!$ADE$8","v":""},null,null,null,{"$f":"bksingh!$ADE$8","v":""},null,null,null,{"$f":"bksingh!$ADE$8","v":""},null,null,null,{"$f":"bksingh!$ADE$8","v":""},null,null,null,{"$f":"bksingh!$ADE$8","v":""},null,null,null,{"$f":"bksingh!$ADE$8","v":""},null,null,null,{"$f":"bksingh!$ADE$8","v":""},null,null,null,{"$f":"bksingh!$ADE$8","v":""},null,null,null,{"$f":"bksingh!$ADE$8","v":""},null,null,null,{"$f":"bksingh!$ADE$8","v":""},null,null,null,{"$f":"bksingh!$ADE$8","v":""},null,null,null,{"$f":"bksingh!$ADE$8","v":""},null,null,null,{"$f":"bksingh!$ADE$8","v":""},null,null,null,{"$f":"bksingh!$ADE$8","v":""},null,null,null,{"$f":"bksingh!$ADE$8","v":""},null,null,null,{"$f":"bksingh!$ADE$8","v":""},null,null,null,{"$f":"bksingh!$ADE$8","v":""},null,null,null,{"$f":"bksingh!$ADE$8","v":""},null,null,null,{"$f":"bksingh!$ADE$8","v":""},null,null,null,{"$f":"bksingh!$ADE$8","v":""},null,null,null,{"$f":"bksingh!$ADE$8","v":""},null,null,null,{"$f":"bksingh!$ADE$8","v":""},null,null,null,{"$f":"bksingh!$ADE$8","v":""},null,null,null,{"$f":"bksingh!$ADE$8","v":""},null,null,null,{"$f":"bksingh!$ADE$8","v":""},null,null,null,{"$f":"bksingh!$ADE$8","v":""},null,null,null,{"$f":"bksingh!$ADE$8","v":""},null,null,null,{"$f":"bksingh!$ADE$8","v":""},null,null,null,{"$f":"bksingh!$ADE$8","v":""},null,null,null,{"$f":"bksingh!$ADE$8","v":""},null,null,null,{"$f":"bksingh!$ADE$8","v":""},null,null,null,{"$f":"bksingh!$ADE$8","v":""},null,null,null,{"$f":"bksingh!$ADE$8","v":""},null,null,null,{"$f":"bksingh!$ADE$8","v":""},null,null,null,{"$f":"bksingh!$ADE$8","v":""},null,null,null,{"$f":"bksingh!$ADE$8","v":""},null,null,null,{"$f":"bksingh!$ADE$8","v":""},null,null,null,{"$f":"bksingh!$ADE$8","v":""},null,null,null,{"$f":"bksingh!$ADE$8","v":""},null,null,null,{"$f":"bksingh!$ADE$8","v":""},null,null,null,{"$f":"bksingh!$ADE$8","v":""},null,null,null,{"$f":"bksingh!$ADE$8","v":""},null,null,null,{"$f":"bksingh!$ADE$8","v":""},null,null,null,{"$f":"bksingh!$ADE$8","v":""},null,null,null,{"$f":"bksingh!$ADE$8","v":""},null,null,null,{"$f":"bksingh!$ADE$8","v":""},null,null,null,{"$f":"bksingh!$ADE$8","v":""},null,null,null,{"$f":"bksingh!$ADE$8","v":""},null,null,null,{"$f":"bksingh!$ADE$8","v":""},null,null,null,{"$f":"bksingh!$ADE$8","v":""},null,null,null,{"$f":"bksingh!$ADE$8","v":""},null,null,null,{"$f":"bksingh!$ADE$8","v":""},null,null,null,{"$f":"bksingh!$ADE$8","v":""},null,null,null,{"$f":"bksingh!$ADE$8","v":""},null,null,null,{"$f":"bksingh!$ADE$8","v":""},null,null,null,{"$f":"bksingh!$ADE$8","v":""},null,null,null,{"$f":"bksingh!$ADE$8","v":""},null,null,null,{"$f":"bksingh!$ADE$8","v":""},null,null,null,{"$f":"bksingh!$ADE$8","v":""},null,null,null,{"$f":"bksingh!$ADE$8","v":""},null,null,null,{"$f":"bksingh!$ADE$8","v":""},null,null,null,{"$f":"bksingh!$ADE$8","v":""},null,null,null,{"$f":"bksingh!$ADE$8","v":""},null,null,null,{"$f":"bksingh!$ADE$8","v":""},null,null,null,{"$f":"bksingh!$ADE$8","v":""},null,null,null,{"$f":"bksingh!$ADE$8","v":""},null,null,null,{"$f":"bksingh!$ADE$8","v":""},null,null,null,{"$f":"bksingh!$ADE$8","v":""},null,null,null,{"$f":"bksingh!$ADE$8","v":""},null,null,null,{"$f":"bksingh!$ADE$8","v":""},null,null,null,{"$f":"bksingh!$ADE$8","v":""},null,null,null,{"$f":"bksingh!$ADE$8","v":""},null,null,null,{"$f":"bksingh!$ADE$8","v":""},null,null,null,{"$f":"bksingh!$ADE$8","v":""},null,null,null,{"$f":"bksingh!$ADE$8","v":""},null,null,null,{"$f":"bksingh!$ADE$8","v":""},null,null,null,{"$f":"bksingh!$ADE$8","v":""},null,null,null,{"$f":"bksingh!$ADE$8","v":""},null,null,null,{"$f":"bksingh!$ADE$8","v":""},null,null,null,{"$f":"bksingh!$ADE$8","v":""},null,null,null,{"$f":"bksingh!$ADE$8","v":""},null,null,null,{"$f":"bksingh!$ADE$8","v":""},null,null,null,{"$f":"bksingh!$ADE$8","v":""},null,null,null,{"$f":"bksingh!$ADE$8","v":""},null,null,null,{"$f":"bksingh!$ADE$8","v":""},null,null,null,{"$f":"bksingh!$ADE$8","v":""},null,null,null,{"$f":"bksingh!$ADE$8","v":""},null,null,null,{"$f":"bksingh!$ADE$8","v":""},null,null,null,{"$f":"bksingh!$ADE$8","v":""},null,null,null,{"$f":"bksingh!$ADE$8","v":""},null,null,null,{"$f":"bksingh!$ADE$8","v":""},null,null,null,{"$f":"bksingh!$ADE$8","v":""},null,null,null,{"$f":"bksingh!$ADE$8","v":""},null,null,null,{"$f":"bksingh!$ADE$8","v":""},null,null,null,{"$f":"bksingh!$ADE$8","v":""},null,null,null,{"$f":"bksingh!$ADE$8","v":""},null,null,null,{"$f":"bksingh!$ADE$8","v":""},null,null,null,{"$f":"bksingh!$ADE$8","v":""},null,null,null,{"$f":"bksingh!$ADE$8","v":""},null,null,null,{"$f":"bksingh!$ADE$8","v":""},null,null,null,{"$f":"bksingh!$ADE$8","v":""},null,null,null,{"$f":"bksingh!$ADE$8","v":""},null,null,null,{"$f":"bksingh!$ADE$8","v":""},null,null,null,{"$f":"bksingh!$ADE$8","v":""},null,null,null,{"$f":"bksingh!$ADE$8","v":""},null,null,null,{"$f":"bksingh!$ADE$8","v":""},null,null,null,{"$f":"bksingh!$ADE$8","v":""},null,null,null,{"$f":"bksingh!$ADE$8","v":""},null,null,null,{"$f":"bksingh!$ADE$8","v":""},null,null,null,{"$f":"bksingh!$ADE$8","v":""},null,null,null,{"$f":"bksingh!$ADE$8","v":""},null,null,null,{"$f":"bksingh!$ADE$8","v":""},null,null,null,{"$f":"bksingh!$ADE$8","v":""},null,null,null,{"$f":"bksingh!$ADE$8","v":""},null,null,null,{"$f":"bksingh!$ADE$8","v":""},null,null,null,{"$f":"bksingh!$ADE$8","v":""},null,null,null,{"$f":"bksingh!$ADE$8","v":""},null,null,null,{"$f":"bksingh!$ADE$8","v":""},null,null,null,{"$f":"bksingh!$ADE$8","v":""},null,null,null,{"$f":"bksingh!$ADE$8","v":""},null,null,null,{"$f":"bksingh!$ADE$8","v":""},null,null,null,{"$f":"bksingh!$ADE$8","v":""},null,null,null,{"$f":"bksingh!$ADE$8","v":""},null,null,null,{"$f":"bksingh!$ADE$8","v":""},null,null,null,{"$f":"bksingh!$ADE$8","v":""},null,null,null,{"$f":"bksingh!$ADE$8","v":""},null,null,null,{"$f":"bksingh!$ADE$8","v":""},null,null,null,{"$f":"bksingh!$ADE$8","v":""},null,null,null,{"$f":"bksingh!$ADE$8","v":""},null,null,null,{"$f":"bksingh!$ADE$8","v":""},null,null,null,{"$f":"bksingh!$ADE$8","v":""},null,null,null,{"$f":"bksingh!$ADE$8","v":""},null,null,null,{"$f":"bksingh!$ADE$8","v":""},null,null,null,{"$f":"bksingh!$ADE$8","v":""},null,null,null,{"$f":"bksingh!$ADE$8","v":""},null,null,null,{"$f":"bksingh!$ADE$8","v":""},null,null,null,{"$f":"bksingh!$ADE$8","v":""},null,null,null,{"$f":"bksingh!$ADE$8","v":""},null,null,null,{"$f":"bksingh!$ADE$8","v":""},null,null,null,{"$f":"bksingh!$ADE$8","v":""},null,null,null,{"$f":"bksingh!$ADE$8","v":""},null,null,null,{"$f":"bksingh!$ADE$8","v":""},null,null,null,{"$f":"bksingh!$ADE$8","v":""},null,null,null,{"$f":"bksingh!$ADE$8","v":""},null,null,null,{"$f":"bksingh!$ADE$8","v":""},null,null,null,{"$f":"bksingh!$ADE$8","v":""},null,null,null,{"$f":"bksingh!$ADE$8","v":""},null,null,null,{"$f":"bksingh!$ADE$8","v":""},null,null,null,{"$f":"bksingh!$ADE$8","v":""},null,null,null,{"$f":"bksingh!$ADE$8","v":""},null,null,null,{"$f":"bksingh!$ADE$8","v":""},null,null,null,{"$f":"bksingh!$ADE$8","v":""},null,null,null,{"$f":"bksingh!$ADE$8","v":""},null,null,null,{"$f":"bksingh!$ADE$8","v":""},null,null,null,{"$f":"bksingh!$ADE$8","v":""},null,null,null,{"$f":"bksingh!$ADE$8","v":""},null,null,null,{"$f":"bksingh!$ADE$8","v":""},null,null,null,{"$f":"bksingh!$ADE$8","v":""},null,null,null,{"$f":"bksingh!$ADE$8","v":""},null,null,null,{"$f":"bksingh!$ADE$8","v":""},null,null,null,{"$f":"bksingh!$ADE$8","v":""},null,null,null,{"$f":"bksingh!$ADE$8","v":""},null,null,null,{"$f":"bksingh!$ADE$8","v":""},null,null,null,{"$f":"bksingh!$ADE$8","v":""},null,null,null,{"$f":"bksingh!$ADE$8","v":""},null,null,null,{"$f":"bksingh!$ADE$8","v":""},null,null,null,{"$f":"bksingh!$ADE$8","v":""},null,null,null,{"$f":"bksingh!$ADE$8","v":""},null,null,null,{"$f":"bksingh!$ADE$8","v":""},null,null,null,{"$f":"bksingh!$ADE$8","v":""},null,null,null,{"$f":"bksingh!$ADE$8","v":""},null,null,null,{"$f":"bksingh!$ADE$8","v":""},null,null,null,{"$f":"bksingh!$ADE$8","v":""},null,null,null,{"$f":"bksingh!$ADE$8","v":""},null,null,null,{"$f":"bksingh!$ADE$8","v":""},null,null,null,{"$f":"bksingh!$ADE$8","v":""},null,null,null,{"$f":"bksingh!$ADE$8","v":""},null,null,null,{"$f":"bksingh!$ADE$8","v":""},null,null,null,{"$f":"bksingh!$ADE$8","v":""},null,null,null,{"$f":"bksingh!$ADE$8","v":""},null,null,null,{"$f":"bksingh!$ADE$8","v":""},null,null,null,{"$f":"bksingh!$ADE$8","v":""},null,null,null,{"$f":"bksingh!$ADE$8","v":""},null,null,null,{"$f":"bksingh!$ADE$8","v":""},null,null,null,{"$f":"bksingh!$ADE$8","v":""},null,null,null,{"$f":"bksingh!$ADE$8","v":""},null,null,null,{"$f":"bksingh!$ADE$8","v":""},null,null,null,{"$f":"bksingh!$ADE$8","v":""},null,null,null,{"$f":"bksingh!$ADE$8","v":""},null,null,null,{"$f":"bksingh!$ADE$8","v":""},null,null,null,{"$f":"bksingh!$ADE$8","v":""},null,null,null,{"$f":"bksingh!$ADE$8","v":""},null,null,null,{"$f":"bksingh!$ADE$8","v":""},null,null,null,{"$f":"bksingh!$ADE$8","v":""},null,null,null,{"$f":"bksingh!$ADE$8","v":""},null,null,null,{"$f":"bksingh!$ADE$8","v":""},null,null,null,{"$f":"bksingh!$ADE$8","v":""},null,null,null,{"$f":"bksingh!$ADE$8","v":""},null,null,null,{"$f":"bksingh!$ADE$8","v":""},null,null,null,{"$f":"bksingh!$ADE$8","v":""},null,null,null,{"$f":"bksingh!$ADE$8","v":""},null,null,null,{"$f":"bksingh!$ADE$8","v":""},null,null,null,{"$f":"bksingh!$ADE$8","v":""},null,null,null,{"$f":"bksingh!$ADE$8","v":""},null,null,null,{"$f":"bksingh!$ADE$8","v":""},null,null,null,{"$f":"bksingh!$ADE$8","v":""},null,null,null,{"$f":"bksingh!$ADE$8","v":""},null,null,null,{"$f":"bksingh!$ADE$8","v":""},null,null,null,{"$f":"bksingh!$ADE$8","v":""},null,null,null,{"$f":"bksingh!$ADE$8","v":""},null,null,null,{"$f":"bksingh!$ADE$8","v":""},null,null,null,{"$f":"bksingh!$ADE$8","v":""},null,null,null,{"$f":"bksingh!$ADE$8","v":""},null,null,null,{"$f":"bksingh!$ADE$8","v":""},null,null,null,{"$f":"bksingh!$ADE$8","v":""},null,null,null,{"$f":"bksingh!$ADE$8","v":""},null,null,null,{"$f":"bksingh!$ADE$8","v":""},null,null,null,{"$f":"bksingh!$ADE$8","v":""},null,null,null,{"$f":"bksingh!$ADE$8","v":""},null,null,null,{"$f":"bksingh!$ADE$8","v":""},null,null,null,{"$f":"bksingh!$ADE$8","v":""},null,null,null,{"$f":"bksingh!$ADE$8","v":""},null,null,null,{"$f":"bksingh!$ADE$8","v":""},null,null,null,{"$f":"bksingh!$ADE$8","v":""},null,null,null,{"$f":"bksingh!$ADE$8","v":""},null,null,null,{"$f":"bksingh!$ADE$8","v":""},null,null,null,{"$f":"bksingh!$ADE$8","v":""},null,null,null,{"$f":"bksingh!$ADE$8","v":""},null,null,null,{"$f":"bksingh!$ADE$8","v":""},null,null,null,{"$f":"bksingh!$ADE$8","v":""},null,null,null,{"$f":"bksingh!$ADE$8","v":""},null,null,null,{"$f":"bksingh!$ADE$8","v":""},null,null,null,{"$f":"bksingh!$ADE$8","v":""},null,null,null,{"$f":"bksingh!$ADE$8","v":""},null,null,null,{"$f":"bksingh!$ADE$8","v":""},null,null,null,{"$f":"bksingh!$ADE$8","v":""},null,null,null,{"$f":"bksingh!$ADE$8","v":""},null,null,null,{"$f":"bksingh!$ADE$8","v":""},null,null,null,{"$f":"bksingh!$ADE$8","v":""},null,null,null,{"$f":"bksingh!$ADE$8","v":""},null,null,null,{"$f":"bksingh!$ADE$8","v":""},null,null,null,{"$f":"bksingh!$ADE$8","v":""},null,null,null,{"$f":"bksingh!$ADE$8","v":""},null,null,null,{"$f":"bksingh!$ADE$8","v":""},null,null,null,{"$f":"bksingh!$ADE$8","v":""},null,null,null,{"$f":"bksingh!$ADE$8","v":""},null,null,null,{"$f":"bksingh!$ADE$8","v":""},null,null,null,{"$f":"bksingh!$ADE$8","v":""},null,null,null,{"$f":"bksingh!$ADE$8","v":""},null,null,null,{"$f":"bksingh!$ADE$8","v":""},null,null,null,{"$f":"bksingh!$ADE$8","v":""},null,null,null,{"$f":"bksingh!$ADE$8","v":""},null,null,null,{"$f":"bksingh!$ADE$8","v":""},null,null,null,{"$f":"bksingh!$ADE$8","v":""},null,null,null,{"$f":"bksingh!$ADE$8","v":""},null,null,null,{"$f":"bksingh!$ADE$8","v":""},null,null,null,{"$f":"bksingh!$ADE$8","v":""},null,null,null,{"$f":"bksingh!$ADE$8","v":""},null,null,null,{"$f":"bksingh!$ADE$8","v":""},null,null,null,{"$f":"bksingh!$ADE$8","v":""},null,null,null,{"$f":"bksingh!$ADE$8","v":""},null,null,null,{"$f":"bksingh!$ADE$8","v":""},null,null,null,{"$f":"bksingh!$ADE$8","v":""},null,null,null,{"$f":"bksingh!$ADE$8","v":""},null,null,null,{"$f":"bksingh!$ADE$8","v":""},null,null,null,{"$f":"bksingh!$ADE$8","v":""},null,null,null,{"$f":"bksingh!$ADE$8","v":""},null,null,null,{"$f":"bksingh!$ADE$8","v":""},null,null,null,{"$f":"bksingh!$ADE$8","v":""},null,null,null,{"$f":"bksingh!$ADE$8","v":""},null,null,null,{"$f":"bksingh!$ADE$8","v":""},null,null,null,{"$f":"bksingh!$ADE$8","v":""},null,null,null,{"$f":"bksingh!$ADE$8","v":""},null,null,null,{"$f":"bksingh!$ADE$8","v":""},null,null,null,{"$f":"bksingh!$ADE$8","v":""},null,null,null,{"$f":"bksingh!$ADE$8","v":""},null,null,null,{"$f":"bksingh!$ADE$8","v":""},null,null,null,{"$f":"bksingh!$ADE$8","v":""},null,null,null,{"$f":"bksingh!$ADE$8","v":""},null,null,null,{"$f":"bksingh!$ADE$8","v":""},null,null,null,{"$f":"bksingh!$ADE$8","v":""},null,null,null,{"$f":"bksingh!$ADE$8","v":""},null,null,null,{"$f":"bksingh!$ADE$8","v":""},null,null,null,{"$f":"bksingh!$ADE$8","v":""},null,null,null,{"$f":"bksingh!$ADE$8","v":""},null,null,null,{"$f":"bksingh!$ADE$8","v":""},null,null,null,{"$f":"bksingh!$ADE$8","v":""},null,null,null,{"$f":"bksingh!$ADE$8","v":""},null,null,null,{"$f":"bksingh!$ADE$8","v":""},null,null,null,{"$f":"bksingh!$ADE$8","v":""},null,null,null,{"$f":"bksingh!$ADE$8","v":""},null,null,null,{"$f":"bksingh!$ADE$8","v":""},null,null,null,{"$f":"bksingh!$ADE$8","v":""},null,null,null,{"$f":"bksingh!$ADE$8","v":""},null,null,null,{"$f":"bksingh!$ADE$8","v":""},null,null,null,{"$f":"bksingh!$ADE$8","v":""},null,null,null,{"$f":"bksingh!$ADE$8","v":""},null,null,null,{"$f":"bksingh!$ADE$8","v":""},null,null,null,{"$f":"bksingh!$ADE$8","v":""},null,null,null,{"$f":"bksingh!$ADE$8","v":""},null,null,null,{"$f":"bksingh!$ADE$8","v":""},null,null,null,{"$f":"bksingh!$ADE$8","v":""},null,null,null,{"$f":"bksingh!$ADE$8","v":""},null,null,null,{"$f":"bksingh!$ADE$8","v":""},null,null,null,{"$f":"bksingh!$ADE$8","v":""},null,null,null,{"$f":"bksingh!$ADE$8","v":""},null,null,null,{"$f":"bksingh!$ADE$8","v":""},null,null,null,{"$f":"bksingh!$ADE$8","v":""},null,null,null,{"$f":"bksingh!$ADE$8","v":""},null,null,null,{"$f":"bksingh!$ADE$8","v":""},null,null,null,{"$f":"bksingh!$ADE$8","v":""},null,null,null,{"$f":"bksingh!$ADE$8","v":""},null,null,null,{"$f":"bksingh!$ADE$8","v":""},null,null,null,{"$f":"bksingh!$ADE$8","v":""},null,null,null,{"$f":"bksingh!$ADE$8","v":""},null,null,null,{"$f":"bksingh!$ADE$8","v":""},null,null,null,{"$f":"bksingh!$ADE$8","v":""},null,null,null,{"$f":"bksingh!$ADE$8","v":""},null,null,null,{"$f":"bksingh!$ADE$8","v":""},null,null,null,{"$f":"bksingh!$ADE$8","v":""},null,null,null,{"$f":"bksingh!$ADE$8","v":""},null,null,null,{"$f":"bksingh!$ADE$8","v":""},null,null,null,{"$f":"bksingh!$ADE$8","v":""},null,null,null,{"$f":"bksingh!$ADE$8","v":""},null,null,null,{"$f":"bksingh!$ADE$8","v":""},null,null,null,{"$f":"bksingh!$ADE$8","v":""},null,null,null,{"$f":"bksingh!$ADE$8","v":""},null,null,null,{"$f":"bksingh!$ADE$8","v":""},null,null,null,{"$f":"bksingh!$ADE$8","v":""},null,null,null,{"$f":"bksingh!$ADE$8","v":""},null,null,null,{"$f":"bksingh!$ADE$8","v":""},null,null,null,{"$f":"bksingh!$ADE$8","v":""},null,null,null,{"$f":"bksingh!$ADE$8","v":""},null,null,null,{"$f":"bksingh!$ADE$8","v":""},null,null,null,{"$f":"bksingh!$ADE$8","v":""},null,null,null,{"$f":"bksingh!$ADE$8","v":""},null,null,null,{"$f":"bksingh!$ADE$8","v":""},null,null,null,{"$f":"bksingh!$ADE$8","v":""},null,null,null,{"$f":"bksingh!$ADE$8","v":""},null,null,null,{"$f":"bksingh!$ADE$8","v":""},null,null,null,{"$f":"bksingh!$ADE$8","v":""},null,null,null,{"$f":"bksingh!$ADE$8","v":""},null,null,null,{"$f":"bksingh!$ADE$8","v":""},null,null,null,{"$f":"bksingh!$ADE$8","v":""},null,null,null,{"$f":"bksingh!$ADE$8","v":""},null,null,null,{"$f":"bksingh!$ADE$8","v":""},null,null,null,{"$f":"bksingh!$ADE$8","v":""},null,null,null,{"$f":"bksingh!$ADE$8","v":""},null,null,null,{"$f":"bksingh!$ADE$8","v":""},null,null,null,{"$f":"bksingh!$ADE$8","v":""},null,null,null,{"$f":"bksingh!$ADE$8","v":""},null,null,null,{"$f":"bksingh!$ADE$8","v":""},null,null,null,{"$f":"bksingh!$ADE$8","v":""},null,null,null,{"$f":"bksingh!$ADE$8","v":""},null,null,null,{"$f":"bksingh!$ADE$8","v":""},null,null,null,{"$f":"bksingh!$ADE$8","v":""},null,null,null,{"$f":"bksingh!$ADE$8","v":""},null,null,null,{"$f":"bksingh!$ADE$8","v":""},null,null,null,{"$f":"bksingh!$ADE$8","v":""},null,null,null,{"$f":"bksingh!$ADE$8","v":""},null,null,null,{"$f":"bksingh!$ADE$8","v":""},null,null,null,{"$f":"bksingh!$ADE$8","v":""},null,null,null,{"$f":"bksingh!$ADE$8","v":""},null,null,null,{"$f":"bksingh!$ADE$8","v":""},null,null,null,{"$f":"bksingh!$ADE$8","v":""},null,null,null,{"$f":"bksingh!$ADE$8","v":""},null,null,null,{"$f":"bksingh!$ADE$8","v":""},null,null,null,{"$f":"bksingh!$ADE$8","v":""},null,null,null,{"$f":"bksingh!$ADE$8","v":""},null,null,null,{"$f":"bksingh!$ADE$8","v":""},null,null,null,{"$f":"bksingh!$ADE$8","v":""},null,null,null,{"$f":"bksingh!$ADE$8","v":""},null,null,null,{"$f":"bksingh!$ADE$8","v":""},null,null,null,{"$f":"bksingh!$ADE$8","v":""},null,null,null,{"$f":"bksingh!$ADE$8","v":""},null,null,null,{"$f":"bksingh!$ADE$8","v":""},null,null,null,{"$f":"bksingh!$ADE$8","v":""},null,null,null,{"$f":"bksingh!$ADE$8","v":""},null,null,null,{"$f":"bksingh!$ADE$8","v":""},null,null,null,{"$f":"bksingh!$ADE$8","v":""},null,null,null,{"$f":"bksingh!$ADE$8","v":""},null,null,null,{"$f":"bksingh!$ADE$8","v":""},null,null,null,{"$f":"bksingh!$ADE$8","v":""},null,null,null,{"$f":"bksingh!$ADE$8","v":""},null,null,null,{"$f":"bksingh!$ADE$8","v":""},null,null,null,{"$f":"bksingh!$ADE$8","v":""},null,null,null,{"$f":"bksingh!$ADE$8","v":""},null,null,null,{"$f":"bksingh!$ADE$8","v":""},null,null,null,{"$f":"bksingh!$ADE$8","v":""},null,null,null,{"$f":"bksingh!$ADE$8","v":""},null,null,null,{"$f":"bksingh!$ADE$8","v":""},null,null,null,{"$f":"bksingh!$ADE$8","v":""},null,null,null,{"$f":"bksingh!$ADE$8","v":""},null,null,null,{"$f":"bksingh!$ADE$8","v":""},null,null,null,{"$f":"bksingh!$ADE$8","v":""},null,null,null,{"$f":"bksingh!$ADE$8","v":""},null,null,null,{"$f":"bksingh!$ADE$8","v":""},null,null,null,{"$f":"bksingh!$ADE$8","v":""},null,null,null,{"$f":"bksingh!$ADE$8","v":""},null,null,null,{"$f":"bksingh!$ADE$8","v":""},null,null,null,{"$f":"bksingh!$ADE$8","v":""},null,null,null,{"$f":"bksingh!$ADE$8","v":""},null,null,null,{"$f":"bksingh!$ADE$8","v":""},null,null,null,{"$f":"bksingh!$ADE$8","v":""},null,null,null,{"$f":"bksingh!$ADE$8","v":""},null,null,null,{"$f":"bksingh!$ADE$8","v":""},null,null,null,{"$f":"bksingh!$ADE$8","v":""},null,null,null,{"$f":"bksingh!$ADE$8","v":""},null,null,null,{"$f":"bksingh!$ADE$8","v":""},null,null,null,{"$f":"bksingh!$ADE$8","v":""},null,null,null,{"$f":"bksingh!$ADE$8","v":""},null,null,null,{"$f":"bksingh!$ADE$8","v":""},null,null,null,{"$f":"bksingh!$ADE$8","v":""},null,null,null,{"$f":"bksingh!$ADE$8","v":""},null,null,null,{"$f":"bksingh!$ADE$8","v":""},null,null,null,{"$f":"bksingh!$ADE$8","v":""},null,null,null,{"$f":"bksingh!$ADE$8","v":""},null,null,null,{"$f":"bksingh!$ADE$8","v":""},null,null,null,{"$f":"bksingh!$ADE$8","v":""},null,null,null,{"$f":"bksingh!$ADE$8","v":""},null,null,null,{"$f":"bksingh!$ADE$8","v":""},null,null,null,{"$f":"bksingh!$ADE$8","v":""},null,null,null,{"$f":"bksingh!$ADE$8","v":""},null,null,null,{"$f":"bksingh!$ADE$8","v":""},null,null,null,{"$f":"bksingh!$ADE$8","v":""},null,null,null,{"$f":"bksingh!$ADE$8","v":""},null,null,null,{"$f":"bksingh!$ADE$8","v":""},null,null,null,{"$f":"bksingh!$ADE$8","v":""},null,null,null,{"$f":"bksingh!$ADE$8","v":""},null,null,null,{"$f":"bksingh!$ADE$8","v":""},null,null,null,{"$f":"bksingh!$ADE$8","v":""},null,null,null,{"$f":"bksingh!$ADE$8","v":""},null,null,null,{"$f":"bksingh!$ADE$8","v":""},null,null,null,{"$f":"bksingh!$ADE$8","v":""},null,null,null,{"$f":"bksingh!$ADE$8","v":""},null,null,null,{"$f":"bksingh!$ADE$8","v":""},null,null,null,{"$f":"bksingh!$ADE$8","v":""},null,null,null,{"$f":"bksingh!$ADE$8","v":""},null,null,null,{"$f":"bksingh!$ADE$8","v":""},null,null,null,{"$f":"bksingh!$ADE$8","v":""},null,null,null,{"$f":"bksingh!$ADE$8","v":""},null,null,null,{"$f":"bksingh!$ADE$8","v":""},null,null,null,{"$f":"bksingh!$ADE$8","v":""},null,null,null,{"$f":"bksingh!$ADE$8","v":""},null,null,null,{"$f":"bksingh!$ADE$8","v":""},null,null,null,{"$f":"bksingh!$ADE$8","v":""},null,null,null,{"$f":"bksingh!$ADE$8","v":""},null,null,null,{"$f":"bksingh!$ADE$8","v":""},null,null,null,{"$f":"bksingh!$ADE$8","v":""},null,null,null,{"$f":"bksingh!$ADE$8","v":""},null,null,null,{"$f":"bksingh!$ADE$8","v":""},null,null,null,{"$f":"bksingh!$ADE$8","v":""},null,null,null,{"$f":"bksingh!$ADE$8","v":""},null,null,null,{"$f":"bksingh!$ADE$8","v":""},null,null,null,{"$f":"bksingh!$ADE$8","v":""},null,null,null,{"$f":"bksingh!$ADE$8","v":""},null,null,null,{"$f":"bksingh!$ADE$8","v":""},null,null,null,{"$f":"bksingh!$ADE$8","v":""},null,null,null,{"$f":"bksingh!$ADE$8","v":""},null,null,null,{"$f":"bksingh!$ADE$8","v":""},null,null,null,{"$f":"bksingh!$ADE$8","v":""},null,null,null,{"$f":"bksingh!$ADE$8","v":""},null,null,null,{"$f":"bksingh!$ADE$8","v":""},null,null,null,{"$f":"bksingh!$ADE$8","v":""},null,null,null,{"$f":"bksingh!$ADE$8","v":""},null,null,null,{"$f":"bksingh!$ADE$8","v":""},null,null,null,{"$f":"bksingh!$ADE$8","v":""},null,null,null,{"$f":"bksingh!$ADE$8","v":""},null,null,null,{"$f":"bksingh!$ADE$8","v":""},null,null,null,{"$f":"bksingh!$ADE$8","v":""},null,null,null,{"$f":"bksingh!$ADE$8","v":""},null,null,null,{"$f":"bksingh!$ADE$8","v":""},null,null,null,{"$f":"bksingh!$ADE$8","v":""},null,null,null,{"$f":"bksingh!$ADE$8","v":""},null,null,null,{"$f":"bksingh!$ADE$8","v":""},null,null,null,{"$f":"bksingh!$ADE$8","v":""},null,null,null,{"$f":"bksingh!$ADE$8","v":""},null,null,null,{"$f":"bksingh!$ADE$8","v":""},null,null,null,{"$f":"bksingh!$ADE$8","v":""},null,null,null,{"$f":"bksingh!$ADE$8","v":""},null,null,null,{"$f":"bksingh!$ADE$8","v":""},null,null,null,{"$f":"bksingh!$ADE$8","v":""},null,null,null,{"$f":"bksingh!$ADE$8","v":""},null,null,null,{"$f":"bksingh!$ADE$8","v":""},null,null,null,{"$f":"bksingh!$ADE$8","v":""},null,null,null,{"$f":"bksingh!$ADE$8","v":""},null,null,null,{"$f":"bksingh!$ADE$8","v":""},null,null,null,{"$f":"bksingh!$ADE$8","v":""},null,null,null,{"$f":"bksingh!$ADE$8","v":""},null,null,null,{"$f":"bksingh!$ADE$8","v":""},null,null,null,{"$f":"bksingh!$ADE$8","v":""},null,null,null,{"$f":"bksingh!$ADE$8","v":""},null,null,null,{"$f":"bksingh!$ADE$8","v":""},null,null,null,{"$f":"bksingh!$ADE$8","v":""},null,null,null,{"$f":"bksingh!$ADE$8","v":""},null,null,null,{"$f":"bksingh!$ADE$8","v":""},null,null,null,{"$f":"bksingh!$ADE$8","v":""},null,null,null,{"$f":"bksingh!$ADE$8","v":""},null,null,null,{"$f":"bksingh!$ADE$8","v":""},null,null,null,{"$f":"bksingh!$ADE$8","v":""},null,null,null,{"$f":"bksingh!$ADE$8","v":""},null,null,null,{"$f":"bksingh!$ADE$8","v":""},null,null,null,{"$f":"bksingh!$ADE$8","v":""},null,null,null,{"$f":"bksingh!$ADE$8","v":""},null,null,null,{"$f":"bksingh!$ADE$8","v":""},null,null,null,{"$f":"bksingh!$ADE$8","v":""},null,null,null,{"$f":"bksingh!$ADE$8","v":""},null,null,null,{"$f":"bksingh!$ADE$8","v":""},null,null,null,{"$f":"bksingh!$ADE$8","v":""},null,null,null,{"$f":"bksingh!$ADE$8","v":""},null,null,null,{"$f":"bksingh!$ADE$8","v":""},null,null,null,{"$f":"bksingh!$ADE$8","v":""},null,null,null,{"$f":"bksingh!$ADE$8","v":""},null,null,null,{"$f":"bksingh!$ADE$8","v":""},null,null,null,{"$f":"bksingh!$ADE$8","v":""},null,null,null,{"$f":"bksingh!$ADE$8","v":""},null,null,null,{"$f":"bksingh!$ADE$8","v":""},null,null,null,{"$f":"bksingh!$ADE$8","v":""},null,null,null,{"$f":"bksingh!$ADE$8","v":""},null,null,null,{"$f":"bksingh!$ADE$8","v":""},null,null,null,{"$f":"bksingh!$ADE$8","v":""},null,null,null,{"$f":"bksingh!$ADE$8","v":""},null,null,null,{"$f":"bksingh!$ADE$8","v":""},null,null,null,{"$f":"bksingh!$ADE$8","v":""},null,null,null,{"$f":"bksingh!$ADE$8","v":""},null,null,null,{"$f":"bksingh!$ADE$8","v":""},null,null,null,{"$f":"bksingh!$ADE$8","v":""},null,null,null,{"$f":"bksingh!$ADE$8","v":""},null,null,null,{"$f":"bksingh!$ADE$8","v":""},null,null,null,{"$f":"bksingh!$ADE$8","v":""},null,null,null,{"$f":"bksingh!$ADE$8","v":""},null,null,null,{"$f":"bksingh!$ADE$8","v":""},null,null,null,{"$f":"bksingh!$ADE$8","v":""},null,null,null,{"$f":"bksingh!$ADE$8","v":""},null,null,null,{"$f":"bksingh!$ADE$8","v":""},null,null,null,{"$f":"bksingh!$ADE$8","v":""},null,null,null,{"$f":"bksingh!$ADE$8","v":""},null,null,null,{"$f":"bksingh!$ADE$8","v":""},null,null,null,{"$f":"bksingh!$ADE$8","v":""},null,null,null,{"$f":"bksingh!$ADE$8","v":""},null,null,null,{"$f":"bksingh!$ADE$8","v":""},null,null,null,{"$f":"bksingh!$ADE$8","v":""},null,null,null,{"$f":"bksingh!$ADE$8","v":""},null,null,null,{"$f":"bksingh!$ADE$8","v":""},null,null,null,{"$f":"bksingh!$ADE$8","v":""},null,null,null,{"$f":"bksingh!$ADE$8","v":""},null,null,null,{"$f":"bksingh!$ADE$8","v":""},null,null,null,{"$f":"bksingh!$ADE$8","v":""},null,null,null,{"$f":"bksingh!$ADE$8","v":""},null,null,null,{"$f":"bksingh!$ADE$8","v":""},null,null,null,{"$f":"bksingh!$ADE$8","v":""},null,null,null,{"$f":"bksingh!$ADE$8","v":""},null,null,null,{"$f":"bksingh!$ADE$8","v":""},null,null,null,{"$f":"bksingh!$ADE$8","v":""},null,null,null,{"$f":"bksingh!$ADE$8","v":""},null,null,null,{"$f":"bksingh!$ADE$8","v":""},null,null,null,{"$f":"bksingh!$ADE$8","v":""},null,null,null,{"$f":"bksingh!$ADE$8","v":""},null,null,null,{"$f":"bksingh!$ADE$8","v":""},null,null,null,{"$f":"bksingh!$ADE$8","v":""},null,null,null,{"$f":"bksingh!$ADE$8","v":""},null,null,null,{"$f":"bksingh!$ADE$8","v":""},null,null,null,{"$f":"bksingh!$ADE$8","v":""},null,null,null,{"$f":"bksingh!$ADE$8","v":""},null,null,null,{"$f":"bksingh!$ADE$8","v":""},null,null,null,{"$f":"bksingh!$ADE$8","v":""},null,null,null,{"$f":"bksingh!$ADE$8","v":""},null,null,null,{"$f":"bksingh!$ADE$8","v":""},null,null,null,{"$f":"bksingh!$ADE$8","v":""},null,null,null,{"$f":"bksingh!$ADE$8","v":""},null,null,null,{"$f":"bksingh!$ADE$8","v":""},null,null,null,{"$f":"bksingh!$ADE$8","v":""},null,null,null,{"$f":"bksingh!$ADE$8","v":""},null,null,null,{"$f":"bksingh!$ADE$8","v":""},null,null,null,{"$f":"bksingh!$ADE$8","v":""},null,null,null,{"$f":"bksingh!$ADE$8","v":""},null,null,null,{"$f":"bksingh!$ADE$8","v":""},null,null,null,{"$f":"bksingh!$ADE$8","v":""},null,null,null,{"$f":"bksingh!$ADE$8","v":""},null,null,null,{"$f":"bksingh!$ADE$8","v":""},null,null,null,{"$f":"bksingh!$ADE$8","v":""},null,null,null,{"$f":"bksingh!$ADE$8","v":""},null,null,null,{"$f":"bksingh!$ADE$8","v":""},null,null,null,{"$f":"bksingh!$ADE$8","v":""},null,null,null,{"$f":"bksingh!$ADE$8","v":""},null,null,null,{"$f":"bksingh!$ADE$8","v":""},null,null,null,{"$f":"bksingh!$ADE$8","v":""},null,null,null,{"$f":"bksingh!$ADE$8","v":""},null,null,null,{"$f":"bksingh!$ADE$8","v":""},null,null,null,{"$f":"bksingh!$ADE$8","v":""},null,null,null,{"$f":"bksingh!$ADE$8","v":""},null,null,null,{"$f":"bksingh!$ADE$8","v":""},null,null,null,{"$f":"bksingh!$ADE$8","v":""},null,null,null,{"$f":"bksingh!$ADE$8","v":""},null,null,null,{"$f":"bksingh!$ADE$8","v":""},null,null,null,{"$f":"bksingh!$ADE$8","v":""},null,null,null,{"$f":"bksingh!$ADE$8","v":""},null,null,null,{"$f":"bksingh!$ADE$8","v":""},null,null,null,{"$f":"bksingh!$ADE$8","v":""},null,null,null,{"$f":"bksingh!$ADE$8","v":""},null,null,null,{"$f":"bksingh!$ADE$8","v":""},null,null,null,{"$f":"bksingh!$ADE$8","v":""},null,null,null,{"$f":"bksingh!$ADE$8","v":""},null,null,null,{"$f":"bksingh!$ADE$8","v":""},null,null,null,{"$f":"bksingh!$ADE$8","v":""},null,null,null,{"$f":"bksingh!$ADE$8","v":""},null,null,null,{"$f":"bksingh!$ADE$8","v":""},null,null,null,{"$f":"bksingh!$ADE$8","v":""},null,null,null,{"$f":"bksingh!$ADE$8","v":""},null,null,null,{"$f":"bksingh!$ADE$8","v":""},null,null,null,{"$f":"bksingh!$ADE$8","v":""},null,null,null,{"$f":"bksingh!$ADE$8","v":""},null,null,null,{"$f":"bksingh!$ADE$8","v":""},null,null,null,{"$f":"bksingh!$ADE$8","v":""},null,null,null,{"$f":"bksingh!$ADE$8","v":""},null,null,null,{"$f":"bksingh!$ADE$8","v":""},null,null,null,{"$f":"bksingh!$ADE$8","v":""},null,null,null,{"$f":"bksingh!$ADE$8","v":""},null,null,null,{"$f":"bksingh!$ADE$8","v":""},null,null,null,{"$f":"bksingh!$ADE$8","v":""},null,null,null,{"$f":"bksingh!$ADE$8","v":""},null,null,null,{"$f":"bksingh!$ADE$8","v":""},null,null,null,{"$f":"bksingh!$ADE$8","v":""},null,null,null,{"$f":"bksingh!$ADE$8","v":""},null,null,null,{"$f":"bksingh!$ADE$8","v":""},null,null,null,{"$f":"bksingh!$ADE$8","v":""},null,null,null,{"$f":"bksingh!$ADE$8","v":""},null,null,null,{"$f":"bksingh!$ADE$8","v":""},null,null,null,{"$f":"bksingh!$ADE$8","v":""},null,null,null,{"$f":"bksingh!$ADE$8","v":""},null,null,null,{"$f":"bksingh!$ADE$8","v":""},null,null,null,{"$f":"bksingh!$ADE$8","v":""},null,null,null,{"$f":"bksingh!$ADE$8","v":""},null,null,null,{"$f":"bksingh!$ADE$8","v":""},null,null,null,{"$f":"bksingh!$ADE$8","v":""},null,null,null,{"$f":"bksingh!$ADE$8","v":""},null,null,null,{"$f":"bksingh!$ADE$8","v":""},null,null,null,{"$f":"bksingh!$ADE$8","v":""},null,null,null,{"$f":"bksingh!$ADE$8","v":""},null,null,null,{"$f":"bksingh!$ADE$8","v":""},null,null,null,{"$f":"bksingh!$ADE$8","v":""},null,null,null,{"$f":"bksingh!$ADE$8","v":""},null,null,null,{"$f":"bksingh!$ADE$8","v":""},null,null,null,{"$f":"bksingh!$ADE$8","v":""},null,null,null,{"$f":"bksingh!$ADE$8","v":""},null,null,null,{"$f":"bksingh!$ADE$8","v":""},null,null,null,{"$f":"bksingh!$ADE$8","v":""},null,null,null,{"$f":"bksingh!$ADE$8","v":""},null,null,null,{"$f":"bksingh!$ADE$8","v":""},null,null,null,{"$f":"bksingh!$ADE$8","v":""},null,null,null,{"$f":"bksingh!$ADE$8","v":""},null,null,null,{"$f":"bksingh!$ADE$8","v":""},null,null,null,{"$f":"bksingh!$ADE$8","v":""},null,null,null,{"$f":"bksingh!$ADE$8","v":""},null,null,null,{"$f":"bksingh!$ADE$8","v":""},null,null,null,{"$f":"bksingh!$ADE$8","v":""},null,null,null,{"$f":"bksingh!$ADE$8","v":""},null,null,null,{"$f":"bksingh!$ADE$8","v":""},null,null,null,{"$f":"bksingh!$ADE$8","v":""},null,null,null,{"$f":"bksingh!$ADE$8","v":""},null,null,null,{"$f":"bksingh!$ADE$8","v":""},null,null,null,{"$f":"bksingh!$ADE$8","v":""},null,null,null,{"$f":"bksingh!$ADE$8","v":""},null,null,null,{"$f":"bksingh!$ADE$8","v":""},null,null,null,{"$f":"bksingh!$ADE$8","v":""},null,null,null,{"$f":"bksingh!$ADE$8","v":""},null,null,null,{"$f":"bksingh!$ADE$8","v":""},null,null,null,{"$f":"bksingh!$ADE$8","v":""},null,null,null,{"$f":"bksingh!$ADE$8","v":""},null,null,null,{"$f":"bksingh!$ADE$8","v":""},null,null,null,{"$f":"bksingh!$ADE$8","v":""},null,null,null,{"$f":"bksingh!$ADE$8","v":""},null,null,null,{"$f":"bksingh!$ADE$8","v":""},null,null,null,{"$f":"bksingh!$ADE$8","v":""},null,null,null,{"$f":"bksingh!$ADE$8","v":""},null,null,null,{"$f":"bksingh!$ADE$8","v":""},null,null,null,{"$f":"bksingh!$ADE$8","v":""},null,null,null,{"$f":"bksingh!$ADE$8","v":""},null,null,null,{"$f":"bksingh!$ADE$8","v":""},null,null,null,{"$f":"bksingh!$ADE$8","v":""},null,null,null,{"$f":"bksingh!$ADE$8","v":""},null,null,null,{"$f":"bksingh!$ADE$8","v":""},null,null,null,{"$f":"bksingh!$ADE$8","v":""},null,null,null,{"$f":"bksingh!$ADE$8","v":""},null,null,null,{"$f":"bksingh!$ADE$8","v":""},null,null,null,{"$f":"bksingh!$ADE$8","v":""},null,null,null,{"$f":"bksingh!$ADE$8","v":""},null,null,null,{"$f":"bksingh!$ADE$8","v":""},null,null,null,{"$f":"bksingh!$ADE$8","v":""},null,null,null,{"$f":"bksingh!$ADE$8","v":""},null,null,null,{"$f":"bksingh!$ADE$8","v":""},null,null,null,{"$f":"bksingh!$ADE$8","v":""},null,null,null,{"$f":"bksingh!$ADE$8","v":""},null,null,null,{"$f":"bksingh!$ADE$8","v":""},null,null,null,{"$f":"bksingh!$ADE$8","v":""},null,null,null,{"$f":"bksingh!$ADE$8","v":""},null,null,null,{"$f":"bksingh!$ADE$8","v":""},null,null,null,{"$f":"bksingh!$ADE$8","v":""},null,null,null,{"$f":"bksingh!$ADE$8","v":""},null,null,null,{"$f":"bksingh!$ADE$8","v":""},null,null,null,{"$f":"bksingh!$ADE$8","v":""},null,null,null,{"$f":"bksingh!$ADE$8","v":""},null,null,null,{"$f":"bksingh!$ADE$8","v":""},null,null,null,{"$f":"bksingh!$ADE$8","v":""},null,null,null,{"$f":"bksingh!$ADE$8","v":""},null,null,null,{"$f":"bksingh!$ADE$8","v":""},null,null,null,{"$f":"bksingh!$ADE$8","v":""},null,null,null,{"$f":"bksingh!$ADE$8","v":""},null,null,null,{"$f":"bksingh!$ADE$8","v":""},null,null,null,{"$f":"bksingh!$ADE$8","v":""},null,null,null,{"$f":"bksingh!$ADE$8","v":""},null,null,null,{"$f":"bksingh!$ADE$8","v":""},null,null,null,{"$f":"bksingh!$ADE$8","v":""},null,null,null,{"$f":"bksingh!$ADE$8","v":""},null,null,null,{"$f":"bksingh!$ADE$8","v":""},null,null,null,{"$f":"bksingh!$ADE$8","v":""},null,null,null,{"$f":"bksingh!$ADE$8","v":""},null,null,null,{"$f":"bksingh!$ADE$8","v":""},null,null,null,{"$f":"bksingh!$ADE$8","v":""},null,null,null,{"$f":"bksingh!$ADE$8","v":""},null,null,null,{"$f":"bksingh!$ADE$8","v":""},null,null,null,{"$f":"bksingh!$ADE$8","v":""},null,null,null,{"$f":"bksingh!$ADE$8","v":""},null,null,null,{"$f":"bksingh!$ADE$8","v":""},null,null,null,{"$f":"bksingh!$ADE$8","v":""},null,null,null,{"$f":"bksingh!$ADE$8","v":""},null,null,null,{"$f":"bksingh!$ADE$8","v":""},null,null,null,{"$f":"bksingh!$ADE$8","v":""},null,null,null,{"$f":"bksingh!$ADE$8","v":""},null,null,null,{"$f":"bksingh!$ADE$8","v":""},null,null,null,{"$f":"bksingh!$ADE$8","v":""},null,null,null,{"$f":"bksingh!$ADE$8","v":""},null,null,null,{"$f":"bksingh!$ADE$8","v":""},null,null,null,{"$f":"bksingh!$ADE$8","v":""},null,null,null,{"$f":"bksingh!$ADE$8","v":""},null,null,null,{"$f":"bksingh!$ADE$8","v":""},null,null,null,{"$f":"bksingh!$ADE$8","v":""},null,null,null,{"$f":"bksingh!$ADE$8","v":""},null,null,null,{"$f":"bksingh!$ADE$8","v":""},null,null,null,{"$f":"bksingh!$ADE$8","v":""},null,null,null,{"$f":"bksingh!$ADE$8","v":""},null,null,null,{"$f":"bksingh!$ADE$8","v":""},null,null,null,{"$f":"bksingh!$ADE$8","v":""},null,null,null,{"$f":"bksingh!$ADE$8","v":""},null,null,null,{"$f":"bksingh!$ADE$8","v":""},null,null,null,{"$f":"bksingh!$ADE$8","v":""},null,null,null,{"$f":"bksingh!$ADE$8","v":""},null,null,null,{"$f":"bksingh!$ADE$8","v":""},null,null,null,{"$f":"bksingh!$ADE$8","v":""},null,null,null,{"$f":"bksingh!$ADE$8","v":""},null,null,null,{"$f":"bksingh!$ADE$8","v":""},null,null,null,{"$f":"bksingh!$ADE$8","v":""},null,null,null,{"$f":"bksingh!$ADE$8","v":""},null,null,null,{"$f":"bksingh!$ADE$8","v":""},null,null,null,{"$f":"bksingh!$ADE$8","v":""},null,null,null,{"$f":"bksingh!$ADE$8","v":""},null,null,null,{"$f":"bksingh!$ADE$8","v":""},null,null,null,{"$f":"bksingh!$ADE$8","v":""},null,null,null,{"$f":"bksingh!$ADE$8","v":""},null,null,null,{"$f":"bksingh!$ADE$8","v":""},null,null,null,{"$f":"bksingh!$ADE$8","v":""},null,null,null,{"$f":"bksingh!$ADE$8","v":""},null,null,null,{"$f":"bksingh!$ADE$8","v":""},null,null,null,{"$f":"bksingh!$ADE$8","v":""},null,null,null,{"$f":"bksingh!$ADE$8","v":""},null,null,null,{"$f":"bksingh!$ADE$8","v":""},null,null,null,{"$f":"bksingh!$ADE$8","v":""},null,null,null,{"$f":"bksingh!$ADE$8","v":""},null,null,null,{"$f":"bksingh!$ADE$8","v":""},null,null,null,{"$f":"bksingh!$ADE$8","v":""},null,null,null,{"$f":"bksingh!$ADE$8","v":""},null,null,null,{"$f":"bksingh!$ADE$8","v":""},null,null,null,{"$f":"bksingh!$ADE$8","v":""},null,null,null,{"$f":"bksingh!$ADE$8","v":""},null,null,null,{"$f":"bksingh!$ADE$8","v":""},null,null,null,{"$f":"bksingh!$ADE$8","v":""},null,null,null,{"$f":"bksingh!$ADE$8","v":""},null,null,null,{"$f":"bksingh!$ADE$8","v":""},null,null,null,{"$f":"bksingh!$ADE$8","v":""},null,null,null,{"$f":"bksingh!$ADE$8","v":""},null,null,null,{"$f":"bksingh!$ADE$8","v":""},null,null,null,{"$f":"bksingh!$ADE$8","v":""},null,null,null,{"$f":"bksingh!$ADE$8","v":""},null,null,null,{"$f":"bksingh!$ADE$8","v":""},null,null,null,{"$f":"bksingh!$ADE$8","v":""},null,null,null,{"$f":"bksingh!$ADE$8","v":""},null,null,null,{"$f":"bksingh!$ADE$8","v":""},null,null,null,{"$f":"bksingh!$ADE$8","v":""},null,null,null,{"$f":"bksingh!$ADE$8","v":""},null,null,null,{"$f":"bksingh!$ADE$8","v":""},null,null,null,{"$f":"bksingh!$ADE$8","v":""},null,null,null,{"$f":"bksingh!$ADE$8","v":""},null,null,null,{"$f":"bksingh!$ADE$8","v":""},null,null,null,{"$f":"bksingh!$ADE$8","v":""},null,null,null,{"$f":"bksingh!$ADE$8","v":""},null,null,null,{"$f":"bksingh!$ADE$8","v":""},null,null,null,{"$f":"bksingh!$ADE$8","v":""},null,null,null,{"$f":"bksingh!$ADE$8","v":""},null,null,null,{"$f":"bksingh!$ADE$8","v":""},null,null,null,{"$f":"bksingh!$ADE$8","v":""},null,null,null,{"$f":"bksingh!$ADE$8","v":""},null,null,null,{"$f":"bksingh!$ADE$8","v":""},null,null,null,{"$f":"bksingh!$ADE$8","v":""},null,null,null,{"$f":"bksingh!$ADE$8","v":""},null,null,null,{"$f":"bksingh!$ADE$8","v":""},null,null,null,{"$f":"bksingh!$ADE$8","v":""},null,null,null,{"$f":"bksingh!$ADE$8","v":""},null,null,null,{"$f":"bksingh!$ADE$8","v":""},null,null,null,{"$f":"bksingh!$ADE$8","v":""},null,null,null,{"$f":"bksingh!$ADE$8","v":""},null,null,null,{"$f":"bksingh!$ADE$8","v":""},null,null,null,{"$f":"bksingh!$ADE$8","v":""},null,null,null,{"$f":"bksingh!$ADE$8","v":""},null,null,null,{"$f":"bksingh!$ADE$8","v":""},null,null,null,{"$f":"bksingh!$ADE$8","v":""},null,null,null,{"$f":"bksingh!$ADE$8","v":""},null,null,null,{"$f":"bksingh!$ADE$8","v":""},null,null,null,{"$f":"bksingh!$ADE$8","v":""},null,null,null,{"$f":"bksingh!$ADE$8","v":""},null,null,null,{"$f":"bksingh!$ADE$8","v":""},null,null,null,{"$f":"bksingh!$ADE$8","v":""},null,null,null,{"$f":"bksingh!$ADE$8","v":""},null,null,null,{"$f":"bksingh!$ADE$8","v":""},null,null,null,{"$f":"bksingh!$ADE$8","v":""},null,null,null,{"$f":"bksingh!$ADE$8","v":""},null,null,null,{"$f":"bksingh!$ADE$8","v":""},null,null,null,{"$f":"bksingh!$ADE$8","v":""},null,null,null,{"$f":"bksingh!$ADE$8","v":""},null,null,null,{"$f":"bksingh!$ADE$8","v":""},null,null,null,{"$f":"bksingh!$ADE$8","v":""},null,null,null,{"$f":"bksingh!$ADE$8","v":""},null,null,null,{"$f":"bksingh!$ADE$8","v":""},null,null,null,{"$f":"bksingh!$ADE$8","v":""},null,null,null,{"$f":"bksingh!$ADE$8","v":""},null,null,null,{"$f":"bksingh!$ADE$8","v":""},null,null,null,{"$f":"bksingh!$ADE$8","v":""},null,null,null,{"$f":"bksingh!$ADE$8","v":""},null,null,null,{"$f":"bksingh!$ADE$8","v":""},null,null,null,{"$f":"bksingh!$ADE$8","v":""},null,null,null,{"$f":"bksingh!$ADE$8","v":""},null,null,null,{"$f":"bksingh!$ADE$8","v":""},null,null,null,{"$f":"bksingh!$ADE$8","v":""},null,null,null,{"$f":"bksingh!$ADE$8","v":""},null,null,null,{"$f":"bksingh!$ADE$8","v":""},null,null,null,{"$f":"bksingh!$ADE$8","v":""},null,null,null,{"$f":"bksingh!$ADE$8","v":""},null,null,null,{"$f":"bksingh!$ADE$8","v":""},null,null,null,{"$f":"bksingh!$ADE$8","v":""},null,null,null,{"$f":"bksingh!$ADE$8","v":""},null,null,null,{"$f":"bksingh!$ADE$8","v":""},null,null,null,{"$f":"bksingh!$ADE$8","v":""},null,null,null,{"$f":"bksingh!$ADE$8","v":""},null,null,null,{"$f":"bksingh!$ADE$8","v":""},null,null,null,{"$f":"bksingh!$ADE$8","v":""},null,null,null,{"$f":"bksingh!$ADE$8","v":""},null,null,null,{"$f":"bksingh!$ADE$8","v":""},null,null,null,{"$f":"bksingh!$ADE$8","v":""},null,null,null,{"$f":"bksingh!$ADE$8","v":""},null,null,null,{"$f":"bksingh!$ADE$8","v":""},null,null,null,{"$f":"bksingh!$ADE$8","v":""},null,null,null,{"$f":"bksingh!$ADE$8","v":""},null,null,null,{"$f":"bksingh!$ADE$8","v":""},null,null,null,{"$f":"bksingh!$ADE$8","v":""},null,null,null,{"$f":"bksingh!$ADE$8","v":""},null,null,null,{"$f":"bksingh!$ADE$8","v":""},null,null,null,{"$f":"bksingh!$ADE$8","v":""},null,null,null,{"$f":"bksingh!$ADE$8","v":""},null,null,null,{"$f":"bksingh!$ADE$8","v":""},null,null,null,{"$f":"bksingh!$ADE$8","v":""},null,null,null,{"$f":"bksingh!$ADE$8","v":""},null,null,null,{"$f":"bksingh!$ADE$8","v":""},null,null,null,{"$f":"bksingh!$ADE$8","v":""},null,null,null,{"$f":"bksingh!$ADE$8","v":""},null,null,null,{"$f":"bksingh!$ADE$8","v":""},null,null,null,{"$f":"bksingh!$ADE$8","v":""},null,null,null,{"$f":"bksingh!$ADE$8","v":""},null,null,null,{"$f":"bksingh!$ADE$8","v":""},null,null,null,{"$f":"bksingh!$ADE$8","v":""},null,null,null,{"$f":"bksingh!$ADE$8","v":""},null,null,null,{"$f":"bksingh!$ADE$8","v":""},null,null,null,{"$f":"bksingh!$ADE$8","v":""},null,null,null,{"$f":"bksingh!$ADE$8","v":""},null,null,null,{"$f":"bksingh!$ADE$8","v":""},null,null,null,{"$f":"bksingh!$ADE$8","v":""},null,null,null,{"$f":"bksingh!$ADE$8","v":""},null,null,null,{"$f":"bksingh!$ADE$8","v":""},null,null,null,{"$f":"bksingh!$ADE$8","v":""},null,null,null,{"$f":"bksingh!$ADE$8","v":""},null,null,null,{"$f":"bksingh!$ADE$8","v":""},null,null,null,{"$f":"bksingh!$ADE$8","v":""},null,null,null,{"$f":"bksingh!$ADE$8","v":""},null,null,null,{"$f":"bksingh!$ADE$8","v":""},null,null,null,{"$f":"bksingh!$ADE$8","v":""},null,null,null,{"$f":"bksingh!$ADE$8","v":""},null,null,null,{"$f":"bksingh!$ADE$8","v":""},null,null,null,{"$f":"bksingh!$ADE$8","v":""},null,null,null,{"$f":"bksingh!$ADE$8","v":""},null,null,null,{"$f":"bksingh!$ADE$8","v":""},null,null,null,{"$f":"bksingh!$ADE$8","v":""},null,null,null,{"$f":"bksingh!$ADE$8","v":""},null,null,null,{"$f":"bksingh!$ADE$8","v":""},null,null,null,{"$f":"bksingh!$ADE$8","v":""},null,null,null,{"$f":"bksingh!$ADE$8","v":""},null,null,null,{"$f":"bksingh!$ADE$8","v":""},null,null,null,{"$f":"bksingh!$ADE$8","v":""},null,null,null,{"$f":"bksingh!$ADE$8","v":""},null,null,null,{"$f":"bksingh!$ADE$8","v":""},null,null,null,{"$f":"bksingh!$ADE$8","v":""},null,null,null,{"$f":"bksingh!$ADE$8","v":""},null,null,null,{"$f":"bksingh!$ADE$8","v":""},null,null,null,{"$f":"bksingh!$ADE$8","v":""},null,null,null,{"$f":"bksingh!$ADE$8","v":""},null,null,null,{"$f":"bksingh!$ADE$8","v":""},null,null,null,{"$f":"bksingh!$ADE$8","v":""},null,null,null,{"$f":"bksingh!$ADE$8","v":""},null,null,null,{"$f":"bksingh!$ADE$8","v":""},null,null,null,{"$f":"bksingh!$ADE$8","v":""},null,null,null,{"$f":"bksingh!$ADE$8","v":""},null,null,null,{"$f":"bksingh!$ADE$8","v":""},null,null,null,{"$f":"bksingh!$ADE$8","v":""},null,null,null,{"$f":"bksingh!$ADE$8","v":""},null,null,null,{"$f":"bksingh!$ADE$8","v":""},null,null,null,{"$f":"bksingh!$ADE$8","v":""},null,null,null,{"$f":"bksingh!$ADE$8","v":""},null,null,null,{"$f":"bksingh!$ADE$8","v":""},null,null,null,{"$f":"bksingh!$ADE$8","v":""},null,null,null,{"$f":"bksingh!$ADE$8","v":""},null,null,null,{"$f":"bksingh!$ADE$8","v":""},null,null,null,{"$f":"bksingh!$ADE$8","v":""},null,null,null,{"$f":"bksingh!$ADE$8","v":""},null,null,null,{"$f":"bksingh!$ADE$8","v":""},null,null,null,{"$f":"bksingh!$ADE$8","v":""},null,null,null,{"$f":"bksingh!$ADE$8","v":""},null,null,null,{"$f":"bksingh!$ADE$8","v":""},null,null,null,{"$f":"bksingh!$ADE$8","v":""},null,null,null,{"$f":"bksingh!$ADE$8","v":""},null,null,null,{"$f":"bksingh!$ADE$8","v":""},null,null,null,{"$f":"bksingh!$ADE$8","v":""},null,null,null,{"$f":"bksingh!$ADE$8","v":""},null,null,null,{"$f":"bksingh!$ADE$8","v":""},null,null,null,{"$f":"bksingh!$ADE$8","v":""},null,null,null,{"$f":"bksingh!$ADE$8","v":""},null,null,null,{"$f":"bksingh!$ADE$8","v":""},null,null,null,{"$f":"bksingh!$ADE$8","v":""},null,null,null,{"$f":"bksingh!$ADE$8","v":""},null,null,null,{"$f":"bksingh!$ADE$8","v":""},null,null,null,{"$f":"bksingh!$ADE$8","v":""},null,null,null,{"$f":"bksingh!$ADE$8","v":""},null,null,null,{"$f":"bksingh!$ADE$8","v":""},null,null,null,{"$f":"bksingh!$ADE$8","v":""},null,null,null,{"$f":"bksingh!$ADE$8","v":""},null,null,null,{"$f":"bksingh!$ADE$8","v":""},null,null,null,{"$f":"bksingh!$ADE$8","v":""},null,null,null,{"$f":"bksingh!$ADE$8","v":""},null,null,null,{"$f":"bksingh!$ADE$8","v":""},null,null,null,{"$f":"bksingh!$ADE$8","v":""},null,null,null,{"$f":"bksingh!$ADE$8","v":""},null,null,null,{"$f":"bksingh!$ADE$8","v":""},null,null,null,{"$f":"bksingh!$ADE$8","v":""},null,null,null,{"$f":"bksingh!$ADE$8","v":""},null,null,null,{"$f":"bksingh!$ADE$8","v":""},null,null,null,{"$f":"bksingh!$ADE$8","v":""},null,null,null,{"$f":"bksingh!$ADE$8","v":""},null,null,null,{"$f":"bksingh!$ADE$8","v":""},null,null,null,{"$f":"bksingh!$ADE$8","v":""},null,null,null,{"$f":"bksingh!$ADE$8","v":""},null,null,null,{"$f":"bksingh!$ADE$8","v":""},null,null,null,{"$f":"bksingh!$ADE$8","v":""},null,null,null,{"$f":"bksingh!$ADE$8","v":""},null,null,null,{"$f":"bksingh!$ADE$8","v":""},null,null,null,{"$f":"bksingh!$ADE$8","v":""},null,null,null,{"$f":"bksingh!$ADE$8","v":""},null,null,null,{"$f":"bksingh!$ADE$8","v":""},null,null,null,{"$f":"bksingh!$ADE$8","v":""},null,null,null,{"$f":"bksingh!$ADE$8","v":""},null,null,null,{"$f":"bksingh!$ADE$8","v":""},null,null,null,{"$f":"bksingh!$ADE$8","v":""},null,null,null,{"$f":"bksingh!$ADE$8","v":""},null,null,null,{"$f":"bksingh!$ADE$8","v":""},null,null,null,{"$f":"bksingh!$ADE$8","v":""},null,null,null,{"$f":"bksingh!$ADE$8","v":""},null,null,null,{"$f":"bksingh!$ADE$8","v":""},null,null,null,{"$f":"bksingh!$ADE$8","v":""},null,null,null,{"$f":"bksingh!$ADE$8","v":""},null,null,null,{"$f":"bksingh!$ADE$8","v":""},null,null,null,{"$f":"bksingh!$ADE$8","v":""},null,null,null,{"$f":"bksingh!$ADE$8","v":""},null,null,null,{"$f":"bksingh!$ADE$8","v":""},null,null,null,{"$f":"bksingh!$ADE$8","v":""},null,null,null,{"$f":"bksingh!$ADE$8","v":""},null,null,null,{"$f":"bksingh!$ADE$8","v":""},null,null,null,{"$f":"bksingh!$ADE$8","v":""},null,null,null,{"$f":"bksingh!$ADE$8","v":""},null,null,null,{"$f":"bksingh!$ADE$8","v":""},null,null,null,{"$f":"bksingh!$ADE$8","v":""},null,null,null,{"$f":"bksingh!$ADE$8","v":""},null,null,null,{"$f":"bksingh!$ADE$8","v":""},null,null,null,{"$f":"bksingh!$ADE$8","v":""},null,null,null,{"$f":"bksingh!$ADE$8","v":""},null,null,null,{"$f":"bksingh!$ADE$8","v":""},null,null,null,{"$f":"bksingh!$ADE$8","v":""},null,null,null,{"$f":"bksingh!$ADE$8","v":""},null,null,null,{"$f":"bksingh!$ADE$8","v":""},null,null,null,{"$f":"bksingh!$ADE$8","v":""},null,null,null,{"$f":"bksingh!$ADE$8","v":""},null,null,null,{"$f":"bksingh!$ADE$8","v":""},null,null,null,{"$f":"bksingh!$ADE$8","v":""},null,null,null,{"$f":"bksingh!$ADE$8","v":""},null,null,null,{"$f":"bksingh!$ADE$8","v":""},null,null,null,{"$f":"bksingh!$ADE$8","v":""},null,null,null,{"$f":"bksingh!$ADE$8","v":""},null,null,null,{"$f":"bksingh!$ADE$8","v":""},null,null,null,{"$f":"bksingh!$ADE$8","v":""},null,null,null,{"$f":"bksingh!$ADE$8","v":""},null,null,null,{"$f":"bksingh!$ADE$8","v":""},null,null,null,{"$f":"bksingh!$ADE$8","v":""},null,null,null,{"$f":"bksingh!$ADE$8","v":""},null,null,null,{"$f":"bksingh!$ADE$8","v":""},null,null,null,{"$f":"bksingh!$ADE$8","v":""},null,null,null,{"$f":"bksingh!$ADE$8","v":""},null,null,null,{"$f":"bksingh!$ADE$8","v":""},null,null,null,{"$f":"bksingh!$ADE$8","v":""},null,null,null,{"$f":"bksingh!$ADE$8","v":""},null,null,null,{"$f":"bksingh!$ADE$8","v":""},null,null,null,{"$f":"bksingh!$ADE$8","v":""},null,null,null,{"$f":"bksingh!$ADE$8","v":""},null,null,null,{"$f":"bksingh!$ADE$8","v":""},null,null,null,{"$f":"bksingh!$ADE$8","v":""},null,null,null,{"$f":"bksingh!$ADE$8","v":""},null,null,null,{"$f":"bksingh!$ADE$8","v":""},null,null,null,{"$f":"bksingh!$ADE$8","v":""},null,null,null,{"$f":"bksingh!$ADE$8","v":""},null,null,null,{"$f":"bksingh!$ADE$8","v":""},null,null,null,{"$f":"bksingh!$ADE$8","v":""},null,null,null,{"$f":"bksingh!$ADE$8","v":""},null,null,null,{"$f":"bksingh!$ADE$8","v":""},null,null,null,{"$f":"bksingh!$ADE$8","v":""},null,null,null,{"$f":"bksingh!$ADE$8","v":""},null,null,null,{"$f":"bksingh!$ADE$8","v":""},null,null,null,{"$f":"bksingh!$ADE$8","v":""},null,null,null,{"$f":"bksingh!$ADE$8","v":""},null,null,null,{"$f":"bksingh!$ADE$8","v":""},null,null,null,{"$f":"bksingh!$ADE$8","v":""},null,null,null,{"$f":"bksingh!$ADE$8","v":""},null,null,null,{"$f":"bksingh!$ADE$8","v":""},null,null,null,{"$f":"bksingh!$ADE$8","v":""},null,null,null,{"$f":"bksingh!$ADE$8","v":""},null,null,null,{"$f":"bksingh!$ADE$8","v":""},null,null,null,{"$f":"bksingh!$ADE$8","v":""},null,null,null,{"$f":"bksingh!$ADE$8","v":""},null,null,null,{"$f":"bksingh!$ADE$8","v":""},null,null,null,{"$f":"bksingh!$ADE$8","v":""},null,null,null,{"$f":"bksingh!$ADE$8","v":""},null,null,null,{"$f":"bksingh!$ADE$8","v":""},null,null,null,{"$f":"bksingh!$ADE$8","v":""},null,null,null,{"$f":"bksingh!$ADE$8","v":""},null,null,null,{"$f":"bksingh!$ADE$8","v":""},null,null,null,{"$f":"bksingh!$ADE$8","v":""},null,null,null,{"$f":"bksingh!$ADE$8","v":""},null,null,null,{"$f":"bksingh!$ADE$8","v":""},null,null,null,{"$f":"bksingh!$ADE$8","v":""},null,null,null,{"$f":"bksingh!$ADE$8","v":""},null,null,null,{"$f":"bksingh!$ADE$8","v":""},null,null,null,{"$f":"bksingh!$ADE$8","v":""},null,null,null,{"$f":"bksingh!$ADE$8","v":""},null,null,null,{"$f":"bksingh!$ADE$8","v":""},null,null,null,{"$f":"bksingh!$ADE$8","v":""},null,null,null,{"$f":"bksingh!$ADE$8","v":""},null,null,null,{"$f":"bksingh!$ADE$8","v":""},null,null,null,{"$f":"bksingh!$ADE$8","v":""},null,null,null,{"$f":"bksingh!$ADE$8","v":""},null,null,null,{"$f":"bksingh!$ADE$8","v":""},null,null,null,{"$f":"bksingh!$ADE$8","v":""},null,null,null,{"$f":"bksingh!$ADE$8","v":""},null,null,null,{"$f":"bksingh!$ADE$8","v":""},null,null,null,{"$f":"bksingh!$ADE$8","v":""},null,null,null,{"$f":"bksingh!$ADE$8","v":""},null,null,null,{"$f":"bksingh!$ADE$8","v":""},null,null,null,{"$f":"bksingh!$ADE$8","v":""},null,null,null,{"$f":"bksingh!$ADE$8","v":""},null,null,null,{"$f":"bksingh!$ADE$8","v":""},null,null,null,{"$f":"bksingh!$ADE$8","v":""},null,null,null,{"$f":"bksingh!$ADE$8","v":""},null,null,null,{"$f":"bksingh!$ADE$8","v":""},null,null,null,{"$f":"bksingh!$ADE$8","v":""},null,null,null,{"$f":"bksingh!$ADE$8","v":""},null,null,null,{"$f":"bksingh!$ADE$8","v":""},null,null,null,{"$f":"bksingh!$ADE$8","v":""},null,null,null,{"$f":"bksingh!$ADE$8","v":""},null,null,null,{"$f":"bksingh!$ADE$8","v":""},null,null,null,{"$f":"bksingh!$ADE$8","v":""},null,null,null,{"$f":"bksingh!$ADE$8","v":""},null,null,null,{"$f":"bksingh!$ADE$8","v":""},null,null,null,{"$f":"bksingh!$ADE$8","v":""},null,null,null,{"$f":"bksingh!$ADE$8","v":""},null,null,null,{"$f":"bksingh!$ADE$8","v":""},null,null,null,{"$f":"bksingh!$ADE$8","v":""},null,null,null,{"$f":"bksingh!$ADE$8","v":""},null,null,null,{"$f":"bksingh!$ADE$8","v":""},null,null,null,{"$f":"bksingh!$ADE$8","v":""},null,null,null,{"$f":"bksingh!$ADE$8","v":""},null,null,null,{"$f":"bksingh!$ADE$8","v":""},null,null,null,{"$f":"bksingh!$ADE$8","v":""},null,null,null,{"$f":"bksingh!$ADE$8","v":""},null,null,null,{"$f":"bksingh!$ADE$8","v":""},null,null,null,{"$f":"bksingh!$ADE$8","v":""},null,null,null,{"$f":"bksingh!$ADE$8","v":""},null,null,null,{"$f":"bksingh!$ADE$8","v":""},null,null,null,{"$f":"bksingh!$ADE$8","v":""},null,null,null,{"$f":"bksingh!$ADE$8","v":""},null,null,null,{"$f":"bksingh!$ADE$8","v":""},null,null,null,{"$f":"bksingh!$ADE$8","v":""},null,null,null,{"$f":"bksingh!$ADE$8","v":""},null,null,null,{"$f":"bksingh!$ADE$8","v":""},null,null,null,{"$f":"bksingh!$ADE$8","v":""},null,null,null,{"$f":"bksingh!$ADE$8","v":""},null,null,null,{"$f":"bksingh!$ADE$8","v":""},null,null,null,{"$f":"bksingh!$ADE$8","v":""},null,null,null,{"$f":"bksingh!$ADE$8","v":""},null,null,null,{"$f":"bksingh!$ADE$8","v":""},null,null,null,{"$f":"bksingh!$ADE$8","v":""},null,null,null,{"$f":"bksingh!$ADE$8","v":""},null,null,null,{"$f":"bksingh!$ADE$8","v":""},null,null,null,{"$f":"bksingh!$ADE$8","v":""},null,null,null,{"$f":"bksingh!$ADE$8","v":""},null,null,null,{"$f":"bksingh!$ADE$8","v":""},null,null,null,{"$f":"bksingh!$ADE$8","v":""},null,null,null,{"$f":"bksingh!$ADE$8","v":""},null,null,null,{"$f":"bksingh!$ADE$8","v":""},null,null,null,{"$f":"bksingh!$ADE$8","v":""},null,null,null,{"$f":"bksingh!$ADE$8","v":""},null,null,null,{"$f":"bksingh!$ADE$8","v":""},null,null,null,{"$f":"bksingh!$ADE$8","v":""},null,null,null,{"$f":"bksingh!$ADE$8","v":""},null,null,null,{"$f":"bksingh!$ADE$8","v":""},null,null,null,{"$f":"bksingh!$ADE$8","v":""},null,null,null,{"$f":"bksingh!$ADE$8","v":""},null,null,null,{"$f":"bksingh!$ADE$8","v":""},null,null,null,{"$f":"bksingh!$ADE$8","v":""},null,null,null,{"$f":"bksingh!$ADE$8","v":""},null,null,null,{"$f":"bksingh!$ADE$8","v":""},null,null,null,{"$f":"bksingh!$ADE$8","v":""},null,null,null,{"$f":"bksingh!$ADE$8","v":""},null,null,null,{"$f":"bksingh!$ADE$8","v":""},null,null,null,{"$f":"bksingh!$ADE$8","v":""},null,null,null,{"$f":"bksingh!$ADE$8","v":""},null,null,null,{"$f":"bksingh!$ADE$8","v":""},null,null,null,{"$f":"bksingh!$ADE$8","v":""},null,null,null,{"$f":"bksingh!$ADE$8","v":""},null,null,null,{"$f":"bksingh!$ADE$8","v":""},null,null,null,{"$f":"bksingh!$ADE$8","v":""},null,null,null,{"$f":"bksingh!$ADE$8","v":""},null,null,null,{"$f":"bksingh!$ADE$8","v":""},null,null,null,{"$f":"bksingh!$ADE$8","v":""},null,null,null,{"$f":"bksingh!$ADE$8","v":""},null,null,null,{"$f":"bksingh!$ADE$8","v":""},null,null,null,{"$f":"bksingh!$ADE$8","v":""},null,null,null,{"$f":"bksingh!$ADE$8","v":""},null,null,null,{"$f":"bksingh!$ADE$8","v":""},null,null,null,{"$f":"bksingh!$ADE$8","v":""},null,null,null,{"$f":"bksingh!$ADE$8","v":""},null,null,null,{"$f":"bksingh!$ADE$8","v":""},null,null,null,{"$f":"bksingh!$ADE$8","v":""},null,null,null,{"$f":"bksingh!$ADE$8","v":""},null,null,null,{"$f":"bksingh!$ADE$8","v":""},null,null,null,{"$f":"bksingh!$ADE$8","v":""},null,null,null,{"$f":"bksingh!$ADE$8","v":""},null,null,null,{"$f":"bksingh!$ADE$8","v":""},null,null,null,{"$f":"bksingh!$ADE$8","v":""},null,null,null,{"$f":"bksingh!$ADE$8","v":""},null,null,null,{"$f":"bksingh!$ADE$8","v":""},null,null,null,{"$f":"bksingh!$ADE$8","v":""},null,null,null,{"$f":"bksingh!$ADE$8","v":""},null,null,null,{"$f":"bksingh!$ADE$8","v":""},null,null,null,{"$f":"bksingh!$ADE$8","v":""},null,null,null,{"$f":"bksingh!$ADE$8","v":""},null,null,null,{"$f":"bksingh!$ADE$8","v":""},null,null,null,{"$f":"bksingh!$ADE$8","v":""},null,null,null,{"$f":"bksingh!$ADE$8","v":""},null,null,null,{"$f":"bksingh!$ADE$8","v":""},null,null,null,{"$f":"bksingh!$ADE$8","v":""},null,null,null,{"$f":"bksingh!$ADE$8","v":""},null,null,null,{"$f":"bksingh!$ADE$8","v":""},null,null,null,{"$f":"bksingh!$ADE$8","v":""},null,null,null,{"$f":"bksingh!$ADE$8","v":""},null,null,null,{"$f":"bksingh!$ADE$8","v":""},null,null,null,{"$f":"bksingh!$ADE$8","v":""},null,null,null,{"$f":"bksingh!$ADE$8","v":""},null,null,null,{"$f":"bksingh!$ADE$8","v":""},null,null,null,{"$f":"bksingh!$ADE$8","v":""},null,null,null,{"$f":"bksingh!$ADE$8","v":""},null,null,null,{"$f":"bksingh!$ADE$8","v":""},null,null,null,{"$f":"bksingh!$ADE$8","v":""},null,null,null,{"$f":"bksingh!$ADE$8","v":""},null,null,null,{"$f":"bksingh!$ADE$8","v":""},null,null,null,{"$f":"bksingh!$ADE$8","v":""},null,null,null,{"$f":"bksingh!$ADE$8","v":""},null,null,null,{"$f":"bksingh!$ADE$8","v":""},null,null,null,{"$f":"bksingh!$ADE$8","v":""},null,null,null,{"$f":"bksingh!$ADE$8","v":""},null,null,null,{"$f":"bksingh!$ADE$8","v":""},null,null,null,{"$f":"bksingh!$ADE$8","v":""},null,null,null,{"$f":"bksingh!$ADE$8","v":""},null,null,null,{"$f":"bksingh!$ADE$8","v":""},null,null,null,{"$f":"bksingh!$ADE$8","v":""},null,null,null,{"$f":"bksingh!$ADE$8","v":""},null,null,null,{"$f":"bksingh!$ADE$8","v":""},null,null,null,{"$f":"bksingh!$ADE$8","v":""},null,null,null,{"$f":"bksingh!$ADE$8","v":""},null,null,null,{"$f":"bksingh!$ADE$8","v":""},null,null,null,{"$f":"bksingh!$ADE$8","v":""},null,null,null,{"$f":"bksingh!$ADE$8","v":""},null,null,null,{"$f":"bksingh!$ADE$8","v":""},null,null,null,{"$f":"bksingh!$ADE$8","v":""},null,null,null,{"$f":"bksingh!$ADE$8","v":""},null,null,null,{"$f":"bksingh!$ADE$8","v":""},null,null,null,{"$f":"bksingh!$ADE$8","v":""},null,null,null,{"$f":"bksingh!$ADE$8","v":""},null,null,null,{"$f":"bksingh!$ADE$8","v":""},null,null,null,{"$f":"bksingh!$ADE$8","v":""},null,null,null,{"$f":"bksingh!$ADE$8","v":""},null,null,null,{"$f":"bksingh!$ADE$8","v":""},null,null,null,{"$f":"bksingh!$ADE$8","v":""},null,null,null,{"$f":"bksingh!$ADE$8","v":""},null,null,null,{"$f":"bksingh!$ADE$8","v":""},null,null,null,{"$f":"bksingh!$ADE$8","v":""},null,null,null,{"$f":"bksingh!$ADE$8","v":""},null,null,null,{"$f":"bksingh!$ADE$8","v":""},null,null,null,{"$f":"bksingh!$ADE$8","v":""},null,null,null,{"$f":"bksingh!$ADE$8","v":""},null,null,null,{"$f":"bksingh!$ADE$8","v":""},null,null,null,{"$f":"bksingh!$ADE$8","v":""},null,null,null,{"$f":"bksingh!$ADE$8","v":""},null,null,null,{"$f":"bksingh!$ADE$8","v":""},null,null,null,{"$f":"bksingh!$ADE$8","v":""},null,null,null,{"$f":"bksingh!$ADE$8","v":""},null,null,null,{"$f":"bksingh!$ADE$8","v":""},null,null,null,{"$f":"bksingh!$ADE$8","v":""},null,null,null,{"$f":"bksingh!$ADE$8","v":""},null,null,null,{"$f":"bksingh!$ADE$8","v":""},null,null,null,{"$f":"bksingh!$ADE$8","v":""},null,null,null,{"$f":"bksingh!$ADE$8","v":""},null,null,null,{"$f":"bksingh!$ADE$8","v":""},null,null,null,{"$f":"bksingh!$ADE$8","v":""},null,null,null,{"$f":"bksingh!$ADE$8","v":""},null,null,null,{"$f":"bksingh!$ADE$8","v":""},null,null,null,{"$f":"bksingh!$ADE$8","v":""},null,null,null,{"$f":"bksingh!$ADE$8","v":""},null,null,null,{"$f":"bksingh!$ADE$8","v":""},null,null,null,{"$f":"bksingh!$ADE$8","v":""},null,null,null,{"$f":"bksingh!$ADE$8","v":""},null,null,null,{"$f":"bksingh!$ADE$8","v":""},null,null,null,{"$f":"bksingh!$ADE$8","v":""},null,null,null,{"$f":"bksingh!$ADE$8","v":""},null,null,null,{"$f":"bksingh!$ADE$8","v":""},null,null,null,{"$f":"bksingh!$ADE$8","v":""},null,null,null,{"$f":"bksingh!$ADE$8","v":""},null,null,null,{"$f":"bksingh!$ADE$8","v":""},null,null,null,{"$f":"bksingh!$ADE$8","v":""},null,null,null,{"$f":"bksingh!$ADE$8","v":""},null,null,null,{"$f":"bksingh!$ADE$8","v":""},null,null,null,{"$f":"bksingh!$ADE$8","v":""},null,null,null,{"$f":"bksingh!$ADE$8","v":""},null,null,null,{"$f":"bksingh!$ADE$8","v":""},null,null,null,{"$f":"bksingh!$ADE$8","v":""},null,null,null,{"$f":"bksingh!$ADE$8","v":""},null,null,null,{"$f":"bksingh!$ADE$8","v":""},null,null,null,{"$f":"bksingh!$ADE$8","v":""},null,null,null,{"$f":"bksingh!$ADE$8","v":""},null,null,null,{"$f":"bksingh!$ADE$8","v":""},null,null,null,{"$f":"bksingh!$ADE$8","v":""},null,null,null,{"$f":"bksingh!$ADE$8","v":""},null,null,null,{"$f":"bksingh!$ADE$8","v":""},null,null,null,{"$f":"bksingh!$ADE$8","v":""},null,null,null,{"$f":"bksingh!$ADE$8","v":""},null,null,null,{"$f":"bksingh!$ADE$8","v":""},null,null,null,{"$f":"bksingh!$ADE$8","v":""},null,null,null,{"$f":"bksingh!$ADE$8","v":""},null,null,null,{"$f":"bksingh!$ADE$8","v":""},null,null,null,{"$f":"bksingh!$ADE$8","v":""},null,null,null,{"$f":"bksingh!$ADE$8","v":""},null,null,null,{"$f":"bksingh!$ADE$8","v":""},null,null,null,{"$f":"bksingh!$ADE$8","v":""},null,null,null,{"$f":"bksingh!$ADE$8","v":""},null,null,null,{"$f":"bksingh!$ADE$8","v":""},null,null,null,{"$f":"bksingh!$ADE$8","v":""},null,null,null,{"$f":"bksingh!$ADE$8","v":""},null,null,null,{"$f":"bksingh!$ADE$8","v":""},null,null,null,{"$f":"bksingh!$ADE$8","v":""},null,null,null,{"$f":"bksingh!$ADE$8","v":""},null,null,null,{"$f":"bksingh!$ADE$8","v":""},null,null,null,{"$f":"bksingh!$ADE$8","v":""},null,null,null,{"$f":"bksingh!$ADE$8","v":""},null,null,null,{"$f":"bksingh!$ADE$8","v":""},null,null,null,{"$f":"bksingh!$ADE$8","v":""},null,null,null,{"$f":"bksingh!$ADE$8","v":""},null,null,null,{"$f":"bksingh!$ADE$8","v":""},null,null,null,{"$f":"bksingh!$ADE$8","v":""},null,null,null,{"$f":"bksingh!$ADE$8","v":""},null,null,null,{"$f":"bksingh!$ADE$8","v":""},null,null,null,{"$f":"bksingh!$ADE$8","v":""},null,null,null,{"$f":"bksingh!$ADE$8","v":""},null,null,null,{"$f":"bksingh!$ADE$8","v":""},null,null,null,{"$f":"bksingh!$ADE$8","v":""},null,null,null,{"$f":"bksingh!$ADE$8","v":""},null,null,null,{"$f":"bksingh!$ADE$8","v":""},null,null,null,{"$f":"bksingh!$ADE$8","v":""},null,null,null,{"$f":"bksingh!$ADE$8","v":""},null,null,null,{"$f":"bksingh!$ADE$8","v":""},null,null,null,{"$f":"bksingh!$ADE$8","v":""},null,null,null,{"$f":"bksingh!$ADE$8","v":""},null,null,null,{"$f":"bksingh!$ADE$8","v":""},null,null,null,{"$f":"bksingh!$ADE$8","v":""},null,null,null,{"$f":"bksingh!$ADE$8","v":""},null,null,null,{"$f":"bksingh!$ADE$8","v":""},null,null,null,{"$f":"bksingh!$ADE$8","v":""},null,null,null,{"$f":"bksingh!$ADE$8","v":""},null,null,null,{"$f":"bksingh!$ADE$8","v":""},null,null,null,{"$f":"bksingh!$ADE$8","v":""},null,null,null,{"$f":"bksingh!$ADE$8","v":""},null,null,null,{"$f":"bksingh!$ADE$8","v":""},null,null,null,{"$f":"bksingh!$ADE$8","v":""},null,null,null,{"$f":"bksingh!$ADE$8","v":""},null,null,null,{"$f":"bksingh!$ADE$8","v":""},null,null,null,{"$f":"bksingh!$ADE$8","v":""},null,null,null,{"$f":"bksingh!$ADE$8","v":""},null,null,null,{"$f":"bksingh!$ADE$8","v":""},null,null,null,{"$f":"bksingh!$ADE$8","v":""},null,null,null,{"$f":"bksingh!$ADE$8","v":""},null,null,null,{"$f":"bksingh!$ADE$8","v":""},null,null,null,{"$f":"bksingh!$ADE$8","v":""},null,null,null,{"$f":"bksingh!$ADE$8","v":""},null,null,null,{"$f":"bksingh!$ADE$8","v":""},null,null,null,{"$f":"bksingh!$ADE$8","v":""},null,null,null,{"$f":"bksingh!$ADE$8","v":""},null,null,null,{"$f":"bksingh!$ADE$8","v":""},null,null,null,{"$f":"bksingh!$ADE$8","v":""},null,null,null,{"$f":"bksingh!$ADE$8","v":""},null,null,null,{"$f":"bksingh!$ADE$8","v":""},null,null,null,{"$f":"bksingh!$ADE$8","v":""},null,null,null,{"$f":"bksingh!$ADE$8","v":""},null,null,null,{"$f":"bksingh!$ADE$8","v":""},null,null,null,{"$f":"bksingh!$ADE$8","v":""},null,null,null,{"$f":"bksingh!$ADE$8","v":""},null,null,null,{"$f":"bksingh!$ADE$8","v":""},null,null,null,{"$f":"bksingh!$ADE$8","v":""},null,null,null,{"$f":"bksingh!$ADE$8","v":""},null,null,null,{"$f":"bksingh!$ADE$8","v":""},null,null,null,{"$f":"bksingh!$ADE$8","v":""},null,null,null,{"$f":"bksingh!$ADE$8","v":""},null,null,null,{"$f":"bksingh!$ADE$8","v":""},null,null,null,{"$f":"bksingh!$ADE$8","v":""},null,null,null,{"$f":"bksingh!$ADE$8","v":""},null,null,null,{"$f":"bksingh!$ADE$8","v":""},null,null,null,{"$f":"bksingh!$ADE$8","v":""},null,null,null,{"$f":"bksingh!$ADE$8","v":""},null,null,null,{"$f":"bksingh!$ADE$8","v":""},null,null,null,{"$f":"bksingh!$ADE$8","v":""},null,null,null,{"$f":"bksingh!$ADE$8","v":""},null,null,null,{"$f":"bksingh!$ADE$8","v":""},null,null,null,{"$f":"bksingh!$ADE$8","v":""},null,null,null,{"$f":"bksingh!$ADE$8","v":""},null,null,null,{"$f":"bksingh!$ADE$8","v":""},null,null,null,{"$f":"bksingh!$ADE$8","v":""},null,null,null,{"$f":"bksingh!$ADE$8","v":""},null,null,null,{"$f":"bksingh!$ADE$8","v":""},null,null,null,{"$f":"bksingh!$ADE$8","v":""},null,null,null,{"$f":"bksingh!$ADE$8","v":""},null,null,null,{"$f":"bksingh!$ADE$8","v":""},null,null,null,{"$f":"bksingh!$ADE$8","v":""},null,null,null,{"$f":"bksingh!$ADE$8","v":""},null,null,null,{"$f":"bksingh!$ADE$8","v":""},null,null,null,{"$f":"bksingh!$ADE$8","v":""},null,null,null,{"$f":"bksingh!$ADE$8","v":""},null,null,null,{"$f":"bksingh!$ADE$8","v":""},null,null,null,{"$f":"bksingh!$ADE$8","v":""},null,null,null,{"$f":"bksingh!$ADE$8","v":""},null,null,null,{"$f":"bksingh!$ADE$8","v":""},null,null,null,{"$f":"bksingh!$ADE$8","v":""},null,null,null,{"$f":"bksingh!$ADE$8","v":""},null,null,null,{"$f":"bksingh!$ADE$8","v":""},null,null,null,{"$f":"bksingh!$ADE$8","v":""},null,null,null,{"$f":"bksingh!$ADE$8","v":""},null,null,null,{"$f":"bksingh!$ADE$8","v":""},null,null,null,{"$f":"bksingh!$ADE$8","v":""},null,null,null,{"$f":"bksingh!$ADE$8","v":""},null,null,null,{"$f":"bksingh!$ADE$8","v":""},null,null,null,{"$f":"bksingh!$ADE$8","v":""},null,null,null,{"$f":"bksingh!$ADE$8","v":""},null,null,null,{"$f":"bksingh!$ADE$8","v":""},null,null,null,{"$f":"bksingh!$ADE$8","v":""},null,null,null,{"$f":"bksingh!$ADE$8","v":""},null,null,null,{"$f":"bksingh!$ADE$8","v":""},null,null,null,{"$f":"bksingh!$ADE$8","v":""},null,null,null,{"$f":"bksingh!$ADE$8","v":""},null,null,null,{"$f":"bksingh!$ADE$8","v":""},null,null,null,{"$f":"bksingh!$ADE$8","v":""},null,null,null,{"$f":"bksingh!$ADE$8","v":""},null,null,null,{"$f":"bksingh!$ADE$8","v":""},null,null,null,{"$f":"bksingh!$ADE$8","v":""},null,null,null,{"$f":"bksingh!$ADE$8","v":""},null,null,null,{"$f":"bksingh!$ADE$8","v":""},null,null,null,{"$f":"bksingh!$ADE$8","v":""},null,null,null,{"$f":"bksingh!$ADE$8","v":""},null,null,null,{"$f":"bksingh!$ADE$8","v":""},null,null,null,{"$f":"bksingh!$ADE$8","v":""},null,null,null,{"$f":"bksingh!$ADE$8","v":""},null,null,null,{"$f":"bksingh!$ADE$8","v":""},null,null,null,{"$f":"bksingh!$ADE$8","v":""},null,null,null,{"$f":"bksingh!$ADE$8","v":""},null,null,null,{"$f":"bksingh!$ADE$8","v":""},null,null,null,{"$f":"bksingh!$ADE$8","v":""},null,null,null,{"$f":"bksingh!$ADE$8","v":""},null,null,null,{"$f":"bksingh!$ADE$8","v":""},null,null,null,{"$f":"bksingh!$ADE$8","v":""},null,null,null,{"$f":"bksingh!$ADE$8","v":""},null,null,null,{"$f":"bksingh!$ADE$8","v":""},null,null,null,{"$f":"bksingh!$ADE$8","v":""},null,null,null,{"$f":"bksingh!$ADE$8","v":""},null,null,null,{"$f":"bksingh!$ADE$8","v":""},null,null,null,{"$f":"bksingh!$ADE$8","v":""},null,null,null,{"$f":"bksingh!$ADE$8","v":""},null,null,null,{"$f":"bksingh!$ADE$8","v":""},null,null,null,{"$f":"bksingh!$ADE$8","v":""},null,null,null,{"$f":"bksingh!$ADE$8","v":""},null,null,null,{"$f":"bksingh!$ADE$8","v":""},null,null,null,{"$f":"bksingh!$ADE$8","v":""},null,null,null,{"$f":"bksingh!$ADE$8","v":""},null,null,null,{"$f":"bksingh!$ADE$8","v":""},null,null,null,{"$f":"bksingh!$ADE$8","v":""},null,null,null,{"$f":"bksingh!$ADE$8","v":""},null,null,null,{"$f":"bksingh!$ADE$8","v":""},null,null,null,{"$f":"bksingh!$ADE$8","v":""},null,null,null,{"$f":"bksingh!$ADE$8","v":""},null,null,null,{"$f":"bksingh!$ADE$8","v":""},null,null,null,{"$f":"bksingh!$ADE$8","v":""},null,null,null,{"$f":"bksingh!$ADE$8","v":""},null,null,null,{"$f":"bksingh!$ADE$8","v":""},null,null,null,{"$f":"bksingh!$ADE$8","v":""},null,null,null,{"$f":"bksingh!$ADE$8","v":""},null,null,null,{"$f":"bksingh!$ADE$8","v":""},null,null,null,{"$f":"bksingh!$ADE$8","v":""},null,null,null,{"$f":"bksingh!$ADE$8","v":""},null,null,null,{"$f":"bksingh!$ADE$8","v":""},null,null,null,{"$f":"bksingh!$ADE$8","v":""},null,null,null,{"$f":"bksingh!$ADE$8","v":""},null,null,null,{"$f":"bksingh!$ADE$8","v":""},null,null,null,{"$f":"bksingh!$ADE$8","v":""},null,null,null,{"$f":"bksingh!$ADE$8","v":""},null,null,null,{"$f":"bksingh!$ADE$8","v":""},null,null,null,{"$f":"bksingh!$ADE$8","v":""},null,null,null,{"$f":"bksingh!$ADE$8","v":""},null,null,null,{"$f":"bksingh!$ADE$8","v":""},null,null,null,{"$f":"bksingh!$ADE$8","v":""},null,null,null,{"$f":"bksingh!$ADE$8","v":""},null,null,null,{"$f":"bksingh!$ADE$8","v":""},null,null,null,{"$f":"bksingh!$ADE$8","v":""},null,null,null,{"$f":"bksingh!$ADE$8","v":""},null,null,null,{"$f":"bksingh!$ADE$8","v":""},null,null,null,{"$f":"bksingh!$ADE$8","v":""},null,null,null,{"$f":"bksingh!$ADE$8","v":""},null,null,null,{"$f":"bksingh!$ADE$8","v":""},null,null,null,{"$f":"bksingh!$ADE$8","v":""},null,null,null,{"$f":"bksingh!$ADE$8","v":""},null,null,null,{"$f":"bksingh!$ADE$8","v":""},null,null,null,{"$f":"bksingh!$ADE$8","v":""},null,null,null,{"$f":"bksingh!$ADE$8","v":""},null,null,null,{"$f":"bksingh!$ADE$8","v":""},null,null,null,{"$f":"bksingh!$ADE$8","v":""},null,null,null,{"$f":"bksingh!$ADE$8","v":""},null,null,null,{"$f":"bksingh!$ADE$8","v":""},null,null,null,{"$f":"bksingh!$ADE$8","v":""},null,null,null,{"$f":"bksingh!$ADE$8","v":""},null,null,null,{"$f":"bksingh!$ADE$8","v":""},null,null,null,{"$f":"bksingh!$ADE$8","v":""},null,null,null,{"$f":"bksingh!$ADE$8","v":""},null,null,null,{"$f":"bksingh!$ADE$8","v":""},null,null,null,{"$f":"bksingh!$ADE$8","v":""},null,null,null,{"$f":"bksingh!$ADE$8","v":""},null,null,null,{"$f":"bksingh!$ADE$8","v":""},null,null,null,{"$f":"bksingh!$ADE$8","v":""},null,null,null,{"$f":"bksingh!$ADE$8","v":""},null,null,null,{"$f":"bksingh!$ADE$8","v":""},null,null,null,{"$f":"bksingh!$ADE$8","v":""},null,null,null,{"$f":"bksingh!$ADE$8","v":""},null,null,null,{"$f":"bksingh!$ADE$8","v":""},null,null,null,{"$f":"bksingh!$ADE$8","v":""},null,null,null,{"$f":"bksingh!$ADE$8","v":""},null,null,null,{"$f":"bksingh!$ADE$8","v":""},null,null,null,{"$f":"bksingh!$ADE$8","v":""},null,null,null,{"$f":"bksingh!$ADE$8","v":""},null,null,null,{"$f":"bksingh!$ADE$8","v":""},null,null,null,{"$f":"bksingh!$ADE$8","v":""},null,null,null,{"$f":"bksingh!$ADE$8","v":""},null,null,null,{"$f":"bksingh!$ADE$8","v":""},null,null,null,{"$f":"bksingh!$ADE$8","v":""},null,null,null,{"$f":"bksingh!$ADE$8","v":""},null,null,null,{"$f":"bksingh!$ADE$8","v":""},null,null,null,{"$f":"bksingh!$ADE$8","v":""},null,null,null,{"$f":"bksingh!$ADE$8","v":""},null,null,null,{"$f":"bksingh!$ADE$8","v":""},null,null,null,{"$f":"bksingh!$ADE$8","v":""},null,null,null,{"$f":"bksingh!$ADE$8","v":""},null,null,null,{"$f":"bksingh!$ADE$8","v":""},null,null,null,{"$f":"bksingh!$ADE$8","v":""},null,null,null,{"$f":"bksingh!$ADE$8","v":""},null,null,null,{"$f":"bksingh!$ADE$8","v":""},null,null,null,{"$f":"bksingh!$ADE$8","v":""},null,null,null,{"$f":"bksingh!$ADE$8","v":""},null,null,null,{"$f":"bksingh!$ADE$8","v":""},null,null,null,{"$f":"bksingh!$ADE$8","v":""},null,null,null,{"$f":"bksingh!$ADE$8","v":""},null,null,null,{"$f":"bksingh!$ADE$8","v":""},null,null,null,{"$f":"bksingh!$ADE$8","v":""},null,null,null,{"$f":"bksingh!$ADE$8","v":""},null,null,null,{"$f":"bksingh!$ADE$8","v":""},null,null,null,{"$f":"bksingh!$ADE$8","v":""},null,null,null,{"$f":"bksingh!$ADE$8","v":""},null,null,null,{"$f":"bksingh!$ADE$8","v":""},null,null,null,{"$f":"bksingh!$ADE$8","v":""},null,null,null,{"$f":"bksingh!$ADE$8","v":""},null,null,null,{"$f":"bksingh!$ADE$8","v":""},null,null,null,{"$f":"bksingh!$ADE$8","v":""},null,null,null,{"$f":"bksingh!$ADE$8","v":""},null,null,null,{"$f":"bksingh!$ADE$8","v":""},null,null,null,{"$f":"bksingh!$ADE$8","v":""},null,null,null,{"$f":"bksingh!$ADE$8","v":""},null,null,null,{"$f":"bksingh!$ADE$8","v":""},null,null,null,{"$f":"bksingh!$ADE$8","v":""},null,null,null,{"$f":"bksingh!$ADE$8","v":""},null,null,null,{"$f":"bksingh!$ADE$8","v":""},null,null,null,{"$f":"bksingh!$ADE$8","v":""},null,null,null,{"$f":"bksingh!$ADE$8","v":""},null,null,null,{"$f":"bksingh!$ADE$8","v":""},null,null,null,{"$f":"bksingh!$ADE$8","v":""},null,null,null,{"$f":"bksingh!$ADE$8","v":""},null,null,null,{"$f":"bksingh!$ADE$8","v":""},null,null,null,{"$f":"bksingh!$ADE$8","v":""},null,null,null,{"$f":"bksingh!$ADE$8","v":""},null,null,null,{"$f":"bksingh!$ADE$8","v":""},null,null,null,{"$f":"bksingh!$ADE$8","v":""},null,null,null,{"$f":"bksingh!$ADE$8","v":""},null,null,null,{"$f":"bksingh!$ADE$8","v":""},null,null,null,{"$f":"bksingh!$ADE$8","v":""},null,null,null,{"$f":"bksingh!$ADE$8","v":""},null,null,null,{"$f":"bksingh!$ADE$8","v":""},null,null,null,{"$f":"bksingh!$ADE$8","v":""},null,null,null,{"$f":"bksingh!$ADE$8","v":""},null,null,null,{"$f":"bksingh!$ADE$8","v":""},null,null,null,{"$f":"bksingh!$ADE$8","v":""},null,null,null,{"$f":"bksingh!$ADE$8","v":""},null,null,null,{"$f":"bksingh!$ADE$8","v":""},null,null,null,{"$f":"bksingh!$ADE$8","v":""},null,null,null,{"$f":"bksingh!$ADE$8","v":""},null,null,null,{"$f":"bksingh!$ADE$8","v":""},null,null,null,{"$f":"bksingh!$ADE$8","v":""},null,null,null,{"$f":"bksingh!$ADE$8","v":""},null,null,null,{"$f":"bksingh!$ADE$8","v":""},null,null,null,{"$f":"bksingh!$ADE$8","v":""},null,null,null,{"$f":"bksingh!$ADE$8","v":""},null,null,null,{"$f":"bksingh!$ADE$8","v":""},null,null,null,{"$f":"bksingh!$ADE$8","v":""},null,null,null,{"$f":"bksingh!$ADE$8","v":""},null,null,null,{"$f":"bksingh!$ADE$8","v":""},null,null,null,{"$f":"bksingh!$ADE$8","v":""},null,null,null,{"$f":"bksingh!$ADE$8","v":""},null,null,null,{"$f":"bksingh!$ADE$8","v":""},null,null,null,{"$f":"bksingh!$ADE$8","v":""},null,null,null,{"$f":"bksingh!$ADE$8","v":""},null,null,null,{"$f":"bksingh!$ADE$8","v":""},null,null,null,{"$f":"bksingh!$ADE$8","v":""},null,null,null,{"$f":"bksingh!$ADE$8","v":""},null,null,null,{"$f":"bksingh!$ADE$8","v":""},null,null,null,{"$f":"bksingh!$ADE$8","v":""},null,null,null,{"$f":"bksingh!$ADE$8","v":""},null,null,null,{"$f":"bksingh!$ADE$8","v":""},null,null,null,{"$f":"bksingh!$ADE$8","v":""},null,null,null,{"$f":"bksingh!$ADE$8","v":""},null,null,null,{"$f":"bksingh!$ADE$8","v":""},null,null,null,{"$f":"bksingh!$ADE$8","v":""},null,null,null,{"$f":"bksingh!$ADE$8","v":""},null,null,null,{"$f":"bksingh!$ADE$8","v":""},null,null,null,{"$f":"bksingh!$ADE$8","v":""},null,null,null,{"$f":"bksingh!$ADE$8","v":""},null,null,null,{"$f":"bksingh!$ADE$8","v":""},null,null,null,{"$f":"bksingh!$ADE$8","v":""},null,null,null,{"$f":"bksingh!$ADE$8","v":""},null,null,null,{"$f":"bksingh!$ADE$8","v":""},null,null,null,{"$f":"bksingh!$ADE$8","v":""},null,null,null,{"$f":"bksingh!$ADE$8","v":""},null,null,null,{"$f":"bksingh!$ADE$8","v":""},null,null,null,{"$f":"bksingh!$ADE$8","v":""},null,null,null,{"$f":"bksingh!$ADE$8","v":""},null,null,null,{"$f":"bksingh!$ADE$8","v":""},null,null,null,{"$f":"bksingh!$ADE$8","v":""},null,null,null,{"$f":"bksingh!$ADE$8","v":""},null,null,null,{"$f":"bksingh!$ADE$8","v":""},null,null,null,{"$f":"bksingh!$ADE$8","v":""},null,null,null,{"$f":"bksingh!$ADE$8","v":""},null,null,null,{"$f":"bksingh!$ADE$8","v":""},null,null,null,{"$f":"bksingh!$ADE$8","v":""},null,null,null,{"$f":"bksingh!$ADE$8","v":""},null,null,null,{"$f":"bksingh!$ADE$8","v":""},null,null,null,{"$f":"bksingh!$ADE$8","v":""},null,null,null,{"$f":"bksingh!$ADE$8","v":""},null,null,null,{"$f":"bksingh!$ADE$8","v":""},null,null,null,{"$f":"bksingh!$ADE$8","v":""},null,null,null,{"$f":"bksingh!$ADE$8","v":""},null,null,null,{"$f":"bksingh!$ADE$8","v":""},null,null,null,{"$f":"bksingh!$ADE$8","v":""},null,null,null,{"$f":"bksingh!$ADE$8","v":""},null,null,null,{"$f":"bksingh!$ADE$8","v":""},null,null,null,{"$f":"bksingh!$ADE$8","v":""},null,null,null,{"$f":"bksingh!$ADE$8","v":""},null,null,null,{"$f":"bksingh!$ADE$8","v":""},null,null,null,{"$f":"bksingh!$ADE$8","v":""},null,null,null,{"$f":"bksingh!$ADE$8","v":""},null,null,null,{"$f":"bksingh!$ADE$8","v":""},null,null,null,{"$f":"bksingh!$ADE$8","v":""},null,null,null,{"$f":"bksingh!$ADE$8","v":""},null,null,null,{"$f":"bksingh!$ADE$8","v":""},null,null,null,{"$f":"bksingh!$ADE$8","v":""},null,null,null,{"$f":"bksingh!$ADE$8","v":""},null,null,null,{"$f":"bksingh!$ADE$8","v":""},null,null,null,{"$f":"bksingh!$ADE$8","v":""},null,null,null,{"$f":"bksingh!$ADE$8","v":""},null,null,null,{"$f":"bksingh!$ADE$8","v":""},null,null,null,{"$f":"bksingh!$ADE$8","v":""},null,null,null,{"$f":"bksingh!$ADE$8","v":""},null,null,null,{"$f":"bksingh!$ADE$8","v":""},null,null,null,{"$f":"bksingh!$ADE$8","v":""},null,null,null,{"$f":"bksingh!$ADE$8","v":""},null,null,null,{"$f":"bksingh!$ADE$8","v":""},null,null,null,{"$f":"bksingh!$ADE$8","v":""},null,null,null,{"$f":"bksingh!$ADE$8","v":""},null,null,null,{"$f":"bksingh!$ADE$8","v":""},null,null,null,{"$f":"bksingh!$ADE$8","v":""},null,null,null,{"$f":"bksingh!$ADE$8","v":""},null,null,null,{"$f":"bksingh!$ADE$8","v":""},null,null,null,{"$f":"bksingh!$ADE$8","v":""},null,null,null,{"$f":"bksingh!$ADE$8","v":""},null,null,null,{"$f":"bksingh!$ADE$8","v":""},null,null,null,{"$f":"bksingh!$ADE$8","v":""},null,null,null,{"$f":"bksingh!$ADE$8","v":""},null,null,null,{"$f":"bksingh!$ADE$8","v":""},null,null,null,{"$f":"bksingh!$ADE$8","v":""},null,null,null,{"$f":"bksingh!$ADE$8","v":""},null,null,null,{"$f":"bksingh!$ADE$8","v":""},null,null,null,{"$f":"bksingh!$ADE$8","v":""},null,null,null,{"$f":"bksingh!$ADE$8","v":""},null,null,null,{"$f":"bksingh!$ADE$8","v":""},null,null,null,{"$f":"bksingh!$ADE$8","v":""},null,null,null,{"$f":"bksingh!$ADE$8","v":""},null,null,null,{"$f":"bksingh!$ADE$8","v":""},null,null,null,{"$f":"bksingh!$ADE$8","v":""},null,null,null,{"$f":"bksingh!$ADE$8","v":""},null,null,null,{"$f":"bksingh!$ADE$8","v":""},null,null,null,{"$f":"bksingh!$ADE$8","v":""},null,null,null,{"$f":"bksingh!$ADE$8","v":""},null,null,null,{"$f":"bksingh!$ADE$8","v":""},null,null,null,{"$f":"bksingh!$ADE$8","v":""},null,null,null,{"$f":"bksingh!$ADE$8","v":""},null,null,null,{"$f":"bksingh!$ADE$8","v":""},null,null,null,{"$f":"bksingh!$ADE$8","v":""},null,null,null,{"$f":"bksingh!$ADE$8","v":""},null,null,null,{"$f":"bksingh!$ADE$8","v":""},null,null,null,{"$f":"bksingh!$ADE$8","v":""},null,null,null,{"$f":"bksingh!$ADE$8","v":""},null,null,null,{"$f":"bksingh!$ADE$8","v":""},null,null,null,{"$f":"bksingh!$ADE$8","v":""},null,null,null,{"$f":"bksingh!$ADE$8","v":""},null,null,null,{"$f":"bksingh!$ADE$8","v":""},null,null,null,{"$f":"bksingh!$ADE$8","v":""},null,null,null,{"$f":"bksingh!$ADE$8","v":""},null,null,null,{"$f":"bksingh!$ADE$8","v":""},null,null,null,{"$f":"bksingh!$ADE$8","v":""},null,null,null,{"$f":"bksingh!$ADE$8","v":""},null,null,null,{"$f":"bksingh!$ADE$8","v":""},null,null,null,{"$f":"bksingh!$ADE$8","v":""},null,null,null,{"$f":"bksingh!$ADE$8","v":""},null,null,null,{"$f":"bksingh!$ADE$8","v":""},null,null,null,{"$f":"bksingh!$ADE$8","v":""},null,null,null,{"$f":"bksingh!$ADE$8","v":""},null,null,null,{"$f":"bksingh!$ADE$8","v":""},null,null,null,{"$f":"bksingh!$ADE$8","v":""},null,null,null,{"$f":"bksingh!$ADE$8","v":""},null,null,null,{"$f":"bksingh!$ADE$8","v":""},null,null,null,{"$f":"bksingh!$ADE$8","v":""},null,null,null,{"$f":"bksingh!$ADE$8","v":""},null,null,null,{"$f":"bksingh!$ADE$8","v":""},null,null,null,{"$f":"bksingh!$ADE$8","v":""},null,null,null,{"$f":"bksingh!$ADE$8","v":""},null,null,null,{"$f":"bksingh!$ADE$8","v":""},null,null,null,{"$f":"bksingh!$ADE$8","v":""},null,null,null,{"$f":"bksingh!$ADE$8","v":""},null,null,null,{"$f":"bksingh!$ADE$8","v":""},null,null,null,{"$f":"bksingh!$ADE$8","v":""},null,null,null,{"$f":"bksingh!$ADE$8","v":""},null,null,null,{"$f":"bksingh!$ADE$8","v":""},null,null,null,{"$f":"bksingh!$ADE$8","v":""},null,null,null,{"$f":"bksingh!$ADE$8","v":""},null,null,null,{"$f":"bksingh!$ADE$8","v":""},null,null,null,{"$f":"bksingh!$ADE$8","v":""},null,null,null,{"$f":"bksingh!$ADE$8","v":""},null,null,null,{"$f":"bksingh!$ADE$8","v":""},null,null,null,{"$f":"bksingh!$ADE$8","v":""},null,null,null,{"$f":"bksingh!$ADE$8","v":""},null,null,null,{"$f":"bksingh!$ADE$8","v":""},null,null,null,{"$f":"bksingh!$ADE$8","v":""},null,null,null,{"$f":"bksingh!$ADE$8","v":""},null,null,null,{"$f":"bksingh!$ADE$8","v":""},null,null,null,{"$f":"bksingh!$ADE$8","v":""},null,null,null,{"$f":"bksingh!$ADE$8","v":""},null,null,null,{"$f":"bksingh!$ADE$8","v":""},null,null,null,{"$f":"bksingh!$ADE$8","v":""},null,null,null,{"$f":"bksingh!$ADE$8","v":""},null,null,null,{"$f":"bksingh!$ADE$8","v":""},null,null,null,{"$f":"bksingh!$ADE$8","v":""},null,null,null,{"$f":"bksingh!$ADE$8","v":""},null,null,null,{"$f":"bksingh!$ADE$8","v":""},null,null,null,{"$f":"bksingh!$ADE$8","v":""},null,null,null,{"$f":"bksingh!$ADE$8","v":""},null,null,null,{"$f":"bksingh!$ADE$8","v":""},null,null,null,{"$f":"bksingh!$ADE$8","v":""},null,null,null,{"$f":"bksingh!$ADE$8","v":""},null,null,null,{"$f":"bksingh!$ADE$8","v":""},null,null,null,{"$f":"bksingh!$ADE$8","v":""},null,null,null,{"$f":"bksingh!$ADE$8","v":""},null,null,null,{"$f":"bksingh!$ADE$8","v":""},null,null,null,{"$f":"bksingh!$ADE$8","v":""},null,null,null,{"$f":"bksingh!$ADE$8","v":""},null,null,null,{"$f":"bksingh!$ADE$8","v":""},null,null,null,{"$f":"bksingh!$ADE$8","v":""},null,null,null,{"$f":"bksingh!$ADE$8","v":""},null,null,null,{"$f":"bksingh!$ADE$8","v":""},null,null,null,{"$f":"bksingh!$ADE$8","v":""},null,null,null,{"$f":"bksingh!$ADE$8","v":""},null,null,null,{"$f":"bksingh!$ADE$8","v":""},null,null,null,{"$f":"bksingh!$ADE$8","v":""},null,null,null,{"$f":"bksingh!$ADE$8","v":""},null,null,null,{"$f":"bksingh!$ADE$8","v":""},null,null,null,{"$f":"bksingh!$ADE$8","v":""},null,null,null,{"$f":"bksingh!$ADE$8","v":""},null,null,null,{"$f":"bksingh!$ADE$8","v":""},null,null,null,{"$f":"bksingh!$ADE$8","v":""},null,null,null,{"$f":"bksingh!$ADE$8","v":""},null,null,null,{"$f":"bksingh!$ADE$8","v":""},null,null,null,{"$f":"bksingh!$ADE$8","v":""},null,null,null,{"$f":"bksingh!$ADE$8","v":""},null,null,null,{"$f":"bksingh!$ADE$8","v":""},null,null,null,{"$f":"bksingh!$ADE$8","v":""},null,null,null,{"$f":"bksingh!$ADE$8","v":""},null,null,null,{"$f":"bksingh!$ADE$8","v":""},null,null,null,{"$f":"bksingh!$ADE$8","v":""},null,null,null,{"$f":"bksingh!$ADE$8","v":""},null,null,null,{"$f":"bksingh!$ADE$8","v":""},null,null,null,{"$f":"bksingh!$ADE$8","v":""},null,null,null,{"$f":"bksingh!$ADE$8","v":""},null,null,null,{"$f":"bksingh!$ADE$8","v":""},null,null,null,{"$f":"bksingh!$ADE$8","v":""},null,null,null,{"$f":"bksingh!$ADE$8","v":""},null,null,null,{"$f":"bksingh!$ADE$8","v":""},null,null,null,{"$f":"bksingh!$ADE$8","v":""},null,null,null,{"$f":"bksingh!$ADE$8","v":""},null,null,null,{"$f":"bksingh!$ADE$8","v":""},null,null,null,{"$f":"bksingh!$ADE$8","v":""},null,null,null,{"$f":"bksingh!$ADE$8","v":""},null,null,null,{"$f":"bksingh!$ADE$8","v":""},null,null,null,{"$f":"bksingh!$ADE$8","v":""},null,null,null,{"$f":"bksingh!$ADE$8","v":""},null,null,null,{"$f":"bksingh!$ADE$8","v":""},null,null,null,{"$f":"bksingh!$ADE$8","v":""},null,null,null,{"$f":"bksingh!$ADE$8","v":""},null,null,null,{"$f":"bksingh!$ADE$8","v":""},null,null,null,{"$f":"bksingh!$ADE$8","v":""},null,null,null,{"$f":"bksingh!$ADE$8","v":""},null,null,null,{"$f":"bksingh!$ADE$8","v":""},null,null,null,{"$f":"bksingh!$ADE$8","v":""},null,null,null,{"$f":"bksingh!$ADE$8","v":""},null,null,null,{"$f":"bksingh!$ADE$8","v":""},null,null,null,{"$f":"bksingh!$ADE$8","v":""},null,null,null,{"$f":"bksingh!$ADE$8","v":""},null,null,null,{"$f":"bksingh!$ADE$8","v":""},null,null,null,{"$f":"bksingh!$ADE$8","v":""},null,null,null,{"$f":"bksingh!$ADE$8","v":""},null,null,null,{"$f":"bksingh!$ADE$8","v":""},null,null,null,{"$f":"bksingh!$ADE$8","v":""},null,null,null,{"$f":"bksingh!$ADE$8","v":""},null,null,null,{"$f":"bksingh!$ADE$8","v":""},null,null,null,{"$f":"bksingh!$ADE$8","v":""},null,null,null,{"$f":"bksingh!$ADE$8","v":""},null,null,null,{"$f":"bksingh!$ADE$8","v":""},null,null,null,{"$f":"bksingh!$ADE$8","v":""},null,null,null,{"$f":"bksingh!$ADE$8","v":""},null,null,null,{"$f":"bksingh!$ADE$8","v":""},null,null,null,{"$f":"bksingh!$ADE$8","v":""},null,null,null,{"$f":"bksingh!$ADE$8","v":""},null,null,null,{"$f":"bksingh!$ADE$8","v":""},null,null,null,{"$f":"bksingh!$ADE$8","v":""},null,null,null,{"$f":"bksingh!$ADE$8","v":""},null,null,null,{"$f":"bksingh!$ADE$8","v":""},null,null,null,{"$f":"bksingh!$ADE$8","v":""},null,null,null,{"$f":"bksingh!$ADE$8","v":""},null,null,null,{"$f":"bksingh!$ADE$8","v":""},null,null,null,{"$f":"bksingh!$ADE$8","v":""},null,null,null,{"$f":"bksingh!$ADE$8","v":""},null,null,null,{"$f":"bksingh!$ADE$8","v":""},null,null,null,{"$f":"bksingh!$ADE$8","v":""},null,null,null,{"$f":"bksingh!$ADE$8","v":""},null,null,null,{"$f":"bksingh!$ADE$8","v":""},null,null,null,{"$f":"bksingh!$ADE$8","v":""},null,null,null,{"$f":"bksingh!$ADE$8","v":""},null,null,null,{"$f":"bksingh!$ADE$8","v":""},null,null,null,{"$f":"bksingh!$ADE$8","v":""},null,null,null,{"$f":"bksingh!$ADE$8","v":""},null,null,null,{"$f":"bksingh!$ADE$8","v":""},null,null,null,{"$f":"bksingh!$ADE$8","v":""},null,null,null,{"$f":"bksingh!$ADE$8","v":""},null,null,null,{"$f":"bksingh!$ADE$8","v":""},null,null,null,{"$f":"bksingh!$ADE$8","v":""},null,null,null,{"$f":"bksingh!$ADE$8","v":""},null,null,null,{"$f":"bksingh!$ADE$8","v":""},null,null,null,{"$f":"bksingh!$ADE$8","v":""},null,null,null,{"$f":"bksingh!$ADE$8","v":""},null,null,null,{"$f":"bksingh!$ADE$8","v":""},null,null,null,{"$f":"bksingh!$ADE$8","v":""},null,null,null,{"$f":"bksingh!$ADE$8","v":""},null,null,null,{"$f":"bksingh!$ADE$8","v":""},null,null,null,{"$f":"bksingh!$ADE$8","v":""},null,null,null,{"$f":"bksingh!$ADE$8","v":""},null,null,null,{"$f":"bksingh!$ADE$8","v":""},null,null,null,{"$f":"bksingh!$ADE$8","v":""},null,null,null,{"$f":"bksingh!$ADE$8","v":""},null,null,null,{"$f":"bksingh!$ADE$8","v":""},null,null,null,{"$f":"bksingh!$ADE$8","v":""},null,null,null,{"$f":"bksingh!$ADE$8","v":""},null,null,null,{"$f":"bksingh!$ADE$8","v":""},null,null,null,{"$f":"bksingh!$ADE$8","v":""},null,null,null,{"$f":"bksingh!$ADE$8","v":""},null,null,null,{"$f":"bksingh!$ADE$8","v":""},null,null,null,{"$f":"bksingh!$ADE$8","v":""},null,null,null,{"$f":"bksingh!$ADE$8","v":""},null,null,null,{"$f":"bksingh!$ADE$8","v":""},null,null,null,{"$f":"bksingh!$ADE$8","v":""},null,null,null,{"$f":"bksingh!$ADE$8","v":""},null,null,null,{"$f":"bksingh!$ADE$8","v":""},null,null,null,{"$f":"bksingh!$ADE$8","v":""},null,null,null,{"$f":"bksingh!$ADE$8","v":""},null,null,null,{"$f":"bksingh!$ADE$8","v":""},null,null,null,{"$f":"bksingh!$ADE$8","v":""},null,null,null,{"$f":"bksingh!$ADE$8","v":""},null,null,null,{"$f":"bksingh!$ADE$8","v":""},null,null,null,{"$f":"bksingh!$ADE$8","v":""},null,null,null,{"$f":"bksingh!$ADE$8","v":""},null,null,null,{"$f":"bksingh!$ADE$8","v":""},null,null,null,{"$f":"bksingh!$ADE$8","v":""},null,null,null,{"$f":"bksingh!$ADE$8","v":""},null,null,null,{"$f":"bksingh!$ADE$8","v":""},null,null,null,{"$f":"bksingh!$ADE$8","v":""},null,null,null,{"$f":"bksingh!$ADE$8","v":""},null,null,null,{"$f":"bksingh!$ADE$8","v":""},null,null,null,{"$f":"bksingh!$ADE$8","v":""},null,null,null,{"$f":"bksingh!$ADE$8","v":""},null,null,null,{"$f":"bksingh!$ADE$8","v":""},null,null,null,{"$f":"bksingh!$ADE$8","v":""},null,null,null,{"$f":"bksingh!$ADE$8","v":""},null,null,null,{"$f":"bksingh!$ADE$8","v":""},null,null,null,{"$f":"bksingh!$ADE$8","v":""},null,null,null,{"$f":"bksingh!$ADE$8","v":""},null,null,null,{"$f":"bksingh!$ADE$8","v":""},null,null,null,{"$f":"bksingh!$ADE$8","v":""},null,null,null,{"$f":"bksingh!$ADE$8","v":""},null,null,null,{"$f":"bksingh!$ADE$8","v":""},null,null,null,{"$f":"bksingh!$ADE$8","v":""},null,null,null,{"$f":"bksingh!$ADE$8","v":""},null,null,null,{"$f":"bksingh!$ADE$8","v":""},null,null,null,{"$f":"bksingh!$ADE$8","v":""},null,null,null,{"$f":"bksingh!$ADE$8","v":""},null,null,null,{"$f":"bksingh!$ADE$8","v":""},null,null,null,{"$f":"bksingh!$ADE$8","v":""},null,null,null,{"$f":"bksingh!$ADE$8","v":""},null,null,null,{"$f":"bksingh!$ADE$8","v":""},null,null,null,{"$f":"bksingh!$ADE$8","v":""},null,null,null,{"$f":"bksingh!$ADE$8","v":""},null,null,null,{"$f":"bksingh!$ADE$8","v":""},null,null,null,{"$f":"bksingh!$ADE$8","v":""},null,null,null,{"$f":"bksingh!$ADE$8","v":""},null,null,null,{"$f":"bksingh!$ADE$8","v":""},null,null,null,{"$f":"bksingh!$ADE$8","v":""},null,null,null,{"$f":"bksingh!$ADE$8","v":""},null,null,null,{"$f":"bksingh!$ADE$8","v":""},null,null,null,{"$f":"bksingh!$ADE$8","v":""},null,null,null,{"$f":"bksingh!$ADE$8","v":""},null,null,null,{"$f":"bksingh!$ADE$8","v":""},null,null,null,{"$f":"bksingh!$ADE$8","v":""},null,null,null,{"$f":"bksingh!$ADE$8","v":""},null,null,null,{"$f":"bksingh!$ADE$8","v":""},null,null,null,{"$f":"bksingh!$ADE$8","v":""},null,null,null,{"$f":"bksingh!$ADE$8","v":""},null,null,null,{"$f":"bksingh!$ADE$8","v":""},null,null,null,{"$f":"bksingh!$ADE$8","v":""},null,null,null,{"$f":"bksingh!$ADE$8","v":""},null,null,null,{"$f":"bksingh!$ADE$8","v":""},null,null,null,{"$f":"bksingh!$ADE$8","v":""},null,null,null,{"$f":"bksingh!$ADE$8","v":""},null,null,null,{"$f":"bksingh!$ADE$8","v":""},null,null,null,{"$f":"bksingh!$ADE$8","v":""},null,null,null,{"$f":"bksingh!$ADE$8","v":""},null,null,null,{"$f":"bksingh!$ADE$8","v":""},null,null,null,{"$f":"bksingh!$ADE$8","v":""},null,null,null,{"$f":"bksingh!$ADE$8","v":""},null,null,null,{"$f":"bksingh!$ADE$8","v":""},null,null,null,{"$f":"bksingh!$ADE$8","v":""},null,null,null,{"$f":"bksingh!$ADE$8","v":""},null,null,null,{"$f":"bksingh!$ADE$8","v":""},null,null,null,{"$f":"bksingh!$ADE$8","v":""},null,null,null,{"$f":"bksingh!$ADE$8","v":""},null,null,null,{"$f":"bksingh!$ADE$8","v":""},null,null,null,{"$f":"bksingh!$ADE$8","v":""},null,null,null,{"$f":"bksingh!$ADE$8","v":""},null,null,null,{"$f":"bksingh!$ADE$8","v":""},null,null,null,{"$f":"bksingh!$ADE$8","v":""},null,null,null,{"$f":"bksingh!$ADE$8","v":""},null,null,null,{"$f":"bksingh!$ADE$8","v":""},null,null,null,{"$f":"bksingh!$ADE$8","v":""},null,null,null,{"$f":"bksingh!$ADE$8","v":""},null,null,null,{"$f":"bksingh!$ADE$8","v":""},null,null,null,{"$f":"bksingh!$ADE$8","v":""},null,null,null,{"$f":"bksingh!$ADE$8","v":""},null,null,null,{"$f":"bksingh!$ADE$8","v":""},null,null,null,{"$f":"bksingh!$ADE$8","v":""},null,null,null,{"$f":"bksingh!$ADE$8","v":""},null,null,null,{"$f":"bksingh!$ADE$8","v":""},null,null,null,{"$f":"bksingh!$ADE$8","v":""},null,null,null,{"$f":"bksingh!$ADE$8","v":""},null,null,null,{"$f":"bksingh!$ADE$8","v":""},null,null,null,{"$f":"bksingh!$ADE$8","v":""},null,null,null,{"$f":"bksingh!$ADE$8","v":""},null,null,null,{"$f":"bksingh!$ADE$8","v":""},null,null,null,{"$f":"bksingh!$ADE$8","v":""},null,null,null,{"$f":"bksingh!$ADE$8","v":""},null,null,null,{"$f":"bksingh!$ADE$8","v":""},null,null,null,{"$f":"bksingh!$ADE$8","v":""},null,null,null,{"$f":"bksingh!$ADE$8","v":""},null,null,null,{"$f":"bksingh!$ADE$8","v":""},null,null,null,{"$f":"bksingh!$ADE$8","v":""},null,null,null,{"$f":"bksingh!$ADE$8","v":""},null,null,null,{"$f":"bksingh!$ADE$8","v":""},null,null,null,{"$f":"bksingh!$ADE$8","v":""},null,null,null,{"$f":"bksingh!$ADE$8","v":""},null,null,null,{"$f":"bksingh!$ADE$8","v":""},null,null,null,{"$f":"bksingh!$ADE$8","v":""},null,null,null,{"$f":"bksingh!$ADE$8","v":""},null,null,null,{"$f":"bksingh!$ADE$8","v":""},null,null,null,{"$f":"bksingh!$ADE$8","v":""},null,null,null,{"$f":"bksingh!$ADE$8","v":""},null,null,null,{"$f":"bksingh!$ADE$8","v":""},null,null,null,{"$f":"bksingh!$ADE$8","v":""},null,null,null,{"$f":"bksingh!$ADE$8","v":""},null,null,null,{"$f":"bksingh!$ADE$8","v":""},null,null,null,{"$f":"bksingh!$ADE$8","v":""},null,null,null,{"$f":"bksingh!$ADE$8","v":""},null,null,null,{"$f":"bksingh!$ADE$8","v":""},null,null,null,{"$f":"bksingh!$ADE$8","v":""},null,null,null,{"$f":"bksingh!$ADE$8","v":""},null,null,null,{"$f":"bksingh!$ADE$8","v":""},null,null,null,{"$f":"bksingh!$ADE$8","v":""},null,null,null,{"$f":"bksingh!$ADE$8","v":""},null,null,null,{"$f":"bksingh!$ADE$8","v":""},null,null,null,{"$f":"bksingh!$ADE$8","v":""},null,null,null,{"$f":"bksingh!$ADE$8","v":""},null,null,null,{"$f":"bksingh!$ADE$8","v":""},null,null,null,{"$f":"bksingh!$ADE$8","v":""},null,null,null,{"$f":"bksingh!$ADE$8","v":""},null,null,null,{"$f":"bksingh!$ADE$8","v":""},null,null,null,{"$f":"bksingh!$ADE$8","v":""},null,null,null,{"$f":"bksingh!$ADE$8","v":""},null,null,null,{"$f":"bksingh!$ADE$8","v":""},null,null,null,{"$f":"bksingh!$ADE$8","v":""},null,null,null,{"$f":"bksingh!$ADE$8","v":""},null,null,null,{"$f":"bksingh!$ADE$8","v":""},null,null,null,{"$f":"bksingh!$ADE$8","v":""},null,null,null,{"$f":"bksingh!$ADE$8","v":""},null,null,null,{"$f":"bksingh!$ADE$8","v":""},null,null,null,{"$f":"bksingh!$ADE$8","v":""},null,null,null,{"$f":"bksingh!$ADE$8","v":""},null,null,null,{"$f":"bksingh!$ADE$8","v":""},null,null,null,{"$f":"bksingh!$ADE$8","v":""},null,null,null,{"$f":"bksingh!$ADE$8","v":""},null,null,null,{"$f":"bksingh!$ADE$8","v":""},null,null,null,{"$f":"bksingh!$ADE$8","v":""},null,null,null,{"$f":"bksingh!$ADE$8","v":""},null,null,null,{"$f":"bksingh!$ADE$8","v":""},null,null,null,{"$f":"bksingh!$ADE$8","v":""},null,null,null,{"$f":"bksingh!$ADE$8","v":""},null,null,null,{"$f":"bksingh!$ADE$8","v":""},null,null,null,{"$f":"bksingh!$ADE$8","v":""},null,null,null,{"$f":"bksingh!$ADE$8","v":""},null,null,null,{"$f":"bksingh!$ADE$8","v":""},null,null,null,{"$f":"bksingh!$ADE$8","v":""},null,null,null,{"$f":"bksingh!$ADE$8","v":""},null,null,null,{"$f":"bksingh!$ADE$8","v":""},null,null,null,{"$f":"bksingh!$ADE$8","v":""},null,null,null,{"$f":"bksingh!$ADE$8","v":""},null,null,null,{"$f":"bksingh!$ADE$8","v":""},null,null,null,{"$f":"bksingh!$ADE$8","v":""},null,null,null,{"$f":"bksingh!$ADE$8","v":""},null,null,null,{"$f":"bksingh!$ADE$8","v":""},null,null,null,{"$f":"bksingh!$ADE$8","v":""},null,null,null,{"$f":"bksingh!$ADE$8","v":""},null,null,null,{"$f":"bksingh!$ADE$8","v":""},null,null,null,{"$f":"bksingh!$ADE$8","v":""},null,null,null,{"$f":"bksingh!$ADE$8","v":""},null,null,null,{"$f":"bksingh!$ADE$8","v":""},null,null,null,{"$f":"bksingh!$ADE$8","v":""},null,null,null,{"$f":"bksingh!$ADE$8","v":""},null,null,null,{"$f":"bksingh!$ADE$8","v":""},null,null,null,{"$f":"bksingh!$ADE$8","v":""},null,null,null,{"$f":"bksingh!$ADE$8","v":""},null,null,null,{"$f":"bksingh!$ADE$8","v":""},null,null,null,{"$f":"bksingh!$ADE$8","v":""},null,null,null,{"$f":"bksingh!$ADE$8","v":""},null,null,null,{"$f":"bksingh!$ADE$8","v":""},null,null,null,{"$f":"bksingh!$ADE$8","v":""},null,null,null,{"$f":"bksingh!$ADE$8","v":""},null,null,null,{"$f":"bksingh!$ADE$8","v":""},null,null,null,{"$f":"bksingh!$ADE$8","v":""},null,null,null,{"$f":"bksingh!$ADE$8","v":""},null,null,null,{"$f":"bksingh!$ADE$8","v":""},null,null,null,{"$f":"bksingh!$ADE$8","v":""},null,null,null,{"$f":"bksingh!$ADE$8","v":""},null,null,null,{"$f":"bksingh!$ADE$8","v":""},null,null,null,{"$f":"bksingh!$ADE$8","v":""},null,null,null,{"$f":"bksingh!$ADE$8","v":""},null,null,null,{"$f":"bksingh!$ADE$8","v":""},null,null,null,{"$f":"bksingh!$ADE$8","v":""},null,null,null,{"$f":"bksingh!$ADE$8","v":""},null,null,null,{"$f":"bksingh!$ADE$8","v":""},null,null,null,{"$f":"bksingh!$ADE$8","v":""},null,null,null,{"$f":"bksingh!$ADE$8","v":""},null,null,null,{"$f":"bksingh!$ADE$8","v":""},null,null,null,{"$f":"bksingh!$ADE$8","v":""},null,null,null,{"$f":"bksingh!$ADE$8","v":""},null,null,null,{"$f":"bksingh!$ADE$8","v":""},null,null,null,{"$f":"bksingh!$ADE$8","v":""},null,null,null,{"$f":"bksingh!$ADE$8","v":""},null,null,null,{"$f":"bksingh!$ADE$8","v":""},null,null,null,{"$f":"bksingh!$ADE$8","v":""},null,null,null,{"$f":"bksingh!$ADE$8","v":""},null,null,null,{"$f":"bksingh!$ADE$8","v":""},null,null,null,{"$f":"bksingh!$ADE$8","v":""},null,null,null,{"$f":"bksingh!$ADE$8","v":""},null,null,null,{"$f":"bksingh!$ADE$8","v":""},null,null,null,{"$f":"bksingh!$ADE$8","v":""},null,null,null,{"$f":"bksingh!$ADE$8","v":""},null,null,null,{"$f":"bksingh!$ADE$8","v":""},null,null,null,{"$f":"bksingh!$ADE$8","v":""},null,null,null,{"$f":"bksingh!$ADE$8","v":""},null,null,null,{"$f":"bksingh!$ADE$8","v":""},null,null,null,{"$f":"bksingh!$ADE$8","v":""},null,null,null,{"$f":"bksingh!$ADE$8","v":""},null,null,null,{"$f":"bksingh!$ADE$8","v":""},null,null,null,{"$f":"bksingh!$ADE$8","v":""},null,null,null,{"$f":"bksingh!$ADE$8","v":""},null,null,null,{"$f":"bksingh!$ADE$8","v":""},null,null,null,{"$f":"bksingh!$ADE$8","v":""},null,null,null,{"$f":"bksingh!$ADE$8","v":""},null,null,null,{"$f":"bksingh!$ADE$8","v":""},null,null,null,{"$f":"bksingh!$ADE$8","v":""},null,null,null,{"$f":"bksingh!$ADE$8","v":""},null,null,null,{"$f":"bksingh!$ADE$8","v":""},null,null,null,{"$f":"bksingh!$ADE$8","v":""},null,null,null,{"$f":"bksingh!$ADE$8","v":""},null,null,null,{"$f":"bksingh!$ADE$8","v":""},null,null,null,{"$f":"bksingh!$ADE$8","v":""},null,null,null,{"$f":"bksingh!$ADE$8","v":""},null,null,null,{"$f":"bksingh!$ADE$8","v":""},null,null,null,{"$f":"bksingh!$ADE$8","v":""},null,null,null,{"$f":"bksingh!$ADE$8","v":""},null,null,null,{"$f":"bksingh!$ADE$8","v":""},null,null,null,{"$f":"bksingh!$ADE$8","v":""},null,null,null,{"$f":"bksingh!$ADE$8","v":""},null,null,null,{"$f":"bksingh!$ADE$8","v":""},null,null,null,{"$f":"bksingh!$ADE$8","v":""},null,null,null,{"$f":"bksingh!$ADE$8","v":""},null,null,null,{"$f":"bksingh!$ADE$8","v":""},null,null,null,{"$f":"bksingh!$ADE$8","v":""},null,null,null,{"$f":"bksingh!$ADE$8","v":""},null,null,null,{"$f":"bksingh!$ADE$8","v":""},null,null,null,{"$f":"bksingh!$ADE$8","v":""},null,null,null,{"$f":"bksingh!$ADE$8","v":""},null,null,null,{"$f":"bksingh!$ADE$8","v":""},null,null,null,{"$f":"bksingh!$ADE$8","v":""},null,null,null,{"$f":"bksingh!$ADE$8","v":""},null,null,null,{"$f":"bksingh!$ADE$8","v":""},null,null,null,{"$f":"bksingh!$ADE$8","v":""},null,null,null,{"$f":"bksingh!$ADE$8","v":""},null,null,null,{"$f":"bksingh!$ADE$8","v":""},null,null,null,{"$f":"bksingh!$ADE$8","v":""},null,null,null,{"$f":"bksingh!$ADE$8","v":""},null,null,null,{"$f":"bksingh!$ADE$8","v":""},null,null,null,{"$f":"bksingh!$ADE$8","v":""},null,null,null,{"$f":"bksingh!$ADE$8","v":""},null,null,null,{"$f":"bksingh!$ADE$8","v":""},null,null,null,{"$f":"bksingh!$ADE$8","v":""},null,null,null,{"$f":"bksingh!$ADE$8","v":""},null,null,null,{"$f":"bksingh!$ADE$8","v":""},null,null,null,{"$f":"bksingh!$ADE$8","v":""},null,null,null,{"$f":"bksingh!$ADE$8","v":""},null,null,null,{"$f":"bksingh!$ADE$8","v":""},null,null,null,{"$f":"bksingh!$ADE$8","v":""},null,null,null,{"$f":"bksingh!$ADE$8","v":""},null,null,null,{"$f":"bksingh!$ADE$8","v":""},null,null,null,{"$f":"bksingh!$ADE$8","v":""},null,null,null,{"$f":"bksingh!$ADE$8","v":""},null,null,null,{"$f":"bksingh!$ADE$8","v":""},null,null,null,{"$f":"bksingh!$ADE$8","v":""},null,null,null,{"$f":"bksingh!$ADE$8","v":""},null,null,null,{"$f":"bksingh!$ADE$8","v":""},null,null,null,{"$f":"bksingh!$ADE$8","v":""},null,null,null,{"$f":"bksingh!$ADE$8","v":""},null,null,null,{"$f":"bksingh!$ADE$8","v":""},null,null,null,{"$f":"bksingh!$ADE$8","v":""},null,null,null,{"$f":"bksingh!$ADE$8","v":""},null,null,null,{"$f":"bksingh!$ADE$8","v":""},null,null,null,{"$f":"bksingh!$ADE$8","v":""},null,null,null,{"$f":"bksingh!$ADE$8","v":""},null,null,null,{"$f":"bksingh!$ADE$8","v":""},null,null,null,{"$f":"bksingh!$ADE$8","v":""},null,null,null,{"$f":"bksingh!$ADE$8","v":""},null,null,null,{"$f":"bksingh!$ADE$8","v":""},null,null,null,{"$f":"bksingh!$ADE$8","v":""},null,null,null,{"$f":"bksingh!$ADE$8","v":""},null,null,null,{"$f":"bksingh!$ADE$8","v":""},null,null,null,{"$f":"bksingh!$ADE$8","v":""},null,null,null,{"$f":"bksingh!$ADE$8","v":""},null,null,null,{"$f":"bksingh!$ADE$8","v":""},null,null,null,{"$f":"bksingh!$ADE$8","v":""},null,null,null,{"$f":"bksingh!$ADE$8","v":""},null,null,null,{"$f":"bksingh!$ADE$8","v":""},null,null,null,{"$f":"bksingh!$ADE$8","v":""},null,null,null,{"$f":"bksingh!$ADE$8","v":""},null,null,null,{"$f":"bksingh!$ADE$8","v":""},null,null,null,{"$f":"bksingh!$ADE$8","v":""},null,null,null,{"$f":"bksingh!$ADE$8","v":""},null,null,null,{"$f":"bksingh!$ADE$8","v":""},null,null,null,{"$f":"bksingh!$ADE$8","v":""},null,null,null,{"$f":"bksingh!$ADE$8","v":""},null,null,null,{"$f":"bksingh!$ADE$8","v":""},null,null,null,{"$f":"bksingh!$ADE$8","v":""},null,null,null,{"$f":"bksingh!$ADE$8","v":""},null,null,null,{"$f":"bksingh!$ADE$8","v":""},null,null,null,{"$f":"bksingh!$ADE$8","v":""},null,null,null,{"$f":"bksingh!$ADE$8","v":""},null,null,null,{"$f":"bksingh!$ADE$8","v":""},null,null,null,{"$f":"bksingh!$ADE$8","v":""},null,null,null,{"$f":"bksingh!$ADE$8","v":""},null,null,null,{"$f":"bksingh!$ADE$8","v":""},null,null,null,{"$f":"bksingh!$ADE$8","v":""},null,null,null,{"$f":"bksingh!$ADE$8","v":""},null,null,null,{"$f":"bksingh!$ADE$8","v":""},null,null,null,{"$f":"bksingh!$ADE$8","v":""},null,null,null,{"$f":"bksingh!$ADE$8","v":""},null,null,null,{"$f":"bksingh!$ADE$8","v":""},null,null,null,{"$f":"bksingh!$ADE$8","v":""},null,null,null,{"$f":"bksingh!$ADE$8","v":""},null,null,null,{"$f":"bksingh!$ADE$8","v":""},null,null,null,{"$f":"bksingh!$ADE$8","v":""},null,null,null,{"$f":"bksingh!$ADE$8","v":""},null,null,null,{"$f":"bksingh!$ADE$8","v":""},null,null,null,{"$f":"bksingh!$ADE$8","v":""},null,null,null,{"$f":"bksingh!$ADE$8","v":""},null,null,null,{"$f":"bksingh!$ADE$8","v":""},null,null,null,{"$f":"bksingh!$ADE$8","v":""},null,null,null,{"$f":"bksingh!$ADE$8","v":""},null,null,null,{"$f":"bksingh!$ADE$8","v":""},null,null,null,{"$f":"bksingh!$ADE$8","v":""},null,null,null,{"$f":"bksingh!$ADE$8","v":""},null,null,null,{"$f":"bksingh!$ADE$8","v":""},null,null,null,{"$f":"bksingh!$ADE$8","v":""},null,null,null,{"$f":"bksingh!$ADE$8","v":""},null,null,null,{"$f":"bksingh!$ADE$8","v":""},null,null,null,{"$f":"bksingh!$ADE$8","v":""},null,null,null,{"$f":"bksingh!$ADE$8","v":""},null,null,null,{"$f":"bksingh!$ADE$8","v":""},null,null,null,{"$f":"bksingh!$ADE$8","v":""},null,null,null,{"$f":"bksingh!$ADE$8","v":""},null,null,null,{"$f":"bksingh!$ADE$8","v":""},null,null,null,{"$f":"bksingh!$ADE$8","v":""},null,null,null,{"$f":"bksingh!$ADE$8","v":""},null,null,null,{"$f":"bksingh!$ADE$8","v":""},null,null,null,{"$f":"bksingh!$ADE$8","v":""},null,null,null,{"$f":"bksingh!$ADE$8","v":""},null,null,null,{"$f":"bksingh!$ADE$8","v":""},null,null,null,{"$f":"bksingh!$ADE$8","v":""},null,null,null,{"$f":"bksingh!$ADE$8","v":""},null,null,null,{"$f":"bksingh!$ADE$8","v":""},null,null,null,{"$f":"bksingh!$ADE$8","v":""},null,null,null,{"$f":"bksingh!$ADE$8","v":""},null,null,null,{"$f":"bksingh!$ADE$8","v":""},null,null,null,{"$f":"bksingh!$ADE$8","v":""},null,null,null,{"$f":"bksingh!$ADE$8","v":""},null,null,null,{"$f":"bksingh!$ADE$8","v":""},null,null,null,{"$f":"bksingh!$ADE$8","v":""},null,null,null,{"$f":"bksingh!$ADE$8","v":""},null,null,null,{"$f":"bksingh!$ADE$8","v":""},null,null,null,{"$f":"bksingh!$ADE$8","v":""},null,null,null,{"$f":"bksingh!$ADE$8","v":""},null,null,null,{"$f":"bksingh!$ADE$8","v":""},null,null,null,{"$f":"bksingh!$ADE$8","v":""},null,null,null,{"$f":"bksingh!$ADE$8","v":""},null,null,null,{"$f":"bksingh!$ADE$8","v":""},null,null,null,{"$f":"bksingh!$ADE$8","v":""},null,null,null,{"$f":"bksingh!$ADE$8","v":""},null,null,null,{"$f":"bksingh!$ADE$8","v":""},null,null,null,{"$f":"bksingh!$ADE$8","v":""},null,null,null,{"$f":"bksingh!$ADE$8","v":""},null,null,null,{"$f":"bksingh!$ADE$8","v":""},null,null,null,{"$f":"bksingh!$ADE$8","v":""},null,null,null,{"$f":"bksingh!$ADE$8","v":""},null,null,null,{"$f":"bksingh!$ADE$8","v":""},null,null,null,{"$f":"bksingh!$ADE$8","v":""},null,null,null,{"$f":"bksingh!$ADE$8","v":""},null,null,null,{"$f":"bksingh!$ADE$8","v":""},null,null,null,{"$f":"bksingh!$ADE$8","v":""},null,null,null,{"$f":"bksingh!$ADE$8","v":""},null,null,null,{"$f":"bksingh!$ADE$8","v":""},null,null,null,{"$f":"bksingh!$ADE$8","v":""},null,null,null,{"$f":"bksingh!$ADE$8","v":""},null,null,null,{"$f":"bksingh!$ADE$8","v":""},null,null,null,{"$f":"bksingh!$ADE$8","v":""},null,null,null,{"$f":"bksingh!$ADE$8","v":""},null,null,null,{"$f":"bksingh!$ADE$8","v":""},null,null,null,{"$f":"bksingh!$ADE$8","v":""},null,null,null,{"$f":"bksingh!$ADE$8","v":""},null,null,null,{"$f":"bksingh!$ADE$8","v":""},null,null,null,{"$f":"bksingh!$ADE$8","v":""},null,null,null,{"$f":"bksingh!$ADE$8","v":""},null,null,null,{"$f":"bksingh!$ADE$8","v":""},null,null,null,{"$f":"bksingh!$ADE$8","v":""},null,null,null,{"$f":"bksingh!$ADE$8","v":""},null,null,null,{"$f":"bksingh!$ADE$8","v":""},null,null,null,{"$f":"bksingh!$ADE$8","v":""},null,null,null,{"$f":"bksingh!$ADE$8","v":""},null,null,null,{"$f":"bksingh!$ADE$8","v":""},null,null,null,{"$f":"bksingh!$ADE$8","v":""},null,null,null,{"$f":"bksingh!$ADE$8","v":""},null,null,null,{"$f":"bksingh!$ADE$8","v":""},null,null,null,{"$f":"bksingh!$ADE$8","v":""},null,null,null,{"$f":"bksingh!$ADE$8","v":""},null,null,null,{"$f":"bksingh!$ADE$8","v":""},null,null,null,{"$f":"bksingh!$ADE$8","v":""},null,null,null,{"$f":"bksingh!$ADE$8","v":""},null,null,null,{"$f":"bksingh!$ADE$8","v":""},null,null,null,{"$f":"bksingh!$ADE$8","v":""},null,null,null,{"$f":"bksingh!$ADE$8","v":""},null,null,null,{"$f":"bksingh!$ADE$8","v":""},null,null,null,{"$f":"bksingh!$ADE$8","v":""},null,null,null,{"$f":"bksingh!$ADE$8","v":""},null,null,null,{"$f":"bksingh!$ADE$8","v":""},null,null,null,{"$f":"bksingh!$ADE$8","v":""},null,null,null,{"$f":"bksingh!$ADE$8","v":""},null,null,null,{"$f":"bksingh!$ADE$8","v":""},null,null,null,{"$f":"bksingh!$ADE$8","v":""},null,null,null,{"$f":"bksingh!$ADE$8","v":""},null,null,null,{"$f":"bksingh!$ADE$8","v":""},null,null,null,{"$f":"bksingh!$ADE$8","v":""},null,null,null,{"$f":"bksingh!$ADE$8","v":""},null,null,null,{"$f":"bksingh!$ADE$8","v":""},null,null,null,{"$f":"bksingh!$ADE$8","v":""},null,null,null,{"$f":"bksingh!$ADE$8","v":""},null,null,null,{"$f":"bksingh!$ADE$8","v":""},null,null,null,{"$f":"bksingh!$ADE$8","v":""},null,null,null,{"$f":"bksingh!$ADE$8","v":""},null,null,null,{"$f":"bksingh!$ADE$8","v":""},null,null,null,{"$f":"bksingh!$ADE$8","v":""},null,null,null,{"$f":"bksingh!$ADE$8","v":""},null,null,null,{"$f":"bksingh!$ADE$8","v":""},null,null,null,{"$f":"bksingh!$ADE$8","v":""},null,null,null,{"$f":"bksingh!$ADE$8","v":""},null,null,null,{"$f":"bksingh!$ADE$8","v":""},null,null,null,{"$f":"bksingh!$ADE$8","v":""},null,null,null,{"$f":"bksingh!$ADE$8","v":""},null,null,null,{"$f":"bksingh!$ADE$8","v":""},null,null,null,{"$f":"bksingh!$ADE$8","v":""},null,null,null,{"$f":"bksingh!$ADE$8","v":""},null,null,null,{"$f":"bksingh!$ADE$8","v":""},null,null,null,{"$f":"bksingh!$ADE$8","v":""},null,null,null,{"$f":"bksingh!$ADE$8","v":""},null,null,null,{"$f":"bksingh!$ADE$8","v":""},null,null,null,{"$f":"bksingh!$ADE$8","v":""},null,null,null,{"$f":"bksingh!$ADE$8","v":""},null,null,null,{"$f":"bksingh!$ADE$8","v":""},null,null,null,{"$f":"bksingh!$ADE$8","v":""},null,null,null,{"$f":"bksingh!$ADE$8","v":""},null,null,null,{"$f":"bksingh!$ADE$8","v":""},null,null,null,{"$f":"bksingh!$ADE$8","v":""},null,null,null,{"$f":"bksingh!$ADE$8","v":""},null,null,null,{"$f":"bksingh!$ADE$8","v":""},null,null,null,{"$f":"bksingh!$ADE$8","v":""},null,null,null,{"$f":"bksingh!$ADE$8","v":""},null,null,null,{"$f":"bksingh!$ADE$8","v":""},null,null,null,{"$f":"bksingh!$ADE$8","v":""},null,null,null,{"$f":"bksingh!$ADE$8","v":""},null,null,null,{"$f":"bksingh!$ADE$8","v":""},null,null,null,{"$f":"bksingh!$ADE$8","v":""},null,null,null,{"$f":"bksingh!$ADE$8","v":""},null,null,null,{"$f":"bksingh!$ADE$8","v":""},null,null,null,{"$f":"bksingh!$ADE$8","v":""},null,null,null,{"$f":"bksingh!$ADE$8","v":""},null,null,null,{"$f":"bksingh!$ADE$8","v":""},null,null,null,{"$f":"bksingh!$ADE$8","v":""},null,null,null,{"$f":"bksingh!$ADE$8","v":""},null,null,null,{"$f":"bksingh!$ADE$8","v":""},null,null,null,{"$f":"bksingh!$ADE$8","v":""},null,null,null,{"$f":"bksingh!$ADE$8","v":""},null,null,null,{"$f":"bksingh!$ADE$8","v":""},null,null,null,{"$f":"bksingh!$ADE$8","v":""},null,null,null,{"$f":"bksingh!$ADE$8","v":""},null,null,null,{"$f":"bksingh!$ADE$8","v":""},null,null,null,{"$f":"bksingh!$ADE$8","v":""},null,null,null,{"$f":"bksingh!$ADE$8","v":""},null,null,null,{"$f":"bksingh!$ADE$8","v":""},null,null,null,{"$f":"bksingh!$ADE$8","v":""},null,null,null,{"$f":"bksingh!$ADE$8","v":""},null,null,null,{"$f":"bksingh!$ADE$8","v":""},null,null,null,{"$f":"bksingh!$ADE$8","v":""},null,null,null,{"$f":"bksingh!$ADE$8","v":""},null,null,null,{"$f":"bksingh!$ADE$8","v":""},null,null,null,{"$f":"bksingh!$ADE$8","v":""},null,null,null,{"$f":"bksingh!$ADE$8","v":""},null,null,null,{"$f":"bksingh!$ADE$8","v":""},null,null,null,{"$f":"bksingh!$ADE$8","v":""},null,null,null,{"$f":"bksingh!$ADE$8","v":""},null,null,null,{"$f":"bksingh!$ADE$8","v":""},null,null,null,{"$f":"bksingh!$ADE$8","v":""},null,null,null,{"$f":"bksingh!$ADE$8","v":""},null,null,null,{"$f":"bksingh!$ADE$8","v":""},null,null,null,{"$f":"bksingh!$ADE$8","v":""},null,null,null,{"$f":"bksingh!$ADE$8","v":""},null,null,null,{"$f":"bksingh!$ADE$8","v":""},null,null,null,{"$f":"bksingh!$ADE$8","v":""},null,null,null,{"$f":"bksingh!$ADE$8","v":""},null,null,null,{"$f":"bksingh!$ADE$8","v":""},null,null,null,{"$f":"bksingh!$ADE$8","v":""},null,null,null,{"$f":"bksingh!$ADE$8","v":""},null,null,null,{"$f":"bksingh!$ADE$8","v":""},null,null,null,{"$f":"bksingh!$ADE$8","v":""},null,null,null,{"$f":"bksingh!$ADE$8","v":""},null,null,null,{"$f":"bksingh!$ADE$8","v":""},null,null,null,{"$f":"bksingh!$ADE$8","v":""},null,null,null,{"$f":"bksingh!$ADE$8","v":""},null,null,null,{"$f":"bksingh!$ADE$8","v":""},null,null,null,{"$f":"bksingh!$ADE$8","v":""},null,null,null,{"$f":"bksingh!$ADE$8","v":""},null,null,null,{"$f":"bksingh!$ADE$8","v":""},null,null,null,{"$f":"bksingh!$ADE$8","v":""}]
[{"$f":"bksingh!$ADA$13","v":""},null,null,null,{"$f":"bksingh!$ADA$8","v":""},null,null,null,{"$f":"bksingh!$ADA$8","v":""},null,null,null,{"$f":"bksingh!$ADA$8","v":""},null,null,null,{"$f":"bksingh!$ADA$8","v":""},null,null,null,{"$f":"bksingh!$ADA$8","v":""},null,null,null,{"$f":"bksingh!$ADA$8","v":""},null,null,null,{"$f":"bksingh!$ADA$8","v":""},null,null,null,{"$f":"bksingh!$ADA$8","v":""},null,null,null,{"$f":"bksingh!$ADA$8","v":""},null,null,null,{"$f":"bksingh!$ADA$8","v":""},null,null,null,{"$f":"bksingh!$ADA$8","v":""},null,null,null,{"$f":"bksingh!$ADA$8","v":""},null,null,null,{"$f":"bksingh!$ADA$8","v":""},null,null,null,{"$f":"bksingh!$ADA$8","v":""},null,null,null,{"$f":"bksingh!$ADA$8","v":""},null,null,null,{"$f":"bksingh!$ADA$8","v":""},null,null,null,{"$f":"bksingh!$ADA$8","v":""},null,null,null,{"$f":"bksingh!$ADA$8","v":""},null,null,null,{"$f":"bksingh!$ADA$8","v":""},null,null,null,{"$f":"bksingh!$ADA$8","v":""},null,null,null,{"$f":"bksingh!$ADA$8","v":""},null,null,null,{"$f":"bksingh!$ADA$8","v":""},null,null,null,{"$f":"bksingh!$ADA$8","v":""},null,null,null,{"$f":"bksingh!$ADA$8","v":""},null,null,null,{"$f":"bksingh!$ADA$8","v":""},null,null,null,{"$f":"bksingh!$ADA$8","v":""},null,null,null,{"$f":"bksingh!$ADA$8","v":""},null,null,null,{"$f":"bksingh!$ADA$8","v":""},null,null,null,{"$f":"bksingh!$ADA$8","v":""},null,null,null,{"$f":"bksingh!$ADA$8","v":""},null,null,null,{"$f":"bksingh!$ADA$8","v":""},null,null,null,{"$f":"bksingh!$ADA$8","v":""},null,null,null,{"$f":"bksingh!$ADA$8","v":""},null,null,null,{"$f":"bksingh!$ADA$8","v":""},null,null,null,{"$f":"bksingh!$ADA$8","v":""},null,null,null,{"$f":"bksingh!$ADA$8","v":""},null,null,null,{"$f":"bksingh!$ADA$8","v":""},null,null,null,{"$f":"bksingh!$ADA$8","v":""},null,null,null,{"$f":"bksingh!$ADA$8","v":""},null,null,null,{"$f":"bksingh!$ADA$8","v":""},null,null,null,{"$f":"bksingh!$ADA$8","v":""},null,null,null,{"$f":"bksingh!$ADA$8","v":""},null,null,null,{"$f":"bksingh!$ADA$8","v":""},null,null,null,{"$f":"bksingh!$ADA$8","v":""},null,null,null,{"$f":"bksingh!$ADA$8","v":""},null,null,null,{"$f":"bksingh!$ADA$8","v":""},null,null,null,{"$f":"bksingh!$ADA$8","v":""},null,null,null,{"$f":"bksingh!$ADA$8","v":""},null,null,null,{"$f":"bksingh!$ADA$8","v":""},null,null,null,{"$f":"bksingh!$ADA$8","v":""},null,null,null,{"$f":"bksingh!$ADA$8","v":""},null,null,null,{"$f":"bksingh!$ADA$8","v":""},null,null,null,{"$f":"bksingh!$ADA$8","v":""},null,null,null,{"$f":"bksingh!$ADA$8","v":""},null,null,null,{"$f":"bksingh!$ADA$8","v":""},null,null,null,{"$f":"bksingh!$ADA$8","v":""},null,null,null,{"$f":"bksingh!$ADA$8","v":""},null,null,null,{"$f":"bksingh!$ADA$8","v":""},null,null,null,{"$f":"bksingh!$ADA$8","v":""},null,null,null,{"$f":"bksingh!$ADA$8","v":""},null,null,null,{"$f":"bksingh!$ADA$8","v":""},null,null,null,{"$f":"bksingh!$ADA$8","v":""},null,null,null,{"$f":"bksingh!$ADA$8","v":""},null,null,null,{"$f":"bksingh!$ADA$8","v":""},null,null,null,{"$f":"bksingh!$ADA$8","v":""},null,null,null,{"$f":"bksingh!$ADA$8","v":""},null,null,null,{"$f":"bksingh!$ADA$8","v":""},null,null,null,{"$f":"bksingh!$ADA$8","v":""},null,null,null,{"$f":"bksingh!$ADA$8","v":""},null,null,null,{"$f":"bksingh!$ADA$8","v":""},null,null,null,{"$f":"bksingh!$ADA$8","v":""},null,null,null,{"$f":"bksingh!$ADA$8","v":""},null,null,null,{"$f":"bksingh!$ADA$8","v":""},null,null,null,{"$f":"bksingh!$ADA$8","v":""},null,null,null,{"$f":"bksingh!$ADA$8","v":""},null,null,null,{"$f":"bksingh!$ADA$8","v":""},null,null,null,{"$f":"bksingh!$ADA$8","v":""},null,null,null,{"$f":"bksingh!$ADA$8","v":""},null,null,null,{"$f":"bksingh!$ADA$8","v":""},null,null,null,{"$f":"bksingh!$ADA$8","v":""},null,null,null,{"$f":"bksingh!$ADA$8","v":""},null,null,null,{"$f":"bksingh!$ADA$8","v":""},null,null,null,{"$f":"bksingh!$ADA$8","v":""},null,null,null,{"$f":"bksingh!$ADA$8","v":""},null,null,null,{"$f":"bksingh!$ADA$8","v":""},null,null,null,{"$f":"bksingh!$ADA$8","v":""},null,null,null,{"$f":"bksingh!$ADA$8","v":""},null,null,null,{"$f":"bksingh!$ADA$8","v":""},null,null,null,{"$f":"bksingh!$ADA$8","v":""},null,null,null,{"$f":"bksingh!$ADA$8","v":""},null,null,null,{"$f":"bksingh!$ADA$8","v":""},null,null,null,{"$f":"bksingh!$ADA$8","v":""},null,null,null,{"$f":"bksingh!$ADA$8","v":""},null,null,null,{"$f":"bksingh!$ADA$8","v":""},null,null,null,{"$f":"bksingh!$ADA$8","v":""},null,null,null,{"$f":"bksingh!$ADA$8","v":""},null,null,null,{"$f":"bksingh!$ADA$8","v":""},null,null,null,{"$f":"bksingh!$ADA$8","v":""},null,null,null,{"$f":"bksingh!$ADA$8","v":""},null,null,null,{"$f":"bksingh!$ADA$8","v":""},null,null,null,{"$f":"bksingh!$ADA$8","v":""},null,null,null,{"$f":"bksingh!$ADA$8","v":""},null,null,null,{"$f":"bksingh!$ADA$8","v":""},null,null,null,{"$f":"bksingh!$ADA$8","v":""},null,null,null,{"$f":"bksingh!$ADA$8","v":""},null,null,null,{"$f":"bksingh!$ADA$8","v":""},null,null,null,{"$f":"bksingh!$ADA$8","v":""},null,null,null,{"$f":"bksingh!$ADA$8","v":""},null,null,null,{"$f":"bksingh!$ADA$8","v":""},null,null,null,{"$f":"bksingh!$ADA$8","v":""},null,null,null,{"$f":"bksingh!$ADA$8","v":""},null,null,null,{"$f":"bksingh!$ADA$8","v":""},null,null,null,{"$f":"bksingh!$ADA$8","v":""},null,null,null,{"$f":"bksingh!$ADA$8","v":""},null,null,null,{"$f":"bksingh!$ADA$8","v":""},null,null,null,{"$f":"bksingh!$ADA$8","v":""},null,null,null,{"$f":"bksingh!$ADA$8","v":""},null,null,null,{"$f":"bksingh!$ADA$8","v":""},null,null,null,{"$f":"bksingh!$ADA$8","v":""},null,null,null,{"$f":"bksingh!$ADA$8","v":""},null,null,null,{"$f":"bksingh!$ADA$8","v":""},null,null,null,{"$f":"bksingh!$ADA$8","v":""},null,null,null,{"$f":"bksingh!$ADA$8","v":""},null,null,null,{"$f":"bksingh!$ADA$8","v":""},null,null,null,{"$f":"bksingh!$ADA$8","v":""},null,null,null,{"$f":"bksingh!$ADA$8","v":""},null,null,null,{"$f":"bksingh!$ADA$8","v":""},null,null,null,{"$f":"bksingh!$ADA$8","v":""},null,null,null,{"$f":"bksingh!$ADA$8","v":""},null,null,null,{"$f":"bksingh!$ADA$8","v":""},null,null,null,{"$f":"bksingh!$ADA$8","v":""},null,null,null,{"$f":"bksingh!$ADA$8","v":""},null,null,null,{"$f":"bksingh!$ADA$8","v":""},null,null,null,{"$f":"bksingh!$ADA$8","v":""},null,null,null,{"$f":"bksingh!$ADA$8","v":""},null,null,null,{"$f":"bksingh!$ADA$8","v":""},null,null,null,{"$f":"bksingh!$ADA$8","v":""},null,null,null,{"$f":"bksingh!$ADA$8","v":""},null,null,null,{"$f":"bksingh!$ADA$8","v":""},null,null,null,{"$f":"bksingh!$ADA$8","v":""},null,null,null,{"$f":"bksingh!$ADA$8","v":""},null,null,null,{"$f":"bksingh!$ADA$8","v":""},null,null,null,{"$f":"bksingh!$ADA$8","v":""},null,null,null,{"$f":"bksingh!$ADA$8","v":""},null,null,null,{"$f":"bksingh!$ADA$8","v":""},null,null,null,{"$f":"bksingh!$ADA$8","v":""},null,null,null,{"$f":"bksingh!$ADA$8","v":""},null,null,null,{"$f":"bksingh!$ADA$8","v":""},null,null,null,{"$f":"bksingh!$ADA$8","v":""},null,null,null,{"$f":"bksingh!$ADA$8","v":""},null,null,null,{"$f":"bksingh!$ADA$8","v":""},null,null,null,{"$f":"bksingh!$ADA$8","v":""},null,null,null,{"$f":"bksingh!$ADA$8","v":""},null,null,null,{"$f":"bksingh!$ADA$8","v":""},null,null,null,{"$f":"bksingh!$ADA$8","v":""},null,null,null,{"$f":"bksingh!$ADA$8","v":""},null,null,null,{"$f":"bksingh!$ADA$8","v":""},null,null,null,{"$f":"bksingh!$ADA$8","v":""},null,null,null,{"$f":"bksingh!$ADA$8","v":""},null,null,null,{"$f":"bksingh!$ADA$8","v":""},null,null,null,{"$f":"bksingh!$ADA$8","v":""},null,null,null,{"$f":"bksingh!$ADA$8","v":""},null,null,null,{"$f":"bksingh!$ADA$8","v":""},null,null,null,{"$f":"bksingh!$ADA$8","v":""},null,null,null,{"$f":"bksingh!$ADA$8","v":""},null,null,null,{"$f":"bksingh!$ADA$8","v":""},null,null,null,{"$f":"bksingh!$ADA$8","v":""},null,null,null,{"$f":"bksingh!$ADA$8","v":""},null,null,null,{"$f":"bksingh!$ADA$8","v":""},null,null,null,{"$f":"bksingh!$ADA$8","v":""},null,null,null,{"$f":"bksingh!$ADA$8","v":""},null,null,null,{"$f":"bksingh!$ADA$8","v":""},null,null,null,{"$f":"bksingh!$ADA$8","v":""},null,null,null,{"$f":"bksingh!$ADA$8","v":""},null,null,null,{"$f":"bksingh!$ADA$8","v":""},null,null,null,{"$f":"bksingh!$ADA$8","v":""},null,null,null,{"$f":"bksingh!$ADA$8","v":""},null,null,null,{"$f":"bksingh!$ADA$8","v":""},null,null,null,{"$f":"bksingh!$ADA$8","v":""},null,null,null,{"$f":"bksingh!$ADA$8","v":""},null,null,null,{"$f":"bksingh!$ADA$8","v":""},null,null,null,{"$f":"bksingh!$ADA$8","v":""},null,null,null,{"$f":"bksingh!$ADA$8","v":""},null,null,null,{"$f":"bksingh!$ADA$8","v":""},null,null,null,{"$f":"bksingh!$ADA$8","v":""},null,null,null,{"$f":"bksingh!$ADA$8","v":""},null,null,null,{"$f":"bksingh!$ADA$8","v":""},null,null,null,{"$f":"bksingh!$ADA$8","v":""},null,null,null,{"$f":"bksingh!$ADA$8","v":""},null,null,null,{"$f":"bksingh!$ADA$8","v":""},null,null,null,{"$f":"bksingh!$ADA$8","v":""},null,null,null,{"$f":"bksingh!$ADA$8","v":""},null,null,null,{"$f":"bksingh!$ADA$8","v":""},null,null,null,{"$f":"bksingh!$ADA$8","v":""},null,null,null,{"$f":"bksingh!$ADA$8","v":""},null,null,null,{"$f":"bksingh!$ADA$8","v":""},null,null,null,{"$f":"bksingh!$ADA$8","v":""},null,null,null,{"$f":"bksingh!$ADA$8","v":""},null,null,null,{"$f":"bksingh!$ADA$8","v":""},null,null,null,{"$f":"bksingh!$ADA$8","v":""},null,null,null,{"$f":"bksingh!$ADA$8","v":""},null,null,null,{"$f":"bksingh!$ADA$8","v":""},null,null,null,{"$f":"bksingh!$ADA$8","v":""},null,null,null,{"$f":"bksingh!$ADA$8","v":""},null,null,null,{"$f":"bksingh!$ADA$8","v":""},null,null,null,{"$f":"bksingh!$ADA$8","v":""},null,null,null,{"$f":"bksingh!$ADA$8","v":""},null,null,null,{"$f":"bksingh!$ADA$8","v":""},null,null,null,{"$f":"bksingh!$ADA$8","v":""},null,null,null,{"$f":"bksingh!$ADA$8","v":""},null,null,null,{"$f":"bksingh!$ADA$8","v":""},null,null,null,{"$f":"bksingh!$ADA$8","v":""},null,null,null,{"$f":"bksingh!$ADA$8","v":""},null,null,null,{"$f":"bksingh!$ADA$8","v":""},null,null,null,{"$f":"bksingh!$ADA$8","v":""},null,null,null,{"$f":"bksingh!$ADA$8","v":""},null,null,null,{"$f":"bksingh!$ADA$8","v":""},null,null,null,{"$f":"bksingh!$ADA$8","v":""},null,null,null,{"$f":"bksingh!$ADA$8","v":""},null,null,null,{"$f":"bksingh!$ADA$8","v":""},null,null,null,{"$f":"bksingh!$ADA$8","v":""},null,null,null,{"$f":"bksingh!$ADA$8","v":""},null,null,null,{"$f":"bksingh!$ADA$8","v":""},null,null,null,{"$f":"bksingh!$ADA$8","v":""},null,null,null,{"$f":"bksingh!$ADA$8","v":""},null,null,null,{"$f":"bksingh!$ADA$8","v":""},null,null,null,{"$f":"bksingh!$ADA$8","v":""},null,null,null,{"$f":"bksingh!$ADA$8","v":""},null,null,null,{"$f":"bksingh!$ADA$8","v":""},null,null,null,{"$f":"bksingh!$ADA$8","v":""},null,null,null,{"$f":"bksingh!$ADA$8","v":""},null,null,null,{"$f":"bksingh!$ADA$8","v":""},null,null,null,{"$f":"bksingh!$ADA$8","v":""},null,null,null,{"$f":"bksingh!$ADA$8","v":""},null,null,null,{"$f":"bksingh!$ADA$8","v":""},null,null,null,{"$f":"bksingh!$ADA$8","v":""},null,null,null,{"$f":"bksingh!$ADA$8","v":""},null,null,null,{"$f":"bksingh!$ADA$8","v":""},null,null,null,{"$f":"bksingh!$ADA$8","v":""},null,null,null,{"$f":"bksingh!$ADA$8","v":""},null,null,null,{"$f":"bksingh!$ADA$8","v":""},null,null,null,{"$f":"bksingh!$ADA$8","v":""},null,null,null,{"$f":"bksingh!$ADA$8","v":""},null,null,null,{"$f":"bksingh!$ADA$8","v":""},null,null,null,{"$f":"bksingh!$ADA$8","v":""},null,null,null,{"$f":"bksingh!$ADA$8","v":""},null,null,null,{"$f":"bksingh!$ADA$8","v":""},null,null,null,{"$f":"bksingh!$ADA$8","v":""},null,null,null,{"$f":"bksingh!$ADA$8","v":""},null,null,null,{"$f":"bksingh!$ADA$8","v":""},null,null,null,{"$f":"bksingh!$ADA$8","v":""},null,null,null,{"$f":"bksingh!$ADA$8","v":""},null,null,null,{"$f":"bksingh!$ADA$8","v":""},null,null,null,{"$f":"bksingh!$ADA$8","v":""},null,null,null,{"$f":"bksingh!$ADA$8","v":""},null,null,null,{"$f":"bksingh!$ADA$8","v":""},null,null,null,{"$f":"bksingh!$ADA$8","v":""},null,null,null,{"$f":"bksingh!$ADA$8","v":""},null,null,null,{"$f":"bksingh!$ADA$8","v":""},null,null,null,{"$f":"bksingh!$ADA$8","v":""},null,null,null,{"$f":"bksingh!$ADA$8","v":""},null,null,null,{"$f":"bksingh!$ADA$8","v":""},null,null,null,{"$f":"bksingh!$ADA$8","v":""},null,null,null,{"$f":"bksingh!$ADA$8","v":""},null,null,null,{"$f":"bksingh!$ADA$8","v":""},null,null,null,{"$f":"bksingh!$ADA$8","v":""},null,null,null,{"$f":"bksingh!$ADA$8","v":""},null,null,null,{"$f":"bksingh!$ADA$8","v":""},null,null,null,{"$f":"bksingh!$ADA$8","v":""},null,null,null,{"$f":"bksingh!$ADA$8","v":""},null,null,null,{"$f":"bksingh!$ADA$8","v":""},null,null,null,{"$f":"bksingh!$ADA$8","v":""},null,null,null,{"$f":"bksingh!$ADA$8","v":""},null,null,null,{"$f":"bksingh!$ADA$8","v":""},null,null,null,{"$f":"bksingh!$ADA$8","v":""},null,null,null,{"$f":"bksingh!$ADA$8","v":""},null,null,null,{"$f":"bksingh!$ADA$8","v":""},null,null,null,{"$f":"bksingh!$ADA$8","v":""},null,null,null,{"$f":"bksingh!$ADA$8","v":""},null,null,null,{"$f":"bksingh!$ADA$8","v":""},null,null,null,{"$f":"bksingh!$ADA$8","v":""},null,null,null,{"$f":"bksingh!$ADA$8","v":""},null,null,null,{"$f":"bksingh!$ADA$8","v":""},null,null,null,{"$f":"bksingh!$ADA$8","v":""},null,null,null,{"$f":"bksingh!$ADA$8","v":""},null,null,null,{"$f":"bksingh!$ADA$8","v":""},null,null,null,{"$f":"bksingh!$ADA$8","v":""},null,null,null,{"$f":"bksingh!$ADA$8","v":""},null,null,null,{"$f":"bksingh!$ADA$8","v":""},null,null,null,{"$f":"bksingh!$ADA$8","v":""},null,null,null,{"$f":"bksingh!$ADA$8","v":""},null,null,null,{"$f":"bksingh!$ADA$8","v":""},null,null,null,{"$f":"bksingh!$ADA$8","v":""},null,null,null,{"$f":"bksingh!$ADA$8","v":""},null,null,null,{"$f":"bksingh!$ADA$8","v":""},null,null,null,{"$f":"bksingh!$ADA$8","v":""},null,null,null,{"$f":"bksingh!$ADA$8","v":""},null,null,null,{"$f":"bksingh!$ADA$8","v":""},null,null,null,{"$f":"bksingh!$ADA$8","v":""},null,null,null,{"$f":"bksingh!$ADA$8","v":""},null,null,null,{"$f":"bksingh!$ADA$8","v":""},null,null,null,{"$f":"bksingh!$ADA$8","v":""},null,null,null,{"$f":"bksingh!$ADA$8","v":""},null,null,null,{"$f":"bksingh!$ADA$8","v":""},null,null,null,{"$f":"bksingh!$ADA$8","v":""},null,null,null,{"$f":"bksingh!$ADA$8","v":""},null,null,null,{"$f":"bksingh!$ADA$8","v":""},null,null,null,{"$f":"bksingh!$ADA$8","v":""},null,null,null,{"$f":"bksingh!$ADA$8","v":""},null,null,null,{"$f":"bksingh!$ADA$8","v":""},null,null,null,{"$f":"bksingh!$ADA$8","v":""},null,null,null,{"$f":"bksingh!$ADA$8","v":""},null,null,null,{"$f":"bksingh!$ADA$8","v":""},null,null,null,{"$f":"bksingh!$ADA$8","v":""},null,null,null,{"$f":"bksingh!$ADA$8","v":""},null,null,null,{"$f":"bksingh!$ADA$8","v":""},null,null,null,{"$f":"bksingh!$ADA$8","v":""},null,null,null,{"$f":"bksingh!$ADA$8","v":""},null,null,null,{"$f":"bksingh!$ADA$8","v":""},null,null,null,{"$f":"bksingh!$ADA$8","v":""},null,null,null,{"$f":"bksingh!$ADA$8","v":""},null,null,null,{"$f":"bksingh!$ADA$8","v":""},null,null,null,{"$f":"bksingh!$ADA$8","v":""},null,null,null,{"$f":"bksingh!$ADA$8","v":""},null,null,null,{"$f":"bksingh!$ADA$8","v":""},null,null,null,{"$f":"bksingh!$ADA$8","v":""},null,null,null,{"$f":"bksingh!$ADA$8","v":""},null,null,null,{"$f":"bksingh!$ADA$8","v":""},null,null,null,{"$f":"bksingh!$ADA$8","v":""},null,null,null,{"$f":"bksingh!$ADA$8","v":""},null,null,null,{"$f":"bksingh!$ADA$8","v":""},null,null,null,{"$f":"bksingh!$ADA$8","v":""},null,null,null,{"$f":"bksingh!$ADA$8","v":""},null,null,null,{"$f":"bksingh!$ADA$8","v":""},null,null,null,{"$f":"bksingh!$ADA$8","v":""},null,null,null,{"$f":"bksingh!$ADA$8","v":""},null,null,null,{"$f":"bksingh!$ADA$8","v":""},null,null,null,{"$f":"bksingh!$ADA$8","v":""},null,null,null,{"$f":"bksingh!$ADA$8","v":""},null,null,null,{"$f":"bksingh!$ADA$8","v":""},null,null,null,{"$f":"bksingh!$ADA$8","v":""},null,null,null,{"$f":"bksingh!$ADA$8","v":""},null,null,null,{"$f":"bksingh!$ADA$8","v":""},null,null,null,{"$f":"bksingh!$ADA$8","v":""},null,null,null,{"$f":"bksingh!$ADA$8","v":""},null,null,null,{"$f":"bksingh!$ADA$8","v":""},null,null,null,{"$f":"bksingh!$ADA$8","v":""},null,null,null,{"$f":"bksingh!$ADA$8","v":""},null,null,null,{"$f":"bksingh!$ADA$8","v":""},null,null,null,{"$f":"bksingh!$ADA$8","v":""},null,null,null,{"$f":"bksingh!$ADA$8","v":""},null,null,null,{"$f":"bksingh!$ADA$8","v":""},null,null,null,{"$f":"bksingh!$ADA$8","v":""},null,null,null,{"$f":"bksingh!$ADA$8","v":""},null,null,null,{"$f":"bksingh!$ADA$8","v":""},null,null,null,{"$f":"bksingh!$ADA$8","v":""},null,null,null,{"$f":"bksingh!$ADA$8","v":""},null,null,null,{"$f":"bksingh!$ADA$8","v":""},null,null,null,{"$f":"bksingh!$ADA$8","v":""},null,null,null,{"$f":"bksingh!$ADA$8","v":""},null,null,null,{"$f":"bksingh!$ADA$8","v":""},null,null,null,{"$f":"bksingh!$ADA$8","v":""},null,null,null,{"$f":"bksingh!$ADA$8","v":""},null,null,null,{"$f":"bksingh!$ADA$8","v":""},null,null,null,{"$f":"bksingh!$ADA$8","v":""},null,null,null,{"$f":"bksingh!$ADA$8","v":""},null,null,null,{"$f":"bksingh!$ADA$8","v":""},null,null,null,{"$f":"bksingh!$ADA$8","v":""},null,null,null,{"$f":"bksingh!$ADA$8","v":""},null,null,null,{"$f":"bksingh!$ADA$8","v":""},null,null,null,{"$f":"bksingh!$ADA$8","v":""},null,null,null,{"$f":"bksingh!$ADA$8","v":""},null,null,null,{"$f":"bksingh!$ADA$8","v":""},null,null,null,{"$f":"bksingh!$ADA$8","v":""},null,null,null,{"$f":"bksingh!$ADA$8","v":""},null,null,null,{"$f":"bksingh!$ADA$8","v":""},null,null,null,{"$f":"bksingh!$ADA$8","v":""},null,null,null,{"$f":"bksingh!$ADA$8","v":""},null,null,null,{"$f":"bksingh!$ADA$8","v":""},null,null,null,{"$f":"bksingh!$ADA$8","v":""},null,null,null,{"$f":"bksingh!$ADA$8","v":""},null,null,null,{"$f":"bksingh!$ADA$8","v":""},null,null,null,{"$f":"bksingh!$ADA$8","v":""},null,null,null,{"$f":"bksingh!$ADA$8","v":""},null,null,null,{"$f":"bksingh!$ADA$8","v":""},null,null,null,{"$f":"bksingh!$ADA$8","v":""},null,null,null,{"$f":"bksingh!$ADA$8","v":""},null,null,null,{"$f":"bksingh!$ADA$8","v":""},null,null,null,{"$f":"bksingh!$ADA$8","v":""},null,null,null,{"$f":"bksingh!$ADA$8","v":""},null,null,null,{"$f":"bksingh!$ADA$8","v":""},null,null,null,{"$f":"bksingh!$ADA$8","v":""},null,null,null,{"$f":"bksingh!$ADA$8","v":""},null,null,null,{"$f":"bksingh!$ADA$8","v":""},null,null,null,{"$f":"bksingh!$ADA$8","v":""},null,null,null,{"$f":"bksingh!$ADA$8","v":""},null,null,null,{"$f":"bksingh!$ADA$8","v":""},null,null,null,{"$f":"bksingh!$ADA$8","v":""},null,null,null,{"$f":"bksingh!$ADA$8","v":""},null,null,null,{"$f":"bksingh!$ADA$8","v":""},null,null,null,{"$f":"bksingh!$ADA$8","v":""},null,null,null,{"$f":"bksingh!$ADA$8","v":""},null,null,null,{"$f":"bksingh!$ADA$8","v":""},null,null,null,{"$f":"bksingh!$ADA$8","v":""},null,null,null,{"$f":"bksingh!$ADA$8","v":""},null,null,null,{"$f":"bksingh!$ADA$8","v":""},null,null,null,{"$f":"bksingh!$ADA$8","v":""},null,null,null,{"$f":"bksingh!$ADA$8","v":""},null,null,null,{"$f":"bksingh!$ADA$8","v":""},null,null,null,{"$f":"bksingh!$ADA$8","v":""},null,null,null,{"$f":"bksingh!$ADA$8","v":""},null,null,null,{"$f":"bksingh!$ADA$8","v":""},null,null,null,{"$f":"bksingh!$ADA$8","v":""},null,null,null,{"$f":"bksingh!$ADA$8","v":""},null,null,null,{"$f":"bksingh!$ADA$8","v":""},null,null,null,{"$f":"bksingh!$ADA$8","v":""},null,null,null,{"$f":"bksingh!$ADA$8","v":""},null,null,null,{"$f":"bksingh!$ADA$8","v":""},null,null,null,{"$f":"bksingh!$ADA$8","v":""},null,null,null,{"$f":"bksingh!$ADA$8","v":""},null,null,null,{"$f":"bksingh!$ADA$8","v":""},null,null,null,{"$f":"bksingh!$ADA$8","v":""},null,null,null,{"$f":"bksingh!$ADA$8","v":""},null,null,null,{"$f":"bksingh!$ADA$8","v":""},null,null,null,{"$f":"bksingh!$ADA$8","v":""},null,null,null,{"$f":"bksingh!$ADA$8","v":""},null,null,null,{"$f":"bksingh!$ADA$8","v":""},null,null,null,{"$f":"bksingh!$ADA$8","v":""},null,null,null,{"$f":"bksingh!$ADA$8","v":""},null,null,null,{"$f":"bksingh!$ADA$8","v":""},null,null,null,{"$f":"bksingh!$ADA$8","v":""},null,null,null,{"$f":"bksingh!$ADA$8","v":""},null,null,null,{"$f":"bksingh!$ADA$8","v":""},null,null,null,{"$f":"bksingh!$ADA$8","v":""},null,null,null,{"$f":"bksingh!$ADA$8","v":""},null,null,null,{"$f":"bksingh!$ADA$8","v":""},null,null,null,{"$f":"bksingh!$ADA$8","v":""},null,null,null,{"$f":"bksingh!$ADA$8","v":""},null,null,null,{"$f":"bksingh!$ADA$8","v":""},null,null,null,{"$f":"bksingh!$ADA$8","v":""},null,null,null,{"$f":"bksingh!$ADA$8","v":""},null,null,null,{"$f":"bksingh!$ADA$8","v":""},null,null,null,{"$f":"bksingh!$ADA$8","v":""},null,null,null,{"$f":"bksingh!$ADA$8","v":""},null,null,null,{"$f":"bksingh!$ADA$8","v":""},null,null,null,{"$f":"bksingh!$ADA$8","v":""},null,null,null,{"$f":"bksingh!$ADA$8","v":""},null,null,null,{"$f":"bksingh!$ADA$8","v":""},null,null,null,{"$f":"bksingh!$ADA$8","v":""},null,null,null,{"$f":"bksingh!$ADA$8","v":""},null,null,null,{"$f":"bksingh!$ADA$8","v":""},null,null,null,{"$f":"bksingh!$ADA$8","v":""},null,null,null,{"$f":"bksingh!$ADA$8","v":""},null,null,null,{"$f":"bksingh!$ADA$8","v":""},null,null,null,{"$f":"bksingh!$ADA$8","v":""},null,null,null,{"$f":"bksingh!$ADA$8","v":""},null,null,null,{"$f":"bksingh!$ADA$8","v":""},null,null,null,{"$f":"bksingh!$ADA$8","v":""},null,null,null,{"$f":"bksingh!$ADA$8","v":""},null,null,null,{"$f":"bksingh!$ADA$8","v":""},null,null,null,{"$f":"bksingh!$ADA$8","v":""},null,null,null,{"$f":"bksingh!$ADA$8","v":""},null,null,null,{"$f":"bksingh!$ADA$8","v":""},null,null,null,{"$f":"bksingh!$ADA$8","v":""},null,null,null,{"$f":"bksingh!$ADA$8","v":""},null,null,null,{"$f":"bksingh!$ADA$8","v":""},null,null,null,{"$f":"bksingh!$ADA$8","v":""},null,null,null,{"$f":"bksingh!$ADA$8","v":""},null,null,null,{"$f":"bksingh!$ADA$8","v":""},null,null,null,{"$f":"bksingh!$ADA$8","v":""},null,null,null,{"$f":"bksingh!$ADA$8","v":""},null,null,null,{"$f":"bksingh!$ADA$8","v":""},null,null,null,{"$f":"bksingh!$ADA$8","v":""},null,null,null,{"$f":"bksingh!$ADA$8","v":""},null,null,null,{"$f":"bksingh!$ADA$8","v":""},null,null,null,{"$f":"bksingh!$ADA$8","v":""},null,null,null,{"$f":"bksingh!$ADA$8","v":""},null,null,null,{"$f":"bksingh!$ADA$8","v":""},null,null,null,{"$f":"bksingh!$ADA$8","v":""},null,null,null,{"$f":"bksingh!$ADA$8","v":""},null,null,null,{"$f":"bksingh!$ADA$8","v":""},null,null,null,{"$f":"bksingh!$ADA$8","v":""},null,null,null,{"$f":"bksingh!$ADA$8","v":""},null,null,null,{"$f":"bksingh!$ADA$8","v":""},null,null,null,{"$f":"bksingh!$ADA$8","v":""},null,null,null,{"$f":"bksingh!$ADA$8","v":""},null,null,null,{"$f":"bksingh!$ADA$8","v":""},null,null,null,{"$f":"bksingh!$ADA$8","v":""},null,null,null,{"$f":"bksingh!$ADA$8","v":""},null,null,null,{"$f":"bksingh!$ADA$8","v":""},null,null,null,{"$f":"bksingh!$ADA$8","v":""},null,null,null,{"$f":"bksingh!$ADA$8","v":""},null,null,null,{"$f":"bksingh!$ADA$8","v":""},null,null,null,{"$f":"bksingh!$ADA$8","v":""},null,null,null,{"$f":"bksingh!$ADA$8","v":""},null,null,null,{"$f":"bksingh!$ADA$8","v":""},null,null,null,{"$f":"bksingh!$ADA$8","v":""},null,null,null,{"$f":"bksingh!$ADA$8","v":""},null,null,null,{"$f":"bksingh!$ADA$8","v":""},null,null,null,{"$f":"bksingh!$ADA$8","v":""},null,null,null,{"$f":"bksingh!$ADA$8","v":""},null,null,null,{"$f":"bksingh!$ADA$8","v":""},null,null,null,{"$f":"bksingh!$ADA$8","v":""},null,null,null,{"$f":"bksingh!$ADA$8","v":""},null,null,null,{"$f":"bksingh!$ADA$8","v":""},null,null,null,{"$f":"bksingh!$ADA$8","v":""},null,null,null,{"$f":"bksingh!$ADA$8","v":""},null,null,null,{"$f":"bksingh!$ADA$8","v":""},null,null,null,{"$f":"bksingh!$ADA$8","v":""},null,null,null,{"$f":"bksingh!$ADA$8","v":""},null,null,null,{"$f":"bksingh!$ADA$8","v":""},null,null,null,{"$f":"bksingh!$ADA$8","v":""},null,null,null,{"$f":"bksingh!$ADA$8","v":""},null,null,null,{"$f":"bksingh!$ADA$8","v":""},null,null,null,{"$f":"bksingh!$ADA$8","v":""},null,null,null,{"$f":"bksingh!$ADA$8","v":""},null,null,null,{"$f":"bksingh!$ADA$8","v":""},null,null,null,{"$f":"bksingh!$ADA$8","v":""},null,null,null,{"$f":"bksingh!$ADA$8","v":""},null,null,null,{"$f":"bksingh!$ADA$8","v":""},null,null,null,{"$f":"bksingh!$ADA$8","v":""},null,null,null,{"$f":"bksingh!$ADA$8","v":""},null,null,null,{"$f":"bksingh!$ADA$8","v":""},null,null,null,{"$f":"bksingh!$ADA$8","v":""},null,null,null,{"$f":"bksingh!$ADA$8","v":""},null,null,null,{"$f":"bksingh!$ADA$8","v":""},null,null,null,{"$f":"bksingh!$ADA$8","v":""},null,null,null,{"$f":"bksingh!$ADA$8","v":""},null,null,null,{"$f":"bksingh!$ADA$8","v":""},null,null,null,{"$f":"bksingh!$ADA$8","v":""},null,null,null,{"$f":"bksingh!$ADA$8","v":""},null,null,null,{"$f":"bksingh!$ADA$8","v":""},null,null,null,{"$f":"bksingh!$ADA$8","v":""},null,null,null,{"$f":"bksingh!$ADA$8","v":""},null,null,null,{"$f":"bksingh!$ADA$8","v":""},null,null,null,{"$f":"bksingh!$ADA$8","v":""},null,null,null,{"$f":"bksingh!$ADA$8","v":""},null,null,null,{"$f":"bksingh!$ADA$8","v":""},null,null,null,{"$f":"bksingh!$ADA$8","v":""},null,null,null,{"$f":"bksingh!$ADA$8","v":""},null,null,null,{"$f":"bksingh!$ADA$8","v":""},null,null,null,{"$f":"bksingh!$ADA$8","v":""},null,null,null,{"$f":"bksingh!$ADA$8","v":""},null,null,null,{"$f":"bksingh!$ADA$8","v":""},null,null,null,{"$f":"bksingh!$ADA$8","v":""},null,null,null,{"$f":"bksingh!$ADA$8","v":""},null,null,null,{"$f":"bksingh!$ADA$8","v":""},null,null,null,{"$f":"bksingh!$ADA$8","v":""},null,null,null,{"$f":"bksingh!$ADA$8","v":""},null,null,null,{"$f":"bksingh!$ADA$8","v":""},null,null,null,{"$f":"bksingh!$ADA$8","v":""},null,null,null,{"$f":"bksingh!$ADA$8","v":""},null,null,null,{"$f":"bksingh!$ADA$8","v":""},null,null,null,{"$f":"bksingh!$ADA$8","v":""},null,null,null,{"$f":"bksingh!$ADA$8","v":""},null,null,null,{"$f":"bksingh!$ADA$8","v":""},null,null,null,{"$f":"bksingh!$ADA$8","v":""},null,null,null,{"$f":"bksingh!$ADA$8","v":""},null,null,null,{"$f":"bksingh!$ADA$8","v":""},null,null,null,{"$f":"bksingh!$ADA$8","v":""},null,null,null,{"$f":"bksingh!$ADA$8","v":""},null,null,null,{"$f":"bksingh!$ADA$8","v":""},null,null,null,{"$f":"bksingh!$ADA$8","v":""},null,null,null,{"$f":"bksingh!$ADA$8","v":""},null,null,null,{"$f":"bksingh!$ADA$8","v":""},null,null,null,{"$f":"bksingh!$ADA$8","v":""},null,null,null,{"$f":"bksingh!$ADA$8","v":""},null,null,null,{"$f":"bksingh!$ADA$8","v":""},null,null,null,{"$f":"bksingh!$ADA$8","v":""},null,null,null,{"$f":"bksingh!$ADA$8","v":""},null,null,null,{"$f":"bksingh!$ADA$8","v":""},null,null,null,{"$f":"bksingh!$ADA$8","v":""},null,null,null,{"$f":"bksingh!$ADA$8","v":""},null,null,null,{"$f":"bksingh!$ADA$8","v":""},null,null,null,{"$f":"bksingh!$ADA$8","v":""},null,null,null,{"$f":"bksingh!$ADA$8","v":""},null,null,null,{"$f":"bksingh!$ADA$8","v":""},null,null,null,{"$f":"bksingh!$ADA$8","v":""},null,null,null,{"$f":"bksingh!$ADA$8","v":""},null,null,null,{"$f":"bksingh!$ADA$8","v":""},null,null,null,{"$f":"bksingh!$ADA$8","v":""},null,null,null,{"$f":"bksingh!$ADA$8","v":""},null,null,null,{"$f":"bksingh!$ADA$8","v":""},null,null,null,{"$f":"bksingh!$ADA$8","v":""},null,null,null,{"$f":"bksingh!$ADA$8","v":""},null,null,null,{"$f":"bksingh!$ADA$8","v":""},null,null,null,{"$f":"bksingh!$ADA$8","v":""},null,null,null,{"$f":"bksingh!$ADA$8","v":""},null,null,null,{"$f":"bksingh!$ADA$8","v":""},null,null,null,{"$f":"bksingh!$ADA$8","v":""},null,null,null,{"$f":"bksingh!$ADA$8","v":""},null,null,null,{"$f":"bksingh!$ADA$8","v":""},null,null,null,{"$f":"bksingh!$ADA$8","v":""},null,null,null,{"$f":"bksingh!$ADA$8","v":""},null,null,null,{"$f":"bksingh!$ADA$8","v":""},null,null,null,{"$f":"bksingh!$ADA$8","v":""},null,null,null,{"$f":"bksingh!$ADA$8","v":""},null,null,null,{"$f":"bksingh!$ADA$8","v":""},null,null,null,{"$f":"bksingh!$ADA$8","v":""},null,null,null,{"$f":"bksingh!$ADA$8","v":""},null,null,null,{"$f":"bksingh!$ADA$8","v":""},null,null,null,{"$f":"bksingh!$ADA$8","v":""},null,null,null,{"$f":"bksingh!$ADA$8","v":""},null,null,null,{"$f":"bksingh!$ADA$8","v":""},null,null,null,{"$f":"bksingh!$ADA$8","v":""},null,null,null,{"$f":"bksingh!$ADA$8","v":""},null,null,null,{"$f":"bksingh!$ADA$8","v":""},null,null,null,{"$f":"bksingh!$ADA$8","v":""},null,null,null,{"$f":"bksingh!$ADA$8","v":""},null,null,null,{"$f":"bksingh!$ADA$8","v":""},null,null,null,{"$f":"bksingh!$ADA$8","v":""},null,null,null,{"$f":"bksingh!$ADA$8","v":""},null,null,null,{"$f":"bksingh!$ADA$8","v":""},null,null,null,{"$f":"bksingh!$ADA$8","v":""},null,null,null,{"$f":"bksingh!$ADA$8","v":""},null,null,null,{"$f":"bksingh!$ADA$8","v":""},null,null,null,{"$f":"bksingh!$ADA$8","v":""},null,null,null,{"$f":"bksingh!$ADA$8","v":""},null,null,null,{"$f":"bksingh!$ADA$8","v":""},null,null,null,{"$f":"bksingh!$ADA$8","v":""},null,null,null,{"$f":"bksingh!$ADA$8","v":""},null,null,null,{"$f":"bksingh!$ADA$8","v":""},null,null,null,{"$f":"bksingh!$ADA$8","v":""},null,null,null,{"$f":"bksingh!$ADA$8","v":""},null,null,null,{"$f":"bksingh!$ADA$8","v":""},null,null,null,{"$f":"bksingh!$ADA$8","v":""},null,null,null,{"$f":"bksingh!$ADA$8","v":""},null,null,null,{"$f":"bksingh!$ADA$8","v":""},null,null,null,{"$f":"bksingh!$ADA$8","v":""},null,null,null,{"$f":"bksingh!$ADA$8","v":""},null,null,null,{"$f":"bksingh!$ADA$8","v":""},null,null,null,{"$f":"bksingh!$ADA$8","v":""},null,null,null,{"$f":"bksingh!$ADA$8","v":""},null,null,null,{"$f":"bksingh!$ADA$8","v":""},null,null,null,{"$f":"bksingh!$ADA$8","v":""},null,null,null,{"$f":"bksingh!$ADA$8","v":""},null,null,null,{"$f":"bksingh!$ADA$8","v":""},null,null,null,{"$f":"bksingh!$ADA$8","v":""},null,null,null,{"$f":"bksingh!$ADA$8","v":""},null,null,null,{"$f":"bksingh!$ADA$8","v":""},null,null,null,{"$f":"bksingh!$ADA$8","v":""},null,null,null,{"$f":"bksingh!$ADA$8","v":""},null,null,null,{"$f":"bksingh!$ADA$8","v":""},null,null,null,{"$f":"bksingh!$ADA$8","v":""},null,null,null,{"$f":"bksingh!$ADA$8","v":""},null,null,null,{"$f":"bksingh!$ADA$8","v":""},null,null,null,{"$f":"bksingh!$ADA$8","v":""},null,null,null,{"$f":"bksingh!$ADA$8","v":""},null,null,null,{"$f":"bksingh!$ADA$8","v":""},null,null,null,{"$f":"bksingh!$ADA$8","v":""},null,null,null,{"$f":"bksingh!$ADA$8","v":""},null,null,null,{"$f":"bksingh!$ADA$8","v":""},null,null,null,{"$f":"bksingh!$ADA$8","v":""},null,null,null,{"$f":"bksingh!$ADA$8","v":""},null,null,null,{"$f":"bksingh!$ADA$8","v":""},null,null,null,{"$f":"bksingh!$ADA$8","v":""},null,null,null,{"$f":"bksingh!$ADA$8","v":""},null,null,null,{"$f":"bksingh!$ADA$8","v":""},null,null,null,{"$f":"bksingh!$ADA$8","v":""},null,null,null,{"$f":"bksingh!$ADA$8","v":""},null,null,null,{"$f":"bksingh!$ADA$8","v":""},null,null,null,{"$f":"bksingh!$ADA$8","v":""},null,null,null,{"$f":"bksingh!$ADA$8","v":""},null,null,null,{"$f":"bksingh!$ADA$8","v":""},null,null,null,{"$f":"bksingh!$ADA$8","v":""},null,null,null,{"$f":"bksingh!$ADA$8","v":""},null,null,null,{"$f":"bksingh!$ADA$8","v":""},null,null,null,{"$f":"bksingh!$ADA$8","v":""},null,null,null,{"$f":"bksingh!$ADA$8","v":""},null,null,null,{"$f":"bksingh!$ADA$8","v":""},null,null,null,{"$f":"bksingh!$ADA$8","v":""},null,null,null,{"$f":"bksingh!$ADA$8","v":""},null,null,null,{"$f":"bksingh!$ADA$8","v":""},null,null,null,{"$f":"bksingh!$ADA$8","v":""},null,null,null,{"$f":"bksingh!$ADA$8","v":""},null,null,null,{"$f":"bksingh!$ADA$8","v":""},null,null,null,{"$f":"bksingh!$ADA$8","v":""},null,null,null,{"$f":"bksingh!$ADA$8","v":""},null,null,null,{"$f":"bksingh!$ADA$8","v":""},null,null,null,{"$f":"bksingh!$ADA$8","v":""},null,null,null,{"$f":"bksingh!$ADA$8","v":""},null,null,null,{"$f":"bksingh!$ADA$8","v":""},null,null,null,{"$f":"bksingh!$ADA$8","v":""},null,null,null,{"$f":"bksingh!$ADA$8","v":""},null,null,null,{"$f":"bksingh!$ADA$8","v":""},null,null,null,{"$f":"bksingh!$ADA$8","v":""},null,null,null,{"$f":"bksingh!$ADA$8","v":""},null,null,null,{"$f":"bksingh!$ADA$8","v":""},null,null,null,{"$f":"bksingh!$ADA$8","v":""},null,null,null,{"$f":"bksingh!$ADA$8","v":""},null,null,null,{"$f":"bksingh!$ADA$8","v":""},null,null,null,{"$f":"bksingh!$ADA$8","v":""},null,null,null,{"$f":"bksingh!$ADA$8","v":""},null,null,null,{"$f":"bksingh!$ADA$8","v":""},null,null,null,{"$f":"bksingh!$ADA$8","v":""},null,null,null,{"$f":"bksingh!$ADA$8","v":""},null,null,null,{"$f":"bksingh!$ADA$8","v":""},null,null,null,{"$f":"bksingh!$ADA$8","v":""},null,null,null,{"$f":"bksingh!$ADA$8","v":""},null,null,null,{"$f":"bksingh!$ADA$8","v":""},null,null,null,{"$f":"bksingh!$ADA$8","v":""},null,null,null,{"$f":"bksingh!$ADA$8","v":""},null,null,null,{"$f":"bksingh!$ADA$8","v":""},null,null,null,{"$f":"bksingh!$ADA$8","v":""},null,null,null,{"$f":"bksingh!$ADA$8","v":""},null,null,null,{"$f":"bksingh!$ADA$8","v":""},null,null,null,{"$f":"bksingh!$ADA$8","v":""},null,null,null,{"$f":"bksingh!$ADA$8","v":""},null,null,null,{"$f":"bksingh!$ADA$8","v":""},null,null,null,{"$f":"bksingh!$ADA$8","v":""},null,null,null,{"$f":"bksingh!$ADA$8","v":""},null,null,null,{"$f":"bksingh!$ADA$8","v":""},null,null,null,{"$f":"bksingh!$ADA$8","v":""},null,null,null,{"$f":"bksingh!$ADA$8","v":""},null,null,null,{"$f":"bksingh!$ADA$8","v":""},null,null,null,{"$f":"bksingh!$ADA$8","v":""},null,null,null,{"$f":"bksingh!$ADA$8","v":""},null,null,null,{"$f":"bksingh!$ADA$8","v":""},null,null,null,{"$f":"bksingh!$ADA$8","v":""},null,null,null,{"$f":"bksingh!$ADA$8","v":""},null,null,null,{"$f":"bksingh!$ADA$8","v":""},null,null,null,{"$f":"bksingh!$ADA$8","v":""},null,null,null,{"$f":"bksingh!$ADA$8","v":""},null,null,null,{"$f":"bksingh!$ADA$8","v":""},null,null,null,{"$f":"bksingh!$ADA$8","v":""},null,null,null,{"$f":"bksingh!$ADA$8","v":""},null,null,null,{"$f":"bksingh!$ADA$8","v":""},null,null,null,{"$f":"bksingh!$ADA$8","v":""},null,null,null,{"$f":"bksingh!$ADA$8","v":""},null,null,null,{"$f":"bksingh!$ADA$8","v":""},null,null,null,{"$f":"bksingh!$ADA$8","v":""},null,null,null,{"$f":"bksingh!$ADA$8","v":""},null,null,null,{"$f":"bksingh!$ADA$8","v":""},null,null,null,{"$f":"bksingh!$ADA$8","v":""},null,null,null,{"$f":"bksingh!$ADA$8","v":""},null,null,null,{"$f":"bksingh!$ADA$8","v":""},null,null,null,{"$f":"bksingh!$ADA$8","v":""},null,null,null,{"$f":"bksingh!$ADA$8","v":""},null,null,null,{"$f":"bksingh!$ADA$8","v":""},null,null,null,{"$f":"bksingh!$ADA$8","v":""},null,null,null,{"$f":"bksingh!$ADA$8","v":""},null,null,null,{"$f":"bksingh!$ADA$8","v":""},null,null,null,{"$f":"bksingh!$ADA$8","v":""},null,null,null,{"$f":"bksingh!$ADA$8","v":""},null,null,null,{"$f":"bksingh!$ADA$8","v":""},null,null,null,{"$f":"bksingh!$ADA$8","v":""},null,null,null,{"$f":"bksingh!$ADA$8","v":""},null,null,null,{"$f":"bksingh!$ADA$8","v":""},null,null,null,{"$f":"bksingh!$ADA$8","v":""},null,null,null,{"$f":"bksingh!$ADA$8","v":""},null,null,null,{"$f":"bksingh!$ADA$8","v":""},null,null,null,{"$f":"bksingh!$ADA$8","v":""},null,null,null,{"$f":"bksingh!$ADA$8","v":""},null,null,null,{"$f":"bksingh!$ADA$8","v":""},null,null,null,{"$f":"bksingh!$ADA$8","v":""},null,null,null,{"$f":"bksingh!$ADA$8","v":""},null,null,null,{"$f":"bksingh!$ADA$8","v":""},null,null,null,{"$f":"bksingh!$ADA$8","v":""},null,null,null,{"$f":"bksingh!$ADA$8","v":""},null,null,null,{"$f":"bksingh!$ADA$8","v":""},null,null,null,{"$f":"bksingh!$ADA$8","v":""},null,null,null,{"$f":"bksingh!$ADA$8","v":""},null,null,null,{"$f":"bksingh!$ADA$8","v":""},null,null,null,{"$f":"bksingh!$ADA$8","v":""},null,null,null,{"$f":"bksingh!$ADA$8","v":""},null,null,null,{"$f":"bksingh!$ADA$8","v":""},null,null,null,{"$f":"bksingh!$ADA$8","v":""},null,null,null,{"$f":"bksingh!$ADA$8","v":""},null,null,null,{"$f":"bksingh!$ADA$8","v":""},null,null,null,{"$f":"bksingh!$ADA$8","v":""},null,null,null,{"$f":"bksingh!$ADA$8","v":""},null,null,null,{"$f":"bksingh!$ADA$8","v":""},null,null,null,{"$f":"bksingh!$ADA$8","v":""},null,null,null,{"$f":"bksingh!$ADA$8","v":""},null,null,null,{"$f":"bksingh!$ADA$8","v":""},null,null,null,{"$f":"bksingh!$ADA$8","v":""},null,null,null,{"$f":"bksingh!$ADA$8","v":""},null,null,null,{"$f":"bksingh!$ADA$8","v":""},null,null,null,{"$f":"bksingh!$ADA$8","v":""},null,null,null,{"$f":"bksingh!$ADA$8","v":""},null,null,null,{"$f":"bksingh!$ADA$8","v":""},null,null,null,{"$f":"bksingh!$ADA$8","v":""},null,null,null,{"$f":"bksingh!$ADA$8","v":""},null,null,null,{"$f":"bksingh!$ADA$8","v":""},null,null,null,{"$f":"bksingh!$ADA$8","v":""},null,null,null,{"$f":"bksingh!$ADA$8","v":""},null,null,null,{"$f":"bksingh!$ADA$8","v":""},null,null,null,{"$f":"bksingh!$ADA$8","v":""},null,null,null,{"$f":"bksingh!$ADA$8","v":""},null,null,null,{"$f":"bksingh!$ADA$8","v":""},null,null,null,{"$f":"bksingh!$ADA$8","v":""},null,null,null,{"$f":"bksingh!$ADA$8","v":""},null,null,null,{"$f":"bksingh!$ADA$8","v":""},null,null,null,{"$f":"bksingh!$ADA$8","v":""},null,null,null,{"$f":"bksingh!$ADA$8","v":""},null,null,null,{"$f":"bksingh!$ADA$8","v":""},null,null,null,{"$f":"bksingh!$ADA$8","v":""},null,null,null,{"$f":"bksingh!$ADA$8","v":""},null,null,null,{"$f":"bksingh!$ADA$8","v":""},null,null,null,{"$f":"bksingh!$ADA$8","v":""},null,null,null,{"$f":"bksingh!$ADA$8","v":""},null,null,null,{"$f":"bksingh!$ADA$8","v":""},null,null,null,{"$f":"bksingh!$ADA$8","v":""},null,null,null,{"$f":"bksingh!$ADA$8","v":""},null,null,null,{"$f":"bksingh!$ADA$8","v":""},null,null,null,{"$f":"bksingh!$ADA$8","v":""},null,null,null,{"$f":"bksingh!$ADA$8","v":""},null,null,null,{"$f":"bksingh!$ADA$8","v":""},null,null,null,{"$f":"bksingh!$ADA$8","v":""},null,null,null,{"$f":"bksingh!$ADA$8","v":""},null,null,null,{"$f":"bksingh!$ADA$8","v":""},null,null,null,{"$f":"bksingh!$ADA$8","v":""},null,null,null,{"$f":"bksingh!$ADA$8","v":""},null,null,null,{"$f":"bksingh!$ADA$8","v":""},null,null,null,{"$f":"bksingh!$ADA$8","v":""},null,null,null,{"$f":"bksingh!$ADA$8","v":""},null,null,null,{"$f":"bksingh!$ADA$8","v":""},null,null,null,{"$f":"bksingh!$ADA$8","v":""},null,null,null,{"$f":"bksingh!$ADA$8","v":""},null,null,null,{"$f":"bksingh!$ADA$8","v":""},null,null,null,{"$f":"bksingh!$ADA$8","v":""},null,null,null,{"$f":"bksingh!$ADA$8","v":""},null,null,null,{"$f":"bksingh!$ADA$8","v":""},null,null,null,{"$f":"bksingh!$ADA$8","v":""},null,null,null,{"$f":"bksingh!$ADA$8","v":""},null,null,null,{"$f":"bksingh!$ADA$8","v":""},null,null,null,{"$f":"bksingh!$ADA$8","v":""},null,null,null,{"$f":"bksingh!$ADA$8","v":""},null,null,null,{"$f":"bksingh!$ADA$8","v":""},null,null,null,{"$f":"bksingh!$ADA$8","v":""},null,null,null,{"$f":"bksingh!$ADA$8","v":""},null,null,null,{"$f":"bksingh!$ADA$8","v":""},null,null,null,{"$f":"bksingh!$ADA$8","v":""},null,null,null,{"$f":"bksingh!$ADA$8","v":""},null,null,null,{"$f":"bksingh!$ADA$8","v":""},null,null,null,{"$f":"bksingh!$ADA$8","v":""},null,null,null,{"$f":"bksingh!$ADA$8","v":""},null,null,null,{"$f":"bksingh!$ADA$8","v":""},null,null,null,{"$f":"bksingh!$ADA$8","v":""},null,null,null,{"$f":"bksingh!$ADA$8","v":""},null,null,null,{"$f":"bksingh!$ADA$8","v":""},null,null,null,{"$f":"bksingh!$ADA$8","v":""},null,null,null,{"$f":"bksingh!$ADA$8","v":""},null,null,null,{"$f":"bksingh!$ADA$8","v":""},null,null,null,{"$f":"bksingh!$ADA$8","v":""},null,null,null,{"$f":"bksingh!$ADA$8","v":""},null,null,null,{"$f":"bksingh!$ADA$8","v":""},null,null,null,{"$f":"bksingh!$ADA$8","v":""},null,null,null,{"$f":"bksingh!$ADA$8","v":""},null,null,null,{"$f":"bksingh!$ADA$8","v":""},null,null,null,{"$f":"bksingh!$ADA$8","v":""},null,null,null,{"$f":"bksingh!$ADA$8","v":""},null,null,null,{"$f":"bksingh!$ADA$8","v":""},null,null,null,{"$f":"bksingh!$ADA$8","v":""},null,null,null,{"$f":"bksingh!$ADA$8","v":""},null,null,null,{"$f":"bksingh!$ADA$8","v":""},null,null,null,{"$f":"bksingh!$ADA$8","v":""},null,null,null,{"$f":"bksingh!$ADA$8","v":""},null,null,null,{"$f":"bksingh!$ADA$8","v":""},null,null,null,{"$f":"bksingh!$ADA$8","v":""},null,null,null,{"$f":"bksingh!$ADA$8","v":""},null,null,null,{"$f":"bksingh!$ADA$8","v":""},null,null,null,{"$f":"bksingh!$ADA$8","v":""},null,null,null,{"$f":"bksingh!$ADA$8","v":""},null,null,null,{"$f":"bksingh!$ADA$8","v":""},null,null,null,{"$f":"bksingh!$ADA$8","v":""},null,null,null,{"$f":"bksingh!$ADA$8","v":""},null,null,null,{"$f":"bksingh!$ADA$8","v":""},null,null,null,{"$f":"bksingh!$ADA$8","v":""},null,null,null,{"$f":"bksingh!$ADA$8","v":""},null,null,null,{"$f":"bksingh!$ADA$8","v":""},null,null,null,{"$f":"bksingh!$ADA$8","v":""},null,null,null,{"$f":"bksingh!$ADA$8","v":""},null,null,null,{"$f":"bksingh!$ADA$8","v":""},null,null,null,{"$f":"bksingh!$ADA$8","v":""},null,null,null,{"$f":"bksingh!$ADA$8","v":""},null,null,null,{"$f":"bksingh!$ADA$8","v":""},null,null,null,{"$f":"bksingh!$ADA$8","v":""},null,null,null,{"$f":"bksingh!$ADA$8","v":""},null,null,null,{"$f":"bksingh!$ADA$8","v":""},null,null,null,{"$f":"bksingh!$ADA$8","v":""},null,null,null,{"$f":"bksingh!$ADA$8","v":""},null,null,null,{"$f":"bksingh!$ADA$8","v":""},null,null,null,{"$f":"bksingh!$ADA$8","v":""},null,null,null,{"$f":"bksingh!$ADA$8","v":""},null,null,null,{"$f":"bksingh!$ADA$8","v":""},null,null,null,{"$f":"bksingh!$ADA$8","v":""},null,null,null,{"$f":"bksingh!$ADA$8","v":""},null,null,null,{"$f":"bksingh!$ADA$8","v":""},null,null,null,{"$f":"bksingh!$ADA$8","v":""},null,null,null,{"$f":"bksingh!$ADA$8","v":""},null,null,null,{"$f":"bksingh!$ADA$8","v":""},null,null,null,{"$f":"bksingh!$ADA$8","v":""},null,null,null,{"$f":"bksingh!$ADA$8","v":""},null,null,null,{"$f":"bksingh!$ADA$8","v":""},null,null,null,{"$f":"bksingh!$ADA$8","v":""},null,null,null,{"$f":"bksingh!$ADA$8","v":""},null,null,null,{"$f":"bksingh!$ADA$8","v":""},null,null,null,{"$f":"bksingh!$ADA$8","v":""},null,null,null,{"$f":"bksingh!$ADA$8","v":""},null,null,null,{"$f":"bksingh!$ADA$8","v":""},null,null,null,{"$f":"bksingh!$ADA$8","v":""},null,null,null,{"$f":"bksingh!$ADA$8","v":""},null,null,null,{"$f":"bksingh!$ADA$8","v":""},null,null,null,{"$f":"bksingh!$ADA$8","v":""},null,null,null,{"$f":"bksingh!$ADA$8","v":""},null,null,null,{"$f":"bksingh!$ADA$8","v":""},null,null,null,{"$f":"bksingh!$ADA$8","v":""},null,null,null,{"$f":"bksingh!$ADA$8","v":""},null,null,null,{"$f":"bksingh!$ADA$8","v":""},null,null,null,{"$f":"bksingh!$ADA$8","v":""},null,null,null,{"$f":"bksingh!$ADA$8","v":""},null,null,null,{"$f":"bksingh!$ADA$8","v":""},null,null,null,{"$f":"bksingh!$ADA$8","v":""},null,null,null,{"$f":"bksingh!$ADA$8","v":""},null,null,null,{"$f":"bksingh!$ADA$8","v":""},null,null,null,{"$f":"bksingh!$ADA$8","v":""},null,null,null,{"$f":"bksingh!$ADA$8","v":""},null,null,null,{"$f":"bksingh!$ADA$8","v":""},null,null,null,{"$f":"bksingh!$ADA$8","v":""},null,null,null,{"$f":"bksingh!$ADA$8","v":""},null,null,null,{"$f":"bksingh!$ADA$8","v":""},null,null,null,{"$f":"bksingh!$ADA$8","v":""},null,null,null,{"$f":"bksingh!$ADA$8","v":""},null,null,null,{"$f":"bksingh!$ADA$8","v":""},null,null,null,{"$f":"bksingh!$ADA$8","v":""},null,null,null,{"$f":"bksingh!$ADA$8","v":""},null,null,null,{"$f":"bksingh!$ADA$8","v":""},null,null,null,{"$f":"bksingh!$ADA$8","v":""},null,null,null,{"$f":"bksingh!$ADA$8","v":""},null,null,null,{"$f":"bksingh!$ADA$8","v":""},null,null,null,{"$f":"bksingh!$ADA$8","v":""},null,null,null,{"$f":"bksingh!$ADA$8","v":""},null,null,null,{"$f":"bksingh!$ADA$8","v":""},null,null,null,{"$f":"bksingh!$ADA$8","v":""},null,null,null,{"$f":"bksingh!$ADA$8","v":""},null,null,null,{"$f":"bksingh!$ADA$8","v":""},null,null,null,{"$f":"bksingh!$ADA$8","v":""},null,null,null,{"$f":"bksingh!$ADA$8","v":""},null,null,null,{"$f":"bksingh!$ADA$8","v":""},null,null,null,{"$f":"bksingh!$ADA$8","v":""},null,null,null,{"$f":"bksingh!$ADA$8","v":""},null,null,null,{"$f":"bksingh!$ADA$8","v":""},null,null,null,{"$f":"bksingh!$ADA$8","v":""},null,null,null,{"$f":"bksingh!$ADA$8","v":""},null,null,null,{"$f":"bksingh!$ADA$8","v":""},null,null,null,{"$f":"bksingh!$ADA$8","v":""},null,null,null,{"$f":"bksingh!$ADA$8","v":""},null,null,null,{"$f":"bksingh!$ADA$8","v":""},null,null,null,{"$f":"bksingh!$ADA$8","v":""},null,null,null,{"$f":"bksingh!$ADA$8","v":""},null,null,null,{"$f":"bksingh!$ADA$8","v":""},null,null,null,{"$f":"bksingh!$ADA$8","v":""},null,null,null,{"$f":"bksingh!$ADA$8","v":""},null,null,null,{"$f":"bksingh!$ADA$8","v":""},null,null,null,{"$f":"bksingh!$ADA$8","v":""},null,null,null,{"$f":"bksingh!$ADA$8","v":""},null,null,null,{"$f":"bksingh!$ADA$8","v":""},null,null,null,{"$f":"bksingh!$ADA$8","v":""},null,null,null,{"$f":"bksingh!$ADA$8","v":""},null,null,null,{"$f":"bksingh!$ADA$8","v":""},null,null,null,{"$f":"bksingh!$ADA$8","v":""},null,null,null,{"$f":"bksingh!$ADA$8","v":""},null,null,null,{"$f":"bksingh!$ADA$8","v":""},null,null,null,{"$f":"bksingh!$ADA$8","v":""},null,null,null,{"$f":"bksingh!$ADA$8","v":""},null,null,null,{"$f":"bksingh!$ADA$8","v":""},null,null,null,{"$f":"bksingh!$ADA$8","v":""},null,null,null,{"$f":"bksingh!$ADA$8","v":""},null,null,null,{"$f":"bksingh!$ADA$8","v":""},null,null,null,{"$f":"bksingh!$ADA$8","v":""},null,null,null,{"$f":"bksingh!$ADA$8","v":""},null,null,null,{"$f":"bksingh!$ADA$8","v":""},null,null,null,{"$f":"bksingh!$ADA$8","v":""},null,null,null,{"$f":"bksingh!$ADA$8","v":""},null,null,null,{"$f":"bksingh!$ADA$8","v":""},null,null,null,{"$f":"bksingh!$ADA$8","v":""},null,null,null,{"$f":"bksingh!$ADA$8","v":""},null,null,null,{"$f":"bksingh!$ADA$8","v":""},null,null,null,{"$f":"bksingh!$ADA$8","v":""},null,null,null,{"$f":"bksingh!$ADA$8","v":""},null,null,null,{"$f":"bksingh!$ADA$8","v":""},null,null,null,{"$f":"bksingh!$ADA$8","v":""},null,null,null,{"$f":"bksingh!$ADA$8","v":""},null,null,null,{"$f":"bksingh!$ADA$8","v":""},null,null,null,{"$f":"bksingh!$ADA$8","v":""},null,null,null,{"$f":"bksingh!$ADA$8","v":""},null,null,null,{"$f":"bksingh!$ADA$8","v":""},null,null,null,{"$f":"bksingh!$ADA$8","v":""},null,null,null,{"$f":"bksingh!$ADA$8","v":""},null,null,null,{"$f":"bksingh!$ADA$8","v":""},null,null,null,{"$f":"bksingh!$ADA$8","v":""},null,null,null,{"$f":"bksingh!$ADA$8","v":""},null,null,null,{"$f":"bksingh!$ADA$8","v":""},null,null,null,{"$f":"bksingh!$ADA$8","v":""},null,null,null,{"$f":"bksingh!$ADA$8","v":""},null,null,null,{"$f":"bksingh!$ADA$8","v":""},null,null,null,{"$f":"bksingh!$ADA$8","v":""},null,null,null,{"$f":"bksingh!$ADA$8","v":""},null,null,null,{"$f":"bksingh!$ADA$8","v":""},null,null,null,{"$f":"bksingh!$ADA$8","v":""},null,null,null,{"$f":"bksingh!$ADA$8","v":""},null,null,null,{"$f":"bksingh!$ADA$8","v":""},null,null,null,{"$f":"bksingh!$ADA$8","v":""},null,null,null,{"$f":"bksingh!$ADA$8","v":""},null,null,null,{"$f":"bksingh!$ADA$8","v":""},null,null,null,{"$f":"bksingh!$ADA$8","v":""},null,null,null,{"$f":"bksingh!$ADA$8","v":""},null,null,null,{"$f":"bksingh!$ADA$8","v":""},null,null,null,{"$f":"bksingh!$ADA$8","v":""},null,null,null,{"$f":"bksingh!$ADA$8","v":""},null,null,null,{"$f":"bksingh!$ADA$8","v":""},null,null,null,{"$f":"bksingh!$ADA$8","v":""},null,null,null,{"$f":"bksingh!$ADA$8","v":""},null,null,null,{"$f":"bksingh!$ADA$8","v":""},null,null,null,{"$f":"bksingh!$ADA$8","v":""},null,null,null,{"$f":"bksingh!$ADA$8","v":""},null,null,null,{"$f":"bksingh!$ADA$8","v":""},null,null,null,{"$f":"bksingh!$ADA$8","v":""},null,null,null,{"$f":"bksingh!$ADA$8","v":""},null,null,null,{"$f":"bksingh!$ADA$8","v":""},null,null,null,{"$f":"bksingh!$ADA$8","v":""},null,null,null,{"$f":"bksingh!$ADA$8","v":""},null,null,null,{"$f":"bksingh!$ADA$8","v":""},null,null,null,{"$f":"bksingh!$ADA$8","v":""},null,null,null,{"$f":"bksingh!$ADA$8","v":""},null,null,null,{"$f":"bksingh!$ADA$8","v":""},null,null,null,{"$f":"bksingh!$ADA$8","v":""},null,null,null,{"$f":"bksingh!$ADA$8","v":""},null,null,null,{"$f":"bksingh!$ADA$8","v":""},null,null,null,{"$f":"bksingh!$ADA$8","v":""},null,null,null,{"$f":"bksingh!$ADA$8","v":""},null,null,null,{"$f":"bksingh!$ADA$8","v":""},null,null,null,{"$f":"bksingh!$ADA$8","v":""},null,null,null,{"$f":"bksingh!$ADA$8","v":""},null,null,null,{"$f":"bksingh!$ADA$8","v":""},null,null,null,{"$f":"bksingh!$ADA$8","v":""},null,null,null,{"$f":"bksingh!$ADA$8","v":""},null,null,null,{"$f":"bksingh!$ADA$8","v":""},null,null,null,{"$f":"bksingh!$ADA$8","v":""},null,null,null,{"$f":"bksingh!$ADA$8","v":""},null,null,null,{"$f":"bksingh!$ADA$8","v":""},null,null,null,{"$f":"bksingh!$ADA$8","v":""},null,null,null,{"$f":"bksingh!$ADA$8","v":""},null,null,null,{"$f":"bksingh!$ADA$8","v":""},null,null,null,{"$f":"bksingh!$ADA$8","v":""},null,null,null,{"$f":"bksingh!$ADA$8","v":""},null,null,null,{"$f":"bksingh!$ADA$8","v":""},null,null,null,{"$f":"bksingh!$ADA$8","v":""},null,null,null,{"$f":"bksingh!$ADA$8","v":""},null,null,null,{"$f":"bksingh!$ADA$8","v":""},null,null,null,{"$f":"bksingh!$ADA$8","v":""},null,null,null,{"$f":"bksingh!$ADA$8","v":""},null,null,null,{"$f":"bksingh!$ADA$8","v":""},null,null,null,{"$f":"bksingh!$ADA$8","v":""},null,null,null,{"$f":"bksingh!$ADA$8","v":""},null,null,null,{"$f":"bksingh!$ADA$8","v":""},null,null,null,{"$f":"bksingh!$ADA$8","v":""},null,null,null,{"$f":"bksingh!$ADA$8","v":""},null,null,null,{"$f":"bksingh!$ADA$8","v":""},null,null,null,{"$f":"bksingh!$ADA$8","v":""},null,null,null,{"$f":"bksingh!$ADA$8","v":""},null,null,null,{"$f":"bksingh!$ADA$8","v":""},null,null,null,{"$f":"bksingh!$ADA$8","v":""},null,null,null,{"$f":"bksingh!$ADA$8","v":""},null,null,null,{"$f":"bksingh!$ADA$8","v":""},null,null,null,{"$f":"bksingh!$ADA$8","v":""},null,null,null,{"$f":"bksingh!$ADA$8","v":""},null,null,null,{"$f":"bksingh!$ADA$8","v":""},null,null,null,{"$f":"bksingh!$ADA$8","v":""},null,null,null,{"$f":"bksingh!$ADA$8","v":""},null,null,null,{"$f":"bksingh!$ADA$8","v":""},null,null,null,{"$f":"bksingh!$ADA$8","v":""},null,null,null,{"$f":"bksingh!$ADA$8","v":""},null,null,null,{"$f":"bksingh!$ADA$8","v":""},null,null,null,{"$f":"bksingh!$ADA$8","v":""},null,null,null,{"$f":"bksingh!$ADA$8","v":""},null,null,null,{"$f":"bksingh!$ADA$8","v":""},null,null,null,{"$f":"bksingh!$ADA$8","v":""},null,null,null,{"$f":"bksingh!$ADA$8","v":""},null,null,null,{"$f":"bksingh!$ADA$8","v":""},null,null,null,{"$f":"bksingh!$ADA$8","v":""},null,null,null,{"$f":"bksingh!$ADA$8","v":""},null,null,null,{"$f":"bksingh!$ADA$8","v":""},null,null,null,{"$f":"bksingh!$ADA$8","v":""},null,null,null,{"$f":"bksingh!$ADA$8","v":""},null,null,null,{"$f":"bksingh!$ADA$8","v":""},null,null,null,{"$f":"bksingh!$ADA$8","v":""},null,null,null,{"$f":"bksingh!$ADA$8","v":""},null,null,null,{"$f":"bksingh!$ADA$8","v":""},null,null,null,{"$f":"bksingh!$ADA$8","v":""},null,null,null,{"$f":"bksingh!$ADA$8","v":""},null,null,null,{"$f":"bksingh!$ADA$8","v":""},null,null,null,{"$f":"bksingh!$ADA$8","v":""},null,null,null,{"$f":"bksingh!$ADA$8","v":""},null,null,null,{"$f":"bksingh!$ADA$8","v":""},null,null,null,{"$f":"bksingh!$ADA$8","v":""},null,null,null,{"$f":"bksingh!$ADA$8","v":""},null,null,null,{"$f":"bksingh!$ADA$8","v":""},null,null,null,{"$f":"bksingh!$ADA$8","v":""},null,null,null,{"$f":"bksingh!$ADA$8","v":""},null,null,null,{"$f":"bksingh!$ADA$8","v":""},null,null,null,{"$f":"bksingh!$ADA$8","v":""},null,null,null,{"$f":"bksingh!$ADA$8","v":""},null,null,null,{"$f":"bksingh!$ADA$8","v":""},null,null,null,{"$f":"bksingh!$ADA$8","v":""},null,null,null,{"$f":"bksingh!$ADA$8","v":""},null,null,null,{"$f":"bksingh!$ADA$8","v":""},null,null,null,{"$f":"bksingh!$ADA$8","v":""},null,null,null,{"$f":"bksingh!$ADA$8","v":""},null,null,null,{"$f":"bksingh!$ADA$8","v":""},null,null,null,{"$f":"bksingh!$ADA$8","v":""},null,null,null,{"$f":"bksingh!$ADA$8","v":""},null,null,null,{"$f":"bksingh!$ADA$8","v":""},null,null,null,{"$f":"bksingh!$ADA$8","v":""},null,null,null,{"$f":"bksingh!$ADA$8","v":""},null,null,null,{"$f":"bksingh!$ADA$8","v":""},null,null,null,{"$f":"bksingh!$ADA$8","v":""},null,null,null,{"$f":"bksingh!$ADA$8","v":""},null,null,null,{"$f":"bksingh!$ADA$8","v":""},null,null,null,{"$f":"bksingh!$ADA$8","v":""},null,null,null,{"$f":"bksingh!$ADA$8","v":""},null,null,null,{"$f":"bksingh!$ADA$8","v":""},null,null,null,{"$f":"bksingh!$ADA$8","v":""},null,null,null,{"$f":"bksingh!$ADA$8","v":""},null,null,null,{"$f":"bksingh!$ADA$8","v":""},null,null,null,{"$f":"bksingh!$ADA$8","v":""},null,null,null,{"$f":"bksingh!$ADA$8","v":""},null,null,null,{"$f":"bksingh!$ADA$8","v":""},null,null,null,{"$f":"bksingh!$ADA$8","v":""},null,null,null,{"$f":"bksingh!$ADA$8","v":""},null,null,null,{"$f":"bksingh!$ADA$8","v":""},null,null,null,{"$f":"bksingh!$ADA$8","v":""},null,null,null,{"$f":"bksingh!$ADA$8","v":""},null,null,null,{"$f":"bksingh!$ADA$8","v":""},null,null,null,{"$f":"bksingh!$ADA$8","v":""},null,null,null,{"$f":"bksingh!$ADA$8","v":""},null,null,null,{"$f":"bksingh!$ADA$8","v":""},null,null,null,{"$f":"bksingh!$ADA$8","v":""},null,null,null,{"$f":"bksingh!$ADA$8","v":""},null,null,null,{"$f":"bksingh!$ADA$8","v":""},null,null,null,{"$f":"bksingh!$ADA$8","v":""},null,null,null,{"$f":"bksingh!$ADA$8","v":""},null,null,null,{"$f":"bksingh!$ADA$8","v":""},null,null,null,{"$f":"bksingh!$ADA$8","v":""},null,null,null,{"$f":"bksingh!$ADA$8","v":""},null,null,null,{"$f":"bksingh!$ADA$8","v":""},null,null,null,{"$f":"bksingh!$ADA$8","v":""},null,null,null,{"$f":"bksingh!$ADA$8","v":""},null,null,null,{"$f":"bksingh!$ADA$8","v":""},null,null,null,{"$f":"bksingh!$ADA$8","v":""},null,null,null,{"$f":"bksingh!$ADA$8","v":""},null,null,null,{"$f":"bksingh!$ADA$8","v":""},null,null,null,{"$f":"bksingh!$ADA$8","v":""},null,null,null,{"$f":"bksingh!$ADA$8","v":""},null,null,null,{"$f":"bksingh!$ADA$8","v":""},null,null,null,{"$f":"bksingh!$ADA$8","v":""},null,null,null,{"$f":"bksingh!$ADA$8","v":""},null,null,null,{"$f":"bksingh!$ADA$8","v":""},null,null,null,{"$f":"bksingh!$ADA$8","v":""},null,null,null,{"$f":"bksingh!$ADA$8","v":""},null,null,null,{"$f":"bksingh!$ADA$8","v":""},null,null,null,{"$f":"bksingh!$ADA$8","v":""},null,null,null,{"$f":"bksingh!$ADA$8","v":""},null,null,null,{"$f":"bksingh!$ADA$8","v":""},null,null,null,{"$f":"bksingh!$ADA$8","v":""},null,null,null,{"$f":"bksingh!$ADA$8","v":""},null,null,null,{"$f":"bksingh!$ADA$8","v":""},null,null,null,{"$f":"bksingh!$ADA$8","v":""},null,null,null,{"$f":"bksingh!$ADA$8","v":""},null,null,null,{"$f":"bksingh!$ADA$8","v":""},null,null,null,{"$f":"bksingh!$ADA$8","v":""},null,null,null,{"$f":"bksingh!$ADA$8","v":""},null,null,null,{"$f":"bksingh!$ADA$8","v":""},null,null,null,{"$f":"bksingh!$ADA$8","v":""},null,null,null,{"$f":"bksingh!$ADA$8","v":""},null,null,null,{"$f":"bksingh!$ADA$8","v":""},null,null,null,{"$f":"bksingh!$ADA$8","v":""},null,null,null,{"$f":"bksingh!$ADA$8","v":""},null,null,null,{"$f":"bksingh!$ADA$8","v":""},null,null,null,{"$f":"bksingh!$ADA$8","v":""},null,null,null,{"$f":"bksingh!$ADA$8","v":""},null,null,null,{"$f":"bksingh!$ADA$8","v":""},null,null,null,{"$f":"bksingh!$ADA$8","v":""},null,null,null,{"$f":"bksingh!$ADA$8","v":""},null,null,null,{"$f":"bksingh!$ADA$8","v":""},null,null,null,{"$f":"bksingh!$ADA$8","v":""},null,null,null,{"$f":"bksingh!$ADA$8","v":""},null,null,null,{"$f":"bksingh!$ADA$8","v":""},null,null,null,{"$f":"bksingh!$ADA$8","v":""},null,null,null,{"$f":"bksingh!$ADA$8","v":""},null,null,null,{"$f":"bksingh!$ADA$8","v":""},null,null,null,{"$f":"bksingh!$ADA$8","v":""},null,null,null,{"$f":"bksingh!$ADA$8","v":""},null,null,null,{"$f":"bksingh!$ADA$8","v":""},null,null,null,{"$f":"bksingh!$ADA$8","v":""},null,null,null,{"$f":"bksingh!$ADA$8","v":""},null,null,null,{"$f":"bksingh!$ADA$8","v":""},null,null,null,{"$f":"bksingh!$ADA$8","v":""},null,null,null,{"$f":"bksingh!$ADA$8","v":""},null,null,null,{"$f":"bksingh!$ADA$8","v":""},null,null,null,{"$f":"bksingh!$ADA$8","v":""},null,null,null,{"$f":"bksingh!$ADA$8","v":""},null,null,null,{"$f":"bksingh!$ADA$8","v":""},null,null,null,{"$f":"bksingh!$ADA$8","v":""},null,null,null,{"$f":"bksingh!$ADA$8","v":""},null,null,null,{"$f":"bksingh!$ADA$8","v":""},null,null,null,{"$f":"bksingh!$ADA$8","v":""},null,null,null,{"$f":"bksingh!$ADA$8","v":""},null,null,null,{"$f":"bksingh!$ADA$8","v":""},null,null,null,{"$f":"bksingh!$ADA$8","v":""},null,null,null,{"$f":"bksingh!$ADA$8","v":""},null,null,null,{"$f":"bksingh!$ADA$8","v":""},null,null,null,{"$f":"bksingh!$ADA$8","v":""},null,null,null,{"$f":"bksingh!$ADA$8","v":""},null,null,null,{"$f":"bksingh!$ADA$8","v":""},null,null,null,{"$f":"bksingh!$ADA$8","v":""},null,null,null,{"$f":"bksingh!$ADA$8","v":""},null,null,null,{"$f":"bksingh!$ADA$8","v":""},null,null,null,{"$f":"bksingh!$ADA$8","v":""},null,null,null,{"$f":"bksingh!$ADA$8","v":""},null,null,null,{"$f":"bksingh!$ADA$8","v":""},null,null,null,{"$f":"bksingh!$ADA$8","v":""},null,null,null,{"$f":"bksingh!$ADA$8","v":""},null,null,null,{"$f":"bksingh!$ADA$8","v":""},null,null,null,{"$f":"bksingh!$ADA$8","v":""},null,null,null,{"$f":"bksingh!$ADA$8","v":""},null,null,null,{"$f":"bksingh!$ADA$8","v":""},null,null,null,{"$f":"bksingh!$ADA$8","v":""},null,null,null,{"$f":"bksingh!$ADA$8","v":""},null,null,null,{"$f":"bksingh!$ADA$8","v":""},null,null,null,{"$f":"bksingh!$ADA$8","v":""},null,null,null,{"$f":"bksingh!$ADA$8","v":""},null,null,null,{"$f":"bksingh!$ADA$8","v":""},null,null,null,{"$f":"bksingh!$ADA$8","v":""},null,null,null,{"$f":"bksingh!$ADA$8","v":""},null,null,null,{"$f":"bksingh!$ADA$8","v":""},null,null,null,{"$f":"bksingh!$ADA$8","v":""},null,null,null,{"$f":"bksingh!$ADA$8","v":""},null,null,null,{"$f":"bksingh!$ADA$8","v":""},null,null,null,{"$f":"bksingh!$ADA$8","v":""},null,null,null,{"$f":"bksingh!$ADA$8","v":""},null,null,null,{"$f":"bksingh!$ADA$8","v":""},null,null,null,{"$f":"bksingh!$ADA$8","v":""},null,null,null,{"$f":"bksingh!$ADA$8","v":""},null,null,null,{"$f":"bksingh!$ADA$8","v":""},null,null,null,{"$f":"bksingh!$ADA$8","v":""},null,null,null,{"$f":"bksingh!$ADA$8","v":""},null,null,null,{"$f":"bksingh!$ADA$8","v":""},null,null,null,{"$f":"bksingh!$ADA$8","v":""},null,null,null,{"$f":"bksingh!$ADA$8","v":""},null,null,null,{"$f":"bksingh!$ADA$8","v":""},null,null,null,{"$f":"bksingh!$ADA$8","v":""},null,null,null,{"$f":"bksingh!$ADA$8","v":""},null,null,null,{"$f":"bksingh!$ADA$8","v":""},null,null,null,{"$f":"bksingh!$ADA$8","v":""},null,null,null,{"$f":"bksingh!$ADA$8","v":""},null,null,null,{"$f":"bksingh!$ADA$8","v":""},null,null,null,{"$f":"bksingh!$ADA$8","v":""},null,null,null,{"$f":"bksingh!$ADA$8","v":""},null,null,null,{"$f":"bksingh!$ADA$8","v":""},null,null,null,{"$f":"bksingh!$ADA$8","v":""},null,null,null,{"$f":"bksingh!$ADA$8","v":""},null,null,null,{"$f":"bksingh!$ADA$8","v":""},null,null,null,{"$f":"bksingh!$ADA$8","v":""},null,null,null,{"$f":"bksingh!$ADA$8","v":""},null,null,null,{"$f":"bksingh!$ADA$8","v":""},null,null,null,{"$f":"bksingh!$ADA$8","v":""},null,null,null,{"$f":"bksingh!$ADA$8","v":""},null,null,null,{"$f":"bksingh!$ADA$8","v":""},null,null,null,{"$f":"bksingh!$ADA$8","v":""},null,null,null,{"$f":"bksingh!$ADA$8","v":""},null,null,null,{"$f":"bksingh!$ADA$8","v":""},null,null,null,{"$f":"bksingh!$ADA$8","v":""},null,null,null,{"$f":"bksingh!$ADA$8","v":""},null,null,null,{"$f":"bksingh!$ADA$8","v":""},null,null,null,{"$f":"bksingh!$ADA$8","v":""},null,null,null,{"$f":"bksingh!$ADA$8","v":""},null,null,null,{"$f":"bksingh!$ADA$8","v":""},null,null,null,{"$f":"bksingh!$ADA$8","v":""},null,null,null,{"$f":"bksingh!$ADA$8","v":""},null,null,null,{"$f":"bksingh!$ADA$8","v":""},null,null,null,{"$f":"bksingh!$ADA$8","v":""},null,null,null,{"$f":"bksingh!$ADA$8","v":""},null,null,null,{"$f":"bksingh!$ADA$8","v":""},null,null,null,{"$f":"bksingh!$ADA$8","v":""},null,null,null,{"$f":"bksingh!$ADA$8","v":""},null,null,null,{"$f":"bksingh!$ADA$8","v":""},null,null,null,{"$f":"bksingh!$ADA$8","v":""},null,null,null,{"$f":"bksingh!$ADA$8","v":""},null,null,null,{"$f":"bksingh!$ADA$8","v":""},null,null,null,{"$f":"bksingh!$ADA$8","v":""},null,null,null,{"$f":"bksingh!$ADA$8","v":""},null,null,null,{"$f":"bksingh!$ADA$8","v":""},null,null,null,{"$f":"bksingh!$ADA$8","v":""},null,null,null,{"$f":"bksingh!$ADA$8","v":""},null,null,null,{"$f":"bksingh!$ADA$8","v":""},null,null,null,{"$f":"bksingh!$ADA$8","v":""},null,null,null,{"$f":"bksingh!$ADA$8","v":""},null,null,null,{"$f":"bksingh!$ADA$8","v":""},null,null,null,{"$f":"bksingh!$ADA$8","v":""},null,null,null,{"$f":"bksingh!$ADA$8","v":""},null,null,null,{"$f":"bksingh!$ADA$8","v":""},null,null,null,{"$f":"bksingh!$ADA$8","v":""},null,null,null,{"$f":"bksingh!$ADA$8","v":""},null,null,null,{"$f":"bksingh!$ADA$8","v":""},null,null,null,{"$f":"bksingh!$ADA$8","v":""},null,null,null,{"$f":"bksingh!$ADA$8","v":""},null,null,null,{"$f":"bksingh!$ADA$8","v":""},null,null,null,{"$f":"bksingh!$ADA$8","v":""},null,null,null,{"$f":"bksingh!$ADA$8","v":""},null,null,null,{"$f":"bksingh!$ADA$8","v":""},null,null,null,{"$f":"bksingh!$ADA$8","v":""},null,null,null,{"$f":"bksingh!$ADA$8","v":""},null,null,null,{"$f":"bksingh!$ADA$8","v":""},null,null,null,{"$f":"bksingh!$ADA$8","v":""},null,null,null,{"$f":"bksingh!$ADA$8","v":""},null,null,null,{"$f":"bksingh!$ADA$8","v":""},null,null,null,{"$f":"bksingh!$ADA$8","v":""},null,null,null,{"$f":"bksingh!$ADA$8","v":""},null,null,null,{"$f":"bksingh!$ADA$8","v":""},null,null,null,{"$f":"bksingh!$ADA$8","v":""},null,null,null,{"$f":"bksingh!$ADA$8","v":""},null,null,null,{"$f":"bksingh!$ADA$8","v":""},null,null,null,{"$f":"bksingh!$ADA$8","v":""},null,null,null,{"$f":"bksingh!$ADA$8","v":""},null,null,null,{"$f":"bksingh!$ADA$8","v":""},null,null,null,{"$f":"bksingh!$ADA$8","v":""},null,null,null,{"$f":"bksingh!$ADA$8","v":""},null,null,null,{"$f":"bksingh!$ADA$8","v":""},null,null,null,{"$f":"bksingh!$ADA$8","v":""},null,null,null,{"$f":"bksingh!$ADA$8","v":""},null,null,null,{"$f":"bksingh!$ADA$8","v":""},null,null,null,{"$f":"bksingh!$ADA$8","v":""},null,null,null,{"$f":"bksingh!$ADA$8","v":""},null,null,null,{"$f":"bksingh!$ADA$8","v":""},null,null,null,{"$f":"bksingh!$ADA$8","v":""},null,null,null,{"$f":"bksingh!$ADA$8","v":""},null,null,null,{"$f":"bksingh!$ADA$8","v":""},null,null,null,{"$f":"bksingh!$ADA$8","v":""},null,null,null,{"$f":"bksingh!$ADA$8","v":""},null,null,null,{"$f":"bksingh!$ADA$8","v":""},null,null,null,{"$f":"bksingh!$ADA$8","v":""},null,null,null,{"$f":"bksingh!$ADA$8","v":""},null,null,null,{"$f":"bksingh!$ADA$8","v":""},null,null,null,{"$f":"bksingh!$ADA$8","v":""},null,null,null,{"$f":"bksingh!$ADA$8","v":""},null,null,null,{"$f":"bksingh!$ADA$8","v":""},null,null,null,{"$f":"bksingh!$ADA$8","v":""},null,null,null,{"$f":"bksingh!$ADA$8","v":""},null,null,null,{"$f":"bksingh!$ADA$8","v":""},null,null,null,{"$f":"bksingh!$ADA$8","v":""},null,null,null,{"$f":"bksingh!$ADA$8","v":""},null,null,null,{"$f":"bksingh!$ADA$8","v":""},null,null,null,{"$f":"bksingh!$ADA$8","v":""},null,null,null,{"$f":"bksingh!$ADA$8","v":""},null,null,null,{"$f":"bksingh!$ADA$8","v":""},null,null,null,{"$f":"bksingh!$ADA$8","v":""},null,null,null,{"$f":"bksingh!$ADA$8","v":""},null,null,null,{"$f":"bksingh!$ADA$8","v":""},null,null,null,{"$f":"bksingh!$ADA$8","v":""},null,null,null,{"$f":"bksingh!$ADA$8","v":""},null,null,null,{"$f":"bksingh!$ADA$8","v":""},null,null,null,{"$f":"bksingh!$ADA$8","v":""},null,null,null,{"$f":"bksingh!$ADA$8","v":""},null,null,null,{"$f":"bksingh!$ADA$8","v":""},null,null,null,{"$f":"bksingh!$ADA$8","v":""},null,null,null,{"$f":"bksingh!$ADA$8","v":""},null,null,null,{"$f":"bksingh!$ADA$8","v":""},null,null,null,{"$f":"bksingh!$ADA$8","v":""},null,null,null,{"$f":"bksingh!$ADA$8","v":""},null,null,null,{"$f":"bksingh!$ADA$8","v":""},null,null,null,{"$f":"bksingh!$ADA$8","v":""},null,null,null,{"$f":"bksingh!$ADA$8","v":""},null,null,null,{"$f":"bksingh!$ADA$8","v":""},null,null,null,{"$f":"bksingh!$ADA$8","v":""},null,null,null,{"$f":"bksingh!$ADA$8","v":""},null,null,null,{"$f":"bksingh!$ADA$8","v":""},null,null,null,{"$f":"bksingh!$ADA$8","v":""},null,null,null,{"$f":"bksingh!$ADA$8","v":""},null,null,null,{"$f":"bksingh!$ADA$8","v":""},null,null,null,{"$f":"bksingh!$ADA$8","v":""},null,null,null,{"$f":"bksingh!$ADA$8","v":""},null,null,null,{"$f":"bksingh!$ADA$8","v":""},null,null,null,{"$f":"bksingh!$ADA$8","v":""},null,null,null,{"$f":"bksingh!$ADA$8","v":""},null,null,null,{"$f":"bksingh!$ADA$8","v":""},null,null,null,{"$f":"bksingh!$ADA$8","v":""},null,null,null,{"$f":"bksingh!$ADA$8","v":""},null,null,null,{"$f":"bksingh!$ADA$8","v":""},null,null,null,{"$f":"bksingh!$ADA$8","v":""},null,null,null,{"$f":"bksingh!$ADA$8","v":""},null,null,null,{"$f":"bksingh!$ADA$8","v":""},null,null,null,{"$f":"bksingh!$ADA$8","v":""},null,null,null,{"$f":"bksingh!$ADA$8","v":""},null,null,null,{"$f":"bksingh!$ADA$8","v":""},null,null,null,{"$f":"bksingh!$ADA$8","v":""},null,null,null,{"$f":"bksingh!$ADA$8","v":""},null,null,null,{"$f":"bksingh!$ADA$8","v":""},null,null,null,{"$f":"bksingh!$ADA$8","v":""},null,null,null,{"$f":"bksingh!$ADA$8","v":""},null,null,null,{"$f":"bksingh!$ADA$8","v":""},null,null,null,{"$f":"bksingh!$ADA$8","v":""},null,null,null,{"$f":"bksingh!$ADA$8","v":""},null,null,null,{"$f":"bksingh!$ADA$8","v":""},null,null,null,{"$f":"bksingh!$ADA$8","v":""},null,null,null,{"$f":"bksingh!$ADA$8","v":""},null,null,null,{"$f":"bksingh!$ADA$8","v":""},null,null,null,{"$f":"bksingh!$ADA$8","v":""},null,null,null,{"$f":"bksingh!$ADA$8","v":""},null,null,null,{"$f":"bksingh!$ADA$8","v":""},null,null,null,{"$f":"bksingh!$ADA$8","v":""},null,null,null,{"$f":"bksingh!$ADA$8","v":""},null,null,null,{"$f":"bksingh!$ADA$8","v":""},null,null,null,{"$f":"bksingh!$ADA$8","v":""},null,null,null,{"$f":"bksingh!$ADA$8","v":""},null,null,null,{"$f":"bksingh!$ADA$8","v":""},null,null,null,{"$f":"bksingh!$ADA$8","v":""},null,null,null,{"$f":"bksingh!$ADA$8","v":""},null,null,null,{"$f":"bksingh!$ADA$8","v":""},null,null,null,{"$f":"bksingh!$ADA$8","v":""},null,null,null,{"$f":"bksingh!$ADA$8","v":""},null,null,null,{"$f":"bksingh!$ADA$8","v":""},null,null,null,{"$f":"bksingh!$ADA$8","v":""},null,null,null,{"$f":"bksingh!$ADA$8","v":""},null,null,null,{"$f":"bksingh!$ADA$8","v":""},null,null,null,{"$f":"bksingh!$ADA$8","v":""},null,null,null,{"$f":"bksingh!$ADA$8","v":""},null,null,null,{"$f":"bksingh!$ADA$8","v":""},null,null,null,{"$f":"bksingh!$ADA$8","v":""},null,null,null,{"$f":"bksingh!$ADA$8","v":""},null,null,null,{"$f":"bksingh!$ADA$8","v":""},null,null,null,{"$f":"bksingh!$ADA$8","v":""},null,null,null,{"$f":"bksingh!$ADA$8","v":""},null,null,null,{"$f":"bksingh!$ADA$8","v":""},null,null,null,{"$f":"bksingh!$ADA$8","v":""},null,null,null,{"$f":"bksingh!$ADA$8","v":""},null,null,null,{"$f":"bksingh!$ADA$8","v":""},null,null,null,{"$f":"bksingh!$ADA$8","v":""},null,null,null,{"$f":"bksingh!$ADA$8","v":""},null,null,null,{"$f":"bksingh!$ADA$8","v":""},null,null,null,{"$f":"bksingh!$ADA$8","v":""},null,null,null,{"$f":"bksingh!$ADA$8","v":""},null,null,null,{"$f":"bksingh!$ADA$8","v":""},null,null,null,{"$f":"bksingh!$ADA$8","v":""},null,null,null,{"$f":"bksingh!$ADA$8","v":""},null,null,null,{"$f":"bksingh!$ADA$8","v":""},null,null,null,{"$f":"bksingh!$ADA$8","v":""},null,null,null,{"$f":"bksingh!$ADA$8","v":""},null,null,null,{"$f":"bksingh!$ADA$8","v":""},null,null,null,{"$f":"bksingh!$ADA$8","v":""},null,null,null,{"$f":"bksingh!$ADA$8","v":""},null,null,null,{"$f":"bksingh!$ADA$8","v":""},null,null,null,{"$f":"bksingh!$ADA$8","v":""},null,null,null,{"$f":"bksingh!$ADA$8","v":""},null,null,null,{"$f":"bksingh!$ADA$8","v":""},null,null,null,{"$f":"bksingh!$ADA$8","v":""},null,null,null,{"$f":"bksingh!$ADA$8","v":""},null,null,null,{"$f":"bksingh!$ADA$8","v":""},null,null,null,{"$f":"bksingh!$ADA$8","v":""},null,null,null,{"$f":"bksingh!$ADA$8","v":""},null,null,null,{"$f":"bksingh!$ADA$8","v":""},null,null,null,{"$f":"bksingh!$ADA$8","v":""},null,null,null,{"$f":"bksingh!$ADA$8","v":""},null,null,null,{"$f":"bksingh!$ADA$8","v":""},null,null,null,{"$f":"bksingh!$ADA$8","v":""},null,null,null,{"$f":"bksingh!$ADA$8","v":""},null,null,null,{"$f":"bksingh!$ADA$8","v":""},null,null,null,{"$f":"bksingh!$ADA$8","v":""},null,null,null,{"$f":"bksingh!$ADA$8","v":""},null,null,null,{"$f":"bksingh!$ADA$8","v":""},null,null,null,{"$f":"bksingh!$ADA$8","v":""},null,null,null,{"$f":"bksingh!$ADA$8","v":""},null,null,null,{"$f":"bksingh!$ADA$8","v":""},null,null,null,{"$f":"bksingh!$ADA$8","v":""},null,null,null,{"$f":"bksingh!$ADA$8","v":""},null,null,null,{"$f":"bksingh!$ADA$8","v":""},null,null,null,{"$f":"bksingh!$ADA$8","v":""},null,null,null,{"$f":"bksingh!$ADA$8","v":""},null,null,null,{"$f":"bksingh!$ADA$8","v":""},null,null,null,{"$f":"bksingh!$ADA$8","v":""},null,null,null,{"$f":"bksingh!$ADA$8","v":""},null,null,null,{"$f":"bksingh!$ADA$8","v":""},null,null,null,{"$f":"bksingh!$ADA$8","v":""},null,null,null,{"$f":"bksingh!$ADA$8","v":""},null,null,null,{"$f":"bksingh!$ADA$8","v":""},null,null,null,{"$f":"bksingh!$ADA$8","v":""},null,null,null,{"$f":"bksingh!$ADA$8","v":""},null,null,null,{"$f":"bksingh!$ADA$8","v":""},null,null,null,{"$f":"bksingh!$ADA$8","v":""},null,null,null,{"$f":"bksingh!$ADA$8","v":""},null,null,null,{"$f":"bksingh!$ADA$8","v":""},null,null,null,{"$f":"bksingh!$ADA$8","v":""},null,null,null,{"$f":"bksingh!$ADA$8","v":""},null,null,null,{"$f":"bksingh!$ADA$8","v":""},null,null,null,{"$f":"bksingh!$ADA$8","v":""},null,null,null,{"$f":"bksingh!$ADA$8","v":""},null,null,null,{"$f":"bksingh!$ADA$8","v":""},null,null,null,{"$f":"bksingh!$ADA$8","v":""},null,null,null,{"$f":"bksingh!$ADA$8","v":""},null,null,null,{"$f":"bksingh!$ADA$8","v":""},null,null,null,{"$f":"bksingh!$ADA$8","v":""},null,null,null,{"$f":"bksingh!$ADA$8","v":""},null,null,null,{"$f":"bksingh!$ADA$8","v":""},null,null,null,{"$f":"bksingh!$ADA$8","v":""},null,null,null,{"$f":"bksingh!$ADA$8","v":""},null,null,null,{"$f":"bksingh!$ADA$8","v":""},null,null,null,{"$f":"bksingh!$ADA$8","v":""},null,null,null,{"$f":"bksingh!$ADA$8","v":""},null,null,null,{"$f":"bksingh!$ADA$8","v":""},null,null,null,{"$f":"bksingh!$ADA$8","v":""},null,null,null,{"$f":"bksingh!$ADA$8","v":""},null,null,null,{"$f":"bksingh!$ADA$8","v":""},null,null,null,{"$f":"bksingh!$ADA$8","v":""},null,null,null,{"$f":"bksingh!$ADA$8","v":""},null,null,null,{"$f":"bksingh!$ADA$8","v":""},null,null,null,{"$f":"bksingh!$ADA$8","v":""},null,null,null,{"$f":"bksingh!$ADA$8","v":""},null,null,null,{"$f":"bksingh!$ADA$8","v":""},null,null,null,{"$f":"bksingh!$ADA$8","v":""},null,null,null,{"$f":"bksingh!$ADA$8","v":""},null,null,null,{"$f":"bksingh!$ADA$8","v":""},null,null,null,{"$f":"bksingh!$ADA$8","v":""},null,null,null,{"$f":"bksingh!$ADA$8","v":""},null,null,null,{"$f":"bksingh!$ADA$8","v":""},null,null,null,{"$f":"bksingh!$ADA$8","v":""},null,null,null,{"$f":"bksingh!$ADA$8","v":""},null,null,null,{"$f":"bksingh!$ADA$8","v":""},null,null,null,{"$f":"bksingh!$ADA$8","v":""},null,null,null,{"$f":"bksingh!$ADA$8","v":""},null,null,null,{"$f":"bksingh!$ADA$8","v":""},null,null,null,{"$f":"bksingh!$ADA$8","v":""},null,null,null,{"$f":"bksingh!$ADA$8","v":""},null,null,null,{"$f":"bksingh!$ADA$8","v":""},null,null,null,{"$f":"bksingh!$ADA$8","v":""},null,null,null,{"$f":"bksingh!$ADA$8","v":""},null,null,null,{"$f":"bksingh!$ADA$8","v":""},null,null,null,{"$f":"bksingh!$ADA$8","v":""},null,null,null,{"$f":"bksingh!$ADA$8","v":""},null,null,null,{"$f":"bksingh!$ADA$8","v":""},null,null,null,{"$f":"bksingh!$ADA$8","v":""},null,null,null,{"$f":"bksingh!$ADA$8","v":""},null,null,null,{"$f":"bksingh!$ADA$8","v":""},null,null,null,{"$f":"bksingh!$ADA$8","v":""},null,null,null,{"$f":"bksingh!$ADA$8","v":""},null,null,null,{"$f":"bksingh!$ADA$8","v":""},null,null,null,{"$f":"bksingh!$ADA$8","v":""},null,null,null,{"$f":"bksingh!$ADA$8","v":""},null,null,null,{"$f":"bksingh!$ADA$8","v":""},null,null,null,{"$f":"bksingh!$ADA$8","v":""},null,null,null,{"$f":"bksingh!$ADA$8","v":""},null,null,null,{"$f":"bksingh!$ADA$8","v":""},null,null,null,{"$f":"bksingh!$ADA$8","v":""},null,null,null,{"$f":"bksingh!$ADA$8","v":""},null,null,null,{"$f":"bksingh!$ADA$8","v":""},null,null,null,{"$f":"bksingh!$ADA$8","v":""},null,null,null,{"$f":"bksingh!$ADA$8","v":""},null,null,null,{"$f":"bksingh!$ADA$8","v":""},null,null,null,{"$f":"bksingh!$ADA$8","v":""},null,null,null,{"$f":"bksingh!$ADA$8","v":""},null,null,null,{"$f":"bksingh!$ADA$8","v":""},null,null,null,{"$f":"bksingh!$ADA$8","v":""},null,null,null,{"$f":"bksingh!$ADA$8","v":""},null,null,null,{"$f":"bksingh!$ADA$8","v":""},null,null,null,{"$f":"bksingh!$ADA$8","v":""},null,null,null,{"$f":"bksingh!$ADA$8","v":""},null,null,null,{"$f":"bksingh!$ADA$8","v":""},null,null,null,{"$f":"bksingh!$ADA$8","v":""},null,null,null,{"$f":"bksingh!$ADA$8","v":""},null,null,null,{"$f":"bksingh!$ADA$8","v":""},null,null,null,{"$f":"bksingh!$ADA$8","v":""},null,null,null,{"$f":"bksingh!$ADA$8","v":""},null,null,null,{"$f":"bksingh!$ADA$8","v":""},null,null,null,{"$f":"bksingh!$ADA$8","v":""},null,null,null,{"$f":"bksingh!$ADA$8","v":""},null,null,null,{"$f":"bksingh!$ADA$8","v":""},null,null,null,{"$f":"bksingh!$ADA$8","v":""},null,null,null,{"$f":"bksingh!$ADA$8","v":""},null,null,null,{"$f":"bksingh!$ADA$8","v":""},null,null,null,{"$f":"bksingh!$ADA$8","v":""},null,null,null,{"$f":"bksingh!$ADA$8","v":""},null,null,null,{"$f":"bksingh!$ADA$8","v":""},null,null,null,{"$f":"bksingh!$ADA$8","v":""},null,null,null,{"$f":"bksingh!$ADA$8","v":""},null,null,null,{"$f":"bksingh!$ADA$8","v":""},null,null,null,{"$f":"bksingh!$ADA$8","v":""},null,null,null,{"$f":"bksingh!$ADA$8","v":""},null,null,null,{"$f":"bksingh!$ADA$8","v":""},null,null,null,{"$f":"bksingh!$ADA$8","v":""},null,null,null,{"$f":"bksingh!$ADA$8","v":""},null,null,null,{"$f":"bksingh!$ADA$8","v":""},null,null,null,{"$f":"bksingh!$ADA$8","v":""},null,null,null,{"$f":"bksingh!$ADA$8","v":""},null,null,null,{"$f":"bksingh!$ADA$8","v":""},null,null,null,{"$f":"bksingh!$ADA$8","v":""},null,null,null,{"$f":"bksingh!$ADA$8","v":""},null,null,null,{"$f":"bksingh!$ADA$8","v":""},null,null,null,{"$f":"bksingh!$ADA$8","v":""},null,null,null,{"$f":"bksingh!$ADA$8","v":""},null,null,null,{"$f":"bksingh!$ADA$8","v":""},null,null,null,{"$f":"bksingh!$ADA$8","v":""},null,null,null,{"$f":"bksingh!$ADA$8","v":""},null,null,null,{"$f":"bksingh!$ADA$8","v":""},null,null,null,{"$f":"bksingh!$ADA$8","v":""},null,null,null,{"$f":"bksingh!$ADA$8","v":""},null,null,null,{"$f":"bksingh!$ADA$8","v":""},null,null,null,{"$f":"bksingh!$ADA$8","v":""},null,null,null,{"$f":"bksingh!$ADA$8","v":""},null,null,null,{"$f":"bksingh!$ADA$8","v":""},null,null,null,{"$f":"bksingh!$ADA$8","v":""},null,null,null,{"$f":"bksingh!$ADA$8","v":""},null,null,null,{"$f":"bksingh!$ADA$8","v":""},null,null,null,{"$f":"bksingh!$ADA$8","v":""},null,null,null,{"$f":"bksingh!$ADA$8","v":""},null,null,null,{"$f":"bksingh!$ADA$8","v":""},null,null,null,{"$f":"bksingh!$ADA$8","v":""},null,null,null,{"$f":"bksingh!$ADA$8","v":""},null,null,null,{"$f":"bksingh!$ADA$8","v":""},null,null,null,{"$f":"bksingh!$ADA$8","v":""},null,null,null,{"$f":"bksingh!$ADA$8","v":""},null,null,null,{"$f":"bksingh!$ADA$8","v":""},null,null,null,{"$f":"bksingh!$ADA$8","v":""},null,null,null,{"$f":"bksingh!$ADA$8","v":""},null,null,null,{"$f":"bksingh!$ADA$8","v":""},null,null,null,{"$f":"bksingh!$ADA$8","v":""},null,null,null,{"$f":"bksingh!$ADA$8","v":""},null,null,null,{"$f":"bksingh!$ADA$8","v":""},null,null,null,{"$f":"bksingh!$ADA$8","v":""},null,null,null,{"$f":"bksingh!$ADA$8","v":""},null,null,null,{"$f":"bksingh!$ADA$8","v":""},null,null,null,{"$f":"bksingh!$ADA$8","v":""},null,null,null,{"$f":"bksingh!$ADA$8","v":""},null,null,null,{"$f":"bksingh!$ADA$8","v":""},null,null,null,{"$f":"bksingh!$ADA$8","v":""},null,null,null,{"$f":"bksingh!$ADA$8","v":""},null,null,null,{"$f":"bksingh!$ADA$8","v":""},null,null,null,{"$f":"bksingh!$ADA$8","v":""},null,null,null,{"$f":"bksingh!$ADA$8","v":""},null,null,null,{"$f":"bksingh!$ADA$8","v":""},null,null,null,{"$f":"bksingh!$ADA$8","v":""},null,null,null,{"$f":"bksingh!$ADA$8","v":""},null,null,null,{"$f":"bksingh!$ADA$8","v":""},null,null,null,{"$f":"bksingh!$ADA$8","v":""},null,null,null,{"$f":"bksingh!$ADA$8","v":""},null,null,null,{"$f":"bksingh!$ADA$8","v":""},null,null,null,{"$f":"bksingh!$ADA$8","v":""},null,null,null,{"$f":"bksingh!$ADA$8","v":""},null,null,null,{"$f":"bksingh!$ADA$8","v":""},null,null,null,{"$f":"bksingh!$ADA$8","v":""},null,null,null,{"$f":"bksingh!$ADA$8","v":""},null,null,null,{"$f":"bksingh!$ADA$8","v":""},null,null,null,{"$f":"bksingh!$ADA$8","v":""},null,null,null,{"$f":"bksingh!$ADA$8","v":""},null,null,null,{"$f":"bksingh!$ADA$8","v":""},null,null,null,{"$f":"bksingh!$ADA$8","v":""},null,null,null,{"$f":"bksingh!$ADA$8","v":""},null,null,null,{"$f":"bksingh!$ADA$8","v":""},null,null,null,{"$f":"bksingh!$ADA$8","v":""},null,null,null,{"$f":"bksingh!$ADA$8","v":""},null,null,null,{"$f":"bksingh!$ADA$8","v":""},null,null,null,{"$f":"bksingh!$ADA$8","v":""},null,null,null,{"$f":"bksingh!$ADA$8","v":""},null,null,null,{"$f":"bksingh!$ADA$8","v":""},null,null,null,{"$f":"bksingh!$ADA$8","v":""},null,null,null,{"$f":"bksingh!$ADA$8","v":""},null,null,null,{"$f":"bksingh!$ADA$8","v":""},null,null,null,{"$f":"bksingh!$ADA$8","v":""},null,null,null,{"$f":"bksingh!$ADA$8","v":""},null,null,null,{"$f":"bksingh!$ADA$8","v":""},null,null,null,{"$f":"bksingh!$ADA$8","v":""},null,null,null,{"$f":"bksingh!$ADA$8","v":""},null,null,null,{"$f":"bksingh!$ADA$8","v":""},null,null,null,{"$f":"bksingh!$ADA$8","v":""},null,null,null,{"$f":"bksingh!$ADA$8","v":""},null,null,null,{"$f":"bksingh!$ADA$8","v":""},null,null,null,{"$f":"bksingh!$ADA$8","v":""},null,null,null,{"$f":"bksingh!$ADA$8","v":""},null,null,null,{"$f":"bksingh!$ADA$8","v":""},null,null,null,{"$f":"bksingh!$ADA$8","v":""},null,null,null,{"$f":"bksingh!$ADA$8","v":""},null,null,null,{"$f":"bksingh!$ADA$8","v":""},null,null,null,{"$f":"bksingh!$ADA$8","v":""},null,null,null,{"$f":"bksingh!$ADA$8","v":""},null,null,null,{"$f":"bksingh!$ADA$8","v":""},null,null,null,{"$f":"bksingh!$ADA$8","v":""},null,null,null,{"$f":"bksingh!$ADA$8","v":""},null,null,null,{"$f":"bksingh!$ADA$8","v":""},null,null,null,{"$f":"bksingh!$ADA$8","v":""},null,null,null,{"$f":"bksingh!$ADA$8","v":""},null,null,null,{"$f":"bksingh!$ADA$8","v":""},null,null,null,{"$f":"bksingh!$ADA$8","v":""},null,null,null,{"$f":"bksingh!$ADA$8","v":""},null,null,null,{"$f":"bksingh!$ADA$8","v":""},null,null,null,{"$f":"bksingh!$ADA$8","v":""},null,null,null,{"$f":"bksingh!$ADA$8","v":""},null,null,null,{"$f":"bksingh!$ADA$8","v":""},null,null,null,{"$f":"bksingh!$ADA$8","v":""},null,null,null,{"$f":"bksingh!$ADA$8","v":""},null,null,null,{"$f":"bksingh!$ADA$8","v":""},null,null,null,{"$f":"bksingh!$ADA$8","v":""},null,null,null,{"$f":"bksingh!$ADA$8","v":""},null,null,null,{"$f":"bksingh!$ADA$8","v":""},null,null,null,{"$f":"bksingh!$ADA$8","v":""},null,null,null,{"$f":"bksingh!$ADA$8","v":""},null,null,null,{"$f":"bksingh!$ADA$8","v":""},null,null,null,{"$f":"bksingh!$ADA$8","v":""},null,null,null,{"$f":"bksingh!$ADA$8","v":""},null,null,null,{"$f":"bksingh!$ADA$8","v":""},null,null,null,{"$f":"bksingh!$ADA$8","v":""},null,null,null,{"$f":"bksingh!$ADA$8","v":""},null,null,null,{"$f":"bksingh!$ADA$8","v":""},null,null,null,{"$f":"bksingh!$ADA$8","v":""},null,null,null,{"$f":"bksingh!$ADA$8","v":""},null,null,null,{"$f":"bksingh!$ADA$8","v":""},null,null,null,{"$f":"bksingh!$ADA$8","v":""},null,null,null,{"$f":"bksingh!$ADA$8","v":""},null,null,null,{"$f":"bksingh!$ADA$8","v":""},null,null,null,{"$f":"bksingh!$ADA$8","v":""},null,null,null,{"$f":"bksingh!$ADA$8","v":""},null,null,null,{"$f":"bksingh!$ADA$8","v":""},null,null,null,{"$f":"bksingh!$ADA$8","v":""},null,null,null,{"$f":"bksingh!$ADA$8","v":""},null,null,null,{"$f":"bksingh!$ADA$8","v":""},null,null,null,{"$f":"bksingh!$ADA$8","v":""},null,null,null,{"$f":"bksingh!$ADA$8","v":""},null,null,null,{"$f":"bksingh!$ADA$8","v":""},null,null,null,{"$f":"bksingh!$ADA$8","v":""},null,null,null,{"$f":"bksingh!$ADA$8","v":""},null,null,null,{"$f":"bksingh!$ADA$8","v":""},null,null,null,{"$f":"bksingh!$ADA$8","v":""},null,null,null,{"$f":"bksingh!$ADA$8","v":""},null,null,null,{"$f":"bksingh!$ADA$8","v":""},null,null,null,{"$f":"bksingh!$ADA$8","v":""},null,null,null,{"$f":"bksingh!$ADA$8","v":""},null,null,null,{"$f":"bksingh!$ADA$8","v":""},null,null,null,{"$f":"bksingh!$ADA$8","v":""},null,null,null,{"$f":"bksingh!$ADA$8","v":""},null,null,null,{"$f":"bksingh!$ADA$8","v":""},null,null,null,{"$f":"bksingh!$ADA$8","v":""},null,null,null,{"$f":"bksingh!$ADA$8","v":""},null,null,null,{"$f":"bksingh!$ADA$8","v":""},null,null,null,{"$f":"bksingh!$ADA$8","v":""},null,null,null,{"$f":"bksingh!$ADA$8","v":""},null,null,null,{"$f":"bksingh!$ADA$8","v":""},null,null,null,{"$f":"bksingh!$ADA$8","v":""},null,null,null,{"$f":"bksingh!$ADA$8","v":""},null,null,null,{"$f":"bksingh!$ADA$8","v":""},null,null,null,{"$f":"bksingh!$ADA$8","v":""},null,null,null,{"$f":"bksingh!$ADA$8","v":""},null,null,null,{"$f":"bksingh!$ADA$8","v":""},null,null,null,{"$f":"bksingh!$ADA$8","v":""},null,null,null,{"$f":"bksingh!$ADA$8","v":""},null,null,null,{"$f":"bksingh!$ADA$8","v":""},null,null,null,{"$f":"bksingh!$ADA$8","v":""},null,null,null,{"$f":"bksingh!$ADA$8","v":""},null,null,null,{"$f":"bksingh!$ADA$8","v":""},null,null,null,{"$f":"bksingh!$ADA$8","v":""},null,null,null,{"$f":"bksingh!$ADA$8","v":""},null,null,null,{"$f":"bksingh!$ADA$8","v":""},null,null,null,{"$f":"bksingh!$ADA$8","v":""},null,null,null,{"$f":"bksingh!$ADA$8","v":""},null,null,null,{"$f":"bksingh!$ADA$8","v":""},null,null,null,{"$f":"bksingh!$ADA$8","v":""},null,null,null,{"$f":"bksingh!$ADA$8","v":""},null,null,null,{"$f":"bksingh!$ADA$8","v":""},null,null,null,{"$f":"bksingh!$ADA$8","v":""},null,null,null,{"$f":"bksingh!$ADA$8","v":""},null,null,null,{"$f":"bksingh!$ADA$8","v":""},null,null,null,{"$f":"bksingh!$ADA$8","v":""},null,null,null,{"$f":"bksingh!$ADA$8","v":""},null,null,null,{"$f":"bksingh!$ADA$8","v":""},null,null,null,{"$f":"bksingh!$ADA$8","v":""},null,null,null,{"$f":"bksingh!$ADA$8","v":""},null,null,null,{"$f":"bksingh!$ADA$8","v":""},null,null,null,{"$f":"bksingh!$ADA$8","v":""},null,null,null,{"$f":"bksingh!$ADA$8","v":""},null,null,null,{"$f":"bksingh!$ADA$8","v":""},null,null,null,{"$f":"bksingh!$ADA$8","v":""},null,null,null,{"$f":"bksingh!$ADA$8","v":""},null,null,null,{"$f":"bksingh!$ADA$8","v":""},null,null,null,{"$f":"bksingh!$ADA$8","v":""},null,null,null,{"$f":"bksingh!$ADA$8","v":""},null,null,null,{"$f":"bksingh!$ADA$8","v":""},null,null,null,{"$f":"bksingh!$ADA$8","v":""},null,null,null,{"$f":"bksingh!$ADA$8","v":""},null,null,null,{"$f":"bksingh!$ADA$8","v":""},null,null,null,{"$f":"bksingh!$ADA$8","v":""},null,null,null,{"$f":"bksingh!$ADA$8","v":""},null,null,null,{"$f":"bksingh!$ADA$8","v":""},null,null,null,{"$f":"bksingh!$ADA$8","v":""},null,null,null,{"$f":"bksingh!$ADA$8","v":""},null,null,null,{"$f":"bksingh!$ADA$8","v":""},null,null,null,{"$f":"bksingh!$ADA$8","v":""},null,null,null,{"$f":"bksingh!$ADA$8","v":""},null,null,null,{"$f":"bksingh!$ADA$8","v":""},null,null,null,{"$f":"bksingh!$ADA$8","v":""},null,null,null,{"$f":"bksingh!$ADA$8","v":""},null,null,null,{"$f":"bksingh!$ADA$8","v":""},null,null,null,{"$f":"bksingh!$ADA$8","v":""},null,null,null,{"$f":"bksingh!$ADA$8","v":""},null,null,null,{"$f":"bksingh!$ADA$8","v":""},null,null,null,{"$f":"bksingh!$ADA$8","v":""},null,null,null,{"$f":"bksingh!$ADA$8","v":""},null,null,null,{"$f":"bksingh!$ADA$8","v":""},null,null,null,{"$f":"bksingh!$ADA$8","v":""},null,null,null,{"$f":"bksingh!$ADA$8","v":""},null,null,null,{"$f":"bksingh!$ADA$8","v":""},null,null,null,{"$f":"bksingh!$ADA$8","v":""},null,null,null,{"$f":"bksingh!$ADA$8","v":""},null,null,null,{"$f":"bksingh!$ADA$8","v":""},null,null,null,{"$f":"bksingh!$ADA$8","v":""},null,null,null,{"$f":"bksingh!$ADA$8","v":""},null,null,null,{"$f":"bksingh!$ADA$8","v":""},null,null,null,{"$f":"bksingh!$ADA$8","v":""},null,null,null,{"$f":"bksingh!$ADA$8","v":""},null,null,null,{"$f":"bksingh!$ADA$8","v":""},null,null,null,{"$f":"bksingh!$ADA$8","v":""},null,null,null,{"$f":"bksingh!$ADA$8","v":""},null,null,null,{"$f":"bksingh!$ADA$8","v":""},null,null,null,{"$f":"bksingh!$ADA$8","v":""},null,null,null,{"$f":"bksingh!$ADA$8","v":""},null,null,null,{"$f":"bksingh!$ADA$8","v":""},null,null,null,{"$f":"bksingh!$ADA$8","v":""},null,null,null,{"$f":"bksingh!$ADA$8","v":""},null,null,null,{"$f":"bksingh!$ADA$8","v":""},null,null,null,{"$f":"bksingh!$ADA$8","v":""},null,null,null,{"$f":"bksingh!$ADA$8","v":""},null,null,null,{"$f":"bksingh!$ADA$8","v":""},null,null,null,{"$f":"bksingh!$ADA$8","v":""},null,null,null,{"$f":"bksingh!$ADA$8","v":""},null,null,null,{"$f":"bksingh!$ADA$8","v":""},null,null,null,{"$f":"bksingh!$ADA$8","v":""},null,null,null,{"$f":"bksingh!$ADA$8","v":""},null,null,null,{"$f":"bksingh!$ADA$8","v":""},null,null,null,{"$f":"bksingh!$ADA$8","v":""},null,null,null,{"$f":"bksingh!$ADA$8","v":""},null,null,null,{"$f":"bksingh!$ADA$8","v":""},null,null,null,{"$f":"bksingh!$ADA$8","v":""},null,null,null,{"$f":"bksingh!$ADA$8","v":""},null,null,null,{"$f":"bksingh!$ADA$8","v":""},null,null,null,{"$f":"bksingh!$ADA$8","v":""},null,null,null,{"$f":"bksingh!$ADA$8","v":""},null,null,null,{"$f":"bksingh!$ADA$8","v":""},null,null,null,{"$f":"bksingh!$ADA$8","v":""},null,null,null,{"$f":"bksingh!$ADA$8","v":""},null,null,null,{"$f":"bksingh!$ADA$8","v":""},null,null,null,{"$f":"bksingh!$ADA$8","v":""},null,null,null,{"$f":"bksingh!$ADA$8","v":""},null,null,null,{"$f":"bksingh!$ADA$8","v":""},null,null,null,{"$f":"bksingh!$ADA$8","v":""},null,null,null,{"$f":"bksingh!$ADA$8","v":""},null,null,null,{"$f":"bksingh!$ADA$8","v":""},null,null,null,{"$f":"bksingh!$ADA$8","v":""},null,null,null,{"$f":"bksingh!$ADA$8","v":""},null,null,null,{"$f":"bksingh!$ADA$8","v":""},null,null,null,{"$f":"bksingh!$ADA$8","v":""},null,null,null,{"$f":"bksingh!$ADA$8","v":""},null,null,null,{"$f":"bksingh!$ADA$8","v":""},null,null,null,{"$f":"bksingh!$ADA$8","v":""},null,null,null,{"$f":"bksingh!$ADA$8","v":""},null,null,null,{"$f":"bksingh!$ADA$8","v":""},null,null,null,{"$f":"bksingh!$ADA$8","v":""},null,null,null,{"$f":"bksingh!$ADA$8","v":""},null,null,null,{"$f":"bksingh!$ADA$8","v":""},null,null,null,{"$f":"bksingh!$ADA$8","v":""},null,null,null,{"$f":"bksingh!$ADA$8","v":""},null,null,null,{"$f":"bksingh!$ADA$8","v":""},null,null,null,{"$f":"bksingh!$ADA$8","v":""},null,null,null,{"$f":"bksingh!$ADA$8","v":""},null,null,null,{"$f":"bksingh!$ADA$8","v":""},null,null,null,{"$f":"bksingh!$ADA$8","v":""},null,null,null,{"$f":"bksingh!$ADA$8","v":""},null,null,null,{"$f":"bksingh!$ADA$8","v":""},null,null,null,{"$f":"bksingh!$ADA$8","v":""},null,null,null,{"$f":"bksingh!$ADA$8","v":""},null,null,null,{"$f":"bksingh!$ADA$8","v":""},null,null,null,{"$f":"bksingh!$ADA$8","v":""},null,null,null,{"$f":"bksingh!$ADA$8","v":""},null,null,null,{"$f":"bksingh!$ADA$8","v":""},null,null,null,{"$f":"bksingh!$ADA$8","v":""},null,null,null,{"$f":"bksingh!$ADA$8","v":""},null,null,null,{"$f":"bksingh!$ADA$8","v":""},null,null,null,{"$f":"bksingh!$ADA$8","v":""},null,null,null,{"$f":"bksingh!$ADA$8","v":""},null,null,null,{"$f":"bksingh!$ADA$8","v":""},null,null,null,{"$f":"bksingh!$ADA$8","v":""},null,null,null,{"$f":"bksingh!$ADA$8","v":""},null,null,null,{"$f":"bksingh!$ADA$8","v":""},null,null,null,{"$f":"bksingh!$ADA$8","v":""},null,null,null,{"$f":"bksingh!$ADA$8","v":""},null,null,null,{"$f":"bksingh!$ADA$8","v":""},null,null,null,{"$f":"bksingh!$ADA$8","v":""},null,null,null,{"$f":"bksingh!$ADA$8","v":""},null,null,null,{"$f":"bksingh!$ADA$8","v":""},null,null,null,{"$f":"bksingh!$ADA$8","v":""},null,null,null,{"$f":"bksingh!$ADA$8","v":""},null,null,null,{"$f":"bksingh!$ADA$8","v":""},null,null,null,{"$f":"bksingh!$ADA$8","v":""},null,null,null,{"$f":"bksingh!$ADA$8","v":""},null,null,null,{"$f":"bksingh!$ADA$8","v":""},null,null,null,{"$f":"bksingh!$ADA$8","v":""},null,null,null,{"$f":"bksingh!$ADA$8","v":""},null,null,null,{"$f":"bksingh!$ADA$8","v":""},null,null,null,{"$f":"bksingh!$ADA$8","v":""},null,null,null,{"$f":"bksingh!$ADA$8","v":""},null,null,null,{"$f":"bksingh!$ADA$8","v":""},null,null,null,{"$f":"bksingh!$ADA$8","v":""},null,null,null,{"$f":"bksingh!$ADA$8","v":""},null,null,null,{"$f":"bksingh!$ADA$8","v":""},null,null,null,{"$f":"bksingh!$ADA$8","v":""},null,null,null,{"$f":"bksingh!$ADA$8","v":""},null,null,null,{"$f":"bksingh!$ADA$8","v":""},null,null,null,{"$f":"bksingh!$ADA$8","v":""},null,null,null,{"$f":"bksingh!$ADA$8","v":""},null,null,null,{"$f":"bksingh!$ADA$8","v":""},null,null,null,{"$f":"bksingh!$ADA$8","v":""},null,null,null,{"$f":"bksingh!$ADA$8","v":""},null,null,null,{"$f":"bksingh!$ADA$8","v":""},null,null,null,{"$f":"bksingh!$ADA$8","v":""},null,null,null,{"$f":"bksingh!$ADA$8","v":""},null,null,null,{"$f":"bksingh!$ADA$8","v":""},null,null,null,{"$f":"bksingh!$ADA$8","v":""},null,null,null,{"$f":"bksingh!$ADA$8","v":""},null,null,null,{"$f":"bksingh!$ADA$8","v":""},null,null,null,{"$f":"bksingh!$ADA$8","v":""},null,null,null,{"$f":"bksingh!$ADA$8","v":""},null,null,null,{"$f":"bksingh!$ADA$8","v":""},null,null,null,{"$f":"bksingh!$ADA$8","v":""},null,null,null,{"$f":"bksingh!$ADA$8","v":""},null,null,null,{"$f":"bksingh!$ADA$8","v":""},null,null,null,{"$f":"bksingh!$ADA$8","v":""},null,null,null,{"$f":"bksingh!$ADA$8","v":""},null,null,null,{"$f":"bksingh!$ADA$8","v":""},null,null,null,{"$f":"bksingh!$ADA$8","v":""},null,null,null,{"$f":"bksingh!$ADA$8","v":""},null,null,null,{"$f":"bksingh!$ADA$8","v":""},null,null,null,{"$f":"bksingh!$ADA$8","v":""},null,null,null,{"$f":"bksingh!$ADA$8","v":""},null,null,null,{"$f":"bksingh!$ADA$8","v":""},null,null,null,{"$f":"bksingh!$ADA$8","v":""},null,null,null,{"$f":"bksingh!$ADA$8","v":""},null,null,null,{"$f":"bksingh!$ADA$8","v":""},null,null,null,{"$f":"bksingh!$ADA$8","v":""},null,null,null,{"$f":"bksingh!$ADA$8","v":""},null,null,null,{"$f":"bksingh!$ADA$8","v":""},null,null,null,{"$f":"bksingh!$ADA$8","v":""},null,null,null,{"$f":"bksingh!$ADA$8","v":""},null,null,null,{"$f":"bksingh!$ADA$8","v":""},null,null,null,{"$f":"bksingh!$ADA$8","v":""},null,null,null,{"$f":"bksingh!$ADA$8","v":""},null,null,null,{"$f":"bksingh!$ADA$8","v":""},null,null,null,{"$f":"bksingh!$ADA$8","v":""},null,null,null,{"$f":"bksingh!$ADA$8","v":""},null,null,null,{"$f":"bksingh!$ADA$8","v":""},null,null,null,{"$f":"bksingh!$ADA$8","v":""},null,null,null,{"$f":"bksingh!$ADA$8","v":""},null,null,null,{"$f":"bksingh!$ADA$8","v":""},null,null,null,{"$f":"bksingh!$ADA$8","v":""},null,null,null,{"$f":"bksingh!$ADA$8","v":""},null,null,null,{"$f":"bksingh!$ADA$8","v":""},null,null,null,{"$f":"bksingh!$ADA$8","v":""},null,null,null,{"$f":"bksingh!$ADA$8","v":""},null,null,null,{"$f":"bksingh!$ADA$8","v":""},null,null,null,{"$f":"bksingh!$ADA$8","v":""},null,null,null,{"$f":"bksingh!$ADA$8","v":""},null,null,null,{"$f":"bksingh!$ADA$8","v":""},null,null,null,{"$f":"bksingh!$ADA$8","v":""},null,null,null,{"$f":"bksingh!$ADA$8","v":""},null,null,null,{"$f":"bksingh!$ADA$8","v":""},null,null,null,{"$f":"bksingh!$ADA$8","v":""},null,null,null,{"$f":"bksingh!$ADA$8","v":""},null,null,null,{"$f":"bksingh!$ADA$8","v":""},null,null,null,{"$f":"bksingh!$ADA$8","v":""},null,null,null,{"$f":"bksingh!$ADA$8","v":""},null,null,null,{"$f":"bksingh!$ADA$8","v":""},null,null,null,{"$f":"bksingh!$ADA$8","v":""},null,null,null,{"$f":"bksingh!$ADA$8","v":""},null,null,null,{"$f":"bksingh!$ADA$8","v":""},null,null,null,{"$f":"bksingh!$ADA$8","v":""},null,null,null,{"$f":"bksingh!$ADA$8","v":""},null,null,null,{"$f":"bksingh!$ADA$8","v":""},null,null,null,{"$f":"bksingh!$ADA$8","v":""},null,null,null,{"$f":"bksingh!$ADA$8","v":""},null,null,null,{"$f":"bksingh!$ADA$8","v":""},null,null,null,{"$f":"bksingh!$ADA$8","v":""},null,null,null,{"$f":"bksingh!$ADA$8","v":""},null,null,null,{"$f":"bksingh!$ADA$8","v":""},null,null,null,{"$f":"bksingh!$ADA$8","v":""},null,null,null,{"$f":"bksingh!$ADA$8","v":""},null,null,null,{"$f":"bksingh!$ADA$8","v":""},null,null,null,{"$f":"bksingh!$ADA$8","v":""},null,null,null,{"$f":"bksingh!$ADA$8","v":""},null,null,null,{"$f":"bksingh!$ADA$8","v":""},null,null,null,{"$f":"bksingh!$ADA$8","v":""},null,null,null,{"$f":"bksingh!$ADA$8","v":""},null,null,null,{"$f":"bksingh!$ADA$8","v":""},null,null,null,{"$f":"bksingh!$ADA$8","v":""},null,null,null,{"$f":"bksingh!$ADA$8","v":""},null,null,null,{"$f":"bksingh!$ADA$8","v":""},null,null,null,{"$f":"bksingh!$ADA$8","v":""},null,null,null,{"$f":"bksingh!$ADA$8","v":""},null,null,null,{"$f":"bksingh!$ADA$8","v":""},null,null,null,{"$f":"bksingh!$ADA$8","v":""},null,null,null,{"$f":"bksingh!$ADA$8","v":""},null,null,null,{"$f":"bksingh!$ADA$8","v":""},null,null,null,{"$f":"bksingh!$ADA$8","v":""},null,null,null,{"$f":"bksingh!$ADA$8","v":""},null,null,null,{"$f":"bksingh!$ADA$8","v":""},null,null,null,{"$f":"bksingh!$ADA$8","v":""},null,null,null,{"$f":"bksingh!$ADA$8","v":""},null,null,null,{"$f":"bksingh!$ADA$8","v":""},null,null,null,{"$f":"bksingh!$ADA$8","v":""},null,null,null,{"$f":"bksingh!$ADA$8","v":""},null,null,null,{"$f":"bksingh!$ADA$8","v":""},null,null,null,{"$f":"bksingh!$ADA$8","v":""},null,null,null,{"$f":"bksingh!$ADA$8","v":""},null,null,null,{"$f":"bksingh!$ADA$8","v":""},null,null,null,{"$f":"bksingh!$ADA$8","v":""},null,null,null,{"$f":"bksingh!$ADA$8","v":""},null,null,null,{"$f":"bksingh!$ADA$8","v":""},null,null,null,{"$f":"bksingh!$ADA$8","v":""},null,null,null,{"$f":"bksingh!$ADA$8","v":""},null,null,null,{"$f":"bksingh!$ADA$8","v":""},null,null,null,{"$f":"bksingh!$ADA$8","v":""},null,null,null,{"$f":"bksingh!$ADA$8","v":""},null,null,null,{"$f":"bksingh!$ADA$8","v":""},null,null,null,{"$f":"bksingh!$ADA$8","v":""},null,null,null,{"$f":"bksingh!$ADA$8","v":""},null,null,null,{"$f":"bksingh!$ADA$8","v":""},null,null,null,{"$f":"bksingh!$ADA$8","v":""},null,null,null,{"$f":"bksingh!$ADA$8","v":""},null,null,null,{"$f":"bksingh!$ADA$8","v":""},null,null,null,{"$f":"bksingh!$ADA$8","v":""},null,null,null,{"$f":"bksingh!$ADA$8","v":""},null,null,null,{"$f":"bksingh!$ADA$8","v":""},null,null,null,{"$f":"bksingh!$ADA$8","v":""},null,null,null,{"$f":"bksingh!$ADA$8","v":""},null,null,null,{"$f":"bksingh!$ADA$8","v":""},null,null,null,{"$f":"bksingh!$ADA$8","v":""},null,null,null,{"$f":"bksingh!$ADA$8","v":""},null,null,null,{"$f":"bksingh!$ADA$8","v":""},null,null,null,{"$f":"bksingh!$ADA$8","v":""},null,null,null,{"$f":"bksingh!$ADA$8","v":""},null,null,null,{"$f":"bksingh!$ADA$8","v":""},null,null,null,{"$f":"bksingh!$ADA$8","v":""},null,null,null,{"$f":"bksingh!$ADA$8","v":""},null,null,null,{"$f":"bksingh!$ADA$8","v":""},null,null,null,{"$f":"bksingh!$ADA$8","v":""},null,null,null,{"$f":"bksingh!$ADA$8","v":""},null,null,null,{"$f":"bksingh!$ADA$8","v":""},null,null,null,{"$f":"bksingh!$ADA$8","v":""},null,null,null,{"$f":"bksingh!$ADA$8","v":""},null,null,null,{"$f":"bksingh!$ADA$8","v":""},null,null,null,{"$f":"bksingh!$ADA$8","v":""},null,null,null,{"$f":"bksingh!$ADA$8","v":""},null,null,null,{"$f":"bksingh!$ADA$8","v":""},null,null,null,{"$f":"bksingh!$ADA$8","v":""},null,null,null,{"$f":"bksingh!$ADA$8","v":""},null,null,null,{"$f":"bksingh!$ADA$8","v":""},null,null,null,{"$f":"bksingh!$ADA$8","v":""},null,null,null,{"$f":"bksingh!$ADA$8","v":""},null,null,null,{"$f":"bksingh!$ADA$8","v":""},null,null,null,{"$f":"bksingh!$ADA$8","v":""},null,null,null,{"$f":"bksingh!$ADA$8","v":""},null,null,null,{"$f":"bksingh!$ADA$8","v":""},null,null,null,{"$f":"bksingh!$ADA$8","v":""},null,null,null,{"$f":"bksingh!$ADA$8","v":""},null,null,null,{"$f":"bksingh!$ADA$8","v":""},null,null,null,{"$f":"bksingh!$ADA$8","v":""},null,null,null,{"$f":"bksingh!$ADA$8","v":""},null,null,null,{"$f":"bksingh!$ADA$8","v":""},null,null,null,{"$f":"bksingh!$ADA$8","v":""},null,null,null,{"$f":"bksingh!$ADA$8","v":""},null,null,null,{"$f":"bksingh!$ADA$8","v":""},null,null,null,{"$f":"bksingh!$ADA$8","v":""},null,null,null,{"$f":"bksingh!$ADA$8","v":""},null,null,null,{"$f":"bksingh!$ADA$8","v":""},null,null,null,{"$f":"bksingh!$ADA$8","v":""},null,null,null,{"$f":"bksingh!$ADA$8","v":""},null,null,null,{"$f":"bksingh!$ADA$8","v":""},null,null,null,{"$f":"bksingh!$ADA$8","v":""},null,null,null,{"$f":"bksingh!$ADA$8","v":""},null,null,null,{"$f":"bksingh!$ADA$8","v":""},null,null,null,{"$f":"bksingh!$ADA$8","v":""},null,null,null,{"$f":"bksingh!$ADA$8","v":""},null,null,null,{"$f":"bksingh!$ADA$8","v":""},null,null,null,{"$f":"bksingh!$ADA$8","v":""},null,null,null,{"$f":"bksingh!$ADA$8","v":""},null,null,null,{"$f":"bksingh!$ADA$8","v":""},null,null,null,{"$f":"bksingh!$ADA$8","v":""},null,null,null,{"$f":"bksingh!$ADA$8","v":""},null,null,null,{"$f":"bksingh!$ADA$8","v":""},null,null,null,{"$f":"bksingh!$ADA$8","v":""},null,null,null,{"$f":"bksingh!$ADA$8","v":""},null,null,null,{"$f":"bksingh!$ADA$8","v":""},null,null,null,{"$f":"bksingh!$ADA$8","v":""},null,null,null,{"$f":"bksingh!$ADA$8","v":""},null,null,null,{"$f":"bksingh!$ADA$8","v":""},null,null,null,{"$f":"bksingh!$ADA$8","v":""},null,null,null,{"$f":"bksingh!$ADA$8","v":""},null,null,null,{"$f":"bksingh!$ADA$8","v":""},null,null,null,{"$f":"bksingh!$ADA$8","v":""},null,null,null,{"$f":"bksingh!$ADA$8","v":""},null,null,null,{"$f":"bksingh!$ADA$8","v":""},null,null,null,{"$f":"bksingh!$ADA$8","v":""},null,null,null,{"$f":"bksingh!$ADA$8","v":""},null,null,null,{"$f":"bksingh!$ADA$8","v":""},null,null,null,{"$f":"bksingh!$ADA$8","v":""},null,null,null,{"$f":"bksingh!$ADA$8","v":""},null,null,null,{"$f":"bksingh!$ADA$8","v":""},null,null,null,{"$f":"bksingh!$ADA$8","v":""},null,null,null,{"$f":"bksingh!$ADA$8","v":""},null,null,null,{"$f":"bksingh!$ADA$8","v":""},null,null,null,{"$f":"bksingh!$ADA$8","v":""},null,null,null,{"$f":"bksingh!$ADA$8","v":""},null,null,null,{"$f":"bksingh!$ADA$8","v":""},null,null,null,{"$f":"bksingh!$ADA$8","v":""},null,null,null,{"$f":"bksingh!$ADA$8","v":""},null,null,null,{"$f":"bksingh!$ADA$8","v":""},null,null,null,{"$f":"bksingh!$ADA$8","v":""},null,null,null,{"$f":"bksingh!$ADA$8","v":""},null,null,null,{"$f":"bksingh!$ADA$8","v":""},null,null,null,{"$f":"bksingh!$ADA$8","v":""},null,null,null,{"$f":"bksingh!$ADA$8","v":""},null,null,null,{"$f":"bksingh!$ADA$8","v":""},null,null,null,{"$f":"bksingh!$ADA$8","v":""},null,null,null,{"$f":"bksingh!$ADA$8","v":""},null,null,null,{"$f":"bksingh!$ADA$8","v":""},null,null,null,{"$f":"bksingh!$ADA$8","v":""},null,null,null,{"$f":"bksingh!$ADA$8","v":""},null,null,null,{"$f":"bksingh!$ADA$8","v":""},null,null,null,{"$f":"bksingh!$ADA$8","v":""},null,null,null,{"$f":"bksingh!$ADA$8","v":""},null,null,null,{"$f":"bksingh!$ADA$8","v":""},null,null,null,{"$f":"bksingh!$ADA$8","v":""},null,null,null,{"$f":"bksingh!$ADA$8","v":""},null,null,null,{"$f":"bksingh!$ADA$8","v":""},null,null,null,{"$f":"bksingh!$ADA$8","v":""},null,null,null,{"$f":"bksingh!$ADA$8","v":""},null,null,null,{"$f":"bksingh!$ADA$8","v":""},null,null,null,{"$f":"bksingh!$ADA$8","v":""},null,null,null,{"$f":"bksingh!$ADA$8","v":""},null,null,null,{"$f":"bksingh!$ADA$8","v":""},null,null,null,{"$f":"bksingh!$ADA$8","v":""},null,null,null,{"$f":"bksingh!$ADA$8","v":""},null,null,null,{"$f":"bksingh!$ADA$8","v":""},null,null,null,{"$f":"bksingh!$ADA$8","v":""},null,null,null,{"$f":"bksingh!$ADA$8","v":""},null,null,null,{"$f":"bksingh!$ADA$8","v":""},null,null,null,{"$f":"bksingh!$ADA$8","v":""},null,null,null,{"$f":"bksingh!$ADA$8","v":""},null,null,null,{"$f":"bksingh!$ADA$8","v":""},null,null,null,{"$f":"bksingh!$ADA$8","v":""},null,null,null,{"$f":"bksingh!$ADA$8","v":""},null,null,null,{"$f":"bksingh!$ADA$8","v":""},null,null,null,{"$f":"bksingh!$ADA$8","v":""},null,null,null,{"$f":"bksingh!$ADA$8","v":""},null,null,null,{"$f":"bksingh!$ADA$8","v":""},null,null,null,{"$f":"bksingh!$ADA$8","v":""},null,null,null,{"$f":"bksingh!$ADA$8","v":""},null,null,null,{"$f":"bksingh!$ADA$8","v":""},null,null,null,{"$f":"bksingh!$ADA$8","v":""},null,null,null,{"$f":"bksingh!$ADA$8","v":""},null,null,null,{"$f":"bksingh!$ADA$8","v":""},null,null,null,{"$f":"bksingh!$ADA$8","v":""},null,null,null,{"$f":"bksingh!$ADA$8","v":""},null,null,null,{"$f":"bksingh!$ADA$8","v":""},null,null,null,{"$f":"bksingh!$ADA$8","v":""},null,null,null,{"$f":"bksingh!$ADA$8","v":""},null,null,null,{"$f":"bksingh!$ADA$8","v":""},null,null,null,{"$f":"bksingh!$ADA$8","v":""},null,null,null,{"$f":"bksingh!$ADA$8","v":""},null,null,null,{"$f":"bksingh!$ADA$8","v":""},null,null,null,{"$f":"bksingh!$ADA$8","v":""},null,null,null,{"$f":"bksingh!$ADA$8","v":""},null,null,null,{"$f":"bksingh!$ADA$8","v":""},null,null,null,{"$f":"bksingh!$ADA$8","v":""},null,null,null,{"$f":"bksingh!$ADA$8","v":""},null,null,null,{"$f":"bksingh!$ADA$8","v":""},null,null,null,{"$f":"bksingh!$ADA$8","v":""},null,null,null,{"$f":"bksingh!$ADA$8","v":""},null,null,null,{"$f":"bksingh!$ADA$8","v":""},null,null,null,{"$f":"bksingh!$ADA$8","v":""},null,null,null,{"$f":"bksingh!$ADA$8","v":""},null,null,null,{"$f":"bksingh!$ADA$8","v":""},null,null,null,{"$f":"bksingh!$ADA$8","v":""},null,null,null,{"$f":"bksingh!$ADA$8","v":""},null,null,null,{"$f":"bksingh!$ADA$8","v":""},null,null,null,{"$f":"bksingh!$ADA$8","v":""},null,null,null,{"$f":"bksingh!$ADA$8","v":""},null,null,null,{"$f":"bksingh!$ADA$8","v":""},null,null,null,{"$f":"bksingh!$ADA$8","v":""},null,null,null,{"$f":"bksingh!$ADA$8","v":""},null,null,null,{"$f":"bksingh!$ADA$8","v":""},null,null,null,{"$f":"bksingh!$ADA$8","v":""},null,null,null,{"$f":"bksingh!$ADA$8","v":""},null,null,null,{"$f":"bksingh!$ADA$8","v":""},null,null,null,{"$f":"bksingh!$ADA$8","v":""},null,null,null,{"$f":"bksingh!$ADA$8","v":""},null,null,null,{"$f":"bksingh!$ADA$8","v":""},null,null,null,{"$f":"bksingh!$ADA$8","v":""},null,null,null,{"$f":"bksingh!$ADA$8","v":""},null,null,null,{"$f":"bksingh!$ADA$8","v":""},null,null,null,{"$f":"bksingh!$ADA$8","v":""},null,null,null,{"$f":"bksingh!$ADA$8","v":""},null,null,null,{"$f":"bksingh!$ADA$8","v":""},null,null,null,{"$f":"bksingh!$ADA$8","v":""},null,null,null,{"$f":"bksingh!$ADA$8","v":""},null,null,null,{"$f":"bksingh!$ADA$8","v":""},null,null,null,{"$f":"bksingh!$ADA$8","v":""},null,null,null,{"$f":"bksingh!$ADA$8","v":""},null,null,null,{"$f":"bksingh!$ADA$8","v":""},null,null,null,{"$f":"bksingh!$ADA$8","v":""},null,null,null,{"$f":"bksingh!$ADA$8","v":""},null,null,null,{"$f":"bksingh!$ADA$8","v":""},null,null,null,{"$f":"bksingh!$ADA$8","v":""},null,null,null,{"$f":"bksingh!$ADA$8","v":""},null,null,null,{"$f":"bksingh!$ADA$8","v":""},null,null,null,{"$f":"bksingh!$ADA$8","v":""},null,null,null,{"$f":"bksingh!$ADA$8","v":""},null,null,null,{"$f":"bksingh!$ADA$8","v":""},null,null,null,{"$f":"bksingh!$ADA$8","v":""},null,null,null,{"$f":"bksingh!$ADA$8","v":""},null,null,null,{"$f":"bksingh!$ADA$8","v":""},null,null,null,{"$f":"bksingh!$ADA$8","v":""},null,null,null,{"$f":"bksingh!$ADA$8","v":""},null,null,null,{"$f":"bksingh!$ADA$8","v":""},null,null,null,{"$f":"bksingh!$ADA$8","v":""},null,null,null,{"$f":"bksingh!$ADA$8","v":""},null,null,null,{"$f":"bksingh!$ADA$8","v":""},null,null,null,{"$f":"bksingh!$ADA$8","v":""},null,null,null,{"$f":"bksingh!$ADA$8","v":""},null,null,null,{"$f":"bksingh!$ADA$8","v":""},null,null,null,{"$f":"bksingh!$ADA$8","v":""},null,null,null,{"$f":"bksingh!$ADA$8","v":""},null,null,null,{"$f":"bksingh!$ADA$8","v":""},null,null,null,{"$f":"bksingh!$ADA$8","v":""},null,null,null,{"$f":"bksingh!$ADA$8","v":""},null,null,null,{"$f":"bksingh!$ADA$8","v":""},null,null,null,{"$f":"bksingh!$ADA$8","v":""},null,null,null,{"$f":"bksingh!$ADA$8","v":""},null,null,null,{"$f":"bksingh!$ADA$8","v":""},null,null,null,{"$f":"bksingh!$ADA$8","v":""},null,null,null,{"$f":"bksingh!$ADA$8","v":""},null,null,null,{"$f":"bksingh!$ADA$8","v":""},null,null,null,{"$f":"bksingh!$ADA$8","v":""},null,null,null,{"$f":"bksingh!$ADA$8","v":""},null,null,null,{"$f":"bksingh!$ADA$8","v":""},null,null,null,{"$f":"bksingh!$ADA$8","v":""},null,null,null,{"$f":"bksingh!$ADA$8","v":""},null,null,null,{"$f":"bksingh!$ADA$8","v":""},null,null,null,{"$f":"bksingh!$ADA$8","v":""},null,null,null,{"$f":"bksingh!$ADA$8","v":""},null,null,null,{"$f":"bksingh!$ADA$8","v":""},null,null,null,{"$f":"bksingh!$ADA$8","v":""},null,null,null,{"$f":"bksingh!$ADA$8","v":""},null,null,null,{"$f":"bksingh!$ADA$8","v":""},null,null,null,{"$f":"bksingh!$ADA$8","v":""},null,null,null,{"$f":"bksingh!$ADA$8","v":""},null,null,null,{"$f":"bksingh!$ADA$8","v":""},null,null,null,{"$f":"bksingh!$ADA$8","v":""},null,null,null,{"$f":"bksingh!$ADA$8","v":""},null,null,null,{"$f":"bksingh!$ADA$8","v":""},null,null,null,{"$f":"bksingh!$ADA$8","v":""},null,null,null,{"$f":"bksingh!$ADA$8","v":""},null,null,null,{"$f":"bksingh!$ADA$8","v":""},null,null,null,{"$f":"bksingh!$ADA$8","v":""},null,null,null,{"$f":"bksingh!$ADA$8","v":""},null,null,null,{"$f":"bksingh!$ADA$8","v":""},null,null,null,{"$f":"bksingh!$ADA$8","v":""},null,null,null,{"$f":"bksingh!$ADA$8","v":""},null,null,null,{"$f":"bksingh!$ADA$8","v":""},null,null,null,{"$f":"bksingh!$ADA$8","v":""},null,null,null,{"$f":"bksingh!$ADA$8","v":""},null,null,null,{"$f":"bksingh!$ADA$8","v":""},null,null,null,{"$f":"bksingh!$ADA$8","v":""},null,null,null,{"$f":"bksingh!$ADA$8","v":""},null,null,null,{"$f":"bksingh!$ADA$8","v":""},null,null,null,{"$f":"bksingh!$ADA$8","v":""},null,null,null,{"$f":"bksingh!$ADA$8","v":""},null,null,null,{"$f":"bksingh!$ADA$8","v":""},null,null,null,{"$f":"bksingh!$ADA$8","v":""},null,null,null,{"$f":"bksingh!$ADA$8","v":""},null,null,null,{"$f":"bksingh!$ADA$8","v":""},null,null,null,{"$f":"bksingh!$ADA$8","v":""},null,null,null,{"$f":"bksingh!$ADA$8","v":""},null,null,null,{"$f":"bksingh!$ADA$8","v":""},null,null,null,{"$f":"bksingh!$ADA$8","v":""},null,null,null,{"$f":"bksingh!$ADA$8","v":""},null,null,null,{"$f":"bksingh!$ADA$8","v":""},null,null,null,{"$f":"bksingh!$ADA$8","v":""},null,null,null,{"$f":"bksingh!$ADA$8","v":""},null,null,null,{"$f":"bksingh!$ADA$8","v":""},null,null,null,{"$f":"bksingh!$ADA$8","v":""},null,null,null,{"$f":"bksingh!$ADA$8","v":""},null,null,null,{"$f":"bksingh!$ADA$8","v":""},null,null,null,{"$f":"bksingh!$ADA$8","v":""},null,null,null,{"$f":"bksingh!$ADA$8","v":""},null,null,null,{"$f":"bksingh!$ADA$8","v":""},null,null,null,{"$f":"bksingh!$ADA$8","v":""},null,null,null,{"$f":"bksingh!$ADA$8","v":""},null,null,null,{"$f":"bksingh!$ADA$8","v":""},null,null,null,{"$f":"bksingh!$ADA$8","v":""},null,null,null,{"$f":"bksingh!$ADA$8","v":""},null,null,null,{"$f":"bksingh!$ADA$8","v":""},null,null,null,{"$f":"bksingh!$ADA$8","v":""},null,null,null,{"$f":"bksingh!$ADA$8","v":""},null,null,null,{"$f":"bksingh!$ADA$8","v":""},null,null,null,{"$f":"bksingh!$ADA$8","v":""},null,null,null,{"$f":"bksingh!$ADA$8","v":""},null,null,null,{"$f":"bksingh!$ADA$8","v":""},null,null,null,{"$f":"bksingh!$ADA$8","v":""},null,null,null,{"$f":"bksingh!$ADA$8","v":""},null,null,null,{"$f":"bksingh!$ADA$8","v":""},null,null,null,{"$f":"bksingh!$ADA$8","v":""},null,null,null,{"$f":"bksingh!$ADA$8","v":""},null,null,null,{"$f":"bksingh!$ADA$8","v":""},null,null,null,{"$f":"bksingh!$ADA$8","v":""},null,null,null,{"$f":"bksingh!$ADA$8","v":""},null,null,null,{"$f":"bksingh!$ADA$8","v":""},null,null,null,{"$f":"bksingh!$ADA$8","v":""},null,null,null,{"$f":"bksingh!$ADA$8","v":""},null,null,null,{"$f":"bksingh!$ADA$8","v":""},null,null,null,{"$f":"bksingh!$ADA$8","v":""},null,null,null,{"$f":"bksingh!$ADA$8","v":""},null,null,null,{"$f":"bksingh!$ADA$8","v":""},null,null,null,{"$f":"bksingh!$ADA$8","v":""},null,null,null,{"$f":"bksingh!$ADA$8","v":""},null,null,null,{"$f":"bksingh!$ADA$8","v":""},null,null,null,{"$f":"bksingh!$ADA$8","v":""},null,null,null,{"$f":"bksingh!$ADA$8","v":""},null,null,null,{"$f":"bksingh!$ADA$8","v":""},null,null,null,{"$f":"bksingh!$ADA$8","v":""},null,null,null,{"$f":"bksingh!$ADA$8","v":""},null,null,null,{"$f":"bksingh!$ADA$8","v":""},null,null,null,{"$f":"bksingh!$ADA$8","v":""},null,null,null,{"$f":"bksingh!$ADA$8","v":""},null,null,null,{"$f":"bksingh!$ADA$8","v":""},null,null,null,{"$f":"bksingh!$ADA$8","v":""},null,null,null,{"$f":"bksingh!$ADA$8","v":""},null,null,null,{"$f":"bksingh!$ADA$8","v":""},null,null,null,{"$f":"bksingh!$ADA$8","v":""},null,null,null,{"$f":"bksingh!$ADA$8","v":""},null,null,null,{"$f":"bksingh!$ADA$8","v":""},null,null,null,{"$f":"bksingh!$ADA$8","v":""},null,null,null,{"$f":"bksingh!$ADA$8","v":""},null,null,null,{"$f":"bksingh!$ADA$8","v":""},null,null,null,{"$f":"bksingh!$ADA$8","v":""},null,null,null,{"$f":"bksingh!$ADA$8","v":""},null,null,null,{"$f":"bksingh!$ADA$8","v":""},null,null,null,{"$f":"bksingh!$ADA$8","v":""},null,null,null,{"$f":"bksingh!$ADA$8","v":""},null,null,null,{"$f":"bksingh!$ADA$8","v":""},null,null,null,{"$f":"bksingh!$ADA$8","v":""},null,null,null,{"$f":"bksingh!$ADA$8","v":""},null,null,null,{"$f":"bksingh!$ADA$8","v":""},null,null,null,{"$f":"bksingh!$ADA$8","v":""},null,null,null,{"$f":"bksingh!$ADA$8","v":""},null,null,null,{"$f":"bksingh!$ADA$8","v":""},null,null,null,{"$f":"bksingh!$ADA$8","v":""},null,null,null,{"$f":"bksingh!$ADA$8","v":""},null,null,null,{"$f":"bksingh!$ADA$8","v":""},null,null,null,{"$f":"bksingh!$ADA$8","v":""},null,null,null,{"$f":"bksingh!$ADA$8","v":""},null,null,null,{"$f":"bksingh!$ADA$8","v":""},null,null,null,{"$f":"bksingh!$ADA$8","v":""},null,null,null,{"$f":"bksingh!$ADA$8","v":""},null,null,null,{"$f":"bksingh!$ADA$8","v":""},null,null,null,{"$f":"bksingh!$ADA$8","v":""},null,null,null,{"$f":"bksingh!$ADA$8","v":""},null,null,null,{"$f":"bksingh!$ADA$8","v":""},null,null,null,{"$f":"bksingh!$ADA$8","v":""},null,null,null,{"$f":"bksingh!$ADA$8","v":""},null,null,null,{"$f":"bksingh!$ADA$8","v":""},null,null,null,{"$f":"bksingh!$ADA$8","v":""},null,null,null,{"$f":"bksingh!$ADA$8","v":""},null,null,null,{"$f":"bksingh!$ADA$8","v":""},null,null,null,{"$f":"bksingh!$ADA$8","v":""},null,null,null,{"$f":"bksingh!$ADA$8","v":""},null,null,null,{"$f":"bksingh!$ADA$8","v":""},null,null,null,{"$f":"bksingh!$ADA$8","v":""},null,null,null,{"$f":"bksingh!$ADA$8","v":""},null,null,null,{"$f":"bksingh!$ADA$8","v":""},null,null,null,{"$f":"bksingh!$ADA$8","v":""},null,null,null,{"$f":"bksingh!$ADA$8","v":""},null,null,null,{"$f":"bksingh!$ADA$8","v":""},null,null,null,{"$f":"bksingh!$ADA$8","v":""},null,null,null,{"$f":"bksingh!$ADA$8","v":""},null,null,null,{"$f":"bksingh!$ADA$8","v":""},null,null,null,{"$f":"bksingh!$ADA$8","v":""},null,null,null,{"$f":"bksingh!$ADA$8","v":""},null,null,null,{"$f":"bksingh!$ADA$8","v":""},null,null,null,{"$f":"bksingh!$ADA$8","v":""},null,null,null,{"$f":"bksingh!$ADA$8","v":""},null,null,null,{"$f":"bksingh!$ADA$8","v":""},null,null,null,{"$f":"bksingh!$ADA$8","v":""},null,null,null,{"$f":"bksingh!$ADA$8","v":""},null,null,null,{"$f":"bksingh!$ADA$8","v":""},null,null,null,{"$f":"bksingh!$ADA$8","v":""},null,null,null,{"$f":"bksingh!$ADA$8","v":""},null,null,null,{"$f":"bksingh!$ADA$8","v":""},null,null,null,{"$f":"bksingh!$ADA$8","v":""},null,null,null,{"$f":"bksingh!$ADA$8","v":""},null,null,null,{"$f":"bksingh!$ADA$8","v":""},null,null,null,{"$f":"bksingh!$ADA$8","v":""},null,null,null,{"$f":"bksingh!$ADA$8","v":""},null,null,null,{"$f":"bksingh!$ADA$8","v":""},null,null,null,{"$f":"bksingh!$ADA$8","v":""},null,null,null,{"$f":"bksingh!$ADA$8","v":""},null,null,null,{"$f":"bksingh!$ADA$8","v":""},null,null,null,{"$f":"bksingh!$ADA$8","v":""},null,null,null,{"$f":"bksingh!$ADA$8","v":""},null,null,null,{"$f":"bksingh!$ADA$8","v":""},null,null,null,{"$f":"bksingh!$ADA$8","v":""},null,null,null,{"$f":"bksingh!$ADA$8","v":""},null,null,null,{"$f":"bksingh!$ADA$8","v":""},null,null,null,{"$f":"bksingh!$ADA$8","v":""},null,null,null,{"$f":"bksingh!$ADA$8","v":""},null,null,null,{"$f":"bksingh!$ADA$8","v":""},null,null,null,{"$f":"bksingh!$ADA$8","v":""},null,null,null,{"$f":"bksingh!$ADA$8","v":""},null,null,null,{"$f":"bksingh!$ADA$8","v":""},null,null,null,{"$f":"bksingh!$ADA$8","v":""},null,null,null,{"$f":"bksingh!$ADA$8","v":""},null,null,null,{"$f":"bksingh!$ADA$8","v":""},null,null,null,{"$f":"bksingh!$ADA$8","v":""},null,null,null,{"$f":"bksingh!$ADA$8","v":""},null,null,null,{"$f":"bksingh!$ADA$8","v":""},null,null,null,{"$f":"bksingh!$ADA$8","v":""},null,null,null,{"$f":"bksingh!$ADA$8","v":""},null,null,null,{"$f":"bksingh!$ADA$8","v":""},null,null,null,{"$f":"bksingh!$ADA$8","v":""},null,null,null,{"$f":"bksingh!$ADA$8","v":""},null,null,null,{"$f":"bksingh!$ADA$8","v":""},null,null,null,{"$f":"bksingh!$ADA$8","v":""},null,null,null,{"$f":"bksingh!$ADA$8","v":""},null,null,null,{"$f":"bksingh!$ADA$8","v":""},null,null,null,{"$f":"bksingh!$ADA$8","v":""},null,null,null,{"$f":"bksingh!$ADA$8","v":""},null,null,null,{"$f":"bksingh!$ADA$8","v":""},null,null,null,{"$f":"bksingh!$ADA$8","v":""},null,null,null,{"$f":"bksingh!$ADA$8","v":""},null,null,null,{"$f":"bksingh!$ADA$8","v":""},null,null,null,{"$f":"bksingh!$ADA$8","v":""},null,null,null,{"$f":"bksingh!$ADA$8","v":""},null,null,null,{"$f":"bksingh!$ADA$8","v":""},null,null,null,{"$f":"bksingh!$ADA$8","v":""},null,null,null,{"$f":"bksingh!$ADA$8","v":""},null,null,null,{"$f":"bksingh!$ADA$8","v":""},null,null,null,{"$f":"bksingh!$ADA$8","v":""},null,null,null,{"$f":"bksingh!$ADA$8","v":""},null,null,null,{"$f":"bksingh!$ADA$8","v":""},null,null,null,{"$f":"bksingh!$ADA$8","v":""},null,null,null,{"$f":"bksingh!$ADA$8","v":""},null,null,null,{"$f":"bksingh!$ADA$8","v":""},null,null,null,{"$f":"bksingh!$ADA$8","v":""},null,null,null,{"$f":"bksingh!$ADA$8","v":""},null,null,null,{"$f":"bksingh!$ADA$8","v":""},null,null,null,{"$f":"bksingh!$ADA$8","v":""},null,null,null,{"$f":"bksingh!$ADA$8","v":""},null,null,null,{"$f":"bksingh!$ADA$8","v":""},null,null,null,{"$f":"bksingh!$ADA$8","v":""},null,null,null,{"$f":"bksingh!$ADA$8","v":""},null,null,null,{"$f":"bksingh!$ADA$8","v":""},null,null,null,{"$f":"bksingh!$ADA$8","v":""},null,null,null,{"$f":"bksingh!$ADA$8","v":""},null,null,null,{"$f":"bksingh!$ADA$8","v":""},null,null,null,{"$f":"bksingh!$ADA$8","v":""},null,null,null,{"$f":"bksingh!$ADA$8","v":""},null,null,null,{"$f":"bksingh!$ADA$8","v":""},null,null,null,{"$f":"bksingh!$ADA$8","v":""},null,null,null,{"$f":"bksingh!$ADA$8","v":""},null,null,null,{"$f":"bksingh!$ADA$8","v":""},null,null,null,{"$f":"bksingh!$ADA$8","v":""},null,null,null,{"$f":"bksingh!$ADA$8","v":""},null,null,null,{"$f":"bksingh!$ADA$8","v":""},null,null,null,{"$f":"bksingh!$ADA$8","v":""},null,null,null,{"$f":"bksingh!$ADA$8","v":""},null,null,null,{"$f":"bksingh!$ADA$8","v":""},null,null,null,{"$f":"bksingh!$ADA$8","v":""},null,null,null,{"$f":"bksingh!$ADA$8","v":""},null,null,null,{"$f":"bksingh!$ADA$8","v":""},null,null,null,{"$f":"bksingh!$ADA$8","v":""},null,null,null,{"$f":"bksingh!$ADA$8","v":""},null,null,null,{"$f":"bksingh!$ADA$8","v":""},null,null,null,{"$f":"bksingh!$ADA$8","v":""},null,null,null,{"$f":"bksingh!$ADA$8","v":""},null,null,null,{"$f":"bksingh!$ADA$8","v":""},null,null,null,{"$f":"bksingh!$ADA$8","v":""},null,null,null,{"$f":"bksingh!$ADA$8","v":""},null,null,null,{"$f":"bksingh!$ADA$8","v":""},null,null,null,{"$f":"bksingh!$ADA$8","v":""},null,null,null,{"$f":"bksingh!$ADA$8","v":""},null,null,null,{"$f":"bksingh!$ADA$8","v":""},null,null,null,{"$f":"bksingh!$ADA$8","v":""},null,null,null,{"$f":"bksingh!$ADA$8","v":""},null,null,null,{"$f":"bksingh!$ADA$8","v":""},null,null,null,{"$f":"bksingh!$ADA$8","v":""},null,null,null,{"$f":"bksingh!$ADA$8","v":""},null,null,null,{"$f":"bksingh!$ADA$8","v":""},null,null,null,{"$f":"bksingh!$ADA$8","v":""},null,null,null,{"$f":"bksingh!$ADA$8","v":""},null,null,null,{"$f":"bksingh!$ADA$8","v":""},null,null,null,{"$f":"bksingh!$ADA$8","v":""},null,null,null,{"$f":"bksingh!$ADA$8","v":""},null,null,null,{"$f":"bksingh!$ADA$8","v":""},null,null,null,{"$f":"bksingh!$ADA$8","v":""},null,null,null,{"$f":"bksingh!$ADA$8","v":""},null,null,null,{"$f":"bksingh!$ADA$8","v":""},null,null,null,{"$f":"bksingh!$ADA$8","v":""},null,null,null,{"$f":"bksingh!$ADA$8","v":""},null,null,null,{"$f":"bksingh!$ADA$8","v":""},null,null,null,{"$f":"bksingh!$ADA$8","v":""},null,null,null,{"$f":"bksingh!$ADA$8","v":""},null,null,null,{"$f":"bksingh!$ADA$8","v":""},null,null,null,{"$f":"bksingh!$ADA$8","v":""},null,null,null,{"$f":"bksingh!$ADA$8","v":""},null,null,null,{"$f":"bksingh!$ADA$8","v":""},null,null,null,{"$f":"bksingh!$ADA$8","v":""},null,null,null,{"$f":"bksingh!$ADA$8","v":""},null,null,null,{"$f":"bksingh!$ADA$8","v":""},null,null,null,{"$f":"bksingh!$ADA$8","v":""},null,null,null,{"$f":"bksingh!$ADA$8","v":""},null,null,null,{"$f":"bksingh!$ADA$8","v":""},null,null,null,{"$f":"bksingh!$ADA$8","v":""},null,null,null,{"$f":"bksingh!$ADA$8","v":""},null,null,null,{"$f":"bksingh!$ADA$8","v":""},null,null,null,{"$f":"bksingh!$ADA$8","v":""},null,null,null,{"$f":"bksingh!$ADA$8","v":""},null,null,null,{"$f":"bksingh!$ADA$8","v":""},null,null,null,{"$f":"bksingh!$ADA$8","v":""},null,null,null,{"$f":"bksingh!$ADA$8","v":""},null,null,null,{"$f":"bksingh!$ADA$8","v":""},null,null,null,{"$f":"bksingh!$ADA$8","v":""},null,null,null,{"$f":"bksingh!$ADA$8","v":""},null,null,null,{"$f":"bksingh!$ADA$8","v":""},null,null,null,{"$f":"bksingh!$ADA$8","v":""},null,null,null,{"$f":"bksingh!$ADA$8","v":""},null,null,null,{"$f":"bksingh!$ADA$8","v":""},null,null,null,{"$f":"bksingh!$ADA$8","v":""},null,null,null,{"$f":"bksingh!$ADA$8","v":""},null,null,null,{"$f":"bksingh!$ADA$8","v":""},null,null,null,{"$f":"bksingh!$ADA$8","v":""},null,null,null,{"$f":"bksingh!$ADA$8","v":""},null,null,null,{"$f":"bksingh!$ADA$8","v":""},null,null,null,{"$f":"bksingh!$ADA$8","v":""},null,null,null,{"$f":"bksingh!$ADA$8","v":""},null,null,null,{"$f":"bksingh!$ADA$8","v":""},null,null,null,{"$f":"bksingh!$ADA$8","v":""},null,null,null,{"$f":"bksingh!$ADA$8","v":""},null,null,null,{"$f":"bksingh!$ADA$8","v":""},null,null,null,{"$f":"bksingh!$ADA$8","v":""},null,null,null,{"$f":"bksingh!$ADA$8","v":""},null,null,null,{"$f":"bksingh!$ADA$8","v":""},null,null,null,{"$f":"bksingh!$ADA$8","v":""},null,null,null,{"$f":"bksingh!$ADA$8","v":""},null,null,null,{"$f":"bksingh!$ADA$8","v":""},null,null,null,{"$f":"bksingh!$ADA$8","v":""},null,null,null,{"$f":"bksingh!$ADA$8","v":""},null,null,null,{"$f":"bksingh!$ADA$8","v":""},null,null,null,{"$f":"bksingh!$ADA$8","v":""},null,null,null,{"$f":"bksingh!$ADA$8","v":""},null,null,null,{"$f":"bksingh!$ADA$8","v":""},null,null,null,{"$f":"bksingh!$ADA$8","v":""},null,null,null,{"$f":"bksingh!$ADA$8","v":""},null,null,null,{"$f":"bksingh!$ADA$8","v":""},null,null,null,{"$f":"bksingh!$ADA$8","v":""},null,null,null,{"$f":"bksingh!$ADA$8","v":""},null,null,null,{"$f":"bksingh!$ADA$8","v":""},null,null,null,{"$f":"bksingh!$ADA$8","v":""},null,null,null,{"$f":"bksingh!$ADA$8","v":""},null,null,null,{"$f":"bksingh!$ADA$8","v":""},null,null,null,{"$f":"bksingh!$ADA$8","v":""},null,null,null,{"$f":"bksingh!$ADA$8","v":""},null,null,null,{"$f":"bksingh!$ADA$8","v":""},null,null,null,{"$f":"bksingh!$ADA$8","v":""},null,null,null,{"$f":"bksingh!$ADA$8","v":""},null,null,null,{"$f":"bksingh!$ADA$8","v":""},null,null,null,{"$f":"bksingh!$ADA$8","v":""},null,null,null,{"$f":"bksingh!$ADA$8","v":""},null,null,null,{"$f":"bksingh!$ADA$8","v":""},null,null,null,{"$f":"bksingh!$ADA$8","v":""},null,null,null,{"$f":"bksingh!$ADA$8","v":""},null,null,null,{"$f":"bksingh!$ADA$8","v":""},null,null,null,{"$f":"bksingh!$ADA$8","v":""},null,null,null,{"$f":"bksingh!$ADA$8","v":""},null,null,null,{"$f":"bksingh!$ADA$8","v":""},null,null,null,{"$f":"bksingh!$ADA$8","v":""},null,null,null,{"$f":"bksingh!$ADA$8","v":""},null,null,null,{"$f":"bksingh!$ADA$8","v":""},null,null,null,{"$f":"bksingh!$ADA$8","v":""},null,null,null,{"$f":"bksingh!$ADA$8","v":""},null,null,null,{"$f":"bksingh!$ADA$8","v":""},null,null,null,{"$f":"bksingh!$ADA$8","v":""},null,null,null,{"$f":"bksingh!$ADA$8","v":""},null,null,null,{"$f":"bksingh!$ADA$8","v":""},null,null,null,{"$f":"bksingh!$ADA$8","v":""},null,null,null,{"$f":"bksingh!$ADA$8","v":""},null,null,null,{"$f":"bksingh!$ADA$8","v":""},null,null,null,{"$f":"bksingh!$ADA$8","v":""},null,null,null,{"$f":"bksingh!$ADA$8","v":""},null,null,null,{"$f":"bksingh!$ADA$8","v":""},null,null,null,{"$f":"bksingh!$ADA$8","v":""},null,null,null,{"$f":"bksingh!$ADA$8","v":""},null,null,null,{"$f":"bksingh!$ADA$8","v":""},null,null,null,{"$f":"bksingh!$ADA$8","v":""},null,null,null,{"$f":"bksingh!$ADA$8","v":""},null,null,null,{"$f":"bksingh!$ADA$8","v":""},null,null,null,{"$f":"bksingh!$ADA$8","v":""},null,null,null,{"$f":"bksingh!$ADA$8","v":""},null,null,null,{"$f":"bksingh!$ADA$8","v":""},null,null,null,{"$f":"bksingh!$ADA$8","v":""},null,null,null,{"$f":"bksingh!$ADA$8","v":""},null,null,null,{"$f":"bksingh!$ADA$8","v":""},null,null,null,{"$f":"bksingh!$ADA$8","v":""},null,null,null,{"$f":"bksingh!$ADA$8","v":""},null,null,null,{"$f":"bksingh!$ADA$8","v":""},null,null,null,{"$f":"bksingh!$ADA$8","v":""},null,null,null,{"$f":"bksingh!$ADA$8","v":""},null,null,null,{"$f":"bksingh!$ADA$8","v":""},null,null,null,{"$f":"bksingh!$ADA$8","v":""},null,null,null,{"$f":"bksingh!$ADA$8","v":""},null,null,null,{"$f":"bksingh!$ADA$8","v":""},null,null,null,{"$f":"bksingh!$ADA$8","v":""},null,null,null,{"$f":"bksingh!$ADA$8","v":""},null,null,null,{"$f":"bksingh!$ADA$8","v":""},null,null,null,{"$f":"bksingh!$ADA$8","v":""},null,null,null,{"$f":"bksingh!$ADA$8","v":""},null,null,null,{"$f":"bksingh!$ADA$8","v":""},null,null,null,{"$f":"bksingh!$ADA$8","v":""},null,null,null,{"$f":"bksingh!$ADA$8","v":""},null,null,null,{"$f":"bksingh!$ADA$8","v":""},null,null,null,{"$f":"bksingh!$ADA$8","v":""},null,null,null,{"$f":"bksingh!$ADA$8","v":""},null,null,null,{"$f":"bksingh!$ADA$8","v":""},null,null,null,{"$f":"bksingh!$ADA$8","v":""},null,null,null,{"$f":"bksingh!$ADA$8","v":""},null,null,null,{"$f":"bksingh!$ADA$8","v":""},null,null,null,{"$f":"bksingh!$ADA$8","v":""},null,null,null,{"$f":"bksingh!$ADA$8","v":""},null,null,null,{"$f":"bksingh!$ADA$8","v":""},null,null,null,{"$f":"bksingh!$ADA$8","v":""},null,null,null,{"$f":"bksingh!$ADA$8","v":""},null,null,null,{"$f":"bksingh!$ADA$8","v":""},null,null,null,{"$f":"bksingh!$ADA$8","v":""},null,null,null,{"$f":"bksingh!$ADA$8","v":""},null,null,null,{"$f":"bksingh!$ADA$8","v":""},null,null,null,{"$f":"bksingh!$ADA$8","v":""},null,null,null,{"$f":"bksingh!$ADA$8","v":""},null,null,null,{"$f":"bksingh!$ADA$8","v":""},null,null,null,{"$f":"bksingh!$ADA$8","v":""},null,null,null,{"$f":"bksingh!$ADA$8","v":""},null,null,null,{"$f":"bksingh!$ADA$8","v":""},null,null,null,{"$f":"bksingh!$ADA$8","v":""},null,null,null,{"$f":"bksingh!$ADA$8","v":""},null,null,null,{"$f":"bksingh!$ADA$8","v":""},null,null,null,{"$f":"bksingh!$ADA$8","v":""},null,null,null,{"$f":"bksingh!$ADA$8","v":""},null,null,null,{"$f":"bksingh!$ADA$8","v":""},null,null,null,{"$f":"bksingh!$ADA$8","v":""},null,null,null,{"$f":"bksingh!$ADA$8","v":""},null,null,null,{"$f":"bksingh!$ADA$8","v":""},null,null,null,{"$f":"bksingh!$ADA$8","v":""},null,null,null,{"$f":"bksingh!$ADA$8","v":""},null,null,null,{"$f":"bksingh!$ADA$8","v":""},null,null,null,{"$f":"bksingh!$ADA$8","v":""},null,null,null,{"$f":"bksingh!$ADA$8","v":""},null,null,null,{"$f":"bksingh!$ADA$8","v":""},null,null,null,{"$f":"bksingh!$ADA$8","v":""},null,null,null,{"$f":"bksingh!$ADA$8","v":""},null,null,null,{"$f":"bksingh!$ADA$8","v":""},null,null,null,{"$f":"bksingh!$ADA$8","v":""},null,null,null,{"$f":"bksingh!$ADA$8","v":""},null,null,null,{"$f":"bksingh!$ADA$8","v":""},null,null,null,{"$f":"bksingh!$ADA$8","v":""},null,null,null,{"$f":"bksingh!$ADA$8","v":""},null,null,null,{"$f":"bksingh!$ADA$8","v":""},null,null,null,{"$f":"bksingh!$ADA$8","v":""},null,null,null,{"$f":"bksingh!$ADA$8","v":""},null,null,null,{"$f":"bksingh!$ADA$8","v":""},null,null,null,{"$f":"bksingh!$ADA$8","v":""},null,null,null,{"$f":"bksingh!$ADA$8","v":""},null,null,null,{"$f":"bksingh!$ADA$8","v":""},null,null,null,{"$f":"bksingh!$ADA$8","v":""},null,null,null,{"$f":"bksingh!$ADA$8","v":""},null,null,null,{"$f":"bksingh!$ADA$8","v":""},null,null,null,{"$f":"bksingh!$ADA$8","v":""},null,null,null,{"$f":"bksingh!$ADA$8","v":""},null,null,null,{"$f":"bksingh!$ADA$8","v":""},null,null,null,{"$f":"bksingh!$ADA$8","v":""},null,null,null,{"$f":"bksingh!$ADA$8","v":""},null,null,null,{"$f":"bksingh!$ADA$8","v":""},null,null,null,{"$f":"bksingh!$ADA$8","v":""},null,null,null,{"$f":"bksingh!$ADA$8","v":""},null,null,null,{"$f":"bksingh!$ADA$8","v":""},null,null,null,{"$f":"bksingh!$ADA$8","v":""},null,null,null,{"$f":"bksingh!$ADA$8","v":""},null,null,null,{"$f":"bksingh!$ADA$8","v":""},null,null,null,{"$f":"bksingh!$ADA$8","v":""},null,null,null,{"$f":"bksingh!$ADA$8","v":""},null,null,null,{"$f":"bksingh!$ADA$8","v":""},null,null,null,{"$f":"bksingh!$ADA$8","v":""},null,null,null,{"$f":"bksingh!$ADA$8","v":""},null,null,null,{"$f":"bksingh!$ADA$8","v":""},null,null,null,{"$f":"bksingh!$ADA$8","v":""},null,null,null,{"$f":"bksingh!$ADA$8","v":""},null,null,null,{"$f":"bksingh!$ADA$8","v":""},null,null,null,{"$f":"bksingh!$ADA$8","v":""},null,null,null,{"$f":"bksingh!$ADA$8","v":""},null,null,null,{"$f":"bksingh!$ADA$8","v":""},null,null,null,{"$f":"bksingh!$ADA$8","v":""},null,null,null,{"$f":"bksingh!$ADA$8","v":""},null,null,null,{"$f":"bksingh!$ADA$8","v":""},null,null,null,{"$f":"bksingh!$ADA$8","v":""},null,null,null,{"$f":"bksingh!$ADA$8","v":""},null,null,null,{"$f":"bksingh!$ADA$8","v":""},null,null,null,{"$f":"bksingh!$ADA$8","v":""},null,null,null,{"$f":"bksingh!$ADA$8","v":""},null,null,null,{"$f":"bksingh!$ADA$8","v":""},null,null,null,{"$f":"bksingh!$ADA$8","v":""},null,null,null,{"$f":"bksingh!$ADA$8","v":""},null,null,null,{"$f":"bksingh!$ADA$8","v":""},null,null,null,{"$f":"bksingh!$ADA$8","v":""},null,null,null,{"$f":"bksingh!$ADA$8","v":""},null,null,null,{"$f":"bksingh!$ADA$8","v":""},null,null,null,{"$f":"bksingh!$ADA$8","v":""},null,null,null,{"$f":"bksingh!$ADA$8","v":""},null,null,null,{"$f":"bksingh!$ADA$8","v":""},null,null,null,{"$f":"bksingh!$ADA$8","v":""},null,null,null,{"$f":"bksingh!$ADA$8","v":""},null,null,null,{"$f":"bksingh!$ADA$8","v":""},null,null,null,{"$f":"bksingh!$ADA$8","v":""},null,null,null,{"$f":"bksingh!$ADA$8","v":""},null,null,null,{"$f":"bksingh!$ADA$8","v":""},null,null,null,{"$f":"bksingh!$ADA$8","v":""},null,null,null,{"$f":"bksingh!$ADA$8","v":""},null,null,null,{"$f":"bksingh!$ADA$8","v":""},null,null,null,{"$f":"bksingh!$ADA$8","v":""},null,null,null,{"$f":"bksingh!$ADA$8","v":""},null,null,null,{"$f":"bksingh!$ADA$8","v":""},null,null,null,{"$f":"bksingh!$ADA$8","v":""},null,null,null,{"$f":"bksingh!$ADA$8","v":""},null,null,null,{"$f":"bksingh!$ADA$8","v":""},null,null,null,{"$f":"bksingh!$ADA$8","v":""},null,null,null,{"$f":"bksingh!$ADA$8","v":""},null,null,null,{"$f":"bksingh!$ADA$8","v":""},null,null,null,{"$f":"bksingh!$ADA$8","v":""},null,null,null,{"$f":"bksingh!$ADA$8","v":""},null,null,null,{"$f":"bksingh!$ADA$8","v":""},null,null,null,{"$f":"bksingh!$ADA$8","v":""},null,null,null,{"$f":"bksingh!$ADA$8","v":""},null,null,null,{"$f":"bksingh!$ADA$8","v":""},null,null,null,{"$f":"bksingh!$ADA$8","v":""},null,null,null,{"$f":"bksingh!$ADA$8","v":""},null,null,null,{"$f":"bksingh!$ADA$8","v":""},null,null,null,{"$f":"bksingh!$ADA$8","v":""},null,null,null,{"$f":"bksingh!$ADA$8","v":""},null,null,null,{"$f":"bksingh!$ADA$8","v":""},null,null,null,{"$f":"bksingh!$ADA$8","v":""},null,null,null,{"$f":"bksingh!$ADA$8","v":""},null,null,null,{"$f":"bksingh!$ADA$8","v":""},null,null,null,{"$f":"bksingh!$ADA$8","v":""},null,null,null,{"$f":"bksingh!$ADA$8","v":""},null,null,null,{"$f":"bksingh!$ADA$8","v":""},null,null,null,{"$f":"bksingh!$ADA$8","v":""},null,null,null,{"$f":"bksingh!$ADA$8","v":""},null,null,null,{"$f":"bksingh!$ADA$8","v":""},null,null,null,{"$f":"bksingh!$ADA$8","v":""},null,null,null,{"$f":"bksingh!$ADA$8","v":""},null,null,null,{"$f":"bksingh!$ADA$8","v":""},null,null,null,{"$f":"bksingh!$ADA$8","v":""},null,null,null,{"$f":"bksingh!$ADA$8","v":""},null,null,null,{"$f":"bksingh!$ADA$8","v":""},null,null,null,{"$f":"bksingh!$ADA$8","v":""},null,null,null,{"$f":"bksingh!$ADA$8","v":""},null,null,null,{"$f":"bksingh!$ADA$8","v":""},null,null,null,{"$f":"bksingh!$ADA$8","v":""},null,null,null,{"$f":"bksingh!$ADA$8","v":""},null,null,null,{"$f":"bksingh!$ADA$8","v":""},null,null,null,{"$f":"bksingh!$ADA$8","v":""},null,null,null,{"$f":"bksingh!$ADA$8","v":""},null,null,null,{"$f":"bksingh!$ADA$8","v":""},null,null,null,{"$f":"bksingh!$ADA$8","v":""},null,null,null,{"$f":"bksingh!$ADA$8","v":""},null,null,null,{"$f":"bksingh!$ADA$8","v":""},null,null,null,{"$f":"bksingh!$ADA$8","v":""},null,null,null,{"$f":"bksingh!$ADA$8","v":""},null,null,null,{"$f":"bksingh!$ADA$8","v":""},null,null,null,{"$f":"bksingh!$ADA$8","v":""},null,null,null,{"$f":"bksingh!$ADA$8","v":""},null,null,null,{"$f":"bksingh!$ADA$8","v":""},null,null,null,{"$f":"bksingh!$ADA$8","v":""},null,null,null,{"$f":"bksingh!$ADA$8","v":""},null,null,null,{"$f":"bksingh!$ADA$8","v":""},null,null,null,{"$f":"bksingh!$ADA$8","v":""},null,null,null,{"$f":"bksingh!$ADA$8","v":""},null,null,null,{"$f":"bksingh!$ADA$8","v":""},null,null,null,{"$f":"bksingh!$ADA$8","v":""},null,null,null,{"$f":"bksingh!$ADA$8","v":""},null,null,null,{"$f":"bksingh!$ADA$8","v":""},null,null,null,{"$f":"bksingh!$ADA$8","v":""},null,null,null,{"$f":"bksingh!$ADA$8","v":""},null,null,null,{"$f":"bksingh!$ADA$8","v":""},null,null,null,{"$f":"bksingh!$ADA$8","v":""},null,null,null,{"$f":"bksingh!$ADA$8","v":""},null,null,null,{"$f":"bksingh!$ADA$8","v":""},null,null,null,{"$f":"bksingh!$ADA$8","v":""},null,null,null,{"$f":"bksingh!$ADA$8","v":""},null,null,null,{"$f":"bksingh!$ADA$8","v":""},null,null,null,{"$f":"bksingh!$ADA$8","v":""},null,null,null,{"$f":"bksingh!$ADA$8","v":""},null,null,null,{"$f":"bksingh!$ADA$8","v":""},null,null,null,{"$f":"bksingh!$ADA$8","v":""},null,null,null,{"$f":"bksingh!$ADA$8","v":""},null,null,null,{"$f":"bksingh!$ADA$8","v":""},null,null,null,{"$f":"bksingh!$ADA$8","v":""},null,null,null,{"$f":"bksingh!$ADA$8","v":""},null,null,null,{"$f":"bksingh!$ADA$8","v":""},null,null,null,{"$f":"bksingh!$ADA$8","v":""},null,null,null,{"$f":"bksingh!$ADA$8","v":""},null,null,null,{"$f":"bksingh!$ADA$8","v":""},null,null,null,{"$f":"bksingh!$ADA$8","v":""},null,null,null,{"$f":"bksingh!$ADA$8","v":""},null,null,null,{"$f":"bksingh!$ADA$8","v":""},null,null,null,{"$f":"bksingh!$ADA$8","v":""},null,null,null,{"$f":"bksingh!$ADA$8","v":""},null,null,null,{"$f":"bksingh!$ADA$8","v":""},null,null,null,{"$f":"bksingh!$ADA$8","v":""},null,null,null,{"$f":"bksingh!$ADA$8","v":""},null,null,null,{"$f":"bksingh!$ADA$8","v":""},null,null,null,{"$f":"bksingh!$ADA$8","v":""},null,null,null,{"$f":"bksingh!$ADA$8","v":""},null,null,null,{"$f":"bksingh!$ADA$8","v":""},null,null,null,{"$f":"bksingh!$ADA$8","v":""},null,null,null,{"$f":"bksingh!$ADA$8","v":""},null,null,null,{"$f":"bksingh!$ADA$8","v":""},null,null,null,{"$f":"bksingh!$ADA$8","v":""},null,null,null,{"$f":"bksingh!$ADA$8","v":""},null,null,null,{"$f":"bksingh!$ADA$8","v":""},null,null,null,{"$f":"bksingh!$ADA$8","v":""},null,null,null,{"$f":"bksingh!$ADA$8","v":""},null,null,null,{"$f":"bksingh!$ADA$8","v":""},null,null,null,{"$f":"bksingh!$ADA$8","v":""},null,null,null,{"$f":"bksingh!$ADA$8","v":""},null,null,null,{"$f":"bksingh!$ADA$8","v":""},null,null,null,{"$f":"bksingh!$ADA$8","v":""},null,null,null,{"$f":"bksingh!$ADA$8","v":""},null,null,null,{"$f":"bksingh!$ADA$8","v":""},null,null,null,{"$f":"bksingh!$ADA$8","v":""},null,null,null,{"$f":"bksingh!$ADA$8","v":""},null,null,null,{"$f":"bksingh!$ADA$8","v":""},null,null,null,{"$f":"bksingh!$ADA$8","v":""},null,null,null,{"$f":"bksingh!$ADA$8","v":""},null,null,null,{"$f":"bksingh!$ADA$8","v":""},null,null,null,{"$f":"bksingh!$ADA$8","v":""},null,null,null,{"$f":"bksingh!$ADA$8","v":""},null,null,null,{"$f":"bksingh!$ADA$8","v":""},null,null,null,{"$f":"bksingh!$ADA$8","v":""},null,null,null,{"$f":"bksingh!$ADA$8","v":""},null,null,null,{"$f":"bksingh!$ADA$8","v":""},null,null,null,{"$f":"bksingh!$ADA$8","v":""},null,null,null,{"$f":"bksingh!$ADA$8","v":""},null,null,null,{"$f":"bksingh!$ADA$8","v":""},null,null,null,{"$f":"bksingh!$ADA$8","v":""},null,null,null,{"$f":"bksingh!$ADA$8","v":""},null,null,null,{"$f":"bksingh!$ADA$8","v":""},null,null,null,{"$f":"bksingh!$ADA$8","v":""},null,null,null,{"$f":"bksingh!$ADA$8","v":""},null,null,null,{"$f":"bksingh!$ADA$8","v":""},null,null,null,{"$f":"bksingh!$ADA$8","v":""},null,null,null,{"$f":"bksingh!$ADA$8","v":""},null,null,null,{"$f":"bksingh!$ADA$8","v":""},null,null,null,{"$f":"bksingh!$ADA$8","v":""},null,null,null,{"$f":"bksingh!$ADA$8","v":""},null,null,null,{"$f":"bksingh!$ADA$8","v":""},null,null,null,{"$f":"bksingh!$ADA$8","v":""},null,null,null,{"$f":"bksingh!$ADA$8","v":""},null,null,null,{"$f":"bksingh!$ADA$8","v":""},null,null,null,{"$f":"bksingh!$ADA$8","v":""},null,null,null,{"$f":"bksingh!$ADA$8","v":""},null,null,null,{"$f":"bksingh!$ADA$8","v":""},null,null,null,{"$f":"bksingh!$ADA$8","v":""},null,null,null,{"$f":"bksingh!$ADA$8","v":""},null,null,null,{"$f":"bksingh!$ADA$8","v":""},null,null,null,{"$f":"bksingh!$ADA$8","v":""},null,null,null,{"$f":"bksingh!$ADA$8","v":""},null,null,null,{"$f":"bksingh!$ADA$8","v":""},null,null,null,{"$f":"bksingh!$ADA$8","v":""},null,null,null,{"$f":"bksingh!$ADA$8","v":""},null,null,null,{"$f":"bksingh!$ADA$8","v":""},null,null,null,{"$f":"bksingh!$ADA$8","v":""},null,null,null,{"$f":"bksingh!$ADA$8","v":""},null,null,null,{"$f":"bksingh!$ADA$8","v":""},null,null,null,{"$f":"bksingh!$ADA$8","v":""},null,null,null,{"$f":"bksingh!$ADA$8","v":""},null,null,null,{"$f":"bksingh!$ADA$8","v":""},null,null,null,{"$f":"bksingh!$ADA$8","v":""},null,null,null,{"$f":"bksingh!$ADA$8","v":""},null,null,null,{"$f":"bksingh!$ADA$8","v":""},null,null,null,{"$f":"bksingh!$ADA$8","v":""},null,null,null,{"$f":"bksingh!$ADA$8","v":""},null,null,null,{"$f":"bksingh!$ADA$8","v":""},null,null,null,{"$f":"bksingh!$ADA$8","v":""},null,null,null,{"$f":"bksingh!$ADA$8","v":""},null,null,null,{"$f":"bksingh!$ADA$8","v":""},null,null,null,{"$f":"bksingh!$ADA$8","v":""},null,null,null,{"$f":"bksingh!$ADA$8","v":""},null,null,null,{"$f":"bksingh!$ADA$8","v":""},null,null,null,{"$f":"bksingh!$ADA$8","v":""},null,null,null,{"$f":"bksingh!$ADA$8","v":""},null,null,null,{"$f":"bksingh!$ADA$8","v":""},null,null,null,{"$f":"bksingh!$ADA$8","v":""},null,null,null,{"$f":"bksingh!$ADA$8","v":""},null,null,null,{"$f":"bksingh!$ADA$8","v":""},null,null,null,{"$f":"bksingh!$ADA$8","v":""},null,null,null,{"$f":"bksingh!$ADA$8","v":""},null,null,null,{"$f":"bksingh!$ADA$8","v":""},null,null,null,{"$f":"bksingh!$ADA$8","v":""},null,null,null,{"$f":"bksingh!$ADA$8","v":""},null,null,null,{"$f":"bksingh!$ADA$8","v":""},null,null,null,{"$f":"bksingh!$ADA$8","v":""},null,null,null,{"$f":"bksingh!$ADA$8","v":""},null,null,null,{"$f":"bksingh!$ADA$8","v":""},null,null,null,{"$f":"bksingh!$ADA$8","v":""},null,null,null,{"$f":"bksingh!$ADA$8","v":""},null,null,null,{"$f":"bksingh!$ADA$8","v":""},null,null,null,{"$f":"bksingh!$ADA$8","v":""},null,null,null,{"$f":"bksingh!$ADA$8","v":""},null,null,null,{"$f":"bksingh!$ADA$8","v":""},null,null,null,{"$f":"bksingh!$ADA$8","v":""},null,null,null,{"$f":"bksingh!$ADA$8","v":""},null,null,null,{"$f":"bksingh!$ADA$8","v":""},null,null,null,{"$f":"bksingh!$ADA$8","v":""},null,null,null,{"$f":"bksingh!$ADA$8","v":""},null,null,null,{"$f":"bksingh!$ADA$8","v":""},null,null,null,{"$f":"bksingh!$ADA$8","v":""},null,null,null,{"$f":"bksingh!$ADA$8","v":""},null,null,null,{"$f":"bksingh!$ADA$8","v":""},null,null,null,{"$f":"bksingh!$ADA$8","v":""},null,null,null,{"$f":"bksingh!$ADA$8","v":""},null,null,null,{"$f":"bksingh!$ADA$8","v":""},null,null,null,{"$f":"bksingh!$ADA$8","v":""},null,null,null,{"$f":"bksingh!$ADA$8","v":""},null,null,null,{"$f":"bksingh!$ADA$8","v":""},null,null,null,{"$f":"bksingh!$ADA$8","v":""},null,null,null,{"$f":"bksingh!$ADA$8","v":""},null,null,null,{"$f":"bksingh!$ADA$8","v":""},null,null,null,{"$f":"bksingh!$ADA$8","v":""},null,null,null,{"$f":"bksingh!$ADA$8","v":""},null,null,null,{"$f":"bksingh!$ADA$8","v":""},null,null,null,{"$f":"bksingh!$ADA$8","v":""},null,null,null,{"$f":"bksingh!$ADA$8","v":""},null,null,null,{"$f":"bksingh!$ADA$8","v":""},null,null,null,{"$f":"bksingh!$ADA$8","v":""},null,null,null,{"$f":"bksingh!$ADA$8","v":""},null,null,null,{"$f":"bksingh!$ADA$8","v":""},null,null,null,{"$f":"bksingh!$ADA$8","v":""},null,null,null,{"$f":"bksingh!$ADA$8","v":""},null,null,null,{"$f":"bksingh!$ADA$8","v":""},null,null,null,{"$f":"bksingh!$ADA$8","v":""},null,null,null,{"$f":"bksingh!$ADA$8","v":""},null,null,null,{"$f":"bksingh!$ADA$8","v":""},null,null,null,{"$f":"bksingh!$ADA$8","v":""},null,null,null,{"$f":"bksingh!$ADA$8","v":""},null,null,null,{"$f":"bksingh!$ADA$8","v":""},null,null,null,{"$f":"bksingh!$ADA$8","v":""},null,null,null,{"$f":"bksingh!$ADA$8","v":""},null,null,null,{"$f":"bksingh!$ADA$8","v":""},null,null,null,{"$f":"bksingh!$ADA$8","v":""},null,null,null,{"$f":"bksingh!$ADA$8","v":""},null,null,null,{"$f":"bksingh!$ADA$8","v":""},null,null,null,{"$f":"bksingh!$ADA$8","v":""},null,null,null,{"$f":"bksingh!$ADA$8","v":""},null,null,null,{"$f":"bksingh!$ADA$8","v":""},null,null,null,{"$f":"bksingh!$ADA$8","v":""},null,null,null,{"$f":"bksingh!$ADA$8","v":""},null,null,null,{"$f":"bksingh!$ADA$8","v":""},null,null,null,{"$f":"bksingh!$ADA$8","v":""},null,null,null,{"$f":"bksingh!$ADA$8","v":""},null,null,null,{"$f":"bksingh!$ADA$8","v":""},null,null,null,{"$f":"bksingh!$ADA$8","v":""},null,null,null,{"$f":"bksingh!$ADA$8","v":""},null,null,null,{"$f":"bksingh!$ADA$8","v":""},null,null,null,{"$f":"bksingh!$ADA$8","v":""},null,null,null,{"$f":"bksingh!$ADA$8","v":""},null,null,null,{"$f":"bksingh!$ADA$8","v":""},null,null,null,{"$f":"bksingh!$ADA$8","v":""},null,null,null,{"$f":"bksingh!$ADA$8","v":""},null,null,null,{"$f":"bksingh!$ADA$8","v":""},null,null,null,{"$f":"bksingh!$ADA$8","v":""},null,null,null,{"$f":"bksingh!$ADA$8","v":""},null,null,null,{"$f":"bksingh!$ADA$8","v":""},null,null,null,{"$f":"bksingh!$ADA$8","v":""},null,null,null,{"$f":"bksingh!$ADA$8","v":""},null,null,null,{"$f":"bksingh!$ADA$8","v":""},null,null,null,{"$f":"bksingh!$ADA$8","v":""},null,null,null,{"$f":"bksingh!$ADA$8","v":""},null,null,null,{"$f":"bksingh!$ADA$8","v":""},null,null,null,{"$f":"bksingh!$ADA$8","v":""},null,null,null,{"$f":"bksingh!$ADA$8","v":""},null,null,null,{"$f":"bksingh!$ADA$8","v":""},null,null,null,{"$f":"bksingh!$ADA$8","v":""},null,null,null,{"$f":"bksingh!$ADA$8","v":""},null,null,null,{"$f":"bksingh!$ADA$8","v":""},null,null,null,{"$f":"bksingh!$ADA$8","v":""},null,null,null,{"$f":"bksingh!$ADA$8","v":""},null,null,null,{"$f":"bksingh!$ADA$8","v":""},null,null,null,{"$f":"bksingh!$ADA$8","v":""},null,null,null,{"$f":"bksingh!$ADA$8","v":""},null,null,null,{"$f":"bksingh!$ADA$8","v":""},null,null,null,{"$f":"bksingh!$ADA$8","v":""},null,null,null,{"$f":"bksingh!$ADA$8","v":""},null,null,null,{"$f":"bksingh!$ADA$8","v":""},null,null,null,{"$f":"bksingh!$ADA$8","v":""},null,null,null,{"$f":"bksingh!$ADA$8","v":""},null,null,null,{"$f":"bksingh!$ADA$8","v":""},null,null,null,{"$f":"bksingh!$ADA$8","v":""},null,null,null,{"$f":"bksingh!$ADA$8","v":""},null,null,null,{"$f":"bksingh!$ADA$8","v":""},null,null,null,{"$f":"bksingh!$ADA$8","v":""},null,null,null,{"$f":"bksingh!$ADA$8","v":""},null,null,null,{"$f":"bksingh!$ADA$8","v":""},null,null,null,{"$f":"bksingh!$ADA$8","v":""},null,null,null,{"$f":"bksingh!$ADA$8","v":""},null,null,null,{"$f":"bksingh!$ADA$8","v":""},null,null,null,{"$f":"bksingh!$ADA$8","v":""},null,null,null,{"$f":"bksingh!$ADA$8","v":""},null,null,null,{"$f":"bksingh!$ADA$8","v":""},null,null,null,{"$f":"bksingh!$ADA$8","v":""},null,null,null,{"$f":"bksingh!$ADA$8","v":""},null,null,null,{"$f":"bksingh!$ADA$8","v":""},null,null,null,{"$f":"bksingh!$ADA$8","v":""},null,null,null,{"$f":"bksingh!$ADA$8","v":""},null,null,null,{"$f":"bksingh!$ADA$8","v":""},null,null,null,{"$f":"bksingh!$ADA$8","v":""},null,null,null,{"$f":"bksingh!$ADA$8","v":""},null,null,null,{"$f":"bksingh!$ADA$8","v":""},null,null,null,{"$f":"bksingh!$ADA$8","v":""},null,null,null,{"$f":"bksingh!$ADA$8","v":""},null,null,null,{"$f":"bksingh!$ADA$8","v":""},null,null,null,{"$f":"bksingh!$ADA$8","v":""},null,null,null,{"$f":"bksingh!$ADA$8","v":""},null,null,null,{"$f":"bksingh!$ADA$8","v":""},null,null,null,{"$f":"bksingh!$ADA$8","v":""},null,null,null,{"$f":"bksingh!$ADA$8","v":""},null,null,null,{"$f":"bksingh!$ADA$8","v":""},null,null,null,{"$f":"bksingh!$ADA$8","v":""},null,null,null,{"$f":"bksingh!$ADA$8","v":""},null,null,null,{"$f":"bksingh!$ADA$8","v":""},null,null,null,{"$f":"bksingh!$ADA$8","v":""},null,null,null,{"$f":"bksingh!$ADA$8","v":""},null,null,null,{"$f":"bksingh!$ADA$8","v":""},null,null,null,{"$f":"bksingh!$ADA$8","v":""},null,null,null,{"$f":"bksingh!$ADA$8","v":""},null,null,null,{"$f":"bksingh!$ADA$8","v":""},null,null,null,{"$f":"bksingh!$ADA$8","v":""},null,null,null,{"$f":"bksingh!$ADA$8","v":""},null,null,null,{"$f":"bksingh!$ADA$8","v":""},null,null,null,{"$f":"bksingh!$ADA$8","v":""},null,null,null,{"$f":"bksingh!$ADA$8","v":""},null,null,null,{"$f":"bksingh!$ADA$8","v":""},null,null,null,{"$f":"bksingh!$ADA$8","v":""},null,null,null,{"$f":"bksingh!$ADA$8","v":""},null,null,null,{"$f":"bksingh!$ADA$8","v":""},null,null,null,{"$f":"bksingh!$ADA$8","v":""},null,null,null,{"$f":"bksingh!$ADA$8","v":""},null,null,null,{"$f":"bksingh!$ADA$8","v":""},null,null,null,{"$f":"bksingh!$ADA$8","v":""},null,null,null,{"$f":"bksingh!$ADA$8","v":""},null,null,null,{"$f":"bksingh!$ADA$8","v":""},null,null,null,{"$f":"bksingh!$ADA$8","v":""},null,null,null,{"$f":"bksingh!$ADA$8","v":""},null,null,null,{"$f":"bksingh!$ADA$8","v":""},null,null,null,{"$f":"bksingh!$ADA$8","v":""},null,null,null,{"$f":"bksingh!$ADA$8","v":""},null,null,null,{"$f":"bksingh!$ADA$8","v":""},null,null,null,{"$f":"bksingh!$ADA$8","v":""},null,null,null,{"$f":"bksingh!$ADA$8","v":""},null,null,null,{"$f":"bksingh!$ADA$8","v":""},null,null,null,{"$f":"bksingh!$ADA$8","v":""},null,null,null,{"$f":"bksingh!$ADA$8","v":""},null,null,null,{"$f":"bksingh!$ADA$8","v":""},null,null,null,{"$f":"bksingh!$ADA$8","v":""},null,null,null,{"$f":"bksingh!$ADA$8","v":""},null,null,null,{"$f":"bksingh!$ADA$8","v":""},null,null,null,{"$f":"bksingh!$ADA$8","v":""},null,null,null,{"$f":"bksingh!$ADA$8","v":""},null,null,null,{"$f":"bksingh!$ADA$8","v":""},null,null,null,{"$f":"bksingh!$ADA$8","v":""},null,null,null,{"$f":"bksingh!$ADA$8","v":""},null,null,null,{"$f":"bksingh!$ADA$8","v":""},null,null,null,{"$f":"bksingh!$ADA$8","v":""},null,null,null,{"$f":"bksingh!$ADA$8","v":""},null,null,null,{"$f":"bksingh!$ADA$8","v":""},null,null,null,{"$f":"bksingh!$ADA$8","v":""},null,null,null,{"$f":"bksingh!$ADA$8","v":""},null,null,null,{"$f":"bksingh!$ADA$8","v":""},null,null,null,{"$f":"bksingh!$ADA$8","v":""},null,null,null,{"$f":"bksingh!$ADA$8","v":""},null,null,null,{"$f":"bksingh!$ADA$8","v":""},null,null,null,{"$f":"bksingh!$ADA$8","v":""},null,null,null,{"$f":"bksingh!$ADA$8","v":""},null,null,null,{"$f":"bksingh!$ADA$8","v":""},null,null,null,{"$f":"bksingh!$ADA$8","v":""},null,null,null,{"$f":"bksingh!$ADA$8","v":""},null,null,null,{"$f":"bksingh!$ADA$8","v":""},null,null,null,{"$f":"bksingh!$ADA$8","v":""},null,null,null,{"$f":"bksingh!$ADA$8","v":""},null,null,null,{"$f":"bksingh!$ADA$8","v":""},null,null,null,{"$f":"bksingh!$ADA$8","v":""},null,null,null,{"$f":"bksingh!$ADA$8","v":""},null,null,null,{"$f":"bksingh!$ADA$8","v":""},null,null,null,{"$f":"bksingh!$ADA$8","v":""},null,null,null,{"$f":"bksingh!$ADA$8","v":""},null,null,null,{"$f":"bksingh!$ADA$8","v":""},null,null,null,{"$f":"bksingh!$ADA$8","v":""},null,null,null,{"$f":"bksingh!$ADA$8","v":""},null,null,null,{"$f":"bksingh!$ADA$8","v":""},null,null,null,{"$f":"bksingh!$ADA$8","v":""},null,null,null,{"$f":"bksingh!$ADA$8","v":""},null,null,null,{"$f":"bksingh!$ADA$8","v":""},null,null,null,{"$f":"bksingh!$ADA$8","v":""},null,null,null,{"$f":"bksingh!$ADA$8","v":""},null,null,null,{"$f":"bksingh!$ADA$8","v":""},null,null,null,{"$f":"bksingh!$ADA$8","v":""},null,null,null,{"$f":"bksingh!$ADA$8","v":""},null,null,null,{"$f":"bksingh!$ADA$8","v":""},null,null,null,{"$f":"bksingh!$ADA$8","v":""},null,null,null,{"$f":"bksingh!$ADA$8","v":""},null,null,null,{"$f":"bksingh!$ADA$8","v":""},null,null,null,{"$f":"bksingh!$ADA$8","v":""},null,null,null,{"$f":"bksingh!$ADA$8","v":""},null,null,null,{"$f":"bksingh!$ADA$8","v":""},null,null,null,{"$f":"bksingh!$ADA$8","v":""},null,null,null,{"$f":"bksingh!$ADA$8","v":""},null,null,null,{"$f":"bksingh!$ADA$8","v":""},null,null,null,{"$f":"bksingh!$ADA$8","v":""},null,null,null,{"$f":"bksingh!$ADA$8","v":""},null,null,null,{"$f":"bksingh!$ADA$8","v":""},null,null,null,{"$f":"bksingh!$ADA$8","v":""},null,null,null,{"$f":"bksingh!$ADA$8","v":""},null,null,null,{"$f":"bksingh!$ADA$8","v":""},null,null,null,{"$f":"bksingh!$ADA$8","v":""},null,null,null,{"$f":"bksingh!$ADA$8","v":""},null,null,null,{"$f":"bksingh!$ADA$8","v":""},null,null,null,{"$f":"bksingh!$ADA$8","v":""},null,null,null,{"$f":"bksingh!$ADA$8","v":""},null,null,null,{"$f":"bksingh!$ADA$8","v":""},null,null,null,{"$f":"bksingh!$ADA$8","v":""},null,null,null,{"$f":"bksingh!$ADA$8","v":""},null,null,null,{"$f":"bksingh!$ADA$8","v":""},null,null,null,{"$f":"bksingh!$ADA$8","v":""},null,null,null,{"$f":"bksingh!$ADA$8","v":""},null,null,null,{"$f":"bksingh!$ADA$8","v":""},null,null,null,{"$f":"bksingh!$ADA$8","v":""},null,null,null,{"$f":"bksingh!$ADA$8","v":""},null,null,null,{"$f":"bksingh!$ADA$8","v":""},null,null,null,{"$f":"bksingh!$ADA$8","v":""},null,null,null,{"$f":"bksingh!$ADA$8","v":""},null,null,null,{"$f":"bksingh!$ADA$8","v":""},null,null,null,{"$f":"bksingh!$ADA$8","v":""},null,null,null,{"$f":"bksingh!$ADA$8","v":""},null,null,null,{"$f":"bksingh!$ADA$8","v":""},null,null,null,{"$f":"bksingh!$ADA$8","v":""},null,null,null,{"$f":"bksingh!$ADA$8","v":""},null,null,null,{"$f":"bksingh!$ADA$8","v":""},null,null,null,{"$f":"bksingh!$ADA$8","v":""},null,null,null,{"$f":"bksingh!$ADA$8","v":""},null,null,null,{"$f":"bksingh!$ADA$8","v":""},null,null,null,{"$f":"bksingh!$ADA$8","v":""},null,null,null,{"$f":"bksingh!$ADA$8","v":""},null,null,null,{"$f":"bksingh!$ADA$8","v":""},null,null,null,{"$f":"bksingh!$ADA$8","v":""},null,null,null,{"$f":"bksingh!$ADA$8","v":""},null,null,null,{"$f":"bksingh!$ADA$8","v":""},null,null,null,{"$f":"bksingh!$ADA$8","v":""},null,null,null,{"$f":"bksingh!$ADA$8","v":""},null,null,null,{"$f":"bksingh!$ADA$8","v":""},null,null,null,{"$f":"bksingh!$ADA$8","v":""},null,null,null,{"$f":"bksingh!$ADA$8","v":""},null,null,null,{"$f":"bksingh!$ADA$8","v":""},null,null,null,{"$f":"bksingh!$ADA$8","v":""},null,null,null,{"$f":"bksingh!$ADA$8","v":""},null,null,null,{"$f":"bksingh!$ADA$8","v":""},null,null,null,{"$f":"bksingh!$ADA$8","v":""},null,null,null,{"$f":"bksingh!$ADA$8","v":""},null,null,null,{"$f":"bksingh!$ADA$8","v":""},null,null,null,{"$f":"bksingh!$ADA$8","v":""},null,null,null,{"$f":"bksingh!$ADA$8","v":""},null,null,null,{"$f":"bksingh!$ADA$8","v":""},null,null,null,{"$f":"bksingh!$ADA$8","v":""},null,null,null,{"$f":"bksingh!$ADA$8","v":""},null,null,null,{"$f":"bksingh!$ADA$8","v":""},null,null,null,{"$f":"bksingh!$ADA$8","v":""},null,null,null,{"$f":"bksingh!$ADA$8","v":""},null,null,null,{"$f":"bksingh!$ADA$8","v":""},null,null,null,{"$f":"bksingh!$ADA$8","v":""},null,null,null,{"$f":"bksingh!$ADA$8","v":""},null,null,null,{"$f":"bksingh!$ADA$8","v":""},null,null,null,{"$f":"bksingh!$ADA$8","v":""},null,null,null,{"$f":"bksingh!$ADA$8","v":""},null,null,null,{"$f":"bksingh!$ADA$8","v":""},null,null,null,{"$f":"bksingh!$ADA$8","v":""},null,null,null,{"$f":"bksingh!$ADA$8","v":""},null,null,null,{"$f":"bksingh!$ADA$8","v":""},null,null,null,{"$f":"bksingh!$ADA$8","v":""},null,null,null,{"$f":"bksingh!$ADA$8","v":""},null,null,null,{"$f":"bksingh!$ADA$8","v":""},null,null,null,{"$f":"bksingh!$ADA$8","v":""},null,null,null,{"$f":"bksingh!$ADA$8","v":""},null,null,null,{"$f":"bksingh!$ADA$8","v":""},null,null,null,{"$f":"bksingh!$ADA$8","v":""},null,null,null,{"$f":"bksingh!$ADA$8","v":""},null,null,null,{"$f":"bksingh!$ADA$8","v":""},null,null,null,{"$f":"bksingh!$ADA$8","v":""},null,null,null,{"$f":"bksingh!$ADA$8","v":""},null,null,null,{"$f":"bksingh!$ADA$8","v":""},null,null,null,{"$f":"bksingh!$ADA$8","v":""},null,null,null,{"$f":"bksingh!$ADA$8","v":""},null,null,null,{"$f":"bksingh!$ADA$8","v":""},null,null,null,{"$f":"bksingh!$ADA$8","v":""},null,null,null,{"$f":"bksingh!$ADA$8","v":""},null,null,null,{"$f":"bksingh!$ADA$8","v":""},null,null,null,{"$f":"bksingh!$ADA$8","v":""},null,null,null,{"$f":"bksingh!$ADA$8","v":""},null,null,null,{"$f":"bksingh!$ADA$8","v":""},null,null,null,{"$f":"bksingh!$ADA$8","v":""},null,null,null,{"$f":"bksingh!$ADA$8","v":""},null,null,null,{"$f":"bksingh!$ADA$8","v":""},null,null,null,{"$f":"bksingh!$ADA$8","v":""},null,null,null,{"$f":"bksingh!$ADA$8","v":""},null,null,null,{"$f":"bksingh!$ADA$8","v":""},null,null,null,{"$f":"bksingh!$ADA$8","v":""},null,null,null,{"$f":"bksingh!$ADA$8","v":""},null,null,null,{"$f":"bksingh!$ADA$8","v":""},null,null,null,{"$f":"bksingh!$ADA$8","v":""},null,null,null,{"$f":"bksingh!$ADA$8","v":""},null,null,null,{"$f":"bksingh!$ADA$8","v":""},null,null,null,{"$f":"bksingh!$ADA$8","v":""},null,null,null,{"$f":"bksingh!$ADA$8","v":""},null,null,null,{"$f":"bksingh!$ADA$8","v":""},null,null,null,{"$f":"bksingh!$ADA$8","v":""},null,null,null,{"$f":"bksingh!$ADA$8","v":""},null,null,null,{"$f":"bksingh!$ADA$8","v":""},null,null,null,{"$f":"bksingh!$ADA$8","v":""},null,null,null,{"$f":"bksingh!$ADA$8","v":""},null,null,null,{"$f":"bksingh!$ADA$8","v":""},null,null,null,{"$f":"bksingh!$ADA$8","v":""},null,null,null,{"$f":"bksingh!$ADA$8","v":""},null,null,null,{"$f":"bksingh!$ADA$8","v":""},null,null,null,{"$f":"bksingh!$ADA$8","v":""},null,null,null,{"$f":"bksingh!$ADA$8","v":""},null,null,null,{"$f":"bksingh!$ADA$8","v":""},null,null,null,{"$f":"bksingh!$ADA$8","v":""},null,null,null,{"$f":"bksingh!$ADA$8","v":""},null,null,null,{"$f":"bksingh!$ADA$8","v":""},null,null,null,{"$f":"bksingh!$ADA$8","v":""},null,null,null,{"$f":"bksingh!$ADA$8","v":""},null,null,null,{"$f":"bksingh!$ADA$8","v":""},null,null,null,{"$f":"bksingh!$ADA$8","v":""},null,null,null,{"$f":"bksingh!$ADA$8","v":""},null,null,null,{"$f":"bksingh!$ADA$8","v":""},null,null,null,{"$f":"bksingh!$ADA$8","v":""},null,null,null,{"$f":"bksingh!$ADA$8","v":""},null,null,null,{"$f":"bksingh!$ADA$8","v":""},null,null,null,{"$f":"bksingh!$ADA$8","v":""},null,null,null,{"$f":"bksingh!$ADA$8","v":""},null,null,null,{"$f":"bksingh!$ADA$8","v":""},null,null,null,{"$f":"bksingh!$ADA$8","v":""},null,null,null,{"$f":"bksingh!$ADA$8","v":""},null,null,null,{"$f":"bksingh!$ADA$8","v":""},null,null,null,{"$f":"bksingh!$ADA$8","v":""},null,null,null,{"$f":"bksingh!$ADA$8","v":""},null,null,null,{"$f":"bksingh!$ADA$8","v":""},null,null,null,{"$f":"bksingh!$ADA$8","v":""},null,null,null,{"$f":"bksingh!$ADA$8","v":""},null,null,null,{"$f":"bksingh!$ADA$8","v":""},null,null,null,{"$f":"bksingh!$ADA$8","v":""},null,null,null,{"$f":"bksingh!$ADA$8","v":""},null,null,null,{"$f":"bksingh!$ADA$8","v":""},null,null,null,{"$f":"bksingh!$ADA$8","v":""},null,null,null,{"$f":"bksingh!$ADA$8","v":""},null,null,null,{"$f":"bksingh!$ADA$8","v":""},null,null,null,{"$f":"bksingh!$ADA$8","v":""},null,null,null,{"$f":"bksingh!$ADA$8","v":""},null,null,null,{"$f":"bksingh!$ADA$8","v":""},null,null,null,{"$f":"bksingh!$ADA$8","v":""},null,null,null,{"$f":"bksingh!$ADA$8","v":""},null,null,null,{"$f":"bksingh!$ADA$8","v":""},null,null,null,{"$f":"bksingh!$ADA$8","v":""},null,null,null,{"$f":"bksingh!$ADA$8","v":""},null,null,null,{"$f":"bksingh!$ADA$8","v":""},null,null,null,{"$f":"bksingh!$ADA$8","v":""},null,null,null,{"$f":"bksingh!$ADA$8","v":""},null,null,null,{"$f":"bksingh!$ADA$8","v":""},null,null,null,{"$f":"bksingh!$ADA$8","v":""},null,null,null,{"$f":"bksingh!$ADA$8","v":""},null,null,null,{"$f":"bksingh!$ADA$8","v":""},null,null,null,{"$f":"bksingh!$ADA$8","v":""},null,null,null,{"$f":"bksingh!$ADA$8","v":""},null,null,null,{"$f":"bksingh!$ADA$8","v":""},null,null,null,{"$f":"bksingh!$ADA$8","v":""},null,null,null,{"$f":"bksingh!$ADA$8","v":""},null,null,null,{"$f":"bksingh!$ADA$8","v":""},null,null,null,{"$f":"bksingh!$ADA$8","v":""},null,null,null,{"$f":"bksingh!$ADA$8","v":""},null,null,null,{"$f":"bksingh!$ADA$8","v":""},null,null,null,{"$f":"bksingh!$ADA$8","v":""},null,null,null,{"$f":"bksingh!$ADA$8","v":""},null,null,null,{"$f":"bksingh!$ADA$8","v":""},null,null,null,{"$f":"bksingh!$ADA$8","v":""},null,null,null,{"$f":"bksingh!$ADA$8","v":""},null,null,null,{"$f":"bksingh!$ADA$8","v":""},null,null,null,{"$f":"bksingh!$ADA$8","v":""},null,null,null,{"$f":"bksingh!$ADA$8","v":""},null,null,null,{"$f":"bksingh!$ADA$8","v":""},null,null,null,{"$f":"bksingh!$ADA$8","v":""},null,null,null,{"$f":"bksingh!$ADA$8","v":""},null,null,null,{"$f":"bksingh!$ADA$8","v":""},null,null,null,{"$f":"bksingh!$ADA$8","v":""},null,null,null,{"$f":"bksingh!$ADA$8","v":""},null,null,null,{"$f":"bksingh!$ADA$8","v":""},null,null,null,{"$f":"bksingh!$ADA$8","v":""},null,null,null,{"$f":"bksingh!$ADA$8","v":""},null,null,null,{"$f":"bksingh!$ADA$8","v":""},null,null,null,{"$f":"bksingh!$ADA$8","v":""},null,null,null,{"$f":"bksingh!$ADA$8","v":""},null,null,null,{"$f":"bksingh!$ADA$8","v":""},null,null,null,{"$f":"bksingh!$ADA$8","v":""},null,null,null,{"$f":"bksingh!$ADA$8","v":""},null,null,null,{"$f":"bksingh!$ADA$8","v":""},null,null,null,{"$f":"bksingh!$ADA$8","v":""},null,null,null,{"$f":"bksingh!$ADA$8","v":""},null,null,null,{"$f":"bksingh!$ADA$8","v":""},null,null,null,{"$f":"bksingh!$ADA$8","v":""},null,null,null,{"$f":"bksingh!$ADA$8","v":""},null,null,null,{"$f":"bksingh!$ADA$8","v":""},null,null,null,{"$f":"bksingh!$ADA$8","v":""},null,null,null,{"$f":"bksingh!$ADA$8","v":""},null,null,null,{"$f":"bksingh!$ADA$8","v":""},null,null,null,{"$f":"bksingh!$ADA$8","v":""},null,null,null,{"$f":"bksingh!$ADA$8","v":""},null,null,null,{"$f":"bksingh!$ADA$8","v":""},null,null,null,{"$f":"bksingh!$ADA$8","v":""},null,null,null,{"$f":"bksingh!$ADA$8","v":""},null,null,null,{"$f":"bksingh!$ADA$8","v":""},null,null,null,{"$f":"bksingh!$ADA$8","v":""},null,null,null,{"$f":"bksingh!$ADA$8","v":""},null,null,null,{"$f":"bksingh!$ADA$8","v":""},null,null,null,{"$f":"bksingh!$ADA$8","v":""},null,null,null,{"$f":"bksingh!$ADA$8","v":""},null,null,null,{"$f":"bksingh!$ADA$8","v":""},null,null,null,{"$f":"bksingh!$ADA$8","v":""},null,null,null,{"$f":"bksingh!$ADA$8","v":""},null,null,null,{"$f":"bksingh!$ADA$8","v":""},null,null,null,{"$f":"bksingh!$ADA$8","v":""},null,null,null,{"$f":"bksingh!$ADA$8","v":""},null,null,null,{"$f":"bksingh!$ADA$8","v":""},null,null,null,{"$f":"bksingh!$ADA$8","v":""},null,null,null,{"$f":"bksingh!$ADA$8","v":""},null,null,null,{"$f":"bksingh!$ADA$8","v":""},null,null,null,{"$f":"bksingh!$ADA$8","v":""},null,null,null,{"$f":"bksingh!$ADA$8","v":""},null,null,null,{"$f":"bksingh!$ADA$8","v":""},null,null,null,{"$f":"bksingh!$ADA$8","v":""},null,null,null,{"$f":"bksingh!$ADA$8","v":""},null,null,null,{"$f":"bksingh!$ADA$8","v":""},null,null,null,{"$f":"bksingh!$ADA$8","v":""},null,null,null,{"$f":"bksingh!$ADA$8","v":""},null,null,null,{"$f":"bksingh!$ADA$8","v":""},null,null,null,{"$f":"bksingh!$ADA$8","v":""},null,null,null,{"$f":"bksingh!$ADA$8","v":""},null,null,null,{"$f":"bksingh!$ADA$8","v":""},null,null,null,{"$f":"bksingh!$ADA$8","v":""},null,null,null,{"$f":"bksingh!$ADA$8","v":""},null,null,null,{"$f":"bksingh!$ADA$8","v":""},null,null,null,{"$f":"bksingh!$ADA$8","v":""},null,null,null,{"$f":"bksingh!$ADA$8","v":""},null,null,null,{"$f":"bksingh!$ADA$8","v":""},null,null,null,{"$f":"bksingh!$ADA$8","v":""},null,null,null,{"$f":"bksingh!$ADA$8","v":""},null,null,null,{"$f":"bksingh!$ADA$8","v":""},null,null,null,{"$f":"bksingh!$ADA$8","v":""},null,null,null,{"$f":"bksingh!$ADA$8","v":""},null,null,null,{"$f":"bksingh!$ADA$8","v":""},null,null,null,{"$f":"bksingh!$ADA$8","v":""},null,null,null,{"$f":"bksingh!$ADA$8","v":""},null,null,null,{"$f":"bksingh!$ADA$8","v":""},null,null,null,{"$f":"bksingh!$ADA$8","v":""},null,null,null,{"$f":"bksingh!$ADA$8","v":""},null,null,null,{"$f":"bksingh!$ADA$8","v":""},null,null,null,{"$f":"bksingh!$ADA$8","v":""},null,null,null,{"$f":"bksingh!$ADA$8","v":""},null,null,null,{"$f":"bksingh!$ADA$8","v":""},null,null,null,{"$f":"bksingh!$ADA$8","v":""},null,null,null,{"$f":"bksingh!$ADA$8","v":""},null,null,null,{"$f":"bksingh!$ADA$8","v":""},null,null,null,{"$f":"bksingh!$ADA$8","v":""},null,null,null,{"$f":"bksingh!$ADA$8","v":""},null,null,null,{"$f":"bksingh!$ADA$8","v":""},null,null,null,{"$f":"bksingh!$ADA$8","v":""},null,null,null,{"$f":"bksingh!$ADA$8","v":""},null,null,null,{"$f":"bksingh!$ADA$8","v":""},null,null,null,{"$f":"bksingh!$ADA$8","v":""},null,null,null,{"$f":"bksingh!$ADA$8","v":""},null,null,null,{"$f":"bksingh!$ADA$8","v":""},null,null,null,{"$f":"bksingh!$ADA$8","v":""},null,null,null,{"$f":"bksingh!$ADA$8","v":""},null,null,null,{"$f":"bksingh!$ADA$8","v":""},null,null,null,{"$f":"bksingh!$ADA$8","v":""},null,null,null,{"$f":"bksingh!$ADA$8","v":""},null,null,null,{"$f":"bksingh!$ADA$8","v":""},null,null,null,{"$f":"bksingh!$ADA$8","v":""},null,null,null,{"$f":"bksingh!$ADA$8","v":""},null,null,null,{"$f":"bksingh!$ADA$8","v":""},null,null,null,{"$f":"bksingh!$ADA$8","v":""},null,null,null,{"$f":"bksingh!$ADA$8","v":""},null,null,null,{"$f":"bksingh!$ADA$8","v":""},null,null,null,{"$f":"bksingh!$ADA$8","v":""},null,null,null,{"$f":"bksingh!$ADA$8","v":""},null,null,null,{"$f":"bksingh!$ADA$8","v":""},null,null,null,{"$f":"bksingh!$ADA$8","v":""},null,null,null,{"$f":"bksingh!$ADA$8","v":""},null,null,null,{"$f":"bksingh!$ADA$8","v":""},null,null,null,{"$f":"bksingh!$ADA$8","v":""},null,null,null,{"$f":"bksingh!$ADA$8","v":""},null,null,null,{"$f":"bksingh!$ADA$8","v":""},null,null,null,{"$f":"bksingh!$ADA$8","v":""},null,null,null,{"$f":"bksingh!$ADA$8","v":""},null,null,null,{"$f":"bksingh!$ADA$8","v":""},null,null,null,{"$f":"bksingh!$ADA$8","v":""},null,null,null,{"$f":"bksingh!$ADA$8","v":""},null,null,null,{"$f":"bksingh!$ADA$8","v":""},null,null,null,{"$f":"bksingh!$ADA$8","v":""},null,null,null,{"$f":"bksingh!$ADA$8","v":""},null,null,null,{"$f":"bksingh!$ADA$8","v":""},null,null,null,{"$f":"bksingh!$ADA$8","v":""},null,null,null,{"$f":"bksingh!$ADA$8","v":""},null,null,null,{"$f":"bksingh!$ADA$8","v":""},null,null,null,{"$f":"bksingh!$ADA$8","v":""},null,null,null,{"$f":"bksingh!$ADA$8","v":""},null,null,null,{"$f":"bksingh!$ADA$8","v":""},null,null,null,{"$f":"bksingh!$ADA$8","v":""},null,null,null,{"$f":"bksingh!$ADA$8","v":""},null,null,null,{"$f":"bksingh!$ADA$8","v":""},null,null,null,{"$f":"bksingh!$ADA$8","v":""},null,null,null,{"$f":"bksingh!$ADA$8","v":""},null,null,null,{"$f":"bksingh!$ADA$8","v":""},null,null,null,{"$f":"bksingh!$ADA$8","v":""},null,null,null,{"$f":"bksingh!$ADA$8","v":""},null,null,null,{"$f":"bksingh!$ADA$8","v":""},null,null,null,{"$f":"bksingh!$ADA$8","v":""},null,null,null,{"$f":"bksingh!$ADA$8","v":""},null,null,null,{"$f":"bksingh!$ADA$8","v":""},null,null,null,{"$f":"bksingh!$ADA$8","v":""},null,null,null,{"$f":"bksingh!$ADA$8","v":""},null,null,null,{"$f":"bksingh!$ADA$8","v":""},null,null,null,{"$f":"bksingh!$ADA$8","v":""},null,null,null,{"$f":"bksingh!$ADA$8","v":""},null,null,null,{"$f":"bksingh!$ADA$8","v":""},null,null,null,{"$f":"bksingh!$ADA$8","v":""},null,null,null,{"$f":"bksingh!$ADA$8","v":""},null,null,null,{"$f":"bksingh!$ADA$8","v":""},null,null,null,{"$f":"bksingh!$ADA$8","v":""},null,null,null,{"$f":"bksingh!$ADA$8","v":""},null,null,null,{"$f":"bksingh!$ADA$8","v":""},null,null,null,{"$f":"bksingh!$ADA$8","v":""},null,null,null,{"$f":"bksingh!$ADA$8","v":""},null,null,null,{"$f":"bksingh!$ADA$8","v":""},null,null,null,{"$f":"bksingh!$ADA$8","v":""},null,null,null,{"$f":"bksingh!$ADA$8","v":""},null,null,null,{"$f":"bksingh!$ADA$8","v":""},null,null,null,{"$f":"bksingh!$ADA$8","v":""},null,null,null,{"$f":"bksingh!$ADA$8","v":""},null,null,null,{"$f":"bksingh!$ADA$8","v":""},null,null,null,{"$f":"bksingh!$ADA$8","v":""},null,null,null,{"$f":"bksingh!$ADA$8","v":""},null,null,null,{"$f":"bksingh!$ADA$8","v":""},null,null,null,{"$f":"bksingh!$ADA$8","v":""},null,null,null,{"$f":"bksingh!$ADA$8","v":""},null,null,null,{"$f":"bksingh!$ADA$8","v":""},null,null,null,{"$f":"bksingh!$ADA$8","v":""},null,null,null,{"$f":"bksingh!$ADA$8","v":""},null,null,null,{"$f":"bksingh!$ADA$8","v":""},null,null,null,{"$f":"bksingh!$ADA$8","v":""},null,null,null,{"$f":"bksingh!$ADA$8","v":""},null,null,null,{"$f":"bksingh!$ADA$8","v":""},null,null,null,{"$f":"bksingh!$ADA$8","v":""},null,null,null,{"$f":"bksingh!$ADA$8","v":""},null,null,null,{"$f":"bksingh!$ADA$8","v":""},null,null,null,{"$f":"bksingh!$ADA$8","v":""},null,null,null,{"$f":"bksingh!$ADA$8","v":""},null,null,null,{"$f":"bksingh!$ADA$8","v":""},null,null,null,{"$f":"bksingh!$ADA$8","v":""},null,null,null,{"$f":"bksingh!$ADA$8","v":""},null,null,null,{"$f":"bksingh!$ADA$8","v":""},null,null,null,{"$f":"bksingh!$ADA$8","v":""},null,null,null,{"$f":"bksingh!$ADA$8","v":""},null,null,null,{"$f":"bksingh!$ADA$8","v":""},null,null,null,{"$f":"bksingh!$ADA$8","v":""},null,null,null,{"$f":"bksingh!$ADA$8","v":""},null,null,null,{"$f":"bksingh!$ADA$8","v":""},null,null,null,{"$f":"bksingh!$ADA$8","v":""},null,null,null,{"$f":"bksingh!$ADA$8","v":""},null,null,null,{"$f":"bksingh!$ADA$8","v":""},null,null,null,{"$f":"bksingh!$ADA$8","v":""},null,null,null,{"$f":"bksingh!$ADA$8","v":""},null,null,null,{"$f":"bksingh!$ADA$8","v":""},null,null,null,{"$f":"bksingh!$ADA$8","v":""},null,null,null,{"$f":"bksingh!$ADA$8","v":""},null,null,null,{"$f":"bksingh!$ADA$8","v":""},null,null,null,{"$f":"bksingh!$ADA$8","v":""},null,null,null,{"$f":"bksingh!$ADA$8","v":""},null,null,null,{"$f":"bksingh!$ADA$8","v":""},null,null,null,{"$f":"bksingh!$ADA$8","v":""},null,null,null,{"$f":"bksingh!$ADA$8","v":""},null,null,null,{"$f":"bksingh!$ADA$8","v":""},null,null,null,{"$f":"bksingh!$ADA$8","v":""},null,null,null,{"$f":"bksingh!$ADA$8","v":""},null,null,null,{"$f":"bksingh!$ADA$8","v":""},null,null,null,{"$f":"bksingh!$ADA$8","v":""},null,null,null,{"$f":"bksingh!$ADA$8","v":""},null,null,null,{"$f":"bksingh!$ADA$8","v":""},null,null,null,{"$f":"bksingh!$ADA$8","v":""},null,null,null,{"$f":"bksingh!$ADA$8","v":""},null,null,null,{"$f":"bksingh!$ADA$8","v":""},null,null,null,{"$f":"bksingh!$ADA$8","v":""},null,null,null,{"$f":"bksingh!$ADA$8","v":""},null,null,null,{"$f":"bksingh!$ADA$8","v":""},null,null,null,{"$f":"bksingh!$ADA$8","v":""},null,null,null,{"$f":"bksingh!$ADA$8","v":""},null,null,null,{"$f":"bksingh!$ADA$8","v":""},null,null,null,{"$f":"bksingh!$ADA$8","v":""},null,null,null,{"$f":"bksingh!$ADA$8","v":""},null,null,null,{"$f":"bksingh!$ADA$8","v":""},null,null,null,{"$f":"bksingh!$ADA$8","v":""},null,null,null,{"$f":"bksingh!$ADA$8","v":""},null,null,null,{"$f":"bksingh!$ADA$8","v":""},null,null,null,{"$f":"bksingh!$ADA$8","v":""},null,null,null,{"$f":"bksingh!$ADA$8","v":""},null,null,null,{"$f":"bksingh!$ADA$8","v":""},null,null,null,{"$f":"bksingh!$ADA$8","v":""},null,null,null,{"$f":"bksingh!$ADA$8","v":""},null,null,null,{"$f":"bksingh!$ADA$8","v":""},null,null,null,{"$f":"bksingh!$ADA$8","v":""},null,null,null,{"$f":"bksingh!$ADA$8","v":""},null,null,null,{"$f":"bksingh!$ADA$8","v":""},null,null,null,{"$f":"bksingh!$ADA$8","v":""},null,null,null,{"$f":"bksingh!$ADA$8","v":""},null,null,null,{"$f":"bksingh!$ADA$8","v":""},null,null,null,{"$f":"bksingh!$ADA$8","v":""},null,null,null,{"$f":"bksingh!$ADA$8","v":""},null,null,null,{"$f":"bksingh!$ADA$8","v":""},null,null,null,{"$f":"bksingh!$ADA$8","v":""},null,null,null,{"$f":"bksingh!$ADA$8","v":""},null,null,null,{"$f":"bksingh!$ADA$8","v":""},null,null,null,{"$f":"bksingh!$ADA$8","v":""},null,null,null,{"$f":"bksingh!$ADA$8","v":""},null,null,null,{"$f":"bksingh!$ADA$8","v":""},null,null,null,{"$f":"bksingh!$ADA$8","v":""},null,null,null,{"$f":"bksingh!$ADA$8","v":""},null,null,null,{"$f":"bksingh!$ADA$8","v":""},null,null,null,{"$f":"bksingh!$ADA$8","v":""},null,null,null,{"$f":"bksingh!$ADA$8","v":""},null,null,null,{"$f":"bksingh!$ADA$8","v":""},null,null,null,{"$f":"bksingh!$ADA$8","v":""},null,null,null,{"$f":"bksingh!$ADA$8","v":""},null,null,null,{"$f":"bksingh!$ADA$8","v":""},null,null,null,{"$f":"bksingh!$ADA$8","v":""},null,null,null,{"$f":"bksingh!$ADA$8","v":""},null,null,null,{"$f":"bksingh!$ADA$8","v":""},null,null,null,{"$f":"bksingh!$ADA$8","v":""},null,null,null,{"$f":"bksingh!$ADA$8","v":""},null,null,null,{"$f":"bksingh!$ADA$8","v":""},null,null,null,{"$f":"bksingh!$ADA$8","v":""},null,null,null,{"$f":"bksingh!$ADA$8","v":""},null,null,null,{"$f":"bksingh!$ADA$8","v":""},null,null,null,{"$f":"bksingh!$ADA$8","v":""},null,null,null,{"$f":"bksingh!$ADA$8","v":""},null,null,null,{"$f":"bksingh!$ADA$8","v":""},null,null,null,{"$f":"bksingh!$ADA$8","v":""},null,null,null,{"$f":"bksingh!$ADA$8","v":""},null,null,null,{"$f":"bksingh!$ADA$8","v":""},null,null,null,{"$f":"bksingh!$ADA$8","v":""},null,null,null,{"$f":"bksingh!$ADA$8","v":""},null,null,null,{"$f":"bksingh!$ADA$8","v":""},null,null,null,{"$f":"bksingh!$ADA$8","v":""},null,null,null,{"$f":"bksingh!$ADA$8","v":""},null,null,null,{"$f":"bksingh!$ADA$8","v":""},null,null,null,{"$f":"bksingh!$ADA$8","v":""},null,null,null,{"$f":"bksingh!$ADA$8","v":""},null,null,null,{"$f":"bksingh!$ADA$8","v":""},null,null,null,{"$f":"bksingh!$ADA$8","v":""},null,null,null,{"$f":"bksingh!$ADA$8","v":""},null,null,null,{"$f":"bksingh!$ADA$8","v":""},null,null,null,{"$f":"bksingh!$ADA$8","v":""},null,null,null,{"$f":"bksingh!$ADA$8","v":""},null,null,null,{"$f":"bksingh!$ADA$8","v":""},null,null,null,{"$f":"bksingh!$ADA$8","v":""},null,null,null,{"$f":"bksingh!$ADA$8","v":""},null,null,null,{"$f":"bksingh!$ADA$8","v":""},null,null,null,{"$f":"bksingh!$ADA$8","v":""},null,null,null,{"$f":"bksingh!$ADA$8","v":""},null,null,null,{"$f":"bksingh!$ADA$8","v":""},null,null,null,{"$f":"bksingh!$ADA$8","v":""},null,null,null,{"$f":"bksingh!$ADA$8","v":""},null,null,null,{"$f":"bksingh!$ADA$8","v":""},null,null,null,{"$f":"bksingh!$ADA$8","v":""},null,null,null,{"$f":"bksingh!$ADA$8","v":""},null,null,null,{"$f":"bksingh!$ADA$8","v":""},null,null,null,{"$f":"bksingh!$ADA$8","v":""},null,null,null,{"$f":"bksingh!$ADA$8","v":""},null,null,null,{"$f":"bksingh!$ADA$8","v":""},null,null,null,{"$f":"bksingh!$ADA$8","v":""},null,null,null,{"$f":"bksingh!$ADA$8","v":""},null,null,null,{"$f":"bksingh!$ADA$8","v":""},null,null,null,{"$f":"bksingh!$ADA$8","v":""},null,null,null,{"$f":"bksingh!$ADA$8","v":""},null,null,null,{"$f":"bksingh!$ADA$8","v":""},null,null,null,{"$f":"bksingh!$ADA$8","v":""},null,null,null,{"$f":"bksingh!$ADA$8","v":""},null,null,null,{"$f":"bksingh!$ADA$8","v":""},null,null,null,{"$f":"bksingh!$ADA$8","v":""},null,null,null,{"$f":"bksingh!$ADA$8","v":""},null,null,null,{"$f":"bksingh!$ADA$8","v":""},null,null,null,{"$f":"bksingh!$ADA$8","v":""},null,null,null,{"$f":"bksingh!$ADA$8","v":""},null,null,null,{"$f":"bksingh!$ADA$8","v":""},null,null,null,{"$f":"bksingh!$ADA$8","v":""},null,null,null,{"$f":"bksingh!$ADA$8","v":""},null,null,null,{"$f":"bksingh!$ADA$8","v":""},null,null,null,{"$f":"bksingh!$ADA$8","v":""},null,null,null,{"$f":"bksingh!$ADA$8","v":""},null,null,null,{"$f":"bksingh!$ADA$8","v":""},null,null,null,{"$f":"bksingh!$ADA$8","v":""},null,null,null,{"$f":"bksingh!$ADA$8","v":""},null,null,null,{"$f":"bksingh!$ADA$8","v":""},null,null,null,{"$f":"bksingh!$ADA$8","v":""},null,null,null,{"$f":"bksingh!$ADA$8","v":""},null,null,null,{"$f":"bksingh!$ADA$8","v":""},null,null,null,{"$f":"bksingh!$ADA$8","v":""},null,null,null,{"$f":"bksingh!$ADA$8","v":""},null,null,null,{"$f":"bksingh!$ADA$8","v":""},null,null,null,{"$f":"bksingh!$ADA$8","v":""},null,null,null,{"$f":"bksingh!$ADA$8","v":""},null,null,null,{"$f":"bksingh!$ADA$8","v":""},null,null,null,{"$f":"bksingh!$ADA$8","v":""},null,null,null,{"$f":"bksingh!$ADA$8","v":""},null,null,null,{"$f":"bksingh!$ADA$8","v":""},null,null,null,{"$f":"bksingh!$ADA$8","v":""},null,null,null,{"$f":"bksingh!$ADA$8","v":""},null,null,null,{"$f":"bksingh!$ADA$8","v":""},null,null,null,{"$f":"bksingh!$ADA$8","v":""},null,null,null,{"$f":"bksingh!$ADA$8","v":""},null,null,null,{"$f":"bksingh!$ADA$8","v":""},null,null,null,{"$f":"bksingh!$ADA$8","v":""},null,null,null,{"$f":"bksingh!$ADA$8","v":""},null,null,null,{"$f":"bksingh!$ADA$8","v":""},null,null,null,{"$f":"bksingh!$ADA$8","v":""},null,null,null,{"$f":"bksingh!$ADA$8","v":""},null,null,null,{"$f":"bksingh!$ADA$8","v":""},null,null,null,{"$f":"bksingh!$ADA$8","v":""},null,null,null,{"$f":"bksingh!$ADA$8","v":""},null,null,null,{"$f":"bksingh!$ADA$8","v":""},null,null,null,{"$f":"bksingh!$ADA$8","v":""},null,null,null,{"$f":"bksingh!$ADA$8","v":""},null,null,null,{"$f":"bksingh!$ADA$8","v":""},null,null,null,{"$f":"bksingh!$ADA$8","v":""},null,null,null,{"$f":"bksingh!$ADA$8","v":""},null,null,null,{"$f":"bksingh!$ADA$8","v":""},null,null,null,{"$f":"bksingh!$ADA$8","v":""},null,null,null,{"$f":"bksingh!$ADA$8","v":""},null,null,null,{"$f":"bksingh!$ADA$8","v":""},null,null,null,{"$f":"bksingh!$ADA$8","v":""},null,null,null,{"$f":"bksingh!$ADA$8","v":""},null,null,null,{"$f":"bksingh!$ADA$8","v":""},null,null,null,{"$f":"bksingh!$ADA$8","v":""},null,null,null,{"$f":"bksingh!$ADA$8","v":""},null,null,null,{"$f":"bksingh!$ADA$8","v":""},null,null,null,{"$f":"bksingh!$ADA$8","v":""},null,null,null,{"$f":"bksingh!$ADA$8","v":""},null,null,null,{"$f":"bksingh!$ADA$8","v":""},null,null,null,{"$f":"bksingh!$ADA$8","v":""},null,null,null,{"$f":"bksingh!$ADA$8","v":""},null,null,null,{"$f":"bksingh!$ADA$8","v":""},null,null,null,{"$f":"bksingh!$ADA$8","v":""},null,null,null,{"$f":"bksingh!$ADA$8","v":""},null,null,null,{"$f":"bksingh!$ADA$8","v":""},null,null,null,{"$f":"bksingh!$ADA$8","v":""},null,null,null,{"$f":"bksingh!$ADA$8","v":""},null,null,null,{"$f":"bksingh!$ADA$8","v":""},null,null,null,{"$f":"bksingh!$ADA$8","v":""},null,null,null,{"$f":"bksingh!$ADA$8","v":""},null,null,null,{"$f":"bksingh!$ADA$8","v":""},null,null,null,{"$f":"bksingh!$ADA$8","v":""},null,null,null,{"$f":"bksingh!$ADA$8","v":""},null,null,null,{"$f":"bksingh!$ADA$8","v":""},null,null,null,{"$f":"bksingh!$ADA$8","v":""},null,null,null,{"$f":"bksingh!$ADA$8","v":""},null,null,null,{"$f":"bksingh!$ADA$8","v":""},null,null,null,{"$f":"bksingh!$ADA$8","v":""},null,null,null,{"$f":"bksingh!$ADA$8","v":""},null,null,null,{"$f":"bksingh!$ADA$8","v":""},null,null,null,{"$f":"bksingh!$ADA$8","v":""},null,null,null,{"$f":"bksingh!$ADA$8","v":""},null,null,null,{"$f":"bksingh!$ADA$8","v":""},null,null,null,{"$f":"bksingh!$ADA$8","v":""},null,null,null,{"$f":"bksingh!$ADA$8","v":""},null,null,null,{"$f":"bksingh!$ADA$8","v":""},null,null,null,{"$f":"bksingh!$ADA$8","v":""},null,null,null,{"$f":"bksingh!$ADA$8","v":""},null,null,null,{"$f":"bksingh!$ADA$8","v":""},null,null,null,{"$f":"bksingh!$ADA$8","v":""},null,null,null,{"$f":"bksingh!$ADA$8","v":""},null,null,null,{"$f":"bksingh!$ADA$8","v":""},null,null,null,{"$f":"bksingh!$ADA$8","v":""},null,null,null,{"$f":"bksingh!$ADA$8","v":""},null,null,null,{"$f":"bksingh!$ADA$8","v":""},null,null,null,{"$f":"bksingh!$ADA$8","v":""},null,null,null,{"$f":"bksingh!$ADA$8","v":""},null,null,null,{"$f":"bksingh!$ADA$8","v":""},null,null,null,{"$f":"bksingh!$ADA$8","v":""},null,null,null,{"$f":"bksingh!$ADA$8","v":""},null,null,null,{"$f":"bksingh!$ADA$8","v":""},null,null,null,{"$f":"bksingh!$ADA$8","v":""},null,null,null,{"$f":"bksingh!$ADA$8","v":""},null,null,null,{"$f":"bksingh!$ADA$8","v":""},null,null,null,{"$f":"bksingh!$ADA$8","v":""},null,null,null,{"$f":"bksingh!$ADA$8","v":""},null,null,null,{"$f":"bksingh!$ADA$8","v":""},null,null,null,{"$f":"bksingh!$ADA$8","v":""},null,null,null,{"$f":"bksingh!$ADA$8","v":""},null,null,null,{"$f":"bksingh!$ADA$8","v":""},null,null,null,{"$f":"bksingh!$ADA$8","v":""},null,null,null,{"$f":"bksingh!$ADA$8","v":""},null,null,null,{"$f":"bksingh!$ADA$8","v":""},null,null,null,{"$f":"bksingh!$ADA$8","v":""},null,null,null,{"$f":"bksingh!$ADA$8","v":""},null,null,null,{"$f":"bksingh!$ADA$8","v":""},null,null,null,{"$f":"bksingh!$ADA$8","v":""},null,null,null,{"$f":"bksingh!$ADA$8","v":""},null,null,null,{"$f":"bksingh!$ADA$8","v":""},null,null,null,{"$f":"bksingh!$ADA$8","v":""},null,null,null,{"$f":"bksingh!$ADA$8","v":""},null,null,null,{"$f":"bksingh!$ADA$8","v":""},null,null,null,{"$f":"bksingh!$ADA$8","v":""},null,null,null,{"$f":"bksingh!$ADA$8","v":""},null,null,null,{"$f":"bksingh!$ADA$8","v":""},null,null,null,{"$f":"bksingh!$ADA$8","v":""},null,null,null,{"$f":"bksingh!$ADA$8","v":""},null,null,null,{"$f":"bksingh!$ADA$8","v":""},null,null,null,{"$f":"bksingh!$ADA$8","v":""},null,null,null,{"$f":"bksingh!$ADA$8","v":""},null,null,null,{"$f":"bksingh!$ADA$8","v":""},null,null,null,{"$f":"bksingh!$ADA$8","v":""},null,null,null,{"$f":"bksingh!$ADA$8","v":""},null,null,null,{"$f":"bksingh!$ADA$8","v":""},null,null,null,{"$f":"bksingh!$ADA$8","v":""},null,null,null,{"$f":"bksingh!$ADA$8","v":""},null,null,null,{"$f":"bksingh!$ADA$8","v":""},null,null,null,{"$f":"bksingh!$ADA$8","v":""},null,null,null,{"$f":"bksingh!$ADA$8","v":""},null,null,null,{"$f":"bksingh!$ADA$8","v":""},null,null,null,{"$f":"bksingh!$ADA$8","v":""},null,null,null,{"$f":"bksingh!$ADA$8","v":""},null,null,null,{"$f":"bksingh!$ADA$8","v":""},null,null,null,{"$f":"bksingh!$ADA$8","v":""},null,null,null,{"$f":"bksingh!$ADA$8","v":""},null,null,null,{"$f":"bksingh!$ADA$8","v":""},null,null,null,{"$f":"bksingh!$ADA$8","v":""},null,null,null,{"$f":"bksingh!$ADA$8","v":""},null,null,null,{"$f":"bksingh!$ADA$8","v":""},null,null,null,{"$f":"bksingh!$ADA$8","v":""},null,null,null,{"$f":"bksingh!$ADA$8","v":""},null,null,null,{"$f":"bksingh!$ADA$8","v":""},null,null,null,{"$f":"bksingh!$ADA$8","v":""},null,null,null,{"$f":"bksingh!$ADA$8","v":""},null,null,null,{"$f":"bksingh!$ADA$8","v":""},null,null,null,{"$f":"bksingh!$ADA$8","v":""},null,null,null,{"$f":"bksingh!$ADA$8","v":""},null,null,null,{"$f":"bksingh!$ADA$8","v":""},null,null,null,{"$f":"bksingh!$ADA$8","v":""},null,null,null,{"$f":"bksingh!$ADA$8","v":""},null,null,null,{"$f":"bksingh!$ADA$8","v":""},null,null,null,{"$f":"bksingh!$ADA$8","v":""},null,null,null,{"$f":"bksingh!$ADA$8","v":""},null,null,null,{"$f":"bksingh!$ADA$8","v":""},null,null,null,{"$f":"bksingh!$ADA$8","v":""},null,null,null,{"$f":"bksingh!$ADA$8","v":""},null,null,null,{"$f":"bksingh!$ADA$8","v":""},null,null,null,{"$f":"bksingh!$ADA$8","v":""},null,null,null,{"$f":"bksingh!$ADA$8","v":""},null,null,null,{"$f":"bksingh!$ADA$8","v":""},null,null,null,{"$f":"bksingh!$ADA$8","v":""},null,null,null,{"$f":"bksingh!$ADA$8","v":""},null,null,null,{"$f":"bksingh!$ADA$8","v":""},null,null,null,{"$f":"bksingh!$ADA$8","v":""},null,null,null,{"$f":"bksingh!$ADA$8","v":""},null,null,null,{"$f":"bksingh!$ADA$8","v":""},null,null,null,{"$f":"bksingh!$ADA$8","v":""},null,null,null,{"$f":"bksingh!$ADA$8","v":""},null,null,null,{"$f":"bksingh!$ADA$8","v":""},null,null,null,{"$f":"bksingh!$ADA$8","v":""},null,null,null,{"$f":"bksingh!$ADA$8","v":""},null,null,null,{"$f":"bksingh!$ADA$8","v":""},null,null,null,{"$f":"bksingh!$ADA$8","v":""},null,null,null,{"$f":"bksingh!$ADA$8","v":""},null,null,null,{"$f":"bksingh!$ADA$8","v":""},null,null,null,{"$f":"bksingh!$ADA$8","v":""},null,null,null,{"$f":"bksingh!$ADA$8","v":""},null,null,null,{"$f":"bksingh!$ADA$8","v":""},null,null,null,{"$f":"bksingh!$ADA$8","v":""},null,null,null,{"$f":"bksingh!$ADA$8","v":""},null,null,null,{"$f":"bksingh!$ADA$8","v":""},null,null,null,{"$f":"bksingh!$ADA$8","v":""},null,null,null,{"$f":"bksingh!$ADA$8","v":""},null,null,null,{"$f":"bksingh!$ADA$8","v":""},null,null,null,{"$f":"bksingh!$ADA$8","v":""},null,null,null,{"$f":"bksingh!$ADA$8","v":""},null,null,null,{"$f":"bksingh!$ADA$8","v":""},null,null,null,{"$f":"bksingh!$ADA$8","v":""},null,null,null,{"$f":"bksingh!$ADA$8","v":""},null,null,null,{"$f":"bksingh!$ADA$8","v":""},null,null,null,{"$f":"bksingh!$ADA$8","v":""},null,null,null,{"$f":"bksingh!$ADA$8","v":""},null,null,null,{"$f":"bksingh!$ADA$8","v":""},null,null,null,{"$f":"bksingh!$ADA$8","v":""},null,null,null,{"$f":"bksingh!$ADA$8","v":""},null,null,null,{"$f":"bksingh!$ADA$8","v":""},null,null,null,{"$f":"bksingh!$ADA$8","v":""},null,null,null,{"$f":"bksingh!$ADA$8","v":""},null,null,null,{"$f":"bksingh!$ADA$8","v":""},null,null,null,{"$f":"bksingh!$ADA$8","v":""},null,null,null,{"$f":"bksingh!$ADA$8","v":""},null,null,null,{"$f":"bksingh!$ADA$8","v":""},null,null,null,{"$f":"bksingh!$ADA$8","v":""},null,null,null,{"$f":"bksingh!$ADA$8","v":""},null,null,null,{"$f":"bksingh!$ADA$8","v":""},null,null,null,{"$f":"bksingh!$ADA$8","v":""},null,null,null,{"$f":"bksingh!$ADA$8","v":""},null,null,null,{"$f":"bksingh!$ADA$8","v":""},null,null,null,{"$f":"bksingh!$ADA$8","v":""},null,null,null,{"$f":"bksingh!$ADA$8","v":""},null,null,null,{"$f":"bksingh!$ADA$8","v":""},null,null,null,{"$f":"bksingh!$ADA$8","v":""},null,null,null,{"$f":"bksingh!$ADA$8","v":""},null,null,null,{"$f":"bksingh!$ADA$8","v":""},null,null,null,{"$f":"bksingh!$ADA$8","v":""},null,null,null,{"$f":"bksingh!$ADA$8","v":""},null,null,null,{"$f":"bksingh!$ADA$8","v":""},null,null,null,{"$f":"bksingh!$ADA$8","v":""},null,null,null,{"$f":"bksingh!$ADA$8","v":""},null,null,null,{"$f":"bksingh!$ADA$8","v":""},null,null,null,{"$f":"bksingh!$ADA$8","v":""},null,null,null,{"$f":"bksingh!$ADA$8","v":""},null,null,null,{"$f":"bksingh!$ADA$8","v":""},null,null,null,{"$f":"bksingh!$ADA$8","v":""},null,null,null,{"$f":"bksingh!$ADA$8","v":""},null,null,null,{"$f":"bksingh!$ADA$8","v":""},null,null,null,{"$f":"bksingh!$ADA$8","v":""},null,null,null,{"$f":"bksingh!$ADA$8","v":""},null,null,null,{"$f":"bksingh!$ADA$8","v":""},null,null,null,{"$f":"bksingh!$ADA$8","v":""},null,null,null,{"$f":"bksingh!$ADA$8","v":""},null,null,null,{"$f":"bksingh!$ADA$8","v":""},null,null,null,{"$f":"bksingh!$ADA$8","v":""},null,null,null,{"$f":"bksingh!$ADA$8","v":""},null,null,null,{"$f":"bksingh!$ADA$8","v":""},null,null,null,{"$f":"bksingh!$ADA$8","v":""},null,null,null,{"$f":"bksingh!$ADA$8","v":""},null,null,null,{"$f":"bksingh!$ADA$8","v":""},null,null,null,{"$f":"bksingh!$ADA$8","v":""},null,null,null,{"$f":"bksingh!$ADA$8","v":""},null,null,null,{"$f":"bksingh!$ADA$8","v":""},null,null,null,{"$f":"bksingh!$ADA$8","v":""},null,null,null,{"$f":"bksingh!$ADA$8","v":""},null,null,null,{"$f":"bksingh!$ADA$8","v":""},null,null,null,{"$f":"bksingh!$ADA$8","v":""},null,null,null,{"$f":"bksingh!$ADA$8","v":""},null,null,null,{"$f":"bksingh!$ADA$8","v":""},null,null,null,{"$f":"bksingh!$ADA$8","v":""},null,null,null,{"$f":"bksingh!$ADA$8","v":""},null,null,null,{"$f":"bksingh!$ADA$8","v":""},null,null,null,{"$f":"bksingh!$ADA$8","v":""},null,null,null,{"$f":"bksingh!$ADA$8","v":""},null,null,null,{"$f":"bksingh!$ADA$8","v":""},null,null,null,{"$f":"bksingh!$ADA$8","v":""},null,null,null,{"$f":"bksingh!$ADA$8","v":""},null,null,null,{"$f":"bksingh!$ADA$8","v":""},null,null,null,{"$f":"bksingh!$ADA$8","v":""},null,null,null,{"$f":"bksingh!$ADA$8","v":""},null,null,null,{"$f":"bksingh!$ADA$8","v":""},null,null,null,{"$f":"bksingh!$ADA$8","v":""},null,null,null,{"$f":"bksingh!$ADA$8","v":""},null,null,null,{"$f":"bksingh!$ADA$8","v":""},null,null,null,{"$f":"bksingh!$ADA$8","v":""},null,null,null,{"$f":"bksingh!$ADA$8","v":""},null,null,null,{"$f":"bksingh!$ADA$8","v":""},null,null,null,{"$f":"bksingh!$ADA$8","v":""},null,null,null,{"$f":"bksingh!$ADA$8","v":""},null,null,null,{"$f":"bksingh!$ADA$8","v":""},null,null,null,{"$f":"bksingh!$ADA$8","v":""},null,null,null,{"$f":"bksingh!$ADA$8","v":""},null,null,null,{"$f":"bksingh!$ADA$8","v":""},null,null,null,{"$f":"bksingh!$ADA$8","v":""},null,null,null,{"$f":"bksingh!$ADA$8","v":""},null,null,null,{"$f":"bksingh!$ADA$8","v":""},null,null,null,{"$f":"bksingh!$ADA$8","v":""},null,null,null,{"$f":"bksingh!$ADA$8","v":""},null,null,null,{"$f":"bksingh!$ADA$8","v":""},null,null,null,{"$f":"bksingh!$ADA$8","v":""},null,null,null,{"$f":"bksingh!$ADA$8","v":""},null,null,null,{"$f":"bksingh!$ADA$8","v":""},null,null,null,{"$f":"bksingh!$ADA$8","v":""},null,null,null,{"$f":"bksingh!$ADA$8","v":""},null,null,null,{"$f":"bksingh!$ADA$8","v":""},null,null,null,{"$f":"bksingh!$ADA$8","v":""},null,null,null,{"$f":"bksingh!$ADA$8","v":""},null,null,null,{"$f":"bksingh!$ADA$8","v":""},null,null,null,{"$f":"bksingh!$ADA$8","v":""},null,null,null,{"$f":"bksingh!$ADA$8","v":""},null,null,null,{"$f":"bksingh!$ADA$8","v":""},null,null,null,{"$f":"bksingh!$ADA$8","v":""},null,null,null,{"$f":"bksingh!$ADA$8","v":""},null,null,null,{"$f":"bksingh!$ADA$8","v":""},null,null,null,{"$f":"bksingh!$ADA$8","v":""},null,null,null,{"$f":"bksingh!$ADA$8","v":""},null,null,null,{"$f":"bksingh!$ADA$8","v":""},null,null,null,{"$f":"bksingh!$ADA$8","v":""},null,null,null,{"$f":"bksingh!$ADA$8","v":""},null,null,null,{"$f":"bksingh!$ADA$8","v":""},null,null,null,{"$f":"bksingh!$ADA$8","v":""},null,null,null,{"$f":"bksingh!$ADA$8","v":""},null,null,null,{"$f":"bksingh!$ADA$8","v":""},null,null,null,{"$f":"bksingh!$ADA$8","v":""},null,null,null,{"$f":"bksingh!$ADA$8","v":""},null,null,null,{"$f":"bksingh!$ADA$8","v":""},null,null,null,{"$f":"bksingh!$ADA$8","v":""},null,null,null,{"$f":"bksingh!$ADA$8","v":""},null,null,null,{"$f":"bksingh!$ADA$8","v":""},null,null,null,{"$f":"bksingh!$ADA$8","v":""},null,null,null,{"$f":"bksingh!$ADA$8","v":""},null,null,null,{"$f":"bksingh!$ADA$8","v":""},null,null,null,{"$f":"bksingh!$ADA$8","v":""},null,null,null,{"$f":"bksingh!$ADA$8","v":""},null,null,null,{"$f":"bksingh!$ADA$8","v":""},null,null,null,{"$f":"bksingh!$ADA$8","v":""},null,null,null,{"$f":"bksingh!$ADA$8","v":""},null,null,null,{"$f":"bksingh!$ADA$8","v":""},null,null,null,{"$f":"bksingh!$ADA$8","v":""},null,null,null,{"$f":"bksingh!$ADA$8","v":""},null,null,null,{"$f":"bksingh!$ADA$8","v":""},null,null,null,{"$f":"bksingh!$ADA$8","v":""},null,null,null,{"$f":"bksingh!$ADA$8","v":""},null,null,null,{"$f":"bksingh!$ADA$8","v":""},null,null,null,{"$f":"bksingh!$ADA$8","v":""},null,null,null,{"$f":"bksingh!$ADA$8","v":""},null,null,null,{"$f":"bksingh!$ADA$8","v":""},null,null,null,{"$f":"bksingh!$ADA$8","v":""},null,null,null,{"$f":"bksingh!$ADA$8","v":""},null,null,null,{"$f":"bksingh!$ADA$8","v":""},null,null,null,{"$f":"bksingh!$ADA$8","v":""},null,null,null,{"$f":"bksingh!$ADA$8","v":""},null,null,null,{"$f":"bksingh!$ADA$8","v":""},null,null,null,{"$f":"bksingh!$ADA$8","v":""},null,null,null,{"$f":"bksingh!$ADA$8","v":""},null,null,null,{"$f":"bksingh!$ADA$8","v":""},null,null,null,{"$f":"bksingh!$ADA$8","v":""},null,null,null,{"$f":"bksingh!$ADA$8","v":""},null,null,null,{"$f":"bksingh!$ADA$8","v":""},null,null,null,{"$f":"bksingh!$ADA$8","v":""},null,null,null,{"$f":"bksingh!$ADA$8","v":""},null,null,null,{"$f":"bksingh!$ADA$8","v":""},null,null,null,{"$f":"bksingh!$ADA$8","v":""},null,null,null,{"$f":"bksingh!$ADA$8","v":""},null,null,null,{"$f":"bksingh!$ADA$8","v":""},null,null,null,{"$f":"bksingh!$ADA$8","v":""},null,null,null,{"$f":"bksingh!$ADA$8","v":""},null,null,null,{"$f":"bksingh!$ADA$8","v":""},null,null,null,{"$f":"bksingh!$ADA$8","v":""},null,null,null,{"$f":"bksingh!$ADA$8","v":""},null,null,null,{"$f":"bksingh!$ADA$8","v":""},null,null,null,{"$f":"bksingh!$ADA$8","v":""},null,null,null,{"$f":"bksingh!$ADA$8","v":""},null,null,null,{"$f":"bksingh!$ADA$8","v":""},null,null,null,{"$f":"bksingh!$ADA$8","v":""},null,null,null,{"$f":"bksingh!$ADA$8","v":""},null,null,null,{"$f":"bksingh!$ADA$8","v":""},null,null,null,{"$f":"bksingh!$ADA$8","v":""},null,null,null,{"$f":"bksingh!$ADA$8","v":""},null,null,null,{"$f":"bksingh!$ADA$8","v":""},null,null,null,{"$f":"bksingh!$ADA$8","v":""},null,null,null,{"$f":"bksingh!$ADA$8","v":""},null,null,null,{"$f":"bksingh!$ADA$8","v":""},null,null,null,{"$f":"bksingh!$ADA$8","v":""},null,null,null,{"$f":"bksingh!$ADA$8","v":""},null,null,null,{"$f":"bksingh!$ADA$8","v":""},null,null,null,{"$f":"bksingh!$ADA$8","v":""},null,null,null,{"$f":"bksingh!$ADA$8","v":""},null,null,null,{"$f":"bksingh!$ADA$8","v":""},null,null,null,{"$f":"bksingh!$ADA$8","v":""},null,null,null,{"$f":"bksingh!$ADA$8","v":""},null,null,null,{"$f":"bksingh!$ADA$8","v":""},null,null,null,{"$f":"bksingh!$ADA$8","v":""},null,null,null,{"$f":"bksingh!$ADA$8","v":""},null,null,null,{"$f":"bksingh!$ADA$8","v":""},null,null,null,{"$f":"bksingh!$ADA$8","v":""},null,null,null,{"$f":"bksingh!$ADA$8","v":""},null,null,null,{"$f":"bksingh!$ADA$8","v":""},null,null,null,{"$f":"bksingh!$ADA$8","v":""},null,null,null,{"$f":"bksingh!$ADA$8","v":""},null,null,null,{"$f":"bksingh!$ADA$8","v":""},null,null,null,{"$f":"bksingh!$ADA$8","v":""},null,null,null,{"$f":"bksingh!$ADA$8","v":""},null,null,null,{"$f":"bksingh!$ADA$8","v":""},null,null,null,{"$f":"bksingh!$ADA$8","v":""},null,null,null,{"$f":"bksingh!$ADA$8","v":""},null,null,null,{"$f":"bksingh!$ADA$8","v":""},null,null,null,{"$f":"bksingh!$ADA$8","v":""},null,null,null,{"$f":"bksingh!$ADA$8","v":""},null,null,null,{"$f":"bksingh!$ADA$8","v":""},null,null,null,{"$f":"bksingh!$ADA$8","v":""},null,null,null,{"$f":"bksingh!$ADA$8","v":""},null,null,null,{"$f":"bksingh!$ADA$8","v":""},null,null,null,{"$f":"bksingh!$ADA$8","v":""},null,null,null,{"$f":"bksingh!$ADA$8","v":""},null,null,null,{"$f":"bksingh!$ADA$8","v":""},null,null,null,{"$f":"bksingh!$ADA$8","v":""},null,null,null,{"$f":"bksingh!$ADA$8","v":""},null,null,null,{"$f":"bksingh!$ADA$8","v":""},null,null,null,{"$f":"bksingh!$ADA$8","v":""},null,null,null,{"$f":"bksingh!$ADA$8","v":""},null,null,null,{"$f":"bksingh!$ADA$8","v":""},null,null,null,{"$f":"bksingh!$ADA$8","v":""},null,null,null,{"$f":"bksingh!$ADA$8","v":""},null,null,null,{"$f":"bksingh!$ADA$8","v":""},null,null,null,{"$f":"bksingh!$ADA$8","v":""},null,null,null,{"$f":"bksingh!$ADA$8","v":""},null,null,null,{"$f":"bksingh!$ADA$8","v":""},null,null,null,{"$f":"bksingh!$ADA$8","v":""},null,null,null,{"$f":"bksingh!$ADA$8","v":""},null,null,null,{"$f":"bksingh!$ADA$8","v":""},null,null,null,{"$f":"bksingh!$ADA$8","v":""},null,null,null,{"$f":"bksingh!$ADA$8","v":""},null,null,null,{"$f":"bksingh!$ADA$8","v":""},null,null,null,{"$f":"bksingh!$ADA$8","v":""},null,null,null,{"$f":"bksingh!$ADA$8","v":""},null,null,null,{"$f":"bksingh!$ADA$8","v":""},null,null,null,{"$f":"bksingh!$ADA$8","v":""},null,null,null,{"$f":"bksingh!$ADA$8","v":""},null,null,null,{"$f":"bksingh!$ADA$8","v":""},null,null,null,{"$f":"bksingh!$ADA$8","v":""},null,null,null,{"$f":"bksingh!$ADA$8","v":""},null,null,null,{"$f":"bksingh!$ADA$8","v":""},null,null,null,{"$f":"bksingh!$ADA$8","v":""},null,null,null,{"$f":"bksingh!$ADA$8","v":""},null,null,null,{"$f":"bksingh!$ADA$8","v":""},null,null,null,{"$f":"bksingh!$ADA$8","v":""},null,null,null,{"$f":"bksingh!$ADA$8","v":""},null,null,null,{"$f":"bksingh!$ADA$8","v":""},null,null,null,{"$f":"bksingh!$ADA$8","v":""},null,null,null,{"$f":"bksingh!$ADA$8","v":""},null,null,null,{"$f":"bksingh!$ADA$8","v":""},null,null,null,{"$f":"bksingh!$ADA$8","v":""},null,null,null,{"$f":"bksingh!$ADA$8","v":""},null,null,null,{"$f":"bksingh!$ADA$8","v":""},null,null,null,{"$f":"bksingh!$ADA$8","v":""},null,null,null,{"$f":"bksingh!$ADA$8","v":""},null,null,null,{"$f":"bksingh!$ADA$8","v":""},null,null,null,{"$f":"bksingh!$ADA$8","v":""},null,null,null,{"$f":"bksingh!$ADA$8","v":""},null,null,null,{"$f":"bksingh!$ADA$8","v":""},null,null,null,{"$f":"bksingh!$ADA$8","v":""},null,null,null,{"$f":"bksingh!$ADA$8","v":""},null,null,null,{"$f":"bksingh!$ADA$8","v":""},null,null,null,{"$f":"bksingh!$ADA$8","v":""},null,null,null,{"$f":"bksingh!$ADA$8","v":""},null,null,null,{"$f":"bksingh!$ADA$8","v":""},null,null,null,{"$f":"bksingh!$ADA$8","v":""},null,null,null,{"$f":"bksingh!$ADA$8","v":""},null,null,null,{"$f":"bksingh!$ADA$8","v":""},null,null,null,{"$f":"bksingh!$ADA$8","v":""},null,null,null,{"$f":"bksingh!$ADA$8","v":""},null,null,null,{"$f":"bksingh!$ADA$8","v":""},null,null,null,{"$f":"bksingh!$ADA$8","v":""},null,null,null,{"$f":"bksingh!$ADA$8","v":""},null,null,null,{"$f":"bksingh!$ADA$8","v":""},null,null,null,{"$f":"bksingh!$ADA$8","v":""},null,null,null,{"$f":"bksingh!$ADA$8","v":""},null,null,null,{"$f":"bksingh!$ADA$8","v":""},null,null,null,{"$f":"bksingh!$ADA$8","v":""},null,null,null,{"$f":"bksingh!$ADA$8","v":""},null,null,null,{"$f":"bksingh!$ADA$8","v":""},null,null,null,{"$f":"bksingh!$ADA$8","v":""},null,null,null,{"$f":"bksingh!$ADA$8","v":""}]
[{"$f":"bksingh!JZ13","v":"."}]
[{"$f":"bksingh!JZ14","v":"."}]
[{"$f":"bksingh!$ADB$15","v":""},null,null,null,{"$f":"bksingh!$ADB$8","v":""},null,null,null,{"$f":"bksingh!$ADB$8","v":""},null,null,null,{"$f":"bksingh!$ADB$8","v":""},null,null,null,{"$f":"bksingh!$ADB$8","v":""},null,null,null,{"$f":"bksingh!$ADB$8","v":""},null,null,null,{"$f":"bksingh!$ADB$8","v":""},null,null,null,{"$f":"bksingh!$ADB$8","v":""},null,null,null,{"$f":"bksingh!$ADB$8","v":""},null,null,null,{"$f":"bksingh!$ADB$8","v":""},null,null,null,{"$f":"bksingh!$ADB$8","v":""},null,null,null,{"$f":"bksingh!$ADB$8","v":""},null,null,null,{"$f":"bksingh!$ADB$8","v":""},null,null,null,{"$f":"bksingh!$ADB$8","v":""},null,null,null,{"$f":"bksingh!$ADB$8","v":""},null,null,null,{"$f":"bksingh!$ADB$8","v":""},null,null,null,{"$f":"bksingh!$ADB$8","v":""},null,null,null,{"$f":"bksingh!$ADB$8","v":""},null,null,null,{"$f":"bksingh!$ADB$8","v":""},null,null,null,{"$f":"bksingh!$ADB$8","v":""},null,null,null,{"$f":"bksingh!$ADB$8","v":""},null,null,null,{"$f":"bksingh!$ADB$8","v":""},null,null,null,{"$f":"bksingh!$ADB$8","v":""},null,null,null,{"$f":"bksingh!$ADB$8","v":""},null,null,null,{"$f":"bksingh!$ADB$8","v":""},null,null,null,{"$f":"bksingh!$ADB$8","v":""},null,null,null,{"$f":"bksingh!$ADB$8","v":""},null,null,null,{"$f":"bksingh!$ADB$8","v":""},null,null,null,{"$f":"bksingh!$ADB$8","v":""},null,null,null,{"$f":"bksingh!$ADB$8","v":""},null,null,null,{"$f":"bksingh!$ADB$8","v":""},null,null,null,{"$f":"bksingh!$ADB$8","v":""},null,null,null,{"$f":"bksingh!$ADB$8","v":""},null,null,null,{"$f":"bksingh!$ADB$8","v":""},null,null,null,{"$f":"bksingh!$ADB$8","v":""},null,null,null,{"$f":"bksingh!$ADB$8","v":""},null,null,null,{"$f":"bksingh!$ADB$8","v":""},null,null,null,{"$f":"bksingh!$ADB$8","v":""},null,null,null,{"$f":"bksingh!$ADB$8","v":""},null,null,null,{"$f":"bksingh!$ADB$8","v":""},null,null,null,{"$f":"bksingh!$ADB$8","v":""},null,null,null,{"$f":"bksingh!$ADB$8","v":""},null,null,null,{"$f":"bksingh!$ADB$8","v":""},null,null,null,{"$f":"bksingh!$ADB$8","v":""},null,null,null,{"$f":"bksingh!$ADB$8","v":""},null,null,null,{"$f":"bksingh!$ADB$8","v":""},null,null,null,{"$f":"bksingh!$ADB$8","v":""},null,null,null,{"$f":"bksingh!$ADB$8","v":""},null,null,null,{"$f":"bksingh!$ADB$8","v":""},null,null,null,{"$f":"bksingh!$ADB$8","v":""},null,null,null,{"$f":"bksingh!$ADB$8","v":""},null,null,null,{"$f":"bksingh!$ADB$8","v":""},null,null,null,{"$f":"bksingh!$ADB$8","v":""},null,null,null,{"$f":"bksingh!$ADB$8","v":""},null,null,null,{"$f":"bksingh!$ADB$8","v":""},null,null,null,{"$f":"bksingh!$ADB$8","v":""},null,null,null,{"$f":"bksingh!$ADB$8","v":""},null,null,null,{"$f":"bksingh!$ADB$8","v":""},null,null,null,{"$f":"bksingh!$ADB$8","v":""},null,null,null,{"$f":"bksingh!$ADB$8","v":""},null,null,null,{"$f":"bksingh!$ADB$8","v":""},null,null,null,{"$f":"bksingh!$ADB$8","v":""},null,null,null,{"$f":"bksingh!$ADB$8","v":""},null,null,null,{"$f":"bksingh!$ADB$8","v":""},null,null,null,{"$f":"bksingh!$ADB$8","v":""},null,null,null,{"$f":"bksingh!$ADB$8","v":""},null,null,null,{"$f":"bksingh!$ADB$8","v":""},null,null,null,{"$f":"bksingh!$ADB$8","v":""},null,null,null,{"$f":"bksingh!$ADB$8","v":""},null,null,null,{"$f":"bksingh!$ADB$8","v":""},null,null,null,{"$f":"bksingh!$ADB$8","v":""},null,null,null,{"$f":"bksingh!$ADB$8","v":""},null,null,null,{"$f":"bksingh!$ADB$8","v":""},null,null,null,{"$f":"bksingh!$ADB$8","v":""},null,null,null,{"$f":"bksingh!$ADB$8","v":""},null,null,null,{"$f":"bksingh!$ADB$8","v":""},null,null,null,{"$f":"bksingh!$ADB$8","v":""},null,null,null,{"$f":"bksingh!$ADB$8","v":""},null,null,null,{"$f":"bksingh!$ADB$8","v":""},null,null,null,{"$f":"bksingh!$ADB$8","v":""},null,null,null,{"$f":"bksingh!$ADB$8","v":""},null,null,null,{"$f":"bksingh!$ADB$8","v":""},null,null,null,{"$f":"bksingh!$ADB$8","v":""},null,null,null,{"$f":"bksingh!$ADB$8","v":""},null,null,null,{"$f":"bksingh!$ADB$8","v":""},null,null,null,{"$f":"bksingh!$ADB$8","v":""},null,null,null,{"$f":"bksingh!$ADB$8","v":""},null,null,null,{"$f":"bksingh!$ADB$8","v":""},null,null,null,{"$f":"bksingh!$ADB$8","v":""},null,null,null,{"$f":"bksingh!$ADB$8","v":""},null,null,null,{"$f":"bksingh!$ADB$8","v":""},null,null,null,{"$f":"bksingh!$ADB$8","v":""},null,null,null,{"$f":"bksingh!$ADB$8","v":""},null,null,null,{"$f":"bksingh!$ADB$8","v":""},null,null,null,{"$f":"bksingh!$ADB$8","v":""},null,null,null,{"$f":"bksingh!$ADB$8","v":""},null,null,null,{"$f":"bksingh!$ADB$8","v":""},null,null,null,{"$f":"bksingh!$ADB$8","v":""},null,null,null,{"$f":"bksingh!$ADB$8","v":""},null,null,null,{"$f":"bksingh!$ADB$8","v":""},null,null,null,{"$f":"bksingh!$ADB$8","v":""},null,null,null,{"$f":"bksingh!$ADB$8","v":""},null,null,null,{"$f":"bksingh!$ADB$8","v":""},null,null,null,{"$f":"bksingh!$ADB$8","v":""},null,null,null,{"$f":"bksingh!$ADB$8","v":""},null,null,null,{"$f":"bksingh!$ADB$8","v":""},null,null,null,{"$f":"bksingh!$ADB$8","v":""},null,null,null,{"$f":"bksingh!$ADB$8","v":""},null,null,null,{"$f":"bksingh!$ADB$8","v":""},null,null,null,{"$f":"bksingh!$ADB$8","v":""},null,null,null,{"$f":"bksingh!$ADB$8","v":""},null,null,null,{"$f":"bksingh!$ADB$8","v":""},null,null,null,{"$f":"bksingh!$ADB$8","v":""},null,null,null,{"$f":"bksingh!$ADB$8","v":""},null,null,null,{"$f":"bksingh!$ADB$8","v":""},null,null,null,{"$f":"bksingh!$ADB$8","v":""},null,null,null,{"$f":"bksingh!$ADB$8","v":""},null,null,null,{"$f":"bksingh!$ADB$8","v":""},null,null,null,{"$f":"bksingh!$ADB$8","v":""},null,null,null,{"$f":"bksingh!$ADB$8","v":""},null,null,null,{"$f":"bksingh!$ADB$8","v":""},null,null,null,{"$f":"bksingh!$ADB$8","v":""},null,null,null,{"$f":"bksingh!$ADB$8","v":""},null,null,null,{"$f":"bksingh!$ADB$8","v":""},null,null,null,{"$f":"bksingh!$ADB$8","v":""},null,null,null,{"$f":"bksingh!$ADB$8","v":""},null,null,null,{"$f":"bksingh!$ADB$8","v":""},null,null,null,{"$f":"bksingh!$ADB$8","v":""},null,null,null,{"$f":"bksingh!$ADB$8","v":""},null,null,null,{"$f":"bksingh!$ADB$8","v":""},null,null,null,{"$f":"bksingh!$ADB$8","v":""},null,null,null,{"$f":"bksingh!$ADB$8","v":""},null,null,null,{"$f":"bksingh!$ADB$8","v":""},null,null,null,{"$f":"bksingh!$ADB$8","v":""},null,null,null,{"$f":"bksingh!$ADB$8","v":""},null,null,null,{"$f":"bksingh!$ADB$8","v":""},null,null,null,{"$f":"bksingh!$ADB$8","v":""},null,null,null,{"$f":"bksingh!$ADB$8","v":""},null,null,null,{"$f":"bksingh!$ADB$8","v":""},null,null,null,{"$f":"bksingh!$ADB$8","v":""},null,null,null,{"$f":"bksingh!$ADB$8","v":""},null,null,null,{"$f":"bksingh!$ADB$8","v":""},null,null,null,{"$f":"bksingh!$ADB$8","v":""},null,null,null,{"$f":"bksingh!$ADB$8","v":""},null,null,null,{"$f":"bksingh!$ADB$8","v":""},null,null,null,{"$f":"bksingh!$ADB$8","v":""},null,null,null,{"$f":"bksingh!$ADB$8","v":""},null,null,null,{"$f":"bksingh!$ADB$8","v":""},null,null,null,{"$f":"bksingh!$ADB$8","v":""},null,null,null,{"$f":"bksingh!$ADB$8","v":""},null,null,null,{"$f":"bksingh!$ADB$8","v":""},null,null,null,{"$f":"bksingh!$ADB$8","v":""},null,null,null,{"$f":"bksingh!$ADB$8","v":""},null,null,null,{"$f":"bksingh!$ADB$8","v":""},null,null,null,{"$f":"bksingh!$ADB$8","v":""},null,null,null,{"$f":"bksingh!$ADB$8","v":""},null,null,null,{"$f":"bksingh!$ADB$8","v":""},null,null,null,{"$f":"bksingh!$ADB$8","v":""},null,null,null,{"$f":"bksingh!$ADB$8","v":""},null,null,null,{"$f":"bksingh!$ADB$8","v":""},null,null,null,{"$f":"bksingh!$ADB$8","v":""},null,null,null,{"$f":"bksingh!$ADB$8","v":""},null,null,null,{"$f":"bksingh!$ADB$8","v":""},null,null,null,{"$f":"bksingh!$ADB$8","v":""},null,null,null,{"$f":"bksingh!$ADB$8","v":""},null,null,null,{"$f":"bksingh!$ADB$8","v":""},null,null,null,{"$f":"bksingh!$ADB$8","v":""},null,null,null,{"$f":"bksingh!$ADB$8","v":""},null,null,null,{"$f":"bksingh!$ADB$8","v":""},null,null,null,{"$f":"bksingh!$ADB$8","v":""},null,null,null,{"$f":"bksingh!$ADB$8","v":""},null,null,null,{"$f":"bksingh!$ADB$8","v":""},null,null,null,{"$f":"bksingh!$ADB$8","v":""},null,null,null,{"$f":"bksingh!$ADB$8","v":""},null,null,null,{"$f":"bksingh!$ADB$8","v":""},null,null,null,{"$f":"bksingh!$ADB$8","v":""},null,null,null,{"$f":"bksingh!$ADB$8","v":""},null,null,null,{"$f":"bksingh!$ADB$8","v":""},null,null,null,{"$f":"bksingh!$ADB$8","v":""},null,null,null,{"$f":"bksingh!$ADB$8","v":""},null,null,null,{"$f":"bksingh!$ADB$8","v":""},null,null,null,{"$f":"bksingh!$ADB$8","v":""},null,null,null,{"$f":"bksingh!$ADB$8","v":""},null,null,null,{"$f":"bksingh!$ADB$8","v":""},null,null,null,{"$f":"bksingh!$ADB$8","v":""},null,null,null,{"$f":"bksingh!$ADB$8","v":""},null,null,null,{"$f":"bksingh!$ADB$8","v":""},null,null,null,{"$f":"bksingh!$ADB$8","v":""},null,null,null,{"$f":"bksingh!$ADB$8","v":""},null,null,null,{"$f":"bksingh!$ADB$8","v":""},null,null,null,{"$f":"bksingh!$ADB$8","v":""},null,null,null,{"$f":"bksingh!$ADB$8","v":""},null,null,null,{"$f":"bksingh!$ADB$8","v":""},null,null,null,{"$f":"bksingh!$ADB$8","v":""},null,null,null,{"$f":"bksingh!$ADB$8","v":""},null,null,null,{"$f":"bksingh!$ADB$8","v":""},null,null,null,{"$f":"bksingh!$ADB$8","v":""},null,null,null,{"$f":"bksingh!$ADB$8","v":""},null,null,null,{"$f":"bksingh!$ADB$8","v":""},null,null,null,{"$f":"bksingh!$ADB$8","v":""},null,null,null,{"$f":"bksingh!$ADB$8","v":""},null,null,null,{"$f":"bksingh!$ADB$8","v":""},null,null,null,{"$f":"bksingh!$ADB$8","v":""},null,null,null,{"$f":"bksingh!$ADB$8","v":""},null,null,null,{"$f":"bksingh!$ADB$8","v":""},null,null,null,{"$f":"bksingh!$ADB$8","v":""},null,null,null,{"$f":"bksingh!$ADB$8","v":""},null,null,null,{"$f":"bksingh!$ADB$8","v":""},null,null,null,{"$f":"bksingh!$ADB$8","v":""},null,null,null,{"$f":"bksingh!$ADB$8","v":""},null,null,null,{"$f":"bksingh!$ADB$8","v":""},null,null,null,{"$f":"bksingh!$ADB$8","v":""},null,null,null,{"$f":"bksingh!$ADB$8","v":""},null,null,null,{"$f":"bksingh!$ADB$8","v":""},null,null,null,{"$f":"bksingh!$ADB$8","v":""},null,null,null,{"$f":"bksingh!$ADB$8","v":""},null,null,null,{"$f":"bksingh!$ADB$8","v":""},null,null,null,{"$f":"bksingh!$ADB$8","v":""},null,null,null,{"$f":"bksingh!$ADB$8","v":""},null,null,null,{"$f":"bksingh!$ADB$8","v":""},null,null,null,{"$f":"bksingh!$ADB$8","v":""},null,null,null,{"$f":"bksingh!$ADB$8","v":""},null,null,null,{"$f":"bksingh!$ADB$8","v":""},null,null,null,{"$f":"bksingh!$ADB$8","v":""},null,null,null,{"$f":"bksingh!$ADB$8","v":""},null,null,null,{"$f":"bksingh!$ADB$8","v":""},null,null,null,{"$f":"bksingh!$ADB$8","v":""},null,null,null,{"$f":"bksingh!$ADB$8","v":""},null,null,null,{"$f":"bksingh!$ADB$8","v":""},null,null,null,{"$f":"bksingh!$ADB$8","v":""},null,null,null,{"$f":"bksingh!$ADB$8","v":""},null,null,null,{"$f":"bksingh!$ADB$8","v":""},null,null,null,{"$f":"bksingh!$ADB$8","v":""},null,null,null,{"$f":"bksingh!$ADB$8","v":""},null,null,null,{"$f":"bksingh!$ADB$8","v":""},null,null,null,{"$f":"bksingh!$ADB$8","v":""},null,null,null,{"$f":"bksingh!$ADB$8","v":""},null,null,null,{"$f":"bksingh!$ADB$8","v":""},null,null,null,{"$f":"bksingh!$ADB$8","v":""},null,null,null,{"$f":"bksingh!$ADB$8","v":""},null,null,null,{"$f":"bksingh!$ADB$8","v":""},null,null,null,{"$f":"bksingh!$ADB$8","v":""},null,null,null,{"$f":"bksingh!$ADB$8","v":""},null,null,null,{"$f":"bksingh!$ADB$8","v":""},null,null,null,{"$f":"bksingh!$ADB$8","v":""},null,null,null,{"$f":"bksingh!$ADB$8","v":""},null,null,null,{"$f":"bksingh!$ADB$8","v":""},null,null,null,{"$f":"bksingh!$ADB$8","v":""},null,null,null,{"$f":"bksingh!$ADB$8","v":""},null,null,null,{"$f":"bksingh!$ADB$8","v":""},null,null,null,{"$f":"bksingh!$ADB$8","v":""},null,null,null,{"$f":"bksingh!$ADB$8","v":""},null,null,null,{"$f":"bksingh!$ADB$8","v":""},null,null,null,{"$f":"bksingh!$ADB$8","v":""},null,null,null,{"$f":"bksingh!$ADB$8","v":""},null,null,null,{"$f":"bksingh!$ADB$8","v":""},null,null,null,{"$f":"bksingh!$ADB$8","v":""},null,null,null,{"$f":"bksingh!$ADB$8","v":""},null,null,null,{"$f":"bksingh!$ADB$8","v":""},null,null,null,{"$f":"bksingh!$ADB$8","v":""},null,null,null,{"$f":"bksingh!$ADB$8","v":""},null,null,null,{"$f":"bksingh!$ADB$8","v":""},null,null,null,{"$f":"bksingh!$ADB$8","v":""},null,null,null,{"$f":"bksingh!$ADB$8","v":""},null,null,null,{"$f":"bksingh!$ADB$8","v":""},null,null,null,{"$f":"bksingh!$ADB$8","v":""},null,null,null,{"$f":"bksingh!$ADB$8","v":""},null,null,null,{"$f":"bksingh!$ADB$8","v":""},null,null,null,{"$f":"bksingh!$ADB$8","v":""},null,null,null,{"$f":"bksingh!$ADB$8","v":""},null,null,null,{"$f":"bksingh!$ADB$8","v":""},null,null,null,{"$f":"bksingh!$ADB$8","v":""},null,null,null,{"$f":"bksingh!$ADB$8","v":""},null,null,null,{"$f":"bksingh!$ADB$8","v":""},null,null,null,{"$f":"bksingh!$ADB$8","v":""},null,null,null,{"$f":"bksingh!$ADB$8","v":""},null,null,null,{"$f":"bksingh!$ADB$8","v":""},null,null,null,{"$f":"bksingh!$ADB$8","v":""},null,null,null,{"$f":"bksingh!$ADB$8","v":""},null,null,null,{"$f":"bksingh!$ADB$8","v":""},null,null,null,{"$f":"bksingh!$ADB$8","v":""},null,null,null,{"$f":"bksingh!$ADB$8","v":""},null,null,null,{"$f":"bksingh!$ADB$8","v":""},null,null,null,{"$f":"bksingh!$ADB$8","v":""},null,null,null,{"$f":"bksingh!$ADB$8","v":""},null,null,null,{"$f":"bksingh!$ADB$8","v":""},null,null,null,{"$f":"bksingh!$ADB$8","v":""},null,null,null,{"$f":"bksingh!$ADB$8","v":""},null,null,null,{"$f":"bksingh!$ADB$8","v":""},null,null,null,{"$f":"bksingh!$ADB$8","v":""},null,null,null,{"$f":"bksingh!$ADB$8","v":""},null,null,null,{"$f":"bksingh!$ADB$8","v":""},null,null,null,{"$f":"bksingh!$ADB$8","v":""},null,null,null,{"$f":"bksingh!$ADB$8","v":""},null,null,null,{"$f":"bksingh!$ADB$8","v":""},null,null,null,{"$f":"bksingh!$ADB$8","v":""},null,null,null,{"$f":"bksingh!$ADB$8","v":""},null,null,null,{"$f":"bksingh!$ADB$8","v":""},null,null,null,{"$f":"bksingh!$ADB$8","v":""},null,null,null,{"$f":"bksingh!$ADB$8","v":""},null,null,null,{"$f":"bksingh!$ADB$8","v":""},null,null,null,{"$f":"bksingh!$ADB$8","v":""},null,null,null,{"$f":"bksingh!$ADB$8","v":""},null,null,null,{"$f":"bksingh!$ADB$8","v":""},null,null,null,{"$f":"bksingh!$ADB$8","v":""},null,null,null,{"$f":"bksingh!$ADB$8","v":""},null,null,null,{"$f":"bksingh!$ADB$8","v":""},null,null,null,{"$f":"bksingh!$ADB$8","v":""},null,null,null,{"$f":"bksingh!$ADB$8","v":""},null,null,null,{"$f":"bksingh!$ADB$8","v":""},null,null,null,{"$f":"bksingh!$ADB$8","v":""},null,null,null,{"$f":"bksingh!$ADB$8","v":""},null,null,null,{"$f":"bksingh!$ADB$8","v":""},null,null,null,{"$f":"bksingh!$ADB$8","v":""},null,null,null,{"$f":"bksingh!$ADB$8","v":""},null,null,null,{"$f":"bksingh!$ADB$8","v":""},null,null,null,{"$f":"bksingh!$ADB$8","v":""},null,null,null,{"$f":"bksingh!$ADB$8","v":""},null,null,null,{"$f":"bksingh!$ADB$8","v":""},null,null,null,{"$f":"bksingh!$ADB$8","v":""},null,null,null,{"$f":"bksingh!$ADB$8","v":""},null,null,null,{"$f":"bksingh!$ADB$8","v":""},null,null,null,{"$f":"bksingh!$ADB$8","v":""},null,null,null,{"$f":"bksingh!$ADB$8","v":""},null,null,null,{"$f":"bksingh!$ADB$8","v":""},null,null,null,{"$f":"bksingh!$ADB$8","v":""},null,null,null,{"$f":"bksingh!$ADB$8","v":""},null,null,null,{"$f":"bksingh!$ADB$8","v":""},null,null,null,{"$f":"bksingh!$ADB$8","v":""},null,null,null,{"$f":"bksingh!$ADB$8","v":""},null,null,null,{"$f":"bksingh!$ADB$8","v":""},null,null,null,{"$f":"bksingh!$ADB$8","v":""},null,null,null,{"$f":"bksingh!$ADB$8","v":""},null,null,null,{"$f":"bksingh!$ADB$8","v":""},null,null,null,{"$f":"bksingh!$ADB$8","v":""},null,null,null,{"$f":"bksingh!$ADB$8","v":""},null,null,null,{"$f":"bksingh!$ADB$8","v":""},null,null,null,{"$f":"bksingh!$ADB$8","v":""},null,null,null,{"$f":"bksingh!$ADB$8","v":""},null,null,null,{"$f":"bksingh!$ADB$8","v":""},null,null,null,{"$f":"bksingh!$ADB$8","v":""},null,null,null,{"$f":"bksingh!$ADB$8","v":""},null,null,null,{"$f":"bksingh!$ADB$8","v":""},null,null,null,{"$f":"bksingh!$ADB$8","v":""},null,null,null,{"$f":"bksingh!$ADB$8","v":""},null,null,null,{"$f":"bksingh!$ADB$8","v":""},null,null,null,{"$f":"bksingh!$ADB$8","v":""},null,null,null,{"$f":"bksingh!$ADB$8","v":""},null,null,null,{"$f":"bksingh!$ADB$8","v":""},null,null,null,{"$f":"bksingh!$ADB$8","v":""},null,null,null,{"$f":"bksingh!$ADB$8","v":""},null,null,null,{"$f":"bksingh!$ADB$8","v":""},null,null,null,{"$f":"bksingh!$ADB$8","v":""},null,null,null,{"$f":"bksingh!$ADB$8","v":""},null,null,null,{"$f":"bksingh!$ADB$8","v":""},null,null,null,{"$f":"bksingh!$ADB$8","v":""},null,null,null,{"$f":"bksingh!$ADB$8","v":""},null,null,null,{"$f":"bksingh!$ADB$8","v":""},null,null,null,{"$f":"bksingh!$ADB$8","v":""},null,null,null,{"$f":"bksingh!$ADB$8","v":""},null,null,null,{"$f":"bksingh!$ADB$8","v":""},null,null,null,{"$f":"bksingh!$ADB$8","v":""},null,null,null,{"$f":"bksingh!$ADB$8","v":""},null,null,null,{"$f":"bksingh!$ADB$8","v":""},null,null,null,{"$f":"bksingh!$ADB$8","v":""},null,null,null,{"$f":"bksingh!$ADB$8","v":""},null,null,null,{"$f":"bksingh!$ADB$8","v":""},null,null,null,{"$f":"bksingh!$ADB$8","v":""},null,null,null,{"$f":"bksingh!$ADB$8","v":""},null,null,null,{"$f":"bksingh!$ADB$8","v":""},null,null,null,{"$f":"bksingh!$ADB$8","v":""},null,null,null,{"$f":"bksingh!$ADB$8","v":""},null,null,null,{"$f":"bksingh!$ADB$8","v":""},null,null,null,{"$f":"bksingh!$ADB$8","v":""},null,null,null,{"$f":"bksingh!$ADB$8","v":""},null,null,null,{"$f":"bksingh!$ADB$8","v":""},null,null,null,{"$f":"bksingh!$ADB$8","v":""},null,null,null,{"$f":"bksingh!$ADB$8","v":""},null,null,null,{"$f":"bksingh!$ADB$8","v":""},null,null,null,{"$f":"bksingh!$ADB$8","v":""},null,null,null,{"$f":"bksingh!$ADB$8","v":""},null,null,null,{"$f":"bksingh!$ADB$8","v":""},null,null,null,{"$f":"bksingh!$ADB$8","v":""},null,null,null,{"$f":"bksingh!$ADB$8","v":""},null,null,null,{"$f":"bksingh!$ADB$8","v":""},null,null,null,{"$f":"bksingh!$ADB$8","v":""},null,null,null,{"$f":"bksingh!$ADB$8","v":""},null,null,null,{"$f":"bksingh!$ADB$8","v":""},null,null,null,{"$f":"bksingh!$ADB$8","v":""},null,null,null,{"$f":"bksingh!$ADB$8","v":""},null,null,null,{"$f":"bksingh!$ADB$8","v":""},null,null,null,{"$f":"bksingh!$ADB$8","v":""},null,null,null,{"$f":"bksingh!$ADB$8","v":""},null,null,null,{"$f":"bksingh!$ADB$8","v":""},null,null,null,{"$f":"bksingh!$ADB$8","v":""},null,null,null,{"$f":"bksingh!$ADB$8","v":""},null,null,null,{"$f":"bksingh!$ADB$8","v":""},null,null,null,{"$f":"bksingh!$ADB$8","v":""},null,null,null,{"$f":"bksingh!$ADB$8","v":""},null,null,null,{"$f":"bksingh!$ADB$8","v":""},null,null,null,{"$f":"bksingh!$ADB$8","v":""},null,null,null,{"$f":"bksingh!$ADB$8","v":""},null,null,null,{"$f":"bksingh!$ADB$8","v":""},null,null,null,{"$f":"bksingh!$ADB$8","v":""},null,null,null,{"$f":"bksingh!$ADB$8","v":""},null,null,null,{"$f":"bksingh!$ADB$8","v":""},null,null,null,{"$f":"bksingh!$ADB$8","v":""},null,null,null,{"$f":"bksingh!$ADB$8","v":""},null,null,null,{"$f":"bksingh!$ADB$8","v":""},null,null,null,{"$f":"bksingh!$ADB$8","v":""},null,null,null,{"$f":"bksingh!$ADB$8","v":""},null,null,null,{"$f":"bksingh!$ADB$8","v":""},null,null,null,{"$f":"bksingh!$ADB$8","v":""},null,null,null,{"$f":"bksingh!$ADB$8","v":""},null,null,null,{"$f":"bksingh!$ADB$8","v":""},null,null,null,{"$f":"bksingh!$ADB$8","v":""},null,null,null,{"$f":"bksingh!$ADB$8","v":""},null,null,null,{"$f":"bksingh!$ADB$8","v":""},null,null,null,{"$f":"bksingh!$ADB$8","v":""},null,null,null,{"$f":"bksingh!$ADB$8","v":""},null,null,null,{"$f":"bksingh!$ADB$8","v":""},null,null,null,{"$f":"bksingh!$ADB$8","v":""},null,null,null,{"$f":"bksingh!$ADB$8","v":""},null,null,null,{"$f":"bksingh!$ADB$8","v":""},null,null,null,{"$f":"bksingh!$ADB$8","v":""},null,null,null,{"$f":"bksingh!$ADB$8","v":""},null,null,null,{"$f":"bksingh!$ADB$8","v":""},null,null,null,{"$f":"bksingh!$ADB$8","v":""},null,null,null,{"$f":"bksingh!$ADB$8","v":""},null,null,null,{"$f":"bksingh!$ADB$8","v":""},null,null,null,{"$f":"bksingh!$ADB$8","v":""},null,null,null,{"$f":"bksingh!$ADB$8","v":""},null,null,null,{"$f":"bksingh!$ADB$8","v":""},null,null,null,{"$f":"bksingh!$ADB$8","v":""},null,null,null,{"$f":"bksingh!$ADB$8","v":""},null,null,null,{"$f":"bksingh!$ADB$8","v":""},null,null,null,{"$f":"bksingh!$ADB$8","v":""},null,null,null,{"$f":"bksingh!$ADB$8","v":""},null,null,null,{"$f":"bksingh!$ADB$8","v":""},null,null,null,{"$f":"bksingh!$ADB$8","v":""},null,null,null,{"$f":"bksingh!$ADB$8","v":""},null,null,null,{"$f":"bksingh!$ADB$8","v":""},null,null,null,{"$f":"bksingh!$ADB$8","v":""},null,null,null,{"$f":"bksingh!$ADB$8","v":""},null,null,null,{"$f":"bksingh!$ADB$8","v":""},null,null,null,{"$f":"bksingh!$ADB$8","v":""},null,null,null,{"$f":"bksingh!$ADB$8","v":""},null,null,null,{"$f":"bksingh!$ADB$8","v":""},null,null,null,{"$f":"bksingh!$ADB$8","v":""},null,null,null,{"$f":"bksingh!$ADB$8","v":""},null,null,null,{"$f":"bksingh!$ADB$8","v":""},null,null,null,{"$f":"bksingh!$ADB$8","v":""},null,null,null,{"$f":"bksingh!$ADB$8","v":""},null,null,null,{"$f":"bksingh!$ADB$8","v":""},null,null,null,{"$f":"bksingh!$ADB$8","v":""},null,null,null,{"$f":"bksingh!$ADB$8","v":""},null,null,null,{"$f":"bksingh!$ADB$8","v":""},null,null,null,{"$f":"bksingh!$ADB$8","v":""},null,null,null,{"$f":"bksingh!$ADB$8","v":""},null,null,null,{"$f":"bksingh!$ADB$8","v":""},null,null,null,{"$f":"bksingh!$ADB$8","v":""},null,null,null,{"$f":"bksingh!$ADB$8","v":""},null,null,null,{"$f":"bksingh!$ADB$8","v":""},null,null,null,{"$f":"bksingh!$ADB$8","v":""},null,null,null,{"$f":"bksingh!$ADB$8","v":""},null,null,null,{"$f":"bksingh!$ADB$8","v":""},null,null,null,{"$f":"bksingh!$ADB$8","v":""},null,null,null,{"$f":"bksingh!$ADB$8","v":""},null,null,null,{"$f":"bksingh!$ADB$8","v":""},null,null,null,{"$f":"bksingh!$ADB$8","v":""},null,null,null,{"$f":"bksingh!$ADB$8","v":""},null,null,null,{"$f":"bksingh!$ADB$8","v":""},null,null,null,{"$f":"bksingh!$ADB$8","v":""},null,null,null,{"$f":"bksingh!$ADB$8","v":""},null,null,null,{"$f":"bksingh!$ADB$8","v":""},null,null,null,{"$f":"bksingh!$ADB$8","v":""},null,null,null,{"$f":"bksingh!$ADB$8","v":""},null,null,null,{"$f":"bksingh!$ADB$8","v":""},null,null,null,{"$f":"bksingh!$ADB$8","v":""},null,null,null,{"$f":"bksingh!$ADB$8","v":""},null,null,null,{"$f":"bksingh!$ADB$8","v":""},null,null,null,{"$f":"bksingh!$ADB$8","v":""},null,null,null,{"$f":"bksingh!$ADB$8","v":""},null,null,null,{"$f":"bksingh!$ADB$8","v":""},null,null,null,{"$f":"bksingh!$ADB$8","v":""},null,null,null,{"$f":"bksingh!$ADB$8","v":""},null,null,null,{"$f":"bksingh!$ADB$8","v":""},null,null,null,{"$f":"bksingh!$ADB$8","v":""},null,null,null,{"$f":"bksingh!$ADB$8","v":""},null,null,null,{"$f":"bksingh!$ADB$8","v":""},null,null,null,{"$f":"bksingh!$ADB$8","v":""},null,null,null,{"$f":"bksingh!$ADB$8","v":""},null,null,null,{"$f":"bksingh!$ADB$8","v":""},null,null,null,{"$f":"bksingh!$ADB$8","v":""},null,null,null,{"$f":"bksingh!$ADB$8","v":""},null,null,null,{"$f":"bksingh!$ADB$8","v":""},null,null,null,{"$f":"bksingh!$ADB$8","v":""},null,null,null,{"$f":"bksingh!$ADB$8","v":""},null,null,null,{"$f":"bksingh!$ADB$8","v":""},null,null,null,{"$f":"bksingh!$ADB$8","v":""},null,null,null,{"$f":"bksingh!$ADB$8","v":""},null,null,null,{"$f":"bksingh!$ADB$8","v":""},null,null,null,{"$f":"bksingh!$ADB$8","v":""},null,null,null,{"$f":"bksingh!$ADB$8","v":""},null,null,null,{"$f":"bksingh!$ADB$8","v":""},null,null,null,{"$f":"bksingh!$ADB$8","v":""},null,null,null,{"$f":"bksingh!$ADB$8","v":""},null,null,null,{"$f":"bksingh!$ADB$8","v":""},null,null,null,{"$f":"bksingh!$ADB$8","v":""},null,null,null,{"$f":"bksingh!$ADB$8","v":""},null,null,null,{"$f":"bksingh!$ADB$8","v":""},null,null,null,{"$f":"bksingh!$ADB$8","v":""},null,null,null,{"$f":"bksingh!$ADB$8","v":""},null,null,null,{"$f":"bksingh!$ADB$8","v":""},null,null,null,{"$f":"bksingh!$ADB$8","v":""},null,null,null,{"$f":"bksingh!$ADB$8","v":""},null,null,null,{"$f":"bksingh!$ADB$8","v":""},null,null,null,{"$f":"bksingh!$ADB$8","v":""},null,null,null,{"$f":"bksingh!$ADB$8","v":""},null,null,null,{"$f":"bksingh!$ADB$8","v":""},null,null,null,{"$f":"bksingh!$ADB$8","v":""},null,null,null,{"$f":"bksingh!$ADB$8","v":""},null,null,null,{"$f":"bksingh!$ADB$8","v":""},null,null,null,{"$f":"bksingh!$ADB$8","v":""},null,null,null,{"$f":"bksingh!$ADB$8","v":""},null,null,null,{"$f":"bksingh!$ADB$8","v":""},null,null,null,{"$f":"bksingh!$ADB$8","v":""},null,null,null,{"$f":"bksingh!$ADB$8","v":""},null,null,null,{"$f":"bksingh!$ADB$8","v":""},null,null,null,{"$f":"bksingh!$ADB$8","v":""},null,null,null,{"$f":"bksingh!$ADB$8","v":""},null,null,null,{"$f":"bksingh!$ADB$8","v":""},null,null,null,{"$f":"bksingh!$ADB$8","v":""},null,null,null,{"$f":"bksingh!$ADB$8","v":""},null,null,null,{"$f":"bksingh!$ADB$8","v":""},null,null,null,{"$f":"bksingh!$ADB$8","v":""},null,null,null,{"$f":"bksingh!$ADB$8","v":""},null,null,null,{"$f":"bksingh!$ADB$8","v":""},null,null,null,{"$f":"bksingh!$ADB$8","v":""},null,null,null,{"$f":"bksingh!$ADB$8","v":""},null,null,null,{"$f":"bksingh!$ADB$8","v":""},null,null,null,{"$f":"bksingh!$ADB$8","v":""},null,null,null,{"$f":"bksingh!$ADB$8","v":""},null,null,null,{"$f":"bksingh!$ADB$8","v":""},null,null,null,{"$f":"bksingh!$ADB$8","v":""},null,null,null,{"$f":"bksingh!$ADB$8","v":""},null,null,null,{"$f":"bksingh!$ADB$8","v":""},null,null,null,{"$f":"bksingh!$ADB$8","v":""},null,null,null,{"$f":"bksingh!$ADB$8","v":""},null,null,null,{"$f":"bksingh!$ADB$8","v":""},null,null,null,{"$f":"bksingh!$ADB$8","v":""},null,null,null,{"$f":"bksingh!$ADB$8","v":""},null,null,null,{"$f":"bksingh!$ADB$8","v":""},null,null,null,{"$f":"bksingh!$ADB$8","v":""},null,null,null,{"$f":"bksingh!$ADB$8","v":""},null,null,null,{"$f":"bksingh!$ADB$8","v":""},null,null,null,{"$f":"bksingh!$ADB$8","v":""},null,null,null,{"$f":"bksingh!$ADB$8","v":""},null,null,null,{"$f":"bksingh!$ADB$8","v":""},null,null,null,{"$f":"bksingh!$ADB$8","v":""},null,null,null,{"$f":"bksingh!$ADB$8","v":""},null,null,null,{"$f":"bksingh!$ADB$8","v":""},null,null,null,{"$f":"bksingh!$ADB$8","v":""},null,null,null,{"$f":"bksingh!$ADB$8","v":""},null,null,null,{"$f":"bksingh!$ADB$8","v":""},null,null,null,{"$f":"bksingh!$ADB$8","v":""},null,null,null,{"$f":"bksingh!$ADB$8","v":""},null,null,null,{"$f":"bksingh!$ADB$8","v":""},null,null,null,{"$f":"bksingh!$ADB$8","v":""},null,null,null,{"$f":"bksingh!$ADB$8","v":""},null,null,null,{"$f":"bksingh!$ADB$8","v":""},null,null,null,{"$f":"bksingh!$ADB$8","v":""},null,null,null,{"$f":"bksingh!$ADB$8","v":""},null,null,null,{"$f":"bksingh!$ADB$8","v":""},null,null,null,{"$f":"bksingh!$ADB$8","v":""},null,null,null,{"$f":"bksingh!$ADB$8","v":""},null,null,null,{"$f":"bksingh!$ADB$8","v":""},null,null,null,{"$f":"bksingh!$ADB$8","v":""},null,null,null,{"$f":"bksingh!$ADB$8","v":""},null,null,null,{"$f":"bksingh!$ADB$8","v":""},null,null,null,{"$f":"bksingh!$ADB$8","v":""},null,null,null,{"$f":"bksingh!$ADB$8","v":""},null,null,null,{"$f":"bksingh!$ADB$8","v":""},null,null,null,{"$f":"bksingh!$ADB$8","v":""},null,null,null,{"$f":"bksingh!$ADB$8","v":""},null,null,null,{"$f":"bksingh!$ADB$8","v":""},null,null,null,{"$f":"bksingh!$ADB$8","v":""},null,null,null,{"$f":"bksingh!$ADB$8","v":""},null,null,null,{"$f":"bksingh!$ADB$8","v":""},null,null,null,{"$f":"bksingh!$ADB$8","v":""},null,null,null,{"$f":"bksingh!$ADB$8","v":""},null,null,null,{"$f":"bksingh!$ADB$8","v":""},null,null,null,{"$f":"bksingh!$ADB$8","v":""},null,null,null,{"$f":"bksingh!$ADB$8","v":""},null,null,null,{"$f":"bksingh!$ADB$8","v":""},null,null,null,{"$f":"bksingh!$ADB$8","v":""},null,null,null,{"$f":"bksingh!$ADB$8","v":""},null,null,null,{"$f":"bksingh!$ADB$8","v":""},null,null,null,{"$f":"bksingh!$ADB$8","v":""},null,null,null,{"$f":"bksingh!$ADB$8","v":""},null,null,null,{"$f":"bksingh!$ADB$8","v":""},null,null,null,{"$f":"bksingh!$ADB$8","v":""},null,null,null,{"$f":"bksingh!$ADB$8","v":""},null,null,null,{"$f":"bksingh!$ADB$8","v":""},null,null,null,{"$f":"bksingh!$ADB$8","v":""},null,null,null,{"$f":"bksingh!$ADB$8","v":""},null,null,null,{"$f":"bksingh!$ADB$8","v":""},null,null,null,{"$f":"bksingh!$ADB$8","v":""},null,null,null,{"$f":"bksingh!$ADB$8","v":""},null,null,null,{"$f":"bksingh!$ADB$8","v":""},null,null,null,{"$f":"bksingh!$ADB$8","v":""},null,null,null,{"$f":"bksingh!$ADB$8","v":""},null,null,null,{"$f":"bksingh!$ADB$8","v":""},null,null,null,{"$f":"bksingh!$ADB$8","v":""},null,null,null,{"$f":"bksingh!$ADB$8","v":""},null,null,null,{"$f":"bksingh!$ADB$8","v":""},null,null,null,{"$f":"bksingh!$ADB$8","v":""},null,null,null,{"$f":"bksingh!$ADB$8","v":""},null,null,null,{"$f":"bksingh!$ADB$8","v":""},null,null,null,{"$f":"bksingh!$ADB$8","v":""},null,null,null,{"$f":"bksingh!$ADB$8","v":""},null,null,null,{"$f":"bksingh!$ADB$8","v":""},null,null,null,{"$f":"bksingh!$ADB$8","v":""},null,null,null,{"$f":"bksingh!$ADB$8","v":""},null,null,null,{"$f":"bksingh!$ADB$8","v":""},null,null,null,{"$f":"bksingh!$ADB$8","v":""},null,null,null,{"$f":"bksingh!$ADB$8","v":""},null,null,null,{"$f":"bksingh!$ADB$8","v":""},null,null,null,{"$f":"bksingh!$ADB$8","v":""},null,null,null,{"$f":"bksingh!$ADB$8","v":""},null,null,null,{"$f":"bksingh!$ADB$8","v":""},null,null,null,{"$f":"bksingh!$ADB$8","v":""},null,null,null,{"$f":"bksingh!$ADB$8","v":""},null,null,null,{"$f":"bksingh!$ADB$8","v":""},null,null,null,{"$f":"bksingh!$ADB$8","v":""},null,null,null,{"$f":"bksingh!$ADB$8","v":""},null,null,null,{"$f":"bksingh!$ADB$8","v":""},null,null,null,{"$f":"bksingh!$ADB$8","v":""},null,null,null,{"$f":"bksingh!$ADB$8","v":""},null,null,null,{"$f":"bksingh!$ADB$8","v":""},null,null,null,{"$f":"bksingh!$ADB$8","v":""},null,null,null,{"$f":"bksingh!$ADB$8","v":""},null,null,null,{"$f":"bksingh!$ADB$8","v":""},null,null,null,{"$f":"bksingh!$ADB$8","v":""},null,null,null,{"$f":"bksingh!$ADB$8","v":""},null,null,null,{"$f":"bksingh!$ADB$8","v":""},null,null,null,{"$f":"bksingh!$ADB$8","v":""},null,null,null,{"$f":"bksingh!$ADB$8","v":""},null,null,null,{"$f":"bksingh!$ADB$8","v":""},null,null,null,{"$f":"bksingh!$ADB$8","v":""},null,null,null,{"$f":"bksingh!$ADB$8","v":""},null,null,null,{"$f":"bksingh!$ADB$8","v":""},null,null,null,{"$f":"bksingh!$ADB$8","v":""},null,null,null,{"$f":"bksingh!$ADB$8","v":""},null,null,null,{"$f":"bksingh!$ADB$8","v":""},null,null,null,{"$f":"bksingh!$ADB$8","v":""},null,null,null,{"$f":"bksingh!$ADB$8","v":""},null,null,null,{"$f":"bksingh!$ADB$8","v":""},null,null,null,{"$f":"bksingh!$ADB$8","v":""},null,null,null,{"$f":"bksingh!$ADB$8","v":""},null,null,null,{"$f":"bksingh!$ADB$8","v":""},null,null,null,{"$f":"bksingh!$ADB$8","v":""},null,null,null,{"$f":"bksingh!$ADB$8","v":""},null,null,null,{"$f":"bksingh!$ADB$8","v":""},null,null,null,{"$f":"bksingh!$ADB$8","v":""},null,null,null,{"$f":"bksingh!$ADB$8","v":""},null,null,null,{"$f":"bksingh!$ADB$8","v":""},null,null,null,{"$f":"bksingh!$ADB$8","v":""},null,null,null,{"$f":"bksingh!$ADB$8","v":""},null,null,null,{"$f":"bksingh!$ADB$8","v":""},null,null,null,{"$f":"bksingh!$ADB$8","v":""},null,null,null,{"$f":"bksingh!$ADB$8","v":""},null,null,null,{"$f":"bksingh!$ADB$8","v":""},null,null,null,{"$f":"bksingh!$ADB$8","v":""},null,null,null,{"$f":"bksingh!$ADB$8","v":""},null,null,null,{"$f":"bksingh!$ADB$8","v":""},null,null,null,{"$f":"bksingh!$ADB$8","v":""},null,null,null,{"$f":"bksingh!$ADB$8","v":""},null,null,null,{"$f":"bksingh!$ADB$8","v":""},null,null,null,{"$f":"bksingh!$ADB$8","v":""},null,null,null,{"$f":"bksingh!$ADB$8","v":""},null,null,null,{"$f":"bksingh!$ADB$8","v":""},null,null,null,{"$f":"bksingh!$ADB$8","v":""},null,null,null,{"$f":"bksingh!$ADB$8","v":""},null,null,null,{"$f":"bksingh!$ADB$8","v":""},null,null,null,{"$f":"bksingh!$ADB$8","v":""},null,null,null,{"$f":"bksingh!$ADB$8","v":""},null,null,null,{"$f":"bksingh!$ADB$8","v":""},null,null,null,{"$f":"bksingh!$ADB$8","v":""},null,null,null,{"$f":"bksingh!$ADB$8","v":""},null,null,null,{"$f":"bksingh!$ADB$8","v":""},null,null,null,{"$f":"bksingh!$ADB$8","v":""},null,null,null,{"$f":"bksingh!$ADB$8","v":""},null,null,null,{"$f":"bksingh!$ADB$8","v":""},null,null,null,{"$f":"bksingh!$ADB$8","v":""},null,null,null,{"$f":"bksingh!$ADB$8","v":""},null,null,null,{"$f":"bksingh!$ADB$8","v":""},null,null,null,{"$f":"bksingh!$ADB$8","v":""},null,null,null,{"$f":"bksingh!$ADB$8","v":""},null,null,null,{"$f":"bksingh!$ADB$8","v":""},null,null,null,{"$f":"bksingh!$ADB$8","v":""},null,null,null,{"$f":"bksingh!$ADB$8","v":""},null,null,null,{"$f":"bksingh!$ADB$8","v":""},null,null,null,{"$f":"bksingh!$ADB$8","v":""},null,null,null,{"$f":"bksingh!$ADB$8","v":""},null,null,null,{"$f":"bksingh!$ADB$8","v":""},null,null,null,{"$f":"bksingh!$ADB$8","v":""},null,null,null,{"$f":"bksingh!$ADB$8","v":""},null,null,null,{"$f":"bksingh!$ADB$8","v":""},null,null,null,{"$f":"bksingh!$ADB$8","v":""},null,null,null,{"$f":"bksingh!$ADB$8","v":""},null,null,null,{"$f":"bksingh!$ADB$8","v":""},null,null,null,{"$f":"bksingh!$ADB$8","v":""},null,null,null,{"$f":"bksingh!$ADB$8","v":""},null,null,null,{"$f":"bksingh!$ADB$8","v":""},null,null,null,{"$f":"bksingh!$ADB$8","v":""},null,null,null,{"$f":"bksingh!$ADB$8","v":""},null,null,null,{"$f":"bksingh!$ADB$8","v":""},null,null,null,{"$f":"bksingh!$ADB$8","v":""},null,null,null,{"$f":"bksingh!$ADB$8","v":""},null,null,null,{"$f":"bksingh!$ADB$8","v":""},null,null,null,{"$f":"bksingh!$ADB$8","v":""},null,null,null,{"$f":"bksingh!$ADB$8","v":""},null,null,null,{"$f":"bksingh!$ADB$8","v":""},null,null,null,{"$f":"bksingh!$ADB$8","v":""},null,null,null,{"$f":"bksingh!$ADB$8","v":""},null,null,null,{"$f":"bksingh!$ADB$8","v":""},null,null,null,{"$f":"bksingh!$ADB$8","v":""},null,null,null,{"$f":"bksingh!$ADB$8","v":""},null,null,null,{"$f":"bksingh!$ADB$8","v":""},null,null,null,{"$f":"bksingh!$ADB$8","v":""},null,null,null,{"$f":"bksingh!$ADB$8","v":""},null,null,null,{"$f":"bksingh!$ADB$8","v":""},null,null,null,{"$f":"bksingh!$ADB$8","v":""},null,null,null,{"$f":"bksingh!$ADB$8","v":""},null,null,null,{"$f":"bksingh!$ADB$8","v":""},null,null,null,{"$f":"bksingh!$ADB$8","v":""},null,null,null,{"$f":"bksingh!$ADB$8","v":""},null,null,null,{"$f":"bksingh!$ADB$8","v":""},null,null,null,{"$f":"bksingh!$ADB$8","v":""},null,null,null,{"$f":"bksingh!$ADB$8","v":""},null,null,null,{"$f":"bksingh!$ADB$8","v":""},null,null,null,{"$f":"bksingh!$ADB$8","v":""},null,null,null,{"$f":"bksingh!$ADB$8","v":""},null,null,null,{"$f":"bksingh!$ADB$8","v":""},null,null,null,{"$f":"bksingh!$ADB$8","v":""},null,null,null,{"$f":"bksingh!$ADB$8","v":""},null,null,null,{"$f":"bksingh!$ADB$8","v":""},null,null,null,{"$f":"bksingh!$ADB$8","v":""},null,null,null,{"$f":"bksingh!$ADB$8","v":""},null,null,null,{"$f":"bksingh!$ADB$8","v":""},null,null,null,{"$f":"bksingh!$ADB$8","v":""},null,null,null,{"$f":"bksingh!$ADB$8","v":""},null,null,null,{"$f":"bksingh!$ADB$8","v":""},null,null,null,{"$f":"bksingh!$ADB$8","v":""},null,null,null,{"$f":"bksingh!$ADB$8","v":""},null,null,null,{"$f":"bksingh!$ADB$8","v":""},null,null,null,{"$f":"bksingh!$ADB$8","v":""},null,null,null,{"$f":"bksingh!$ADB$8","v":""},null,null,null,{"$f":"bksingh!$ADB$8","v":""},null,null,null,{"$f":"bksingh!$ADB$8","v":""},null,null,null,{"$f":"bksingh!$ADB$8","v":""},null,null,null,{"$f":"bksingh!$ADB$8","v":""},null,null,null,{"$f":"bksingh!$ADB$8","v":""},null,null,null,{"$f":"bksingh!$ADB$8","v":""},null,null,null,{"$f":"bksingh!$ADB$8","v":""},null,null,null,{"$f":"bksingh!$ADB$8","v":""},null,null,null,{"$f":"bksingh!$ADB$8","v":""},null,null,null,{"$f":"bksingh!$ADB$8","v":""},null,null,null,{"$f":"bksingh!$ADB$8","v":""},null,null,null,{"$f":"bksingh!$ADB$8","v":""},null,null,null,{"$f":"bksingh!$ADB$8","v":""},null,null,null,{"$f":"bksingh!$ADB$8","v":""},null,null,null,{"$f":"bksingh!$ADB$8","v":""},null,null,null,{"$f":"bksingh!$ADB$8","v":""},null,null,null,{"$f":"bksingh!$ADB$8","v":""},null,null,null,{"$f":"bksingh!$ADB$8","v":""},null,null,null,{"$f":"bksingh!$ADB$8","v":""},null,null,null,{"$f":"bksingh!$ADB$8","v":""},null,null,null,{"$f":"bksingh!$ADB$8","v":""},null,null,null,{"$f":"bksingh!$ADB$8","v":""},null,null,null,{"$f":"bksingh!$ADB$8","v":""},null,null,null,{"$f":"bksingh!$ADB$8","v":""},null,null,null,{"$f":"bksingh!$ADB$8","v":""},null,null,null,{"$f":"bksingh!$ADB$8","v":""},null,null,null,{"$f":"bksingh!$ADB$8","v":""},null,null,null,{"$f":"bksingh!$ADB$8","v":""},null,null,null,{"$f":"bksingh!$ADB$8","v":""},null,null,null,{"$f":"bksingh!$ADB$8","v":""},null,null,null,{"$f":"bksingh!$ADB$8","v":""},null,null,null,{"$f":"bksingh!$ADB$8","v":""},null,null,null,{"$f":"bksingh!$ADB$8","v":""},null,null,null,{"$f":"bksingh!$ADB$8","v":""},null,null,null,{"$f":"bksingh!$ADB$8","v":""},null,null,null,{"$f":"bksingh!$ADB$8","v":""},null,null,null,{"$f":"bksingh!$ADB$8","v":""},null,null,null,{"$f":"bksingh!$ADB$8","v":""},null,null,null,{"$f":"bksingh!$ADB$8","v":""},null,null,null,{"$f":"bksingh!$ADB$8","v":""},null,null,null,{"$f":"bksingh!$ADB$8","v":""},null,null,null,{"$f":"bksingh!$ADB$8","v":""},null,null,null,{"$f":"bksingh!$ADB$8","v":""},null,null,null,{"$f":"bksingh!$ADB$8","v":""},null,null,null,{"$f":"bksingh!$ADB$8","v":""},null,null,null,{"$f":"bksingh!$ADB$8","v":""},null,null,null,{"$f":"bksingh!$ADB$8","v":""},null,null,null,{"$f":"bksingh!$ADB$8","v":""},null,null,null,{"$f":"bksingh!$ADB$8","v":""},null,null,null,{"$f":"bksingh!$ADB$8","v":""},null,null,null,{"$f":"bksingh!$ADB$8","v":""},null,null,null,{"$f":"bksingh!$ADB$8","v":""},null,null,null,{"$f":"bksingh!$ADB$8","v":""},null,null,null,{"$f":"bksingh!$ADB$8","v":""},null,null,null,{"$f":"bksingh!$ADB$8","v":""},null,null,null,{"$f":"bksingh!$ADB$8","v":""},null,null,null,{"$f":"bksingh!$ADB$8","v":""},null,null,null,{"$f":"bksingh!$ADB$8","v":""},null,null,null,{"$f":"bksingh!$ADB$8","v":""},null,null,null,{"$f":"bksingh!$ADB$8","v":""},null,null,null,{"$f":"bksingh!$ADB$8","v":""},null,null,null,{"$f":"bksingh!$ADB$8","v":""},null,null,null,{"$f":"bksingh!$ADB$8","v":""},null,null,null,{"$f":"bksingh!$ADB$8","v":""},null,null,null,{"$f":"bksingh!$ADB$8","v":""},null,null,null,{"$f":"bksingh!$ADB$8","v":""},null,null,null,{"$f":"bksingh!$ADB$8","v":""},null,null,null,{"$f":"bksingh!$ADB$8","v":""},null,null,null,{"$f":"bksingh!$ADB$8","v":""},null,null,null,{"$f":"bksingh!$ADB$8","v":""},null,null,null,{"$f":"bksingh!$ADB$8","v":""},null,null,null,{"$f":"bksingh!$ADB$8","v":""},null,null,null,{"$f":"bksingh!$ADB$8","v":""},null,null,null,{"$f":"bksingh!$ADB$8","v":""},null,null,null,{"$f":"bksingh!$ADB$8","v":""},null,null,null,{"$f":"bksingh!$ADB$8","v":""},null,null,null,{"$f":"bksingh!$ADB$8","v":""},null,null,null,{"$f":"bksingh!$ADB$8","v":""},null,null,null,{"$f":"bksingh!$ADB$8","v":""},null,null,null,{"$f":"bksingh!$ADB$8","v":""},null,null,null,{"$f":"bksingh!$ADB$8","v":""},null,null,null,{"$f":"bksingh!$ADB$8","v":""},null,null,null,{"$f":"bksingh!$ADB$8","v":""},null,null,null,{"$f":"bksingh!$ADB$8","v":""},null,null,null,{"$f":"bksingh!$ADB$8","v":""},null,null,null,{"$f":"bksingh!$ADB$8","v":""},null,null,null,{"$f":"bksingh!$ADB$8","v":""},null,null,null,{"$f":"bksingh!$ADB$8","v":""},null,null,null,{"$f":"bksingh!$ADB$8","v":""},null,null,null,{"$f":"bksingh!$ADB$8","v":""},null,null,null,{"$f":"bksingh!$ADB$8","v":""},null,null,null,{"$f":"bksingh!$ADB$8","v":""},null,null,null,{"$f":"bksingh!$ADB$8","v":""},null,null,null,{"$f":"bksingh!$ADB$8","v":""},null,null,null,{"$f":"bksingh!$ADB$8","v":""},null,null,null,{"$f":"bksingh!$ADB$8","v":""},null,null,null,{"$f":"bksingh!$ADB$8","v":""},null,null,null,{"$f":"bksingh!$ADB$8","v":""},null,null,null,{"$f":"bksingh!$ADB$8","v":""},null,null,null,{"$f":"bksingh!$ADB$8","v":""},null,null,null,{"$f":"bksingh!$ADB$8","v":""},null,null,null,{"$f":"bksingh!$ADB$8","v":""},null,null,null,{"$f":"bksingh!$ADB$8","v":""},null,null,null,{"$f":"bksingh!$ADB$8","v":""},null,null,null,{"$f":"bksingh!$ADB$8","v":""},null,null,null,{"$f":"bksingh!$ADB$8","v":""},null,null,null,{"$f":"bksingh!$ADB$8","v":""},null,null,null,{"$f":"bksingh!$ADB$8","v":""},null,null,null,{"$f":"bksingh!$ADB$8","v":""},null,null,null,{"$f":"bksingh!$ADB$8","v":""},null,null,null,{"$f":"bksingh!$ADB$8","v":""},null,null,null,{"$f":"bksingh!$ADB$8","v":""},null,null,null,{"$f":"bksingh!$ADB$8","v":""},null,null,null,{"$f":"bksingh!$ADB$8","v":""},null,null,null,{"$f":"bksingh!$ADB$8","v":""},null,null,null,{"$f":"bksingh!$ADB$8","v":""},null,null,null,{"$f":"bksingh!$ADB$8","v":""},null,null,null,{"$f":"bksingh!$ADB$8","v":""},null,null,null,{"$f":"bksingh!$ADB$8","v":""},null,null,null,{"$f":"bksingh!$ADB$8","v":""},null,null,null,{"$f":"bksingh!$ADB$8","v":""},null,null,null,{"$f":"bksingh!$ADB$8","v":""},null,null,null,{"$f":"bksingh!$ADB$8","v":""},null,null,null,{"$f":"bksingh!$ADB$8","v":""},null,null,null,{"$f":"bksingh!$ADB$8","v":""},null,null,null,{"$f":"bksingh!$ADB$8","v":""},null,null,null,{"$f":"bksingh!$ADB$8","v":""},null,null,null,{"$f":"bksingh!$ADB$8","v":""},null,null,null,{"$f":"bksingh!$ADB$8","v":""},null,null,null,{"$f":"bksingh!$ADB$8","v":""},null,null,null,{"$f":"bksingh!$ADB$8","v":""},null,null,null,{"$f":"bksingh!$ADB$8","v":""},null,null,null,{"$f":"bksingh!$ADB$8","v":""},null,null,null,{"$f":"bksingh!$ADB$8","v":""},null,null,null,{"$f":"bksingh!$ADB$8","v":""},null,null,null,{"$f":"bksingh!$ADB$8","v":""},null,null,null,{"$f":"bksingh!$ADB$8","v":""},null,null,null,{"$f":"bksingh!$ADB$8","v":""},null,null,null,{"$f":"bksingh!$ADB$8","v":""},null,null,null,{"$f":"bksingh!$ADB$8","v":""},null,null,null,{"$f":"bksingh!$ADB$8","v":""},null,null,null,{"$f":"bksingh!$ADB$8","v":""},null,null,null,{"$f":"bksingh!$ADB$8","v":""},null,null,null,{"$f":"bksingh!$ADB$8","v":""},null,null,null,{"$f":"bksingh!$ADB$8","v":""},null,null,null,{"$f":"bksingh!$ADB$8","v":""},null,null,null,{"$f":"bksingh!$ADB$8","v":""},null,null,null,{"$f":"bksingh!$ADB$8","v":""},null,null,null,{"$f":"bksingh!$ADB$8","v":""},null,null,null,{"$f":"bksingh!$ADB$8","v":""},null,null,null,{"$f":"bksingh!$ADB$8","v":""},null,null,null,{"$f":"bksingh!$ADB$8","v":""},null,null,null,{"$f":"bksingh!$ADB$8","v":""},null,null,null,{"$f":"bksingh!$ADB$8","v":""},null,null,null,{"$f":"bksingh!$ADB$8","v":""},null,null,null,{"$f":"bksingh!$ADB$8","v":""},null,null,null,{"$f":"bksingh!$ADB$8","v":""},null,null,null,{"$f":"bksingh!$ADB$8","v":""},null,null,null,{"$f":"bksingh!$ADB$8","v":""},null,null,null,{"$f":"bksingh!$ADB$8","v":""},null,null,null,{"$f":"bksingh!$ADB$8","v":""},null,null,null,{"$f":"bksingh!$ADB$8","v":""},null,null,null,{"$f":"bksingh!$ADB$8","v":""},null,null,null,{"$f":"bksingh!$ADB$8","v":""},null,null,null,{"$f":"bksingh!$ADB$8","v":""},null,null,null,{"$f":"bksingh!$ADB$8","v":""},null,null,null,{"$f":"bksingh!$ADB$8","v":""},null,null,null,{"$f":"bksingh!$ADB$8","v":""},null,null,null,{"$f":"bksingh!$ADB$8","v":""},null,null,null,{"$f":"bksingh!$ADB$8","v":""},null,null,null,{"$f":"bksingh!$ADB$8","v":""},null,null,null,{"$f":"bksingh!$ADB$8","v":""},null,null,null,{"$f":"bksingh!$ADB$8","v":""},null,null,null,{"$f":"bksingh!$ADB$8","v":""},null,null,null,{"$f":"bksingh!$ADB$8","v":""},null,null,null,{"$f":"bksingh!$ADB$8","v":""},null,null,null,{"$f":"bksingh!$ADB$8","v":""},null,null,null,{"$f":"bksingh!$ADB$8","v":""},null,null,null,{"$f":"bksingh!$ADB$8","v":""},null,null,null,{"$f":"bksingh!$ADB$8","v":""},null,null,null,{"$f":"bksingh!$ADB$8","v":""},null,null,null,{"$f":"bksingh!$ADB$8","v":""},null,null,null,{"$f":"bksingh!$ADB$8","v":""},null,null,null,{"$f":"bksingh!$ADB$8","v":""},null,null,null,{"$f":"bksingh!$ADB$8","v":""},null,null,null,{"$f":"bksingh!$ADB$8","v":""},null,null,null,{"$f":"bksingh!$ADB$8","v":""},null,null,null,{"$f":"bksingh!$ADB$8","v":""},null,null,null,{"$f":"bksingh!$ADB$8","v":""},null,null,null,{"$f":"bksingh!$ADB$8","v":""},null,null,null,{"$f":"bksingh!$ADB$8","v":""},null,null,null,{"$f":"bksingh!$ADB$8","v":""},null,null,null,{"$f":"bksingh!$ADB$8","v":""},null,null,null,{"$f":"bksingh!$ADB$8","v":""},null,null,null,{"$f":"bksingh!$ADB$8","v":""},null,null,null,{"$f":"bksingh!$ADB$8","v":""},null,null,null,{"$f":"bksingh!$ADB$8","v":""},null,null,null,{"$f":"bksingh!$ADB$8","v":""},null,null,null,{"$f":"bksingh!$ADB$8","v":""},null,null,null,{"$f":"bksingh!$ADB$8","v":""},null,null,null,{"$f":"bksingh!$ADB$8","v":""},null,null,null,{"$f":"bksingh!$ADB$8","v":""},null,null,null,{"$f":"bksingh!$ADB$8","v":""},null,null,null,{"$f":"bksingh!$ADB$8","v":""},null,null,null,{"$f":"bksingh!$ADB$8","v":""},null,null,null,{"$f":"bksingh!$ADB$8","v":""},null,null,null,{"$f":"bksingh!$ADB$8","v":""},null,null,null,{"$f":"bksingh!$ADB$8","v":""},null,null,null,{"$f":"bksingh!$ADB$8","v":""},null,null,null,{"$f":"bksingh!$ADB$8","v":""},null,null,null,{"$f":"bksingh!$ADB$8","v":""},null,null,null,{"$f":"bksingh!$ADB$8","v":""},null,null,null,{"$f":"bksingh!$ADB$8","v":""},null,null,null,{"$f":"bksingh!$ADB$8","v":""},null,null,null,{"$f":"bksingh!$ADB$8","v":""},null,null,null,{"$f":"bksingh!$ADB$8","v":""},null,null,null,{"$f":"bksingh!$ADB$8","v":""},null,null,null,{"$f":"bksingh!$ADB$8","v":""},null,null,null,{"$f":"bksingh!$ADB$8","v":""},null,null,null,{"$f":"bksingh!$ADB$8","v":""},null,null,null,{"$f":"bksingh!$ADB$8","v":""},null,null,null,{"$f":"bksingh!$ADB$8","v":""},null,null,null,{"$f":"bksingh!$ADB$8","v":""},null,null,null,{"$f":"bksingh!$ADB$8","v":""},null,null,null,{"$f":"bksingh!$ADB$8","v":""},null,null,null,{"$f":"bksingh!$ADB$8","v":""},null,null,null,{"$f":"bksingh!$ADB$8","v":""},null,null,null,{"$f":"bksingh!$ADB$8","v":""},null,null,null,{"$f":"bksingh!$ADB$8","v":""},null,null,null,{"$f":"bksingh!$ADB$8","v":""},null,null,null,{"$f":"bksingh!$ADB$8","v":""},null,null,null,{"$f":"bksingh!$ADB$8","v":""},null,null,null,{"$f":"bksingh!$ADB$8","v":""},null,null,null,{"$f":"bksingh!$ADB$8","v":""},null,null,null,{"$f":"bksingh!$ADB$8","v":""},null,null,null,{"$f":"bksingh!$ADB$8","v":""},null,null,null,{"$f":"bksingh!$ADB$8","v":""},null,null,null,{"$f":"bksingh!$ADB$8","v":""},null,null,null,{"$f":"bksingh!$ADB$8","v":""},null,null,null,{"$f":"bksingh!$ADB$8","v":""},null,null,null,{"$f":"bksingh!$ADB$8","v":""},null,null,null,{"$f":"bksingh!$ADB$8","v":""},null,null,null,{"$f":"bksingh!$ADB$8","v":""},null,null,null,{"$f":"bksingh!$ADB$8","v":""},null,null,null,{"$f":"bksingh!$ADB$8","v":""},null,null,null,{"$f":"bksingh!$ADB$8","v":""},null,null,null,{"$f":"bksingh!$ADB$8","v":""},null,null,null,{"$f":"bksingh!$ADB$8","v":""},null,null,null,{"$f":"bksingh!$ADB$8","v":""},null,null,null,{"$f":"bksingh!$ADB$8","v":""},null,null,null,{"$f":"bksingh!$ADB$8","v":""},null,null,null,{"$f":"bksingh!$ADB$8","v":""},null,null,null,{"$f":"bksingh!$ADB$8","v":""},null,null,null,{"$f":"bksingh!$ADB$8","v":""},null,null,null,{"$f":"bksingh!$ADB$8","v":""},null,null,null,{"$f":"bksingh!$ADB$8","v":""},null,null,null,{"$f":"bksingh!$ADB$8","v":""},null,null,null,{"$f":"bksingh!$ADB$8","v":""},null,null,null,{"$f":"bksingh!$ADB$8","v":""},null,null,null,{"$f":"bksingh!$ADB$8","v":""},null,null,null,{"$f":"bksingh!$ADB$8","v":""},null,null,null,{"$f":"bksingh!$ADB$8","v":""},null,null,null,{"$f":"bksingh!$ADB$8","v":""},null,null,null,{"$f":"bksingh!$ADB$8","v":""},null,null,null,{"$f":"bksingh!$ADB$8","v":""},null,null,null,{"$f":"bksingh!$ADB$8","v":""},null,null,null,{"$f":"bksingh!$ADB$8","v":""},null,null,null,{"$f":"bksingh!$ADB$8","v":""},null,null,null,{"$f":"bksingh!$ADB$8","v":""},null,null,null,{"$f":"bksingh!$ADB$8","v":""},null,null,null,{"$f":"bksingh!$ADB$8","v":""},null,null,null,{"$f":"bksingh!$ADB$8","v":""},null,null,null,{"$f":"bksingh!$ADB$8","v":""},null,null,null,{"$f":"bksingh!$ADB$8","v":""},null,null,null,{"$f":"bksingh!$ADB$8","v":""},null,null,null,{"$f":"bksingh!$ADB$8","v":""},null,null,null,{"$f":"bksingh!$ADB$8","v":""},null,null,null,{"$f":"bksingh!$ADB$8","v":""},null,null,null,{"$f":"bksingh!$ADB$8","v":""},null,null,null,{"$f":"bksingh!$ADB$8","v":""},null,null,null,{"$f":"bksingh!$ADB$8","v":""},null,null,null,{"$f":"bksingh!$ADB$8","v":""},null,null,null,{"$f":"bksingh!$ADB$8","v":""},null,null,null,{"$f":"bksingh!$ADB$8","v":""},null,null,null,{"$f":"bksingh!$ADB$8","v":""},null,null,null,{"$f":"bksingh!$ADB$8","v":""},null,null,null,{"$f":"bksingh!$ADB$8","v":""},null,null,null,{"$f":"bksingh!$ADB$8","v":""},null,null,null,{"$f":"bksingh!$ADB$8","v":""},null,null,null,{"$f":"bksingh!$ADB$8","v":""},null,null,null,{"$f":"bksingh!$ADB$8","v":""},null,null,null,{"$f":"bksingh!$ADB$8","v":""},null,null,null,{"$f":"bksingh!$ADB$8","v":""},null,null,null,{"$f":"bksingh!$ADB$8","v":""},null,null,null,{"$f":"bksingh!$ADB$8","v":""},null,null,null,{"$f":"bksingh!$ADB$8","v":""},null,null,null,{"$f":"bksingh!$ADB$8","v":""},null,null,null,{"$f":"bksingh!$ADB$8","v":""},null,null,null,{"$f":"bksingh!$ADB$8","v":""},null,null,null,{"$f":"bksingh!$ADB$8","v":""},null,null,null,{"$f":"bksingh!$ADB$8","v":""},null,null,null,{"$f":"bksingh!$ADB$8","v":""},null,null,null,{"$f":"bksingh!$ADB$8","v":""},null,null,null,{"$f":"bksingh!$ADB$8","v":""},null,null,null,{"$f":"bksingh!$ADB$8","v":""},null,null,null,{"$f":"bksingh!$ADB$8","v":""},null,null,null,{"$f":"bksingh!$ADB$8","v":""},null,null,null,{"$f":"bksingh!$ADB$8","v":""},null,null,null,{"$f":"bksingh!$ADB$8","v":""},null,null,null,{"$f":"bksingh!$ADB$8","v":""},null,null,null,{"$f":"bksingh!$ADB$8","v":""},null,null,null,{"$f":"bksingh!$ADB$8","v":""},null,null,null,{"$f":"bksingh!$ADB$8","v":""},null,null,null,{"$f":"bksingh!$ADB$8","v":""},null,null,null,{"$f":"bksingh!$ADB$8","v":""},null,null,null,{"$f":"bksingh!$ADB$8","v":""},null,null,null,{"$f":"bksingh!$ADB$8","v":""},null,null,null,{"$f":"bksingh!$ADB$8","v":""},null,null,null,{"$f":"bksingh!$ADB$8","v":""},null,null,null,{"$f":"bksingh!$ADB$8","v":""},null,null,null,{"$f":"bksingh!$ADB$8","v":""},null,null,null,{"$f":"bksingh!$ADB$8","v":""},null,null,null,{"$f":"bksingh!$ADB$8","v":""},null,null,null,{"$f":"bksingh!$ADB$8","v":""},null,null,null,{"$f":"bksingh!$ADB$8","v":""},null,null,null,{"$f":"bksingh!$ADB$8","v":""},null,null,null,{"$f":"bksingh!$ADB$8","v":""},null,null,null,{"$f":"bksingh!$ADB$8","v":""},null,null,null,{"$f":"bksingh!$ADB$8","v":""},null,null,null,{"$f":"bksingh!$ADB$8","v":""},null,null,null,{"$f":"bksingh!$ADB$8","v":""},null,null,null,{"$f":"bksingh!$ADB$8","v":""},null,null,null,{"$f":"bksingh!$ADB$8","v":""},null,null,null,{"$f":"bksingh!$ADB$8","v":""},null,null,null,{"$f":"bksingh!$ADB$8","v":""},null,null,null,{"$f":"bksingh!$ADB$8","v":""},null,null,null,{"$f":"bksingh!$ADB$8","v":""},null,null,null,{"$f":"bksingh!$ADB$8","v":""},null,null,null,{"$f":"bksingh!$ADB$8","v":""},null,null,null,{"$f":"bksingh!$ADB$8","v":""},null,null,null,{"$f":"bksingh!$ADB$8","v":""},null,null,null,{"$f":"bksingh!$ADB$8","v":""},null,null,null,{"$f":"bksingh!$ADB$8","v":""},null,null,null,{"$f":"bksingh!$ADB$8","v":""},null,null,null,{"$f":"bksingh!$ADB$8","v":""},null,null,null,{"$f":"bksingh!$ADB$8","v":""},null,null,null,{"$f":"bksingh!$ADB$8","v":""},null,null,null,{"$f":"bksingh!$ADB$8","v":""},null,null,null,{"$f":"bksingh!$ADB$8","v":""},null,null,null,{"$f":"bksingh!$ADB$8","v":""},null,null,null,{"$f":"bksingh!$ADB$8","v":""},null,null,null,{"$f":"bksingh!$ADB$8","v":""},null,null,null,{"$f":"bksingh!$ADB$8","v":""},null,null,null,{"$f":"bksingh!$ADB$8","v":""},null,null,null,{"$f":"bksingh!$ADB$8","v":""},null,null,null,{"$f":"bksingh!$ADB$8","v":""},null,null,null,{"$f":"bksingh!$ADB$8","v":""},null,null,null,{"$f":"bksingh!$ADB$8","v":""},null,null,null,{"$f":"bksingh!$ADB$8","v":""},null,null,null,{"$f":"bksingh!$ADB$8","v":""},null,null,null,{"$f":"bksingh!$ADB$8","v":""},null,null,null,{"$f":"bksingh!$ADB$8","v":""},null,null,null,{"$f":"bksingh!$ADB$8","v":""},null,null,null,{"$f":"bksingh!$ADB$8","v":""},null,null,null,{"$f":"bksingh!$ADB$8","v":""},null,null,null,{"$f":"bksingh!$ADB$8","v":""},null,null,null,{"$f":"bksingh!$ADB$8","v":""},null,null,null,{"$f":"bksingh!$ADB$8","v":""},null,null,null,{"$f":"bksingh!$ADB$8","v":""},null,null,null,{"$f":"bksingh!$ADB$8","v":""},null,null,null,{"$f":"bksingh!$ADB$8","v":""},null,null,null,{"$f":"bksingh!$ADB$8","v":""},null,null,null,{"$f":"bksingh!$ADB$8","v":""},null,null,null,{"$f":"bksingh!$ADB$8","v":""},null,null,null,{"$f":"bksingh!$ADB$8","v":""},null,null,null,{"$f":"bksingh!$ADB$8","v":""},null,null,null,{"$f":"bksingh!$ADB$8","v":""},null,null,null,{"$f":"bksingh!$ADB$8","v":""},null,null,null,{"$f":"bksingh!$ADB$8","v":""},null,null,null,{"$f":"bksingh!$ADB$8","v":""},null,null,null,{"$f":"bksingh!$ADB$8","v":""},null,null,null,{"$f":"bksingh!$ADB$8","v":""},null,null,null,{"$f":"bksingh!$ADB$8","v":""},null,null,null,{"$f":"bksingh!$ADB$8","v":""},null,null,null,{"$f":"bksingh!$ADB$8","v":""},null,null,null,{"$f":"bksingh!$ADB$8","v":""},null,null,null,{"$f":"bksingh!$ADB$8","v":""},null,null,null,{"$f":"bksingh!$ADB$8","v":""},null,null,null,{"$f":"bksingh!$ADB$8","v":""},null,null,null,{"$f":"bksingh!$ADB$8","v":""},null,null,null,{"$f":"bksingh!$ADB$8","v":""},null,null,null,{"$f":"bksingh!$ADB$8","v":""},null,null,null,{"$f":"bksingh!$ADB$8","v":""},null,null,null,{"$f":"bksingh!$ADB$8","v":""},null,null,null,{"$f":"bksingh!$ADB$8","v":""},null,null,null,{"$f":"bksingh!$ADB$8","v":""},null,null,null,{"$f":"bksingh!$ADB$8","v":""},null,null,null,{"$f":"bksingh!$ADB$8","v":""},null,null,null,{"$f":"bksingh!$ADB$8","v":""},null,null,null,{"$f":"bksingh!$ADB$8","v":""},null,null,null,{"$f":"bksingh!$ADB$8","v":""},null,null,null,{"$f":"bksingh!$ADB$8","v":""},null,null,null,{"$f":"bksingh!$ADB$8","v":""},null,null,null,{"$f":"bksingh!$ADB$8","v":""},null,null,null,{"$f":"bksingh!$ADB$8","v":""},null,null,null,{"$f":"bksingh!$ADB$8","v":""},null,null,null,{"$f":"bksingh!$ADB$8","v":""},null,null,null,{"$f":"bksingh!$ADB$8","v":""},null,null,null,{"$f":"bksingh!$ADB$8","v":""},null,null,null,{"$f":"bksingh!$ADB$8","v":""},null,null,null,{"$f":"bksingh!$ADB$8","v":""},null,null,null,{"$f":"bksingh!$ADB$8","v":""},null,null,null,{"$f":"bksingh!$ADB$8","v":""},null,null,null,{"$f":"bksingh!$ADB$8","v":""},null,null,null,{"$f":"bksingh!$ADB$8","v":""},null,null,null,{"$f":"bksingh!$ADB$8","v":""},null,null,null,{"$f":"bksingh!$ADB$8","v":""},null,null,null,{"$f":"bksingh!$ADB$8","v":""},null,null,null,{"$f":"bksingh!$ADB$8","v":""},null,null,null,{"$f":"bksingh!$ADB$8","v":""},null,null,null,{"$f":"bksingh!$ADB$8","v":""},null,null,null,{"$f":"bksingh!$ADB$8","v":""},null,null,null,{"$f":"bksingh!$ADB$8","v":""},null,null,null,{"$f":"bksingh!$ADB$8","v":""},null,null,null,{"$f":"bksingh!$ADB$8","v":""},null,null,null,{"$f":"bksingh!$ADB$8","v":""},null,null,null,{"$f":"bksingh!$ADB$8","v":""},null,null,null,{"$f":"bksingh!$ADB$8","v":""},null,null,null,{"$f":"bksingh!$ADB$8","v":""},null,null,null,{"$f":"bksingh!$ADB$8","v":""},null,null,null,{"$f":"bksingh!$ADB$8","v":""},null,null,null,{"$f":"bksingh!$ADB$8","v":""},null,null,null,{"$f":"bksingh!$ADB$8","v":""},null,null,null,{"$f":"bksingh!$ADB$8","v":""},null,null,null,{"$f":"bksingh!$ADB$8","v":""},null,null,null,{"$f":"bksingh!$ADB$8","v":""},null,null,null,{"$f":"bksingh!$ADB$8","v":""},null,null,null,{"$f":"bksingh!$ADB$8","v":""},null,null,null,{"$f":"bksingh!$ADB$8","v":""},null,null,null,{"$f":"bksingh!$ADB$8","v":""},null,null,null,{"$f":"bksingh!$ADB$8","v":""},null,null,null,{"$f":"bksingh!$ADB$8","v":""},null,null,null,{"$f":"bksingh!$ADB$8","v":""},null,null,null,{"$f":"bksingh!$ADB$8","v":""},null,null,null,{"$f":"bksingh!$ADB$8","v":""},null,null,null,{"$f":"bksingh!$ADB$8","v":""},null,null,null,{"$f":"bksingh!$ADB$8","v":""},null,null,null,{"$f":"bksingh!$ADB$8","v":""},null,null,null,{"$f":"bksingh!$ADB$8","v":""},null,null,null,{"$f":"bksingh!$ADB$8","v":""},null,null,null,{"$f":"bksingh!$ADB$8","v":""},null,null,null,{"$f":"bksingh!$ADB$8","v":""},null,null,null,{"$f":"bksingh!$ADB$8","v":""},null,null,null,{"$f":"bksingh!$ADB$8","v":""},null,null,null,{"$f":"bksingh!$ADB$8","v":""},null,null,null,{"$f":"bksingh!$ADB$8","v":""},null,null,null,{"$f":"bksingh!$ADB$8","v":""},null,null,null,{"$f":"bksingh!$ADB$8","v":""},null,null,null,{"$f":"bksingh!$ADB$8","v":""},null,null,null,{"$f":"bksingh!$ADB$8","v":""},null,null,null,{"$f":"bksingh!$ADB$8","v":""},null,null,null,{"$f":"bksingh!$ADB$8","v":""},null,null,null,{"$f":"bksingh!$ADB$8","v":""},null,null,null,{"$f":"bksingh!$ADB$8","v":""},null,null,null,{"$f":"bksingh!$ADB$8","v":""},null,null,null,{"$f":"bksingh!$ADB$8","v":""},null,null,null,{"$f":"bksingh!$ADB$8","v":""},null,null,null,{"$f":"bksingh!$ADB$8","v":""},null,null,null,{"$f":"bksingh!$ADB$8","v":""},null,null,null,{"$f":"bksingh!$ADB$8","v":""},null,null,null,{"$f":"bksingh!$ADB$8","v":""},null,null,null,{"$f":"bksingh!$ADB$8","v":""},null,null,null,{"$f":"bksingh!$ADB$8","v":""},null,null,null,{"$f":"bksingh!$ADB$8","v":""},null,null,null,{"$f":"bksingh!$ADB$8","v":""},null,null,null,{"$f":"bksingh!$ADB$8","v":""},null,null,null,{"$f":"bksingh!$ADB$8","v":""},null,null,null,{"$f":"bksingh!$ADB$8","v":""},null,null,null,{"$f":"bksingh!$ADB$8","v":""},null,null,null,{"$f":"bksingh!$ADB$8","v":""},null,null,null,{"$f":"bksingh!$ADB$8","v":""},null,null,null,{"$f":"bksingh!$ADB$8","v":""},null,null,null,{"$f":"bksingh!$ADB$8","v":""},null,null,null,{"$f":"bksingh!$ADB$8","v":""},null,null,null,{"$f":"bksingh!$ADB$8","v":""},null,null,null,{"$f":"bksingh!$ADB$8","v":""},null,null,null,{"$f":"bksingh!$ADB$8","v":""},null,null,null,{"$f":"bksingh!$ADB$8","v":""},null,null,null,{"$f":"bksingh!$ADB$8","v":""},null,null,null,{"$f":"bksingh!$ADB$8","v":""},null,null,null,{"$f":"bksingh!$ADB$8","v":""},null,null,null,{"$f":"bksingh!$ADB$8","v":""},null,null,null,{"$f":"bksingh!$ADB$8","v":""},null,null,null,{"$f":"bksingh!$ADB$8","v":""},null,null,null,{"$f":"bksingh!$ADB$8","v":""},null,null,null,{"$f":"bksingh!$ADB$8","v":""},null,null,null,{"$f":"bksingh!$ADB$8","v":""},null,null,null,{"$f":"bksingh!$ADB$8","v":""},null,null,null,{"$f":"bksingh!$ADB$8","v":""},null,null,null,{"$f":"bksingh!$ADB$8","v":""},null,null,null,{"$f":"bksingh!$ADB$8","v":""},null,null,null,{"$f":"bksingh!$ADB$8","v":""},null,null,null,{"$f":"bksingh!$ADB$8","v":""},null,null,null,{"$f":"bksingh!$ADB$8","v":""},null,null,null,{"$f":"bksingh!$ADB$8","v":""},null,null,null,{"$f":"bksingh!$ADB$8","v":""},null,null,null,{"$f":"bksingh!$ADB$8","v":""},null,null,null,{"$f":"bksingh!$ADB$8","v":""},null,null,null,{"$f":"bksingh!$ADB$8","v":""},null,null,null,{"$f":"bksingh!$ADB$8","v":""},null,null,null,{"$f":"bksingh!$ADB$8","v":""},null,null,null,{"$f":"bksingh!$ADB$8","v":""},null,null,null,{"$f":"bksingh!$ADB$8","v":""},null,null,null,{"$f":"bksingh!$ADB$8","v":""},null,null,null,{"$f":"bksingh!$ADB$8","v":""},null,null,null,{"$f":"bksingh!$ADB$8","v":""},null,null,null,{"$f":"bksingh!$ADB$8","v":""},null,null,null,{"$f":"bksingh!$ADB$8","v":""},null,null,null,{"$f":"bksingh!$ADB$8","v":""},null,null,null,{"$f":"bksingh!$ADB$8","v":""},null,null,null,{"$f":"bksingh!$ADB$8","v":""},null,null,null,{"$f":"bksingh!$ADB$8","v":""},null,null,null,{"$f":"bksingh!$ADB$8","v":""},null,null,null,{"$f":"bksingh!$ADB$8","v":""},null,null,null,{"$f":"bksingh!$ADB$8","v":""},null,null,null,{"$f":"bksingh!$ADB$8","v":""},null,null,null,{"$f":"bksingh!$ADB$8","v":""},null,null,null,{"$f":"bksingh!$ADB$8","v":""},null,null,null,{"$f":"bksingh!$ADB$8","v":""},null,null,null,{"$f":"bksingh!$ADB$8","v":""},null,null,null,{"$f":"bksingh!$ADB$8","v":""},null,null,null,{"$f":"bksingh!$ADB$8","v":""},null,null,null,{"$f":"bksingh!$ADB$8","v":""},null,null,null,{"$f":"bksingh!$ADB$8","v":""},null,null,null,{"$f":"bksingh!$ADB$8","v":""},null,null,null,{"$f":"bksingh!$ADB$8","v":""},null,null,null,{"$f":"bksingh!$ADB$8","v":""},null,null,null,{"$f":"bksingh!$ADB$8","v":""},null,null,null,{"$f":"bksingh!$ADB$8","v":""},null,null,null,{"$f":"bksingh!$ADB$8","v":""},null,null,null,{"$f":"bksingh!$ADB$8","v":""},null,null,null,{"$f":"bksingh!$ADB$8","v":""},null,null,null,{"$f":"bksingh!$ADB$8","v":""},null,null,null,{"$f":"bksingh!$ADB$8","v":""},null,null,null,{"$f":"bksingh!$ADB$8","v":""},null,null,null,{"$f":"bksingh!$ADB$8","v":""},null,null,null,{"$f":"bksingh!$ADB$8","v":""},null,null,null,{"$f":"bksingh!$ADB$8","v":""},null,null,null,{"$f":"bksingh!$ADB$8","v":""},null,null,null,{"$f":"bksingh!$ADB$8","v":""},null,null,null,{"$f":"bksingh!$ADB$8","v":""},null,null,null,{"$f":"bksingh!$ADB$8","v":""},null,null,null,{"$f":"bksingh!$ADB$8","v":""},null,null,null,{"$f":"bksingh!$ADB$8","v":""},null,null,null,{"$f":"bksingh!$ADB$8","v":""},null,null,null,{"$f":"bksingh!$ADB$8","v":""},null,null,null,{"$f":"bksingh!$ADB$8","v":""},null,null,null,{"$f":"bksingh!$ADB$8","v":""},null,null,null,{"$f":"bksingh!$ADB$8","v":""},null,null,null,{"$f":"bksingh!$ADB$8","v":""},null,null,null,{"$f":"bksingh!$ADB$8","v":""},null,null,null,{"$f":"bksingh!$ADB$8","v":""},null,null,null,{"$f":"bksingh!$ADB$8","v":""},null,null,null,{"$f":"bksingh!$ADB$8","v":""},null,null,null,{"$f":"bksingh!$ADB$8","v":""},null,null,null,{"$f":"bksingh!$ADB$8","v":""},null,null,null,{"$f":"bksingh!$ADB$8","v":""},null,null,null,{"$f":"bksingh!$ADB$8","v":""},null,null,null,{"$f":"bksingh!$ADB$8","v":""},null,null,null,{"$f":"bksingh!$ADB$8","v":""},null,null,null,{"$f":"bksingh!$ADB$8","v":""},null,null,null,{"$f":"bksingh!$ADB$8","v":""},null,null,null,{"$f":"bksingh!$ADB$8","v":""},null,null,null,{"$f":"bksingh!$ADB$8","v":""},null,null,null,{"$f":"bksingh!$ADB$8","v":""},null,null,null,{"$f":"bksingh!$ADB$8","v":""},null,null,null,{"$f":"bksingh!$ADB$8","v":""},null,null,null,{"$f":"bksingh!$ADB$8","v":""},null,null,null,{"$f":"bksingh!$ADB$8","v":""},null,null,null,{"$f":"bksingh!$ADB$8","v":""},null,null,null,{"$f":"bksingh!$ADB$8","v":""},null,null,null,{"$f":"bksingh!$ADB$8","v":""},null,null,null,{"$f":"bksingh!$ADB$8","v":""},null,null,null,{"$f":"bksingh!$ADB$8","v":""},null,null,null,{"$f":"bksingh!$ADB$8","v":""},null,null,null,{"$f":"bksingh!$ADB$8","v":""},null,null,null,{"$f":"bksingh!$ADB$8","v":""},null,null,null,{"$f":"bksingh!$ADB$8","v":""},null,null,null,{"$f":"bksingh!$ADB$8","v":""},null,null,null,{"$f":"bksingh!$ADB$8","v":""},null,null,null,{"$f":"bksingh!$ADB$8","v":""},null,null,null,{"$f":"bksingh!$ADB$8","v":""},null,null,null,{"$f":"bksingh!$ADB$8","v":""},null,null,null,{"$f":"bksingh!$ADB$8","v":""},null,null,null,{"$f":"bksingh!$ADB$8","v":""},null,null,null,{"$f":"bksingh!$ADB$8","v":""},null,null,null,{"$f":"bksingh!$ADB$8","v":""},null,null,null,{"$f":"bksingh!$ADB$8","v":""},null,null,null,{"$f":"bksingh!$ADB$8","v":""},null,null,null,{"$f":"bksingh!$ADB$8","v":""},null,null,null,{"$f":"bksingh!$ADB$8","v":""},null,null,null,{"$f":"bksingh!$ADB$8","v":""},null,null,null,{"$f":"bksingh!$ADB$8","v":""},null,null,null,{"$f":"bksingh!$ADB$8","v":""},null,null,null,{"$f":"bksingh!$ADB$8","v":""},null,null,null,{"$f":"bksingh!$ADB$8","v":""},null,null,null,{"$f":"bksingh!$ADB$8","v":""},null,null,null,{"$f":"bksingh!$ADB$8","v":""},null,null,null,{"$f":"bksingh!$ADB$8","v":""},null,null,null,{"$f":"bksingh!$ADB$8","v":""},null,null,null,{"$f":"bksingh!$ADB$8","v":""},null,null,null,{"$f":"bksingh!$ADB$8","v":""},null,null,null,{"$f":"bksingh!$ADB$8","v":""},null,null,null,{"$f":"bksingh!$ADB$8","v":""},null,null,null,{"$f":"bksingh!$ADB$8","v":""},null,null,null,{"$f":"bksingh!$ADB$8","v":""},null,null,null,{"$f":"bksingh!$ADB$8","v":""},null,null,null,{"$f":"bksingh!$ADB$8","v":""},null,null,null,{"$f":"bksingh!$ADB$8","v":""},null,null,null,{"$f":"bksingh!$ADB$8","v":""},null,null,null,{"$f":"bksingh!$ADB$8","v":""},null,null,null,{"$f":"bksingh!$ADB$8","v":""},null,null,null,{"$f":"bksingh!$ADB$8","v":""},null,null,null,{"$f":"bksingh!$ADB$8","v":""},null,null,null,{"$f":"bksingh!$ADB$8","v":""},null,null,null,{"$f":"bksingh!$ADB$8","v":""},null,null,null,{"$f":"bksingh!$ADB$8","v":""},null,null,null,{"$f":"bksingh!$ADB$8","v":""},null,null,null,{"$f":"bksingh!$ADB$8","v":""},null,null,null,{"$f":"bksingh!$ADB$8","v":""},null,null,null,{"$f":"bksingh!$ADB$8","v":""},null,null,null,{"$f":"bksingh!$ADB$8","v":""},null,null,null,{"$f":"bksingh!$ADB$8","v":""},null,null,null,{"$f":"bksingh!$ADB$8","v":""},null,null,null,{"$f":"bksingh!$ADB$8","v":""},null,null,null,{"$f":"bksingh!$ADB$8","v":""},null,null,null,{"$f":"bksingh!$ADB$8","v":""},null,null,null,{"$f":"bksingh!$ADB$8","v":""},null,null,null,{"$f":"bksingh!$ADB$8","v":""},null,null,null,{"$f":"bksingh!$ADB$8","v":""},null,null,null,{"$f":"bksingh!$ADB$8","v":""},null,null,null,{"$f":"bksingh!$ADB$8","v":""},null,null,null,{"$f":"bksingh!$ADB$8","v":""},null,null,null,{"$f":"bksingh!$ADB$8","v":""},null,null,null,{"$f":"bksingh!$ADB$8","v":""},null,null,null,{"$f":"bksingh!$ADB$8","v":""},null,null,null,{"$f":"bksingh!$ADB$8","v":""},null,null,null,{"$f":"bksingh!$ADB$8","v":""},null,null,null,{"$f":"bksingh!$ADB$8","v":""},null,null,null,{"$f":"bksingh!$ADB$8","v":""},null,null,null,{"$f":"bksingh!$ADB$8","v":""},null,null,null,{"$f":"bksingh!$ADB$8","v":""},null,null,null,{"$f":"bksingh!$ADB$8","v":""},null,null,null,{"$f":"bksingh!$ADB$8","v":""},null,null,null,{"$f":"bksingh!$ADB$8","v":""},null,null,null,{"$f":"bksingh!$ADB$8","v":""},null,null,null,{"$f":"bksingh!$ADB$8","v":""},null,null,null,{"$f":"bksingh!$ADB$8","v":""},null,null,null,{"$f":"bksingh!$ADB$8","v":""},null,null,null,{"$f":"bksingh!$ADB$8","v":""},null,null,null,{"$f":"bksingh!$ADB$8","v":""},null,null,null,{"$f":"bksingh!$ADB$8","v":""},null,null,null,{"$f":"bksingh!$ADB$8","v":""},null,null,null,{"$f":"bksingh!$ADB$8","v":""},null,null,null,{"$f":"bksingh!$ADB$8","v":""},null,null,null,{"$f":"bksingh!$ADB$8","v":""},null,null,null,{"$f":"bksingh!$ADB$8","v":""},null,null,null,{"$f":"bksingh!$ADB$8","v":""},null,null,null,{"$f":"bksingh!$ADB$8","v":""},null,null,null,{"$f":"bksingh!$ADB$8","v":""},null,null,null,{"$f":"bksingh!$ADB$8","v":""},null,null,null,{"$f":"bksingh!$ADB$8","v":""},null,null,null,{"$f":"bksingh!$ADB$8","v":""},null,null,null,{"$f":"bksingh!$ADB$8","v":""},null,null,null,{"$f":"bksingh!$ADB$8","v":""},null,null,null,{"$f":"bksingh!$ADB$8","v":""},null,null,null,{"$f":"bksingh!$ADB$8","v":""},null,null,null,{"$f":"bksingh!$ADB$8","v":""},null,null,null,{"$f":"bksingh!$ADB$8","v":""},null,null,null,{"$f":"bksingh!$ADB$8","v":""},null,null,null,{"$f":"bksingh!$ADB$8","v":""},null,null,null,{"$f":"bksingh!$ADB$8","v":""},null,null,null,{"$f":"bksingh!$ADB$8","v":""},null,null,null,{"$f":"bksingh!$ADB$8","v":""},null,null,null,{"$f":"bksingh!$ADB$8","v":""},null,null,null,{"$f":"bksingh!$ADB$8","v":""},null,null,null,{"$f":"bksingh!$ADB$8","v":""},null,null,null,{"$f":"bksingh!$ADB$8","v":""},null,null,null,{"$f":"bksingh!$ADB$8","v":""},null,null,null,{"$f":"bksingh!$ADB$8","v":""},null,null,null,{"$f":"bksingh!$ADB$8","v":""},null,null,null,{"$f":"bksingh!$ADB$8","v":""},null,null,null,{"$f":"bksingh!$ADB$8","v":""},null,null,null,{"$f":"bksingh!$ADB$8","v":""},null,null,null,{"$f":"bksingh!$ADB$8","v":""},null,null,null,{"$f":"bksingh!$ADB$8","v":""},null,null,null,{"$f":"bksingh!$ADB$8","v":""},null,null,null,{"$f":"bksingh!$ADB$8","v":""},null,null,null,{"$f":"bksingh!$ADB$8","v":""},null,null,null,{"$f":"bksingh!$ADB$8","v":""},null,null,null,{"$f":"bksingh!$ADB$8","v":""},null,null,null,{"$f":"bksingh!$ADB$8","v":""},null,null,null,{"$f":"bksingh!$ADB$8","v":""},null,null,null,{"$f":"bksingh!$ADB$8","v":""},null,null,null,{"$f":"bksingh!$ADB$8","v":""},null,null,null,{"$f":"bksingh!$ADB$8","v":""},null,null,null,{"$f":"bksingh!$ADB$8","v":""},null,null,null,{"$f":"bksingh!$ADB$8","v":""},null,null,null,{"$f":"bksingh!$ADB$8","v":""},null,null,null,{"$f":"bksingh!$ADB$8","v":""},null,null,null,{"$f":"bksingh!$ADB$8","v":""},null,null,null,{"$f":"bksingh!$ADB$8","v":""},null,null,null,{"$f":"bksingh!$ADB$8","v":""},null,null,null,{"$f":"bksingh!$ADB$8","v":""},null,null,null,{"$f":"bksingh!$ADB$8","v":""},null,null,null,{"$f":"bksingh!$ADB$8","v":""},null,null,null,{"$f":"bksingh!$ADB$8","v":""},null,null,null,{"$f":"bksingh!$ADB$8","v":""},null,null,null,{"$f":"bksingh!$ADB$8","v":""},null,null,null,{"$f":"bksingh!$ADB$8","v":""},null,null,null,{"$f":"bksingh!$ADB$8","v":""},null,null,null,{"$f":"bksingh!$ADB$8","v":""},null,null,null,{"$f":"bksingh!$ADB$8","v":""},null,null,null,{"$f":"bksingh!$ADB$8","v":""},null,null,null,{"$f":"bksingh!$ADB$8","v":""},null,null,null,{"$f":"bksingh!$ADB$8","v":""},null,null,null,{"$f":"bksingh!$ADB$8","v":""},null,null,null,{"$f":"bksingh!$ADB$8","v":""},null,null,null,{"$f":"bksingh!$ADB$8","v":""},null,null,null,{"$f":"bksingh!$ADB$8","v":""},null,null,null,{"$f":"bksingh!$ADB$8","v":""},null,null,null,{"$f":"bksingh!$ADB$8","v":""},null,null,null,{"$f":"bksingh!$ADB$8","v":""},null,null,null,{"$f":"bksingh!$ADB$8","v":""},null,null,null,{"$f":"bksingh!$ADB$8","v":""},null,null,null,{"$f":"bksingh!$ADB$8","v":""},null,null,null,{"$f":"bksingh!$ADB$8","v":""},null,null,null,{"$f":"bksingh!$ADB$8","v":""},null,null,null,{"$f":"bksingh!$ADB$8","v":""},null,null,null,{"$f":"bksingh!$ADB$8","v":""},null,null,null,{"$f":"bksingh!$ADB$8","v":""},null,null,null,{"$f":"bksingh!$ADB$8","v":""},null,null,null,{"$f":"bksingh!$ADB$8","v":""},null,null,null,{"$f":"bksingh!$ADB$8","v":""},null,null,null,{"$f":"bksingh!$ADB$8","v":""},null,null,null,{"$f":"bksingh!$ADB$8","v":""},null,null,null,{"$f":"bksingh!$ADB$8","v":""},null,null,null,{"$f":"bksingh!$ADB$8","v":""},null,null,null,{"$f":"bksingh!$ADB$8","v":""},null,null,null,{"$f":"bksingh!$ADB$8","v":""},null,null,null,{"$f":"bksingh!$ADB$8","v":""},null,null,null,{"$f":"bksingh!$ADB$8","v":""},null,null,null,{"$f":"bksingh!$ADB$8","v":""},null,null,null,{"$f":"bksingh!$ADB$8","v":""},null,null,null,{"$f":"bksingh!$ADB$8","v":""},null,null,null,{"$f":"bksingh!$ADB$8","v":""},null,null,null,{"$f":"bksingh!$ADB$8","v":""},null,null,null,{"$f":"bksingh!$ADB$8","v":""},null,null,null,{"$f":"bksingh!$ADB$8","v":""},null,null,null,{"$f":"bksingh!$ADB$8","v":""},null,null,null,{"$f":"bksingh!$ADB$8","v":""},null,null,null,{"$f":"bksingh!$ADB$8","v":""},null,null,null,{"$f":"bksingh!$ADB$8","v":""},null,null,null,{"$f":"bksingh!$ADB$8","v":""},null,null,null,{"$f":"bksingh!$ADB$8","v":""},null,null,null,{"$f":"bksingh!$ADB$8","v":""},null,null,null,{"$f":"bksingh!$ADB$8","v":""},null,null,null,{"$f":"bksingh!$ADB$8","v":""},null,null,null,{"$f":"bksingh!$ADB$8","v":""},null,null,null,{"$f":"bksingh!$ADB$8","v":""},null,null,null,{"$f":"bksingh!$ADB$8","v":""},null,null,null,{"$f":"bksingh!$ADB$8","v":""},null,null,null,{"$f":"bksingh!$ADB$8","v":""},null,null,null,{"$f":"bksingh!$ADB$8","v":""},null,null,null,{"$f":"bksingh!$ADB$8","v":""},null,null,null,{"$f":"bksingh!$ADB$8","v":""},null,null,null,{"$f":"bksingh!$ADB$8","v":""},null,null,null,{"$f":"bksingh!$ADB$8","v":""},null,null,null,{"$f":"bksingh!$ADB$8","v":""},null,null,null,{"$f":"bksingh!$ADB$8","v":""},null,null,null,{"$f":"bksingh!$ADB$8","v":""},null,null,null,{"$f":"bksingh!$ADB$8","v":""},null,null,null,{"$f":"bksingh!$ADB$8","v":""},null,null,null,{"$f":"bksingh!$ADB$8","v":""},null,null,null,{"$f":"bksingh!$ADB$8","v":""},null,null,null,{"$f":"bksingh!$ADB$8","v":""},null,null,null,{"$f":"bksingh!$ADB$8","v":""},null,null,null,{"$f":"bksingh!$ADB$8","v":""},null,null,null,{"$f":"bksingh!$ADB$8","v":""},null,null,null,{"$f":"bksingh!$ADB$8","v":""},null,null,null,{"$f":"bksingh!$ADB$8","v":""},null,null,null,{"$f":"bksingh!$ADB$8","v":""},null,null,null,{"$f":"bksingh!$ADB$8","v":""},null,null,null,{"$f":"bksingh!$ADB$8","v":""},null,null,null,{"$f":"bksingh!$ADB$8","v":""},null,null,null,{"$f":"bksingh!$ADB$8","v":""},null,null,null,{"$f":"bksingh!$ADB$8","v":""},null,null,null,{"$f":"bksingh!$ADB$8","v":""},null,null,null,{"$f":"bksingh!$ADB$8","v":""},null,null,null,{"$f":"bksingh!$ADB$8","v":""},null,null,null,{"$f":"bksingh!$ADB$8","v":""},null,null,null,{"$f":"bksingh!$ADB$8","v":""},null,null,null,{"$f":"bksingh!$ADB$8","v":""},null,null,null,{"$f":"bksingh!$ADB$8","v":""},null,null,null,{"$f":"bksingh!$ADB$8","v":""},null,null,null,{"$f":"bksingh!$ADB$8","v":""},null,null,null,{"$f":"bksingh!$ADB$8","v":""},null,null,null,{"$f":"bksingh!$ADB$8","v":""},null,null,null,{"$f":"bksingh!$ADB$8","v":""},null,null,null,{"$f":"bksingh!$ADB$8","v":""},null,null,null,{"$f":"bksingh!$ADB$8","v":""},null,null,null,{"$f":"bksingh!$ADB$8","v":""},null,null,null,{"$f":"bksingh!$ADB$8","v":""},null,null,null,{"$f":"bksingh!$ADB$8","v":""},null,null,null,{"$f":"bksingh!$ADB$8","v":""},null,null,null,{"$f":"bksingh!$ADB$8","v":""},null,null,null,{"$f":"bksingh!$ADB$8","v":""},null,null,null,{"$f":"bksingh!$ADB$8","v":""},null,null,null,{"$f":"bksingh!$ADB$8","v":""},null,null,null,{"$f":"bksingh!$ADB$8","v":""},null,null,null,{"$f":"bksingh!$ADB$8","v":""},null,null,null,{"$f":"bksingh!$ADB$8","v":""},null,null,null,{"$f":"bksingh!$ADB$8","v":""},null,null,null,{"$f":"bksingh!$ADB$8","v":""},null,null,null,{"$f":"bksingh!$ADB$8","v":""},null,null,null,{"$f":"bksingh!$ADB$8","v":""},null,null,null,{"$f":"bksingh!$ADB$8","v":""},null,null,null,{"$f":"bksingh!$ADB$8","v":""},null,null,null,{"$f":"bksingh!$ADB$8","v":""},null,null,null,{"$f":"bksingh!$ADB$8","v":""},null,null,null,{"$f":"bksingh!$ADB$8","v":""},null,null,null,{"$f":"bksingh!$ADB$8","v":""},null,null,null,{"$f":"bksingh!$ADB$8","v":""},null,null,null,{"$f":"bksingh!$ADB$8","v":""},null,null,null,{"$f":"bksingh!$ADB$8","v":""},null,null,null,{"$f":"bksingh!$ADB$8","v":""},null,null,null,{"$f":"bksingh!$ADB$8","v":""},null,null,null,{"$f":"bksingh!$ADB$8","v":""},null,null,null,{"$f":"bksingh!$ADB$8","v":""},null,null,null,{"$f":"bksingh!$ADB$8","v":""},null,null,null,{"$f":"bksingh!$ADB$8","v":""},null,null,null,{"$f":"bksingh!$ADB$8","v":""},null,null,null,{"$f":"bksingh!$ADB$8","v":""},null,null,null,{"$f":"bksingh!$ADB$8","v":""},null,null,null,{"$f":"bksingh!$ADB$8","v":""},null,null,null,{"$f":"bksingh!$ADB$8","v":""},null,null,null,{"$f":"bksingh!$ADB$8","v":""},null,null,null,{"$f":"bksingh!$ADB$8","v":""},null,null,null,{"$f":"bksingh!$ADB$8","v":""},null,null,null,{"$f":"bksingh!$ADB$8","v":""},null,null,null,{"$f":"bksingh!$ADB$8","v":""},null,null,null,{"$f":"bksingh!$ADB$8","v":""},null,null,null,{"$f":"bksingh!$ADB$8","v":""},null,null,null,{"$f":"bksingh!$ADB$8","v":""},null,null,null,{"$f":"bksingh!$ADB$8","v":""},null,null,null,{"$f":"bksingh!$ADB$8","v":""},null,null,null,{"$f":"bksingh!$ADB$8","v":""},null,null,null,{"$f":"bksingh!$ADB$8","v":""},null,null,null,{"$f":"bksingh!$ADB$8","v":""},null,null,null,{"$f":"bksingh!$ADB$8","v":""},null,null,null,{"$f":"bksingh!$ADB$8","v":""},null,null,null,{"$f":"bksingh!$ADB$8","v":""},null,null,null,{"$f":"bksingh!$ADB$8","v":""},null,null,null,{"$f":"bksingh!$ADB$8","v":""},null,null,null,{"$f":"bksingh!$ADB$8","v":""},null,null,null,{"$f":"bksingh!$ADB$8","v":""},null,null,null,{"$f":"bksingh!$ADB$8","v":""},null,null,null,{"$f":"bksingh!$ADB$8","v":""},null,null,null,{"$f":"bksingh!$ADB$8","v":""},null,null,null,{"$f":"bksingh!$ADB$8","v":""},null,null,null,{"$f":"bksingh!$ADB$8","v":""},null,null,null,{"$f":"bksingh!$ADB$8","v":""},null,null,null,{"$f":"bksingh!$ADB$8","v":""},null,null,null,{"$f":"bksingh!$ADB$8","v":""},null,null,null,{"$f":"bksingh!$ADB$8","v":""},null,null,null,{"$f":"bksingh!$ADB$8","v":""},null,null,null,{"$f":"bksingh!$ADB$8","v":""},null,null,null,{"$f":"bksingh!$ADB$8","v":""},null,null,null,{"$f":"bksingh!$ADB$8","v":""},null,null,null,{"$f":"bksingh!$ADB$8","v":""},null,null,null,{"$f":"bksingh!$ADB$8","v":""},null,null,null,{"$f":"bksingh!$ADB$8","v":""},null,null,null,{"$f":"bksingh!$ADB$8","v":""},null,null,null,{"$f":"bksingh!$ADB$8","v":""},null,null,null,{"$f":"bksingh!$ADB$8","v":""},null,null,null,{"$f":"bksingh!$ADB$8","v":""},null,null,null,{"$f":"bksingh!$ADB$8","v":""},null,null,null,{"$f":"bksingh!$ADB$8","v":""},null,null,null,{"$f":"bksingh!$ADB$8","v":""},null,null,null,{"$f":"bksingh!$ADB$8","v":""},null,null,null,{"$f":"bksingh!$ADB$8","v":""},null,null,null,{"$f":"bksingh!$ADB$8","v":""},null,null,null,{"$f":"bksingh!$ADB$8","v":""},null,null,null,{"$f":"bksingh!$ADB$8","v":""},null,null,null,{"$f":"bksingh!$ADB$8","v":""},null,null,null,{"$f":"bksingh!$ADB$8","v":""},null,null,null,{"$f":"bksingh!$ADB$8","v":""},null,null,null,{"$f":"bksingh!$ADB$8","v":""},null,null,null,{"$f":"bksingh!$ADB$8","v":""},null,null,null,{"$f":"bksingh!$ADB$8","v":""},null,null,null,{"$f":"bksingh!$ADB$8","v":""},null,null,null,{"$f":"bksingh!$ADB$8","v":""},null,null,null,{"$f":"bksingh!$ADB$8","v":""},null,null,null,{"$f":"bksingh!$ADB$8","v":""},null,null,null,{"$f":"bksingh!$ADB$8","v":""},null,null,null,{"$f":"bksingh!$ADB$8","v":""},null,null,null,{"$f":"bksingh!$ADB$8","v":""},null,null,null,{"$f":"bksingh!$ADB$8","v":""},null,null,null,{"$f":"bksingh!$ADB$8","v":""},null,null,null,{"$f":"bksingh!$ADB$8","v":""},null,null,null,{"$f":"bksingh!$ADB$8","v":""},null,null,null,{"$f":"bksingh!$ADB$8","v":""},null,null,null,{"$f":"bksingh!$ADB$8","v":""},null,null,null,{"$f":"bksingh!$ADB$8","v":""},null,null,null,{"$f":"bksingh!$ADB$8","v":""},null,null,null,{"$f":"bksingh!$ADB$8","v":""},null,null,null,{"$f":"bksingh!$ADB$8","v":""},null,null,null,{"$f":"bksingh!$ADB$8","v":""},null,null,null,{"$f":"bksingh!$ADB$8","v":""},null,null,null,{"$f":"bksingh!$ADB$8","v":""},null,null,null,{"$f":"bksingh!$ADB$8","v":""},null,null,null,{"$f":"bksingh!$ADB$8","v":""},null,null,null,{"$f":"bksingh!$ADB$8","v":""},null,null,null,{"$f":"bksingh!$ADB$8","v":""},null,null,null,{"$f":"bksingh!$ADB$8","v":""},null,null,null,{"$f":"bksingh!$ADB$8","v":""},null,null,null,{"$f":"bksingh!$ADB$8","v":""},null,null,null,{"$f":"bksingh!$ADB$8","v":""},null,null,null,{"$f":"bksingh!$ADB$8","v":""},null,null,null,{"$f":"bksingh!$ADB$8","v":""},null,null,null,{"$f":"bksingh!$ADB$8","v":""},null,null,null,{"$f":"bksingh!$ADB$8","v":""},null,null,null,{"$f":"bksingh!$ADB$8","v":""},null,null,null,{"$f":"bksingh!$ADB$8","v":""},null,null,null,{"$f":"bksingh!$ADB$8","v":""},null,null,null,{"$f":"bksingh!$ADB$8","v":""},null,null,null,{"$f":"bksingh!$ADB$8","v":""},null,null,null,{"$f":"bksingh!$ADB$8","v":""},null,null,null,{"$f":"bksingh!$ADB$8","v":""},null,null,null,{"$f":"bksingh!$ADB$8","v":""},null,null,null,{"$f":"bksingh!$ADB$8","v":""},null,null,null,{"$f":"bksingh!$ADB$8","v":""},null,null,null,{"$f":"bksingh!$ADB$8","v":""},null,null,null,{"$f":"bksingh!$ADB$8","v":""},null,null,null,{"$f":"bksingh!$ADB$8","v":""},null,null,null,{"$f":"bksingh!$ADB$8","v":""},null,null,null,{"$f":"bksingh!$ADB$8","v":""},null,null,null,{"$f":"bksingh!$ADB$8","v":""},null,null,null,{"$f":"bksingh!$ADB$8","v":""},null,null,null,{"$f":"bksingh!$ADB$8","v":""},null,null,null,{"$f":"bksingh!$ADB$8","v":""},null,null,null,{"$f":"bksingh!$ADB$8","v":""},null,null,null,{"$f":"bksingh!$ADB$8","v":""},null,null,null,{"$f":"bksingh!$ADB$8","v":""},null,null,null,{"$f":"bksingh!$ADB$8","v":""},null,null,null,{"$f":"bksingh!$ADB$8","v":""},null,null,null,{"$f":"bksingh!$ADB$8","v":""},null,null,null,{"$f":"bksingh!$ADB$8","v":""},null,null,null,{"$f":"bksingh!$ADB$8","v":""},null,null,null,{"$f":"bksingh!$ADB$8","v":""},null,null,null,{"$f":"bksingh!$ADB$8","v":""},null,null,null,{"$f":"bksingh!$ADB$8","v":""},null,null,null,{"$f":"bksingh!$ADB$8","v":""},null,null,null,{"$f":"bksingh!$ADB$8","v":""},null,null,null,{"$f":"bksingh!$ADB$8","v":""},null,null,null,{"$f":"bksingh!$ADB$8","v":""},null,null,null,{"$f":"bksingh!$ADB$8","v":""},null,null,null,{"$f":"bksingh!$ADB$8","v":""},null,null,null,{"$f":"bksingh!$ADB$8","v":""},null,null,null,{"$f":"bksingh!$ADB$8","v":""},null,null,null,{"$f":"bksingh!$ADB$8","v":""},null,null,null,{"$f":"bksingh!$ADB$8","v":""},null,null,null,{"$f":"bksingh!$ADB$8","v":""},null,null,null,{"$f":"bksingh!$ADB$8","v":""},null,null,null,{"$f":"bksingh!$ADB$8","v":""},null,null,null,{"$f":"bksingh!$ADB$8","v":""},null,null,null,{"$f":"bksingh!$ADB$8","v":""},null,null,null,{"$f":"bksingh!$ADB$8","v":""},null,null,null,{"$f":"bksingh!$ADB$8","v":""},null,null,null,{"$f":"bksingh!$ADB$8","v":""},null,null,null,{"$f":"bksingh!$ADB$8","v":""},null,null,null,{"$f":"bksingh!$ADB$8","v":""},null,null,null,{"$f":"bksingh!$ADB$8","v":""},null,null,null,{"$f":"bksingh!$ADB$8","v":""},null,null,null,{"$f":"bksingh!$ADB$8","v":""},null,null,null,{"$f":"bksingh!$ADB$8","v":""},null,null,null,{"$f":"bksingh!$ADB$8","v":""},null,null,null,{"$f":"bksingh!$ADB$8","v":""},null,null,null,{"$f":"bksingh!$ADB$8","v":""},null,null,null,{"$f":"bksingh!$ADB$8","v":""},null,null,null,{"$f":"bksingh!$ADB$8","v":""},null,null,null,{"$f":"bksingh!$ADB$8","v":""},null,null,null,{"$f":"bksingh!$ADB$8","v":""},null,null,null,{"$f":"bksingh!$ADB$8","v":""},null,null,null,{"$f":"bksingh!$ADB$8","v":""},null,null,null,{"$f":"bksingh!$ADB$8","v":""},null,null,null,{"$f":"bksingh!$ADB$8","v":""},null,null,null,{"$f":"bksingh!$ADB$8","v":""},null,null,null,{"$f":"bksingh!$ADB$8","v":""},null,null,null,{"$f":"bksingh!$ADB$8","v":""},null,null,null,{"$f":"bksingh!$ADB$8","v":""},null,null,null,{"$f":"bksingh!$ADB$8","v":""},null,null,null,{"$f":"bksingh!$ADB$8","v":""},null,null,null,{"$f":"bksingh!$ADB$8","v":""},null,null,null,{"$f":"bksingh!$ADB$8","v":""},null,null,null,{"$f":"bksingh!$ADB$8","v":""},null,null,null,{"$f":"bksingh!$ADB$8","v":""},null,null,null,{"$f":"bksingh!$ADB$8","v":""},null,null,null,{"$f":"bksingh!$ADB$8","v":""},null,null,null,{"$f":"bksingh!$ADB$8","v":""},null,null,null,{"$f":"bksingh!$ADB$8","v":""},null,null,null,{"$f":"bksingh!$ADB$8","v":""},null,null,null,{"$f":"bksingh!$ADB$8","v":""},null,null,null,{"$f":"bksingh!$ADB$8","v":""},null,null,null,{"$f":"bksingh!$ADB$8","v":""},null,null,null,{"$f":"bksingh!$ADB$8","v":""},null,null,null,{"$f":"bksingh!$ADB$8","v":""},null,null,null,{"$f":"bksingh!$ADB$8","v":""},null,null,null,{"$f":"bksingh!$ADB$8","v":""},null,null,null,{"$f":"bksingh!$ADB$8","v":""},null,null,null,{"$f":"bksingh!$ADB$8","v":""},null,null,null,{"$f":"bksingh!$ADB$8","v":""},null,null,null,{"$f":"bksingh!$ADB$8","v":""},null,null,null,{"$f":"bksingh!$ADB$8","v":""},null,null,null,{"$f":"bksingh!$ADB$8","v":""},null,null,null,{"$f":"bksingh!$ADB$8","v":""},null,null,null,{"$f":"bksingh!$ADB$8","v":""},null,null,null,{"$f":"bksingh!$ADB$8","v":""},null,null,null,{"$f":"bksingh!$ADB$8","v":""},null,null,null,{"$f":"bksingh!$ADB$8","v":""},null,null,null,{"$f":"bksingh!$ADB$8","v":""},null,null,null,{"$f":"bksingh!$ADB$8","v":""},null,null,null,{"$f":"bksingh!$ADB$8","v":""},null,null,null,{"$f":"bksingh!$ADB$8","v":""},null,null,null,{"$f":"bksingh!$ADB$8","v":""},null,null,null,{"$f":"bksingh!$ADB$8","v":""},null,null,null,{"$f":"bksingh!$ADB$8","v":""},null,null,null,{"$f":"bksingh!$ADB$8","v":""},null,null,null,{"$f":"bksingh!$ADB$8","v":""},null,null,null,{"$f":"bksingh!$ADB$8","v":""},null,null,null,{"$f":"bksingh!$ADB$8","v":""},null,null,null,{"$f":"bksingh!$ADB$8","v":""},null,null,null,{"$f":"bksingh!$ADB$8","v":""},null,null,null,{"$f":"bksingh!$ADB$8","v":""},null,null,null,{"$f":"bksingh!$ADB$8","v":""},null,null,null,{"$f":"bksingh!$ADB$8","v":""},null,null,null,{"$f":"bksingh!$ADB$8","v":""},null,null,null,{"$f":"bksingh!$ADB$8","v":""},null,null,null,{"$f":"bksingh!$ADB$8","v":""},null,null,null,{"$f":"bksingh!$ADB$8","v":""},null,null,null,{"$f":"bksingh!$ADB$8","v":""},null,null,null,{"$f":"bksingh!$ADB$8","v":""},null,null,null,{"$f":"bksingh!$ADB$8","v":""},null,null,null,{"$f":"bksingh!$ADB$8","v":""},null,null,null,{"$f":"bksingh!$ADB$8","v":""},null,null,null,{"$f":"bksingh!$ADB$8","v":""},null,null,null,{"$f":"bksingh!$ADB$8","v":""},null,null,null,{"$f":"bksingh!$ADB$8","v":""},null,null,null,{"$f":"bksingh!$ADB$8","v":""},null,null,null,{"$f":"bksingh!$ADB$8","v":""},null,null,null,{"$f":"bksingh!$ADB$8","v":""},null,null,null,{"$f":"bksingh!$ADB$8","v":""},null,null,null,{"$f":"bksingh!$ADB$8","v":""},null,null,null,{"$f":"bksingh!$ADB$8","v":""},null,null,null,{"$f":"bksingh!$ADB$8","v":""},null,null,null,{"$f":"bksingh!$ADB$8","v":""},null,null,null,{"$f":"bksingh!$ADB$8","v":""},null,null,null,{"$f":"bksingh!$ADB$8","v":""},null,null,null,{"$f":"bksingh!$ADB$8","v":""},null,null,null,{"$f":"bksingh!$ADB$8","v":""},null,null,null,{"$f":"bksingh!$ADB$8","v":""},null,null,null,{"$f":"bksingh!$ADB$8","v":""},null,null,null,{"$f":"bksingh!$ADB$8","v":""},null,null,null,{"$f":"bksingh!$ADB$8","v":""},null,null,null,{"$f":"bksingh!$ADB$8","v":""},null,null,null,{"$f":"bksingh!$ADB$8","v":""},null,null,null,{"$f":"bksingh!$ADB$8","v":""},null,null,null,{"$f":"bksingh!$ADB$8","v":""},null,null,null,{"$f":"bksingh!$ADB$8","v":""},null,null,null,{"$f":"bksingh!$ADB$8","v":""},null,null,null,{"$f":"bksingh!$ADB$8","v":""},null,null,null,{"$f":"bksingh!$ADB$8","v":""},null,null,null,{"$f":"bksingh!$ADB$8","v":""},null,null,null,{"$f":"bksingh!$ADB$8","v":""},null,null,null,{"$f":"bksingh!$ADB$8","v":""},null,null,null,{"$f":"bksingh!$ADB$8","v":""},null,null,null,{"$f":"bksingh!$ADB$8","v":""},null,null,null,{"$f":"bksingh!$ADB$8","v":""},null,null,null,{"$f":"bksingh!$ADB$8","v":""},null,null,null,{"$f":"bksingh!$ADB$8","v":""},null,null,null,{"$f":"bksingh!$ADB$8","v":""},null,null,null,{"$f":"bksingh!$ADB$8","v":""},null,null,null,{"$f":"bksingh!$ADB$8","v":""},null,null,null,{"$f":"bksingh!$ADB$8","v":""},null,null,null,{"$f":"bksingh!$ADB$8","v":""},null,null,null,{"$f":"bksingh!$ADB$8","v":""},null,null,null,{"$f":"bksingh!$ADB$8","v":""},null,null,null,{"$f":"bksingh!$ADB$8","v":""},null,null,null,{"$f":"bksingh!$ADB$8","v":""},null,null,null,{"$f":"bksingh!$ADB$8","v":""},null,null,null,{"$f":"bksingh!$ADB$8","v":""},null,null,null,{"$f":"bksingh!$ADB$8","v":""},null,null,null,{"$f":"bksingh!$ADB$8","v":""},null,null,null,{"$f":"bksingh!$ADB$8","v":""},null,null,null,{"$f":"bksingh!$ADB$8","v":""},null,null,null,{"$f":"bksingh!$ADB$8","v":""},null,null,null,{"$f":"bksingh!$ADB$8","v":""},null,null,null,{"$f":"bksingh!$ADB$8","v":""},null,null,null,{"$f":"bksingh!$ADB$8","v":""},null,null,null,{"$f":"bksingh!$ADB$8","v":""},null,null,null,{"$f":"bksingh!$ADB$8","v":""},null,null,null,{"$f":"bksingh!$ADB$8","v":""},null,null,null,{"$f":"bksingh!$ADB$8","v":""},null,null,null,{"$f":"bksingh!$ADB$8","v":""},null,null,null,{"$f":"bksingh!$ADB$8","v":""},null,null,null,{"$f":"bksingh!$ADB$8","v":""},null,null,null,{"$f":"bksingh!$ADB$8","v":""},null,null,null,{"$f":"bksingh!$ADB$8","v":""},null,null,null,{"$f":"bksingh!$ADB$8","v":""},null,null,null,{"$f":"bksingh!$ADB$8","v":""},null,null,null,{"$f":"bksingh!$ADB$8","v":""},null,null,null,{"$f":"bksingh!$ADB$8","v":""},null,null,null,{"$f":"bksingh!$ADB$8","v":""},null,null,null,{"$f":"bksingh!$ADB$8","v":""},null,null,null,{"$f":"bksingh!$ADB$8","v":""},null,null,null,{"$f":"bksingh!$ADB$8","v":""},null,null,null,{"$f":"bksingh!$ADB$8","v":""},null,null,null,{"$f":"bksingh!$ADB$8","v":""},null,null,null,{"$f":"bksingh!$ADB$8","v":""},null,null,null,{"$f":"bksingh!$ADB$8","v":""},null,null,null,{"$f":"bksingh!$ADB$8","v":""},null,null,null,{"$f":"bksingh!$ADB$8","v":""},null,null,null,{"$f":"bksingh!$ADB$8","v":""},null,null,null,{"$f":"bksingh!$ADB$8","v":""},null,null,null,{"$f":"bksingh!$ADB$8","v":""},null,null,null,{"$f":"bksingh!$ADB$8","v":""},null,null,null,{"$f":"bksingh!$ADB$8","v":""},null,null,null,{"$f":"bksingh!$ADB$8","v":""},null,null,null,{"$f":"bksingh!$ADB$8","v":""},null,null,null,{"$f":"bksingh!$ADB$8","v":""},null,null,null,{"$f":"bksingh!$ADB$8","v":""},null,null,null,{"$f":"bksingh!$ADB$8","v":""},null,null,null,{"$f":"bksingh!$ADB$8","v":""},null,null,null,{"$f":"bksingh!$ADB$8","v":""},null,null,null,{"$f":"bksingh!$ADB$8","v":""},null,null,null,{"$f":"bksingh!$ADB$8","v":""},null,null,null,{"$f":"bksingh!$ADB$8","v":""},null,null,null,{"$f":"bksingh!$ADB$8","v":""},null,null,null,{"$f":"bksingh!$ADB$8","v":""},null,null,null,{"$f":"bksingh!$ADB$8","v":""},null,null,null,{"$f":"bksingh!$ADB$8","v":""},null,null,null,{"$f":"bksingh!$ADB$8","v":""},null,null,null,{"$f":"bksingh!$ADB$8","v":""},null,null,null,{"$f":"bksingh!$ADB$8","v":""},null,null,null,{"$f":"bksingh!$ADB$8","v":""},null,null,null,{"$f":"bksingh!$ADB$8","v":""},null,null,null,{"$f":"bksingh!$ADB$8","v":""},null,null,null,{"$f":"bksingh!$ADB$8","v":""},null,null,null,{"$f":"bksingh!$ADB$8","v":""},null,null,null,{"$f":"bksingh!$ADB$8","v":""},null,null,null,{"$f":"bksingh!$ADB$8","v":""},null,null,null,{"$f":"bksingh!$ADB$8","v":""},null,null,null,{"$f":"bksingh!$ADB$8","v":""},null,null,null,{"$f":"bksingh!$ADB$8","v":""},null,null,null,{"$f":"bksingh!$ADB$8","v":""},null,null,null,{"$f":"bksingh!$ADB$8","v":""},null,null,null,{"$f":"bksingh!$ADB$8","v":""},null,null,null,{"$f":"bksingh!$ADB$8","v":""},null,null,null,{"$f":"bksingh!$ADB$8","v":""},null,null,null,{"$f":"bksingh!$ADB$8","v":""},null,null,null,{"$f":"bksingh!$ADB$8","v":""},null,null,null,{"$f":"bksingh!$ADB$8","v":""},null,null,null,{"$f":"bksingh!$ADB$8","v":""},null,null,null,{"$f":"bksingh!$ADB$8","v":""},null,null,null,{"$f":"bksingh!$ADB$8","v":""},null,null,null,{"$f":"bksingh!$ADB$8","v":""},null,null,null,{"$f":"bksingh!$ADB$8","v":""},null,null,null,{"$f":"bksingh!$ADB$8","v":""},null,null,null,{"$f":"bksingh!$ADB$8","v":""},null,null,null,{"$f":"bksingh!$ADB$8","v":""},null,null,null,{"$f":"bksingh!$ADB$8","v":""},null,null,null,{"$f":"bksingh!$ADB$8","v":""},null,null,null,{"$f":"bksingh!$ADB$8","v":""},null,null,null,{"$f":"bksingh!$ADB$8","v":""},null,null,null,{"$f":"bksingh!$ADB$8","v":""},null,null,null,{"$f":"bksingh!$ADB$8","v":""},null,null,null,{"$f":"bksingh!$ADB$8","v":""},null,null,null,{"$f":"bksingh!$ADB$8","v":""},null,null,null,{"$f":"bksingh!$ADB$8","v":""},null,null,null,{"$f":"bksingh!$ADB$8","v":""},null,null,null,{"$f":"bksingh!$ADB$8","v":""},null,null,null,{"$f":"bksingh!$ADB$8","v":""},null,null,null,{"$f":"bksingh!$ADB$8","v":""},null,null,null,{"$f":"bksingh!$ADB$8","v":""},null,null,null,{"$f":"bksingh!$ADB$8","v":""},null,null,null,{"$f":"bksingh!$ADB$8","v":""},null,null,null,{"$f":"bksingh!$ADB$8","v":""},null,null,null,{"$f":"bksingh!$ADB$8","v":""},null,null,null,{"$f":"bksingh!$ADB$8","v":""},null,null,null,{"$f":"bksingh!$ADB$8","v":""},null,null,null,{"$f":"bksingh!$ADB$8","v":""},null,null,null,{"$f":"bksingh!$ADB$8","v":""},null,null,null,{"$f":"bksingh!$ADB$8","v":""},null,null,null,{"$f":"bksingh!$ADB$8","v":""},null,null,null,{"$f":"bksingh!$ADB$8","v":""},null,null,null,{"$f":"bksingh!$ADB$8","v":""},null,null,null,{"$f":"bksingh!$ADB$8","v":""},null,null,null,{"$f":"bksingh!$ADB$8","v":""},null,null,null,{"$f":"bksingh!$ADB$8","v":""},null,null,null,{"$f":"bksingh!$ADB$8","v":""},null,null,null,{"$f":"bksingh!$ADB$8","v":""},null,null,null,{"$f":"bksingh!$ADB$8","v":""},null,null,null,{"$f":"bksingh!$ADB$8","v":""},null,null,null,{"$f":"bksingh!$ADB$8","v":""},null,null,null,{"$f":"bksingh!$ADB$8","v":""},null,null,null,{"$f":"bksingh!$ADB$8","v":""},null,null,null,{"$f":"bksingh!$ADB$8","v":""},null,null,null,{"$f":"bksingh!$ADB$8","v":""},null,null,null,{"$f":"bksingh!$ADB$8","v":""},null,null,null,{"$f":"bksingh!$ADB$8","v":""},null,null,null,{"$f":"bksingh!$ADB$8","v":""},null,null,null,{"$f":"bksingh!$ADB$8","v":""},null,null,null,{"$f":"bksingh!$ADB$8","v":""},null,null,null,{"$f":"bksingh!$ADB$8","v":""},null,null,null,{"$f":"bksingh!$ADB$8","v":""},null,null,null,{"$f":"bksingh!$ADB$8","v":""},null,null,null,{"$f":"bksingh!$ADB$8","v":""},null,null,null,{"$f":"bksingh!$ADB$8","v":""},null,null,null,{"$f":"bksingh!$ADB$8","v":""},null,null,null,{"$f":"bksingh!$ADB$8","v":""},null,null,null,{"$f":"bksingh!$ADB$8","v":""},null,null,null,{"$f":"bksingh!$ADB$8","v":""},null,null,null,{"$f":"bksingh!$ADB$8","v":""},null,null,null,{"$f":"bksingh!$ADB$8","v":""},null,null,null,{"$f":"bksingh!$ADB$8","v":""},null,null,null,{"$f":"bksingh!$ADB$8","v":""},null,null,null,{"$f":"bksingh!$ADB$8","v":""},null,null,null,{"$f":"bksingh!$ADB$8","v":""},null,null,null,{"$f":"bksingh!$ADB$8","v":""},null,null,null,{"$f":"bksingh!$ADB$8","v":""},null,null,null,{"$f":"bksingh!$ADB$8","v":""},null,null,null,{"$f":"bksingh!$ADB$8","v":""},null,null,null,{"$f":"bksingh!$ADB$8","v":""},null,null,null,{"$f":"bksingh!$ADB$8","v":""},null,null,null,{"$f":"bksingh!$ADB$8","v":""},null,null,null,{"$f":"bksingh!$ADB$8","v":""},null,null,null,{"$f":"bksingh!$ADB$8","v":""},null,null,null,{"$f":"bksingh!$ADB$8","v":""},null,null,null,{"$f":"bksingh!$ADB$8","v":""},null,null,null,{"$f":"bksingh!$ADB$8","v":""},null,null,null,{"$f":"bksingh!$ADB$8","v":""},null,null,null,{"$f":"bksingh!$ADB$8","v":""},null,null,null,{"$f":"bksingh!$ADB$8","v":""},null,null,null,{"$f":"bksingh!$ADB$8","v":""},null,null,null,{"$f":"bksingh!$ADB$8","v":""},null,null,null,{"$f":"bksingh!$ADB$8","v":""},null,null,null,{"$f":"bksingh!$ADB$8","v":""},null,null,null,{"$f":"bksingh!$ADB$8","v":""},null,null,null,{"$f":"bksingh!$ADB$8","v":""},null,null,null,{"$f":"bksingh!$ADB$8","v":""},null,null,null,{"$f":"bksingh!$ADB$8","v":""},null,null,null,{"$f":"bksingh!$ADB$8","v":""},null,null,null,{"$f":"bksingh!$ADB$8","v":""},null,null,null,{"$f":"bksingh!$ADB$8","v":""},null,null,null,{"$f":"bksingh!$ADB$8","v":""},null,null,null,{"$f":"bksingh!$ADB$8","v":""},null,null,null,{"$f":"bksingh!$ADB$8","v":""},null,null,null,{"$f":"bksingh!$ADB$8","v":""},null,null,null,{"$f":"bksingh!$ADB$8","v":""},null,null,null,{"$f":"bksingh!$ADB$8","v":""},null,null,null,{"$f":"bksingh!$ADB$8","v":""},null,null,null,{"$f":"bksingh!$ADB$8","v":""},null,null,null,{"$f":"bksingh!$ADB$8","v":""},null,null,null,{"$f":"bksingh!$ADB$8","v":""},null,null,null,{"$f":"bksingh!$ADB$8","v":""},null,null,null,{"$f":"bksingh!$ADB$8","v":""},null,null,null,{"$f":"bksingh!$ADB$8","v":""},null,null,null,{"$f":"bksingh!$ADB$8","v":""},null,null,null,{"$f":"bksingh!$ADB$8","v":""},null,null,null,{"$f":"bksingh!$ADB$8","v":""},null,null,null,{"$f":"bksingh!$ADB$8","v":""},null,null,null,{"$f":"bksingh!$ADB$8","v":""},null,null,null,{"$f":"bksingh!$ADB$8","v":""},null,null,null,{"$f":"bksingh!$ADB$8","v":""},null,null,null,{"$f":"bksingh!$ADB$8","v":""},null,null,null,{"$f":"bksingh!$ADB$8","v":""},null,null,null,{"$f":"bksingh!$ADB$8","v":""},null,null,null,{"$f":"bksingh!$ADB$8","v":""},null,null,null,{"$f":"bksingh!$ADB$8","v":""},null,null,null,{"$f":"bksingh!$ADB$8","v":""},null,null,null,{"$f":"bksingh!$ADB$8","v":""},null,null,null,{"$f":"bksingh!$ADB$8","v":""},null,null,null,{"$f":"bksingh!$ADB$8","v":""},null,null,null,{"$f":"bksingh!$ADB$8","v":""},null,null,null,{"$f":"bksingh!$ADB$8","v":""},null,null,null,{"$f":"bksingh!$ADB$8","v":""},null,null,null,{"$f":"bksingh!$ADB$8","v":""},null,null,null,{"$f":"bksingh!$ADB$8","v":""},null,null,null,{"$f":"bksingh!$ADB$8","v":""},null,null,null,{"$f":"bksingh!$ADB$8","v":""},null,null,null,{"$f":"bksingh!$ADB$8","v":""},null,null,null,{"$f":"bksingh!$ADB$8","v":""},null,null,null,{"$f":"bksingh!$ADB$8","v":""},null,null,null,{"$f":"bksingh!$ADB$8","v":""},null,null,null,{"$f":"bksingh!$ADB$8","v":""},null,null,null,{"$f":"bksingh!$ADB$8","v":""},null,null,null,{"$f":"bksingh!$ADB$8","v":""},null,null,null,{"$f":"bksingh!$ADB$8","v":""},null,null,null,{"$f":"bksingh!$ADB$8","v":""},null,null,null,{"$f":"bksingh!$ADB$8","v":""},null,null,null,{"$f":"bksingh!$ADB$8","v":""},null,null,null,{"$f":"bksingh!$ADB$8","v":""},null,null,null,{"$f":"bksingh!$ADB$8","v":""},null,null,null,{"$f":"bksingh!$ADB$8","v":""},null,null,null,{"$f":"bksingh!$ADB$8","v":""},null,null,null,{"$f":"bksingh!$ADB$8","v":""},null,null,null,{"$f":"bksingh!$ADB$8","v":""},null,null,null,{"$f":"bksingh!$ADB$8","v":""},null,null,null,{"$f":"bksingh!$ADB$8","v":""},null,null,null,{"$f":"bksingh!$ADB$8","v":""},null,null,null,{"$f":"bksingh!$ADB$8","v":""},null,null,null,{"$f":"bksingh!$ADB$8","v":""},null,null,null,{"$f":"bksingh!$ADB$8","v":""},null,null,null,{"$f":"bksingh!$ADB$8","v":""},null,null,null,{"$f":"bksingh!$ADB$8","v":""},null,null,null,{"$f":"bksingh!$ADB$8","v":""},null,null,null,{"$f":"bksingh!$ADB$8","v":""},null,null,null,{"$f":"bksingh!$ADB$8","v":""},null,null,null,{"$f":"bksingh!$ADB$8","v":""},null,null,null,{"$f":"bksingh!$ADB$8","v":""},null,null,null,{"$f":"bksingh!$ADB$8","v":""},null,null,null,{"$f":"bksingh!$ADB$8","v":""},null,null,null,{"$f":"bksingh!$ADB$8","v":""},null,null,null,{"$f":"bksingh!$ADB$8","v":""},null,null,null,{"$f":"bksingh!$ADB$8","v":""},null,null,null,{"$f":"bksingh!$ADB$8","v":""},null,null,null,{"$f":"bksingh!$ADB$8","v":""},null,null,null,{"$f":"bksingh!$ADB$8","v":""},null,null,null,{"$f":"bksingh!$ADB$8","v":""},null,null,null,{"$f":"bksingh!$ADB$8","v":""},null,null,null,{"$f":"bksingh!$ADB$8","v":""},null,null,null,{"$f":"bksingh!$ADB$8","v":""},null,null,null,{"$f":"bksingh!$ADB$8","v":""},null,null,null,{"$f":"bksingh!$ADB$8","v":""},null,null,null,{"$f":"bksingh!$ADB$8","v":""},null,null,null,{"$f":"bksingh!$ADB$8","v":""},null,null,null,{"$f":"bksingh!$ADB$8","v":""},null,null,null,{"$f":"bksingh!$ADB$8","v":""},null,null,null,{"$f":"bksingh!$ADB$8","v":""},null,null,null,{"$f":"bksingh!$ADB$8","v":""},null,null,null,{"$f":"bksingh!$ADB$8","v":""},null,null,null,{"$f":"bksingh!$ADB$8","v":""},null,null,null,{"$f":"bksingh!$ADB$8","v":""},null,null,null,{"$f":"bksingh!$ADB$8","v":""},null,null,null,{"$f":"bksingh!$ADB$8","v":""},null,null,null,{"$f":"bksingh!$ADB$8","v":""},null,null,null,{"$f":"bksingh!$ADB$8","v":""},null,null,null,{"$f":"bksingh!$ADB$8","v":""},null,null,null,{"$f":"bksingh!$ADB$8","v":""},null,null,null,{"$f":"bksingh!$ADB$8","v":""},null,null,null,{"$f":"bksingh!$ADB$8","v":""},null,null,null,{"$f":"bksingh!$ADB$8","v":""},null,null,null,{"$f":"bksingh!$ADB$8","v":""},null,null,null,{"$f":"bksingh!$ADB$8","v":""},null,null,null,{"$f":"bksingh!$ADB$8","v":""},null,null,null,{"$f":"bksingh!$ADB$8","v":""},null,null,null,{"$f":"bksingh!$ADB$8","v":""},null,null,null,{"$f":"bksingh!$ADB$8","v":""},null,null,null,{"$f":"bksingh!$ADB$8","v":""},null,null,null,{"$f":"bksingh!$ADB$8","v":""},null,null,null,{"$f":"bksingh!$ADB$8","v":""},null,null,null,{"$f":"bksingh!$ADB$8","v":""},null,null,null,{"$f":"bksingh!$ADB$8","v":""},null,null,null,{"$f":"bksingh!$ADB$8","v":""},null,null,null,{"$f":"bksingh!$ADB$8","v":""},null,null,null,{"$f":"bksingh!$ADB$8","v":""},null,null,null,{"$f":"bksingh!$ADB$8","v":""},null,null,null,{"$f":"bksingh!$ADB$8","v":""},null,null,null,{"$f":"bksingh!$ADB$8","v":""},null,null,null,{"$f":"bksingh!$ADB$8","v":""},null,null,null,{"$f":"bksingh!$ADB$8","v":""},null,null,null,{"$f":"bksingh!$ADB$8","v":""},null,null,null,{"$f":"bksingh!$ADB$8","v":""},null,null,null,{"$f":"bksingh!$ADB$8","v":""},null,null,null,{"$f":"bksingh!$ADB$8","v":""},null,null,null,{"$f":"bksingh!$ADB$8","v":""},null,null,null,{"$f":"bksingh!$ADB$8","v":""},null,null,null,{"$f":"bksingh!$ADB$8","v":""},null,null,null,{"$f":"bksingh!$ADB$8","v":""},null,null,null,{"$f":"bksingh!$ADB$8","v":""},null,null,null,{"$f":"bksingh!$ADB$8","v":""},null,null,null,{"$f":"bksingh!$ADB$8","v":""},null,null,null,{"$f":"bksingh!$ADB$8","v":""},null,null,null,{"$f":"bksingh!$ADB$8","v":""},null,null,null,{"$f":"bksingh!$ADB$8","v":""},null,null,null,{"$f":"bksingh!$ADB$8","v":""},null,null,null,{"$f":"bksingh!$ADB$8","v":""},null,null,null,{"$f":"bksingh!$ADB$8","v":""},null,null,null,{"$f":"bksingh!$ADB$8","v":""},null,null,null,{"$f":"bksingh!$ADB$8","v":""},null,null,null,{"$f":"bksingh!$ADB$8","v":""},null,null,null,{"$f":"bksingh!$ADB$8","v":""},null,null,null,{"$f":"bksingh!$ADB$8","v":""},null,null,null,{"$f":"bksingh!$ADB$8","v":""},null,null,null,{"$f":"bksingh!$ADB$8","v":""},null,null,null,{"$f":"bksingh!$ADB$8","v":""},null,null,null,{"$f":"bksingh!$ADB$8","v":""},null,null,null,{"$f":"bksingh!$ADB$8","v":""},null,null,null,{"$f":"bksingh!$ADB$8","v":""},null,null,null,{"$f":"bksingh!$ADB$8","v":""},null,null,null,{"$f":"bksingh!$ADB$8","v":""},null,null,null,{"$f":"bksingh!$ADB$8","v":""},null,null,null,{"$f":"bksingh!$ADB$8","v":""},null,null,null,{"$f":"bksingh!$ADB$8","v":""},null,null,null,{"$f":"bksingh!$ADB$8","v":""},null,null,null,{"$f":"bksingh!$ADB$8","v":""},null,null,null,{"$f":"bksingh!$ADB$8","v":""},null,null,null,{"$f":"bksingh!$ADB$8","v":""},null,null,null,{"$f":"bksingh!$ADB$8","v":""},null,null,null,{"$f":"bksingh!$ADB$8","v":""},null,null,null,{"$f":"bksingh!$ADB$8","v":""},null,null,null,{"$f":"bksingh!$ADB$8","v":""},null,null,null,{"$f":"bksingh!$ADB$8","v":""},null,null,null,{"$f":"bksingh!$ADB$8","v":""},null,null,null,{"$f":"bksingh!$ADB$8","v":""},null,null,null,{"$f":"bksingh!$ADB$8","v":""},null,null,null,{"$f":"bksingh!$ADB$8","v":""},null,null,null,{"$f":"bksingh!$ADB$8","v":""},null,null,null,{"$f":"bksingh!$ADB$8","v":""},null,null,null,{"$f":"bksingh!$ADB$8","v":""},null,null,null,{"$f":"bksingh!$ADB$8","v":""},null,null,null,{"$f":"bksingh!$ADB$8","v":""},null,null,null,{"$f":"bksingh!$ADB$8","v":""},null,null,null,{"$f":"bksingh!$ADB$8","v":""},null,null,null,{"$f":"bksingh!$ADB$8","v":""},null,null,null,{"$f":"bksingh!$ADB$8","v":""},null,null,null,{"$f":"bksingh!$ADB$8","v":""},null,null,null,{"$f":"bksingh!$ADB$8","v":""},null,null,null,{"$f":"bksingh!$ADB$8","v":""},null,null,null,{"$f":"bksingh!$ADB$8","v":""},null,null,null,{"$f":"bksingh!$ADB$8","v":""},null,null,null,{"$f":"bksingh!$ADB$8","v":""},null,null,null,{"$f":"bksingh!$ADB$8","v":""},null,null,null,{"$f":"bksingh!$ADB$8","v":""},null,null,null,{"$f":"bksingh!$ADB$8","v":""},null,null,null,{"$f":"bksingh!$ADB$8","v":""},null,null,null,{"$f":"bksingh!$ADB$8","v":""},null,null,null,{"$f":"bksingh!$ADB$8","v":""},null,null,null,{"$f":"bksingh!$ADB$8","v":""},null,null,null,{"$f":"bksingh!$ADB$8","v":""},null,null,null,{"$f":"bksingh!$ADB$8","v":""},null,null,null,{"$f":"bksingh!$ADB$8","v":""},null,null,null,{"$f":"bksingh!$ADB$8","v":""},null,null,null,{"$f":"bksingh!$ADB$8","v":""},null,null,null,{"$f":"bksingh!$ADB$8","v":""},null,null,null,{"$f":"bksingh!$ADB$8","v":""},null,null,null,{"$f":"bksingh!$ADB$8","v":""},null,null,null,{"$f":"bksingh!$ADB$8","v":""},null,null,null,{"$f":"bksingh!$ADB$8","v":""},null,null,null,{"$f":"bksingh!$ADB$8","v":""},null,null,null,{"$f":"bksingh!$ADB$8","v":""},null,null,null,{"$f":"bksingh!$ADB$8","v":""},null,null,null,{"$f":"bksingh!$ADB$8","v":""},null,null,null,{"$f":"bksingh!$ADB$8","v":""},null,null,null,{"$f":"bksingh!$ADB$8","v":""},null,null,null,{"$f":"bksingh!$ADB$8","v":""},null,null,null,{"$f":"bksingh!$ADB$8","v":""},null,null,null,{"$f":"bksingh!$ADB$8","v":""},null,null,null,{"$f":"bksingh!$ADB$8","v":""},null,null,null,{"$f":"bksingh!$ADB$8","v":""},null,null,null,{"$f":"bksingh!$ADB$8","v":""},null,null,null,{"$f":"bksingh!$ADB$8","v":""},null,null,null,{"$f":"bksingh!$ADB$8","v":""},null,null,null,{"$f":"bksingh!$ADB$8","v":""},null,null,null,{"$f":"bksingh!$ADB$8","v":""},null,null,null,{"$f":"bksingh!$ADB$8","v":""},null,null,null,{"$f":"bksingh!$ADB$8","v":""},null,null,null,{"$f":"bksingh!$ADB$8","v":""},null,null,null,{"$f":"bksingh!$ADB$8","v":""},null,null,null,{"$f":"bksingh!$ADB$8","v":""},null,null,null,{"$f":"bksingh!$ADB$8","v":""},null,null,null,{"$f":"bksingh!$ADB$8","v":""},null,null,null,{"$f":"bksingh!$ADB$8","v":""},null,null,null,{"$f":"bksingh!$ADB$8","v":""},null,null,null,{"$f":"bksingh!$ADB$8","v":""},null,null,null,{"$f":"bksingh!$ADB$8","v":""},null,null,null,{"$f":"bksingh!$ADB$8","v":""},null,null,null,{"$f":"bksingh!$ADB$8","v":""},null,null,null,{"$f":"bksingh!$ADB$8","v":""},null,null,null,{"$f":"bksingh!$ADB$8","v":""},null,null,null,{"$f":"bksingh!$ADB$8","v":""},null,null,null,{"$f":"bksingh!$ADB$8","v":""},null,null,null,{"$f":"bksingh!$ADB$8","v":""},null,null,null,{"$f":"bksingh!$ADB$8","v":""},null,null,null,{"$f":"bksingh!$ADB$8","v":""},null,null,null,{"$f":"bksingh!$ADB$8","v":""},null,null,null,{"$f":"bksingh!$ADB$8","v":""},null,null,null,{"$f":"bksingh!$ADB$8","v":""},null,null,null,{"$f":"bksingh!$ADB$8","v":""},null,null,null,{"$f":"bksingh!$ADB$8","v":""},null,null,null,{"$f":"bksingh!$ADB$8","v":""},null,null,null,{"$f":"bksingh!$ADB$8","v":""},null,null,null,{"$f":"bksingh!$ADB$8","v":""},null,null,null,{"$f":"bksingh!$ADB$8","v":""},null,null,null,{"$f":"bksingh!$ADB$8","v":""},null,null,null,{"$f":"bksingh!$ADB$8","v":""},null,null,null,{"$f":"bksingh!$ADB$8","v":""},null,null,null,{"$f":"bksingh!$ADB$8","v":""},null,null,null,{"$f":"bksingh!$ADB$8","v":""},null,null,null,{"$f":"bksingh!$ADB$8","v":""},null,null,null,{"$f":"bksingh!$ADB$8","v":""},null,null,null,{"$f":"bksingh!$ADB$8","v":""},null,null,null,{"$f":"bksingh!$ADB$8","v":""},null,null,null,{"$f":"bksingh!$ADB$8","v":""},null,null,null,{"$f":"bksingh!$ADB$8","v":""},null,null,null,{"$f":"bksingh!$ADB$8","v":""},null,null,null,{"$f":"bksingh!$ADB$8","v":""},null,null,null,{"$f":"bksingh!$ADB$8","v":""},null,null,null,{"$f":"bksingh!$ADB$8","v":""},null,null,null,{"$f":"bksingh!$ADB$8","v":""},null,null,null,{"$f":"bksingh!$ADB$8","v":""},null,null,null,{"$f":"bksingh!$ADB$8","v":""},null,null,null,{"$f":"bksingh!$ADB$8","v":""},null,null,null,{"$f":"bksingh!$ADB$8","v":""},null,null,null,{"$f":"bksingh!$ADB$8","v":""},null,null,null,{"$f":"bksingh!$ADB$8","v":""},null,null,null,{"$f":"bksingh!$ADB$8","v":""},null,null,null,{"$f":"bksingh!$ADB$8","v":""},null,null,null,{"$f":"bksingh!$ADB$8","v":""},null,null,null,{"$f":"bksingh!$ADB$8","v":""},null,null,null,{"$f":"bksingh!$ADB$8","v":""},null,null,null,{"$f":"bksingh!$ADB$8","v":""},null,null,null,{"$f":"bksingh!$ADB$8","v":""},null,null,null,{"$f":"bksingh!$ADB$8","v":""},null,null,null,{"$f":"bksingh!$ADB$8","v":""},null,null,null,{"$f":"bksingh!$ADB$8","v":""},null,null,null,{"$f":"bksingh!$ADB$8","v":""},null,null,null,{"$f":"bksingh!$ADB$8","v":""},null,null,null,{"$f":"bksingh!$ADB$8","v":""},null,null,null,{"$f":"bksingh!$ADB$8","v":""},null,null,null,{"$f":"bksingh!$ADB$8","v":""},null,null,null,{"$f":"bksingh!$ADB$8","v":""},null,null,null,{"$f":"bksingh!$ADB$8","v":""},null,null,null,{"$f":"bksingh!$ADB$8","v":""},null,null,null,{"$f":"bksingh!$ADB$8","v":""},null,null,null,{"$f":"bksingh!$ADB$8","v":""},null,null,null,{"$f":"bksingh!$ADB$8","v":""},null,null,null,{"$f":"bksingh!$ADB$8","v":""},null,null,null,{"$f":"bksingh!$ADB$8","v":""},null,null,null,{"$f":"bksingh!$ADB$8","v":""},null,null,null,{"$f":"bksingh!$ADB$8","v":""},null,null,null,{"$f":"bksingh!$ADB$8","v":""},null,null,null,{"$f":"bksingh!$ADB$8","v":""},null,null,null,{"$f":"bksingh!$ADB$8","v":""},null,null,null,{"$f":"bksingh!$ADB$8","v":""},null,null,null,{"$f":"bksingh!$ADB$8","v":""},null,null,null,{"$f":"bksingh!$ADB$8","v":""},null,null,null,{"$f":"bksingh!$ADB$8","v":""},null,null,null,{"$f":"bksingh!$ADB$8","v":""},null,null,null,{"$f":"bksingh!$ADB$8","v":""},null,null,null,{"$f":"bksingh!$ADB$8","v":""},null,null,null,{"$f":"bksingh!$ADB$8","v":""},null,null,null,{"$f":"bksingh!$ADB$8","v":""},null,null,null,{"$f":"bksingh!$ADB$8","v":""},null,null,null,{"$f":"bksingh!$ADB$8","v":""},null,null,null,{"$f":"bksingh!$ADB$8","v":""},null,null,null,{"$f":"bksingh!$ADB$8","v":""},null,null,null,{"$f":"bksingh!$ADB$8","v":""},null,null,null,{"$f":"bksingh!$ADB$8","v":""},null,null,null,{"$f":"bksingh!$ADB$8","v":""},null,null,null,{"$f":"bksingh!$ADB$8","v":""},null,null,null,{"$f":"bksingh!$ADB$8","v":""},null,null,null,{"$f":"bksingh!$ADB$8","v":""},null,null,null,{"$f":"bksingh!$ADB$8","v":""},null,null,null,{"$f":"bksingh!$ADB$8","v":""},null,null,null,{"$f":"bksingh!$ADB$8","v":""},null,null,null,{"$f":"bksingh!$ADB$8","v":""},null,null,null,{"$f":"bksingh!$ADB$8","v":""},null,null,null,{"$f":"bksingh!$ADB$8","v":""},null,null,null,{"$f":"bksingh!$ADB$8","v":""},null,null,null,{"$f":"bksingh!$ADB$8","v":""},null,null,null,{"$f":"bksingh!$ADB$8","v":""},null,null,null,{"$f":"bksingh!$ADB$8","v":""},null,null,null,{"$f":"bksingh!$ADB$8","v":""},null,null,null,{"$f":"bksingh!$ADB$8","v":""},null,null,null,{"$f":"bksingh!$ADB$8","v":""},null,null,null,{"$f":"bksingh!$ADB$8","v":""},null,null,null,{"$f":"bksingh!$ADB$8","v":""},null,null,null,{"$f":"bksingh!$ADB$8","v":""},null,null,null,{"$f":"bksingh!$ADB$8","v":""},null,null,null,{"$f":"bksingh!$ADB$8","v":""},null,null,null,{"$f":"bksingh!$ADB$8","v":""},null,null,null,{"$f":"bksingh!$ADB$8","v":""},null,null,null,{"$f":"bksingh!$ADB$8","v":""},null,null,null,{"$f":"bksingh!$ADB$8","v":""},null,null,null,{"$f":"bksingh!$ADB$8","v":""},null,null,null,{"$f":"bksingh!$ADB$8","v":""},null,null,null,{"$f":"bksingh!$ADB$8","v":""},null,null,null,{"$f":"bksingh!$ADB$8","v":""},null,null,null,{"$f":"bksingh!$ADB$8","v":""},null,null,null,{"$f":"bksingh!$ADB$8","v":""},null,null,null,{"$f":"bksingh!$ADB$8","v":""},null,null,null,{"$f":"bksingh!$ADB$8","v":""},null,null,null,{"$f":"bksingh!$ADB$8","v":""},null,null,null,{"$f":"bksingh!$ADB$8","v":""},null,null,null,{"$f":"bksingh!$ADB$8","v":""},null,null,null,{"$f":"bksingh!$ADB$8","v":""},null,null,null,{"$f":"bksingh!$ADB$8","v":""},null,null,null,{"$f":"bksingh!$ADB$8","v":""},null,null,null,{"$f":"bksingh!$ADB$8","v":""},null,null,null,{"$f":"bksingh!$ADB$8","v":""},null,null,null,{"$f":"bksingh!$ADB$8","v":""},null,null,null,{"$f":"bksingh!$ADB$8","v":""},null,null,null,{"$f":"bksingh!$ADB$8","v":""},null,null,null,{"$f":"bksingh!$ADB$8","v":""},null,null,null,{"$f":"bksingh!$ADB$8","v":""},null,null,null,{"$f":"bksingh!$ADB$8","v":""},null,null,null,{"$f":"bksingh!$ADB$8","v":""},null,null,null,{"$f":"bksingh!$ADB$8","v":""},null,null,null,{"$f":"bksingh!$ADB$8","v":""},null,null,null,{"$f":"bksingh!$ADB$8","v":""},null,null,null,{"$f":"bksingh!$ADB$8","v":""},null,null,null,{"$f":"bksingh!$ADB$8","v":""},null,null,null,{"$f":"bksingh!$ADB$8","v":""},null,null,null,{"$f":"bksingh!$ADB$8","v":""},null,null,null,{"$f":"bksingh!$ADB$8","v":""},null,null,null,{"$f":"bksingh!$ADB$8","v":""},null,null,null,{"$f":"bksingh!$ADB$8","v":""},null,null,null,{"$f":"bksingh!$ADB$8","v":""},null,null,null,{"$f":"bksingh!$ADB$8","v":""},null,null,null,{"$f":"bksingh!$ADB$8","v":""},null,null,null,{"$f":"bksingh!$ADB$8","v":""},null,null,null,{"$f":"bksingh!$ADB$8","v":""},null,null,null,{"$f":"bksingh!$ADB$8","v":""},null,null,null,{"$f":"bksingh!$ADB$8","v":""},null,null,null,{"$f":"bksingh!$ADB$8","v":""},null,null,null,{"$f":"bksingh!$ADB$8","v":""},null,null,null,{"$f":"bksingh!$ADB$8","v":""},null,null,null,{"$f":"bksingh!$ADB$8","v":""},null,null,null,{"$f":"bksingh!$ADB$8","v":""},null,null,null,{"$f":"bksingh!$ADB$8","v":""},null,null,null,{"$f":"bksingh!$ADB$8","v":""},null,null,null,{"$f":"bksingh!$ADB$8","v":""},null,null,null,{"$f":"bksingh!$ADB$8","v":""},null,null,null,{"$f":"bksingh!$ADB$8","v":""},null,null,null,{"$f":"bksingh!$ADB$8","v":""},null,null,null,{"$f":"bksingh!$ADB$8","v":""},null,null,null,{"$f":"bksingh!$ADB$8","v":""},null,null,null,{"$f":"bksingh!$ADB$8","v":""},null,null,null,{"$f":"bksingh!$ADB$8","v":""},null,null,null,{"$f":"bksingh!$ADB$8","v":""},null,null,null,{"$f":"bksingh!$ADB$8","v":""},null,null,null,{"$f":"bksingh!$ADB$8","v":""},null,null,null,{"$f":"bksingh!$ADB$8","v":""},null,null,null,{"$f":"bksingh!$ADB$8","v":""},null,null,null,{"$f":"bksingh!$ADB$8","v":""},null,null,null,{"$f":"bksingh!$ADB$8","v":""},null,null,null,{"$f":"bksingh!$ADB$8","v":""},null,null,null,{"$f":"bksingh!$ADB$8","v":""},null,null,null,{"$f":"bksingh!$ADB$8","v":""},null,null,null,{"$f":"bksingh!$ADB$8","v":""},null,null,null,{"$f":"bksingh!$ADB$8","v":""},null,null,null,{"$f":"bksingh!$ADB$8","v":""},null,null,null,{"$f":"bksingh!$ADB$8","v":""},null,null,null,{"$f":"bksingh!$ADB$8","v":""},null,null,null,{"$f":"bksingh!$ADB$8","v":""},null,null,null,{"$f":"bksingh!$ADB$8","v":""},null,null,null,{"$f":"bksingh!$ADB$8","v":""},null,null,null,{"$f":"bksingh!$ADB$8","v":""},null,null,null,{"$f":"bksingh!$ADB$8","v":""},null,null,null,{"$f":"bksingh!$ADB$8","v":""},null,null,null,{"$f":"bksingh!$ADB$8","v":""},null,null,null,{"$f":"bksingh!$ADB$8","v":""},null,null,null,{"$f":"bksingh!$ADB$8","v":""},null,null,null,{"$f":"bksingh!$ADB$8","v":""},null,null,null,{"$f":"bksingh!$ADB$8","v":""},null,null,null,{"$f":"bksingh!$ADB$8","v":""},null,null,null,{"$f":"bksingh!$ADB$8","v":""},null,null,null,{"$f":"bksingh!$ADB$8","v":""},null,null,null,{"$f":"bksingh!$ADB$8","v":""},null,null,null,{"$f":"bksingh!$ADB$8","v":""},null,null,null,{"$f":"bksingh!$ADB$8","v":""},null,null,null,{"$f":"bksingh!$ADB$8","v":""},null,null,null,{"$f":"bksingh!$ADB$8","v":""},null,null,null,{"$f":"bksingh!$ADB$8","v":""},null,null,null,{"$f":"bksingh!$ADB$8","v":""},null,null,null,{"$f":"bksingh!$ADB$8","v":""},null,null,null,{"$f":"bksingh!$ADB$8","v":""},null,null,null,{"$f":"bksingh!$ADB$8","v":""},null,null,null,{"$f":"bksingh!$ADB$8","v":""},null,null,null,{"$f":"bksingh!$ADB$8","v":""},null,null,null,{"$f":"bksingh!$ADB$8","v":""},null,null,null,{"$f":"bksingh!$ADB$8","v":""},null,null,null,{"$f":"bksingh!$ADB$8","v":""},null,null,null,{"$f":"bksingh!$ADB$8","v":""},null,null,null,{"$f":"bksingh!$ADB$8","v":""},null,null,null,{"$f":"bksingh!$ADB$8","v":""},null,null,null,{"$f":"bksingh!$ADB$8","v":""},null,null,null,{"$f":"bksingh!$ADB$8","v":""},null,null,null,{"$f":"bksingh!$ADB$8","v":""},null,null,null,{"$f":"bksingh!$ADB$8","v":""},null,null,null,{"$f":"bksingh!$ADB$8","v":""},null,null,null,{"$f":"bksingh!$ADB$8","v":""},null,null,null,{"$f":"bksingh!$ADB$8","v":""},null,null,null,{"$f":"bksingh!$ADB$8","v":""},null,null,null,{"$f":"bksingh!$ADB$8","v":""},null,null,null,{"$f":"bksingh!$ADB$8","v":""},null,null,null,{"$f":"bksingh!$ADB$8","v":""},null,null,null,{"$f":"bksingh!$ADB$8","v":""},null,null,null,{"$f":"bksingh!$ADB$8","v":""},null,null,null,{"$f":"bksingh!$ADB$8","v":""},null,null,null,{"$f":"bksingh!$ADB$8","v":""},null,null,null,{"$f":"bksingh!$ADB$8","v":""},null,null,null,{"$f":"bksingh!$ADB$8","v":""},null,null,null,{"$f":"bksingh!$ADB$8","v":""},null,null,null,{"$f":"bksingh!$ADB$8","v":""},null,null,null,{"$f":"bksingh!$ADB$8","v":""},null,null,null,{"$f":"bksingh!$ADB$8","v":""},null,null,null,{"$f":"bksingh!$ADB$8","v":""},null,null,null,{"$f":"bksingh!$ADB$8","v":""},null,null,null,{"$f":"bksingh!$ADB$8","v":""},null,null,null,{"$f":"bksingh!$ADB$8","v":""},null,null,null,{"$f":"bksingh!$ADB$8","v":""},null,null,null,{"$f":"bksingh!$ADB$8","v":""},null,null,null,{"$f":"bksingh!$ADB$8","v":""},null,null,null,{"$f":"bksingh!$ADB$8","v":""},null,null,null,{"$f":"bksingh!$ADB$8","v":""},null,null,null,{"$f":"bksingh!$ADB$8","v":""},null,null,null,{"$f":"bksingh!$ADB$8","v":""},null,null,null,{"$f":"bksingh!$ADB$8","v":""},null,null,null,{"$f":"bksingh!$ADB$8","v":""},null,null,null,{"$f":"bksingh!$ADB$8","v":""},null,null,null,{"$f":"bksingh!$ADB$8","v":""},null,null,null,{"$f":"bksingh!$ADB$8","v":""},null,null,null,{"$f":"bksingh!$ADB$8","v":""},null,null,null,{"$f":"bksingh!$ADB$8","v":""},null,null,null,{"$f":"bksingh!$ADB$8","v":""},null,null,null,{"$f":"bksingh!$ADB$8","v":""},null,null,null,{"$f":"bksingh!$ADB$8","v":""},null,null,null,{"$f":"bksingh!$ADB$8","v":""},null,null,null,{"$f":"bksingh!$ADB$8","v":""},null,null,null,{"$f":"bksingh!$ADB$8","v":""},null,null,null,{"$f":"bksingh!$ADB$8","v":""},null,null,null,{"$f":"bksingh!$ADB$8","v":""},null,null,null,{"$f":"bksingh!$ADB$8","v":""},null,null,null,{"$f":"bksingh!$ADB$8","v":""},null,null,null,{"$f":"bksingh!$ADB$8","v":""},null,null,null,{"$f":"bksingh!$ADB$8","v":""},null,null,null,{"$f":"bksingh!$ADB$8","v":""},null,null,null,{"$f":"bksingh!$ADB$8","v":""},null,null,null,{"$f":"bksingh!$ADB$8","v":""},null,null,null,{"$f":"bksingh!$ADB$8","v":""},null,null,null,{"$f":"bksingh!$ADB$8","v":""},null,null,null,{"$f":"bksingh!$ADB$8","v":""},null,null,null,{"$f":"bksingh!$ADB$8","v":""},null,null,null,{"$f":"bksingh!$ADB$8","v":""},null,null,null,{"$f":"bksingh!$ADB$8","v":""},null,null,null,{"$f":"bksingh!$ADB$8","v":""},null,null,null,{"$f":"bksingh!$ADB$8","v":""},null,null,null,{"$f":"bksingh!$ADB$8","v":""},null,null,null,{"$f":"bksingh!$ADB$8","v":""},null,null,null,{"$f":"bksingh!$ADB$8","v":""},null,null,null,{"$f":"bksingh!$ADB$8","v":""},null,null,null,{"$f":"bksingh!$ADB$8","v":""},null,null,null,{"$f":"bksingh!$ADB$8","v":""},null,null,null,{"$f":"bksingh!$ADB$8","v":""},null,null,null,{"$f":"bksingh!$ADB$8","v":""},null,null,null,{"$f":"bksingh!$ADB$8","v":""},null,null,null,{"$f":"bksingh!$ADB$8","v":""},null,null,null,{"$f":"bksingh!$ADB$8","v":""},null,null,null,{"$f":"bksingh!$ADB$8","v":""},null,null,null,{"$f":"bksingh!$ADB$8","v":""},null,null,null,{"$f":"bksingh!$ADB$8","v":""},null,null,null,{"$f":"bksingh!$ADB$8","v":""},null,null,null,{"$f":"bksingh!$ADB$8","v":""},null,null,null,{"$f":"bksingh!$ADB$8","v":""},null,null,null,{"$f":"bksingh!$ADB$8","v":""},null,null,null,{"$f":"bksingh!$ADB$8","v":""},null,null,null,{"$f":"bksingh!$ADB$8","v":""},null,null,null,{"$f":"bksingh!$ADB$8","v":""},null,null,null,{"$f":"bksingh!$ADB$8","v":""},null,null,null,{"$f":"bksingh!$ADB$8","v":""},null,null,null,{"$f":"bksingh!$ADB$8","v":""},null,null,null,{"$f":"bksingh!$ADB$8","v":""},null,null,null,{"$f":"bksingh!$ADB$8","v":""},null,null,null,{"$f":"bksingh!$ADB$8","v":""},null,null,null,{"$f":"bksingh!$ADB$8","v":""},null,null,null,{"$f":"bksingh!$ADB$8","v":""},null,null,null,{"$f":"bksingh!$ADB$8","v":""},null,null,null,{"$f":"bksingh!$ADB$8","v":""},null,null,null,{"$f":"bksingh!$ADB$8","v":""},null,null,null,{"$f":"bksingh!$ADB$8","v":""},null,null,null,{"$f":"bksingh!$ADB$8","v":""},null,null,null,{"$f":"bksingh!$ADB$8","v":""},null,null,null,{"$f":"bksingh!$ADB$8","v":""},null,null,null,{"$f":"bksingh!$ADB$8","v":""},null,null,null,{"$f":"bksingh!$ADB$8","v":""},null,null,null,{"$f":"bksingh!$ADB$8","v":""},null,null,null,{"$f":"bksingh!$ADB$8","v":""},null,null,null,{"$f":"bksingh!$ADB$8","v":""},null,null,null,{"$f":"bksingh!$ADB$8","v":""},null,null,null,{"$f":"bksingh!$ADB$8","v":""},null,null,null,{"$f":"bksingh!$ADB$8","v":""},null,null,null,{"$f":"bksingh!$ADB$8","v":""},null,null,null,{"$f":"bksingh!$ADB$8","v":""},null,null,null,{"$f":"bksingh!$ADB$8","v":""},null,null,null,{"$f":"bksingh!$ADB$8","v":""},null,null,null,{"$f":"bksingh!$ADB$8","v":""},null,null,null,{"$f":"bksingh!$ADB$8","v":""},null,null,null,{"$f":"bksingh!$ADB$8","v":""},null,null,null,{"$f":"bksingh!$ADB$8","v":""},null,null,null,{"$f":"bksingh!$ADB$8","v":""},null,null,null,{"$f":"bksingh!$ADB$8","v":""},null,null,null,{"$f":"bksingh!$ADB$8","v":""},null,null,null,{"$f":"bksingh!$ADB$8","v":""},null,null,null,{"$f":"bksingh!$ADB$8","v":""},null,null,null,{"$f":"bksingh!$ADB$8","v":""},null,null,null,{"$f":"bksingh!$ADB$8","v":""},null,null,null,{"$f":"bksingh!$ADB$8","v":""},null,null,null,{"$f":"bksingh!$ADB$8","v":""},null,null,null,{"$f":"bksingh!$ADB$8","v":""},null,null,null,{"$f":"bksingh!$ADB$8","v":""},null,null,null,{"$f":"bksingh!$ADB$8","v":""},null,null,null,{"$f":"bksingh!$ADB$8","v":""},null,null,null,{"$f":"bksingh!$ADB$8","v":""},null,null,null,{"$f":"bksingh!$ADB$8","v":""},null,null,null,{"$f":"bksingh!$ADB$8","v":""},null,null,null,{"$f":"bksingh!$ADB$8","v":""},null,null,null,{"$f":"bksingh!$ADB$8","v":""},null,null,null,{"$f":"bksingh!$ADB$8","v":""},null,null,null,{"$f":"bksingh!$ADB$8","v":""},null,null,null,{"$f":"bksingh!$ADB$8","v":""},null,null,null,{"$f":"bksingh!$ADB$8","v":""},null,null,null,{"$f":"bksingh!$ADB$8","v":""},null,null,null,{"$f":"bksingh!$ADB$8","v":""},null,null,null,{"$f":"bksingh!$ADB$8","v":""},null,null,null,{"$f":"bksingh!$ADB$8","v":""},null,null,null,{"$f":"bksingh!$ADB$8","v":""},null,null,null,{"$f":"bksingh!$ADB$8","v":""},null,null,null,{"$f":"bksingh!$ADB$8","v":""},null,null,null,{"$f":"bksingh!$ADB$8","v":""},null,null,null,{"$f":"bksingh!$ADB$8","v":""},null,null,null,{"$f":"bksingh!$ADB$8","v":""},null,null,null,{"$f":"bksingh!$ADB$8","v":""},null,null,null,{"$f":"bksingh!$ADB$8","v":""},null,null,null,{"$f":"bksingh!$ADB$8","v":""},null,null,null,{"$f":"bksingh!$ADB$8","v":""},null,null,null,{"$f":"bksingh!$ADB$8","v":""},null,null,null,{"$f":"bksingh!$ADB$8","v":""},null,null,null,{"$f":"bksingh!$ADB$8","v":""},null,null,null,{"$f":"bksingh!$ADB$8","v":""},null,null,null,{"$f":"bksingh!$ADB$8","v":""},null,null,null,{"$f":"bksingh!$ADB$8","v":""},null,null,null,{"$f":"bksingh!$ADB$8","v":""},null,null,null,{"$f":"bksingh!$ADB$8","v":""},null,null,null,{"$f":"bksingh!$ADB$8","v":""},null,null,null,{"$f":"bksingh!$ADB$8","v":""},null,null,null,{"$f":"bksingh!$ADB$8","v":""},null,null,null,{"$f":"bksingh!$ADB$8","v":""},null,null,null,{"$f":"bksingh!$ADB$8","v":""},null,null,null,{"$f":"bksingh!$ADB$8","v":""},null,null,null,{"$f":"bksingh!$ADB$8","v":""},null,null,null,{"$f":"bksingh!$ADB$8","v":""},null,null,null,{"$f":"bksingh!$ADB$8","v":""},null,null,null,{"$f":"bksingh!$ADB$8","v":""},null,null,null,{"$f":"bksingh!$ADB$8","v":""},null,null,null,{"$f":"bksingh!$ADB$8","v":""},null,null,null,{"$f":"bksingh!$ADB$8","v":""},null,null,null,{"$f":"bksingh!$ADB$8","v":""},null,null,null,{"$f":"bksingh!$ADB$8","v":""},null,null,null,{"$f":"bksingh!$ADB$8","v":""},null,null,null,{"$f":"bksingh!$ADB$8","v":""},null,null,null,{"$f":"bksingh!$ADB$8","v":""},null,null,null,{"$f":"bksingh!$ADB$8","v":""},null,null,null,{"$f":"bksingh!$ADB$8","v":""},null,null,null,{"$f":"bksingh!$ADB$8","v":""},null,null,null,{"$f":"bksingh!$ADB$8","v":""},null,null,null,{"$f":"bksingh!$ADB$8","v":""},null,null,null,{"$f":"bksingh!$ADB$8","v":""},null,null,null,{"$f":"bksingh!$ADB$8","v":""},null,null,null,{"$f":"bksingh!$ADB$8","v":""},null,null,null,{"$f":"bksingh!$ADB$8","v":""},null,null,null,{"$f":"bksingh!$ADB$8","v":""},null,null,null,{"$f":"bksingh!$ADB$8","v":""},null,null,null,{"$f":"bksingh!$ADB$8","v":""},null,null,null,{"$f":"bksingh!$ADB$8","v":""},null,null,null,{"$f":"bksingh!$ADB$8","v":""},null,null,null,{"$f":"bksingh!$ADB$8","v":""},null,null,null,{"$f":"bksingh!$ADB$8","v":""},null,null,null,{"$f":"bksingh!$ADB$8","v":""},null,null,null,{"$f":"bksingh!$ADB$8","v":""},null,null,null,{"$f":"bksingh!$ADB$8","v":""},null,null,null,{"$f":"bksingh!$ADB$8","v":""},null,null,null,{"$f":"bksingh!$ADB$8","v":""},null,null,null,{"$f":"bksingh!$ADB$8","v":""},null,null,null,{"$f":"bksingh!$ADB$8","v":""},null,null,null,{"$f":"bksingh!$ADB$8","v":""},null,null,null,{"$f":"bksingh!$ADB$8","v":""},null,null,null,{"$f":"bksingh!$ADB$8","v":""},null,null,null,{"$f":"bksingh!$ADB$8","v":""},null,null,null,{"$f":"bksingh!$ADB$8","v":""},null,null,null,{"$f":"bksingh!$ADB$8","v":""},null,null,null,{"$f":"bksingh!$ADB$8","v":""},null,null,null,{"$f":"bksingh!$ADB$8","v":""},null,null,null,{"$f":"bksingh!$ADB$8","v":""},null,null,null,{"$f":"bksingh!$ADB$8","v":""},null,null,null,{"$f":"bksingh!$ADB$8","v":""},null,null,null,{"$f":"bksingh!$ADB$8","v":""},null,null,null,{"$f":"bksingh!$ADB$8","v":""},null,null,null,{"$f":"bksingh!$ADB$8","v":""},null,null,null,{"$f":"bksingh!$ADB$8","v":""},null,null,null,{"$f":"bksingh!$ADB$8","v":""},null,null,null,{"$f":"bksingh!$ADB$8","v":""},null,null,null,{"$f":"bksingh!$ADB$8","v":""},null,null,null,{"$f":"bksingh!$ADB$8","v":""},null,null,null,{"$f":"bksingh!$ADB$8","v":""},null,null,null,{"$f":"bksingh!$ADB$8","v":""},null,null,null,{"$f":"bksingh!$ADB$8","v":""},null,null,null,{"$f":"bksingh!$ADB$8","v":""},null,null,null,{"$f":"bksingh!$ADB$8","v":""},null,null,null,{"$f":"bksingh!$ADB$8","v":""},null,null,null,{"$f":"bksingh!$ADB$8","v":""},null,null,null,{"$f":"bksingh!$ADB$8","v":""},null,null,null,{"$f":"bksingh!$ADB$8","v":""},null,null,null,{"$f":"bksingh!$ADB$8","v":""},null,null,null,{"$f":"bksingh!$ADB$8","v":""},null,null,null,{"$f":"bksingh!$ADB$8","v":""},null,null,null,{"$f":"bksingh!$ADB$8","v":""},null,null,null,{"$f":"bksingh!$ADB$8","v":""},null,null,null,{"$f":"bksingh!$ADB$8","v":""},null,null,null,{"$f":"bksingh!$ADB$8","v":""},null,null,null,{"$f":"bksingh!$ADB$8","v":""},null,null,null,{"$f":"bksingh!$ADB$8","v":""},null,null,null,{"$f":"bksingh!$ADB$8","v":""},null,null,null,{"$f":"bksingh!$ADB$8","v":""},null,null,null,{"$f":"bksingh!$ADB$8","v":""},null,null,null,{"$f":"bksingh!$ADB$8","v":""},null,null,null,{"$f":"bksingh!$ADB$8","v":""},null,null,null,{"$f":"bksingh!$ADB$8","v":""},null,null,null,{"$f":"bksingh!$ADB$8","v":""},null,null,null,{"$f":"bksingh!$ADB$8","v":""},null,null,null,{"$f":"bksingh!$ADB$8","v":""},null,null,null,{"$f":"bksingh!$ADB$8","v":""},null,null,null,{"$f":"bksingh!$ADB$8","v":""},null,null,null,{"$f":"bksingh!$ADB$8","v":""},null,null,null,{"$f":"bksingh!$ADB$8","v":""},null,null,null,{"$f":"bksingh!$ADB$8","v":""},null,null,null,{"$f":"bksingh!$ADB$8","v":""},null,null,null,{"$f":"bksingh!$ADB$8","v":""},null,null,null,{"$f":"bksingh!$ADB$8","v":""},null,null,null,{"$f":"bksingh!$ADB$8","v":""},null,null,null,{"$f":"bksingh!$ADB$8","v":""},null,null,null,{"$f":"bksingh!$ADB$8","v":""},null,null,null,{"$f":"bksingh!$ADB$8","v":""},null,null,null,{"$f":"bksingh!$ADB$8","v":""},null,null,null,{"$f":"bksingh!$ADB$8","v":""},null,null,null,{"$f":"bksingh!$ADB$8","v":""},null,null,null,{"$f":"bksingh!$ADB$8","v":""},null,null,null,{"$f":"bksingh!$ADB$8","v":""},null,null,null,{"$f":"bksingh!$ADB$8","v":""},null,null,null,{"$f":"bksingh!$ADB$8","v":""},null,null,null,{"$f":"bksingh!$ADB$8","v":""},null,null,null,{"$f":"bksingh!$ADB$8","v":""},null,null,null,{"$f":"bksingh!$ADB$8","v":""},null,null,null,{"$f":"bksingh!$ADB$8","v":""},null,null,null,{"$f":"bksingh!$ADB$8","v":""},null,null,null,{"$f":"bksingh!$ADB$8","v":""},null,null,null,{"$f":"bksingh!$ADB$8","v":""},null,null,null,{"$f":"bksingh!$ADB$8","v":""},null,null,null,{"$f":"bksingh!$ADB$8","v":""},null,null,null,{"$f":"bksingh!$ADB$8","v":""},null,null,null,{"$f":"bksingh!$ADB$8","v":""},null,null,null,{"$f":"bksingh!$ADB$8","v":""},null,null,null,{"$f":"bksingh!$ADB$8","v":""},null,null,null,{"$f":"bksingh!$ADB$8","v":""},null,null,null,{"$f":"bksingh!$ADB$8","v":""},null,null,null,{"$f":"bksingh!$ADB$8","v":""},null,null,null,{"$f":"bksingh!$ADB$8","v":""},null,null,null,{"$f":"bksingh!$ADB$8","v":""},null,null,null,{"$f":"bksingh!$ADB$8","v":""},null,null,null,{"$f":"bksingh!$ADB$8","v":""},null,null,null,{"$f":"bksingh!$ADB$8","v":""},null,null,null,{"$f":"bksingh!$ADB$8","v":""},null,null,null,{"$f":"bksingh!$ADB$8","v":""},null,null,null,{"$f":"bksingh!$ADB$8","v":""},null,null,null,{"$f":"bksingh!$ADB$8","v":""},null,null,null,{"$f":"bksingh!$ADB$8","v":""},null,null,null,{"$f":"bksingh!$ADB$8","v":""},null,null,null,{"$f":"bksingh!$ADB$8","v":""},null,null,null,{"$f":"bksingh!$ADB$8","v":""},null,null,null,{"$f":"bksingh!$ADB$8","v":""},null,null,null,{"$f":"bksingh!$ADB$8","v":""},null,null,null,{"$f":"bksingh!$ADB$8","v":""},null,null,null,{"$f":"bksingh!$ADB$8","v":""},null,null,null,{"$f":"bksingh!$ADB$8","v":""},null,null,null,{"$f":"bksingh!$ADB$8","v":""},null,null,null,{"$f":"bksingh!$ADB$8","v":""},null,null,null,{"$f":"bksingh!$ADB$8","v":""},null,null,null,{"$f":"bksingh!$ADB$8","v":""},null,null,null,{"$f":"bksingh!$ADB$8","v":""},null,null,null,{"$f":"bksingh!$ADB$8","v":""},null,null,null,{"$f":"bksingh!$ADB$8","v":""},null,null,null,{"$f":"bksingh!$ADB$8","v":""},null,null,null,{"$f":"bksingh!$ADB$8","v":""},null,null,null,{"$f":"bksingh!$ADB$8","v":""},null,null,null,{"$f":"bksingh!$ADB$8","v":""},null,null,null,{"$f":"bksingh!$ADB$8","v":""},null,null,null,{"$f":"bksingh!$ADB$8","v":""},null,null,null,{"$f":"bksingh!$ADB$8","v":""},null,null,null,{"$f":"bksingh!$ADB$8","v":""},null,null,null,{"$f":"bksingh!$ADB$8","v":""},null,null,null,{"$f":"bksingh!$ADB$8","v":""},null,null,null,{"$f":"bksingh!$ADB$8","v":""},null,null,null,{"$f":"bksingh!$ADB$8","v":""},null,null,null,{"$f":"bksingh!$ADB$8","v":""},null,null,null,{"$f":"bksingh!$ADB$8","v":""},null,null,null,{"$f":"bksingh!$ADB$8","v":""},null,null,null,{"$f":"bksingh!$ADB$8","v":""},null,null,null,{"$f":"bksingh!$ADB$8","v":""},null,null,null,{"$f":"bksingh!$ADB$8","v":""},null,null,null,{"$f":"bksingh!$ADB$8","v":""},null,null,null,{"$f":"bksingh!$ADB$8","v":""},null,null,null,{"$f":"bksingh!$ADB$8","v":""},null,null,null,{"$f":"bksingh!$ADB$8","v":""},null,null,null,{"$f":"bksingh!$ADB$8","v":""},null,null,null,{"$f":"bksingh!$ADB$8","v":""},null,null,null,{"$f":"bksingh!$ADB$8","v":""},null,null,null,{"$f":"bksingh!$ADB$8","v":""},null,null,null,{"$f":"bksingh!$ADB$8","v":""},null,null,null,{"$f":"bksingh!$ADB$8","v":""},null,null,null,{"$f":"bksingh!$ADB$8","v":""},null,null,null,{"$f":"bksingh!$ADB$8","v":""},null,null,null,{"$f":"bksingh!$ADB$8","v":""},null,null,null,{"$f":"bksingh!$ADB$8","v":""},null,null,null,{"$f":"bksingh!$ADB$8","v":""},null,null,null,{"$f":"bksingh!$ADB$8","v":""},null,null,null,{"$f":"bksingh!$ADB$8","v":""},null,null,null,{"$f":"bksingh!$ADB$8","v":""},null,null,null,{"$f":"bksingh!$ADB$8","v":""},null,null,null,{"$f":"bksingh!$ADB$8","v":""},null,null,null,{"$f":"bksingh!$ADB$8","v":""},null,null,null,{"$f":"bksingh!$ADB$8","v":""},null,null,null,{"$f":"bksingh!$ADB$8","v":""},null,null,null,{"$f":"bksingh!$ADB$8","v":""},null,null,null,{"$f":"bksingh!$ADB$8","v":""},null,null,null,{"$f":"bksingh!$ADB$8","v":""},null,null,null,{"$f":"bksingh!$ADB$8","v":""},null,null,null,{"$f":"bksingh!$ADB$8","v":""},null,null,null,{"$f":"bksingh!$ADB$8","v":""},null,null,null,{"$f":"bksingh!$ADB$8","v":""},null,null,null,{"$f":"bksingh!$ADB$8","v":""},null,null,null,{"$f":"bksingh!$ADB$8","v":""},null,null,null,{"$f":"bksingh!$ADB$8","v":""},null,null,null,{"$f":"bksingh!$ADB$8","v":""},null,null,null,{"$f":"bksingh!$ADB$8","v":""},null,null,null,{"$f":"bksingh!$ADB$8","v":""},null,null,null,{"$f":"bksingh!$ADB$8","v":""},null,null,null,{"$f":"bksingh!$ADB$8","v":""},null,null,null,{"$f":"bksingh!$ADB$8","v":""},null,null,null,{"$f":"bksingh!$ADB$8","v":""},null,null,null,{"$f":"bksingh!$ADB$8","v":""},null,null,null,{"$f":"bksingh!$ADB$8","v":""},null,null,null,{"$f":"bksingh!$ADB$8","v":""},null,null,null,{"$f":"bksingh!$ADB$8","v":""},null,null,null,{"$f":"bksingh!$ADB$8","v":""},null,null,null,{"$f":"bksingh!$ADB$8","v":""},null,null,null,{"$f":"bksingh!$ADB$8","v":""},null,null,null,{"$f":"bksingh!$ADB$8","v":""},null,null,null,{"$f":"bksingh!$ADB$8","v":""},null,null,null,{"$f":"bksingh!$ADB$8","v":""},null,null,null,{"$f":"bksingh!$ADB$8","v":""},null,null,null,{"$f":"bksingh!$ADB$8","v":""},null,null,null,{"$f":"bksingh!$ADB$8","v":""},null,null,null,{"$f":"bksingh!$ADB$8","v":""},null,null,null,{"$f":"bksingh!$ADB$8","v":""},null,null,null,{"$f":"bksingh!$ADB$8","v":""},null,null,null,{"$f":"bksingh!$ADB$8","v":""},null,null,null,{"$f":"bksingh!$ADB$8","v":""},null,null,null,{"$f":"bksingh!$ADB$8","v":""},null,null,null,{"$f":"bksingh!$ADB$8","v":""},null,null,null,{"$f":"bksingh!$ADB$8","v":""},null,null,null,{"$f":"bksingh!$ADB$8","v":""},null,null,null,{"$f":"bksingh!$ADB$8","v":""},null,null,null,{"$f":"bksingh!$ADB$8","v":""},null,null,null,{"$f":"bksingh!$ADB$8","v":""},null,null,null,{"$f":"bksingh!$ADB$8","v":""},null,null,null,{"$f":"bksingh!$ADB$8","v":""},null,null,null,{"$f":"bksingh!$ADB$8","v":""},null,null,null,{"$f":"bksingh!$ADB$8","v":""},null,null,null,{"$f":"bksingh!$ADB$8","v":""},null,null,null,{"$f":"bksingh!$ADB$8","v":""},null,null,null,{"$f":"bksingh!$ADB$8","v":""},null,null,null,{"$f":"bksingh!$ADB$8","v":""},null,null,null,{"$f":"bksingh!$ADB$8","v":""},null,null,null,{"$f":"bksingh!$ADB$8","v":""},null,null,null,{"$f":"bksingh!$ADB$8","v":""},null,null,null,{"$f":"bksingh!$ADB$8","v":""},null,null,null,{"$f":"bksingh!$ADB$8","v":""},null,null,null,{"$f":"bksingh!$ADB$8","v":""},null,null,null,{"$f":"bksingh!$ADB$8","v":""},null,null,null,{"$f":"bksingh!$ADB$8","v":""},null,null,null,{"$f":"bksingh!$ADB$8","v":""},null,null,null,{"$f":"bksingh!$ADB$8","v":""},null,null,null,{"$f":"bksingh!$ADB$8","v":""},null,null,null,{"$f":"bksingh!$ADB$8","v":""},null,null,null,{"$f":"bksingh!$ADB$8","v":""},null,null,null,{"$f":"bksingh!$ADB$8","v":""},null,null,null,{"$f":"bksingh!$ADB$8","v":""},null,null,null,{"$f":"bksingh!$ADB$8","v":""},null,null,null,{"$f":"bksingh!$ADB$8","v":""},null,null,null,{"$f":"bksingh!$ADB$8","v":""},null,null,null,{"$f":"bksingh!$ADB$8","v":""},null,null,null,{"$f":"bksingh!$ADB$8","v":""},null,null,null,{"$f":"bksingh!$ADB$8","v":""},null,null,null,{"$f":"bksingh!$ADB$8","v":""},null,null,null,{"$f":"bksingh!$ADB$8","v":""},null,null,null,{"$f":"bksingh!$ADB$8","v":""},null,null,null,{"$f":"bksingh!$ADB$8","v":""},null,null,null,{"$f":"bksingh!$ADB$8","v":""},null,null,null,{"$f":"bksingh!$ADB$8","v":""},null,null,null,{"$f":"bksingh!$ADB$8","v":""},null,null,null,{"$f":"bksingh!$ADB$8","v":""},null,null,null,{"$f":"bksingh!$ADB$8","v":""},null,null,null,{"$f":"bksingh!$ADB$8","v":""},null,null,null,{"$f":"bksingh!$ADB$8","v":""},null,null,null,{"$f":"bksingh!$ADB$8","v":""},null,null,null,{"$f":"bksingh!$ADB$8","v":""},null,null,null,{"$f":"bksingh!$ADB$8","v":""},null,null,null,{"$f":"bksingh!$ADB$8","v":""},null,null,null,{"$f":"bksingh!$ADB$8","v":""},null,null,null,{"$f":"bksingh!$ADB$8","v":""},null,null,null,{"$f":"bksingh!$ADB$8","v":""},null,null,null,{"$f":"bksingh!$ADB$8","v":""},null,null,null,{"$f":"bksingh!$ADB$8","v":""},null,null,null,{"$f":"bksingh!$ADB$8","v":""},null,null,null,{"$f":"bksingh!$ADB$8","v":""},null,null,null,{"$f":"bksingh!$ADB$8","v":""},null,null,null,{"$f":"bksingh!$ADB$8","v":""},null,null,null,{"$f":"bksingh!$ADB$8","v":""},null,null,null,{"$f":"bksingh!$ADB$8","v":""},null,null,null,{"$f":"bksingh!$ADB$8","v":""},null,null,null,{"$f":"bksingh!$ADB$8","v":""},null,null,null,{"$f":"bksingh!$ADB$8","v":""},null,null,null,{"$f":"bksingh!$ADB$8","v":""},null,null,null,{"$f":"bksingh!$ADB$8","v":""},null,null,null,{"$f":"bksingh!$ADB$8","v":""},null,null,null,{"$f":"bksingh!$ADB$8","v":""},null,null,null,{"$f":"bksingh!$ADB$8","v":""},null,null,null,{"$f":"bksingh!$ADB$8","v":""},null,null,null,{"$f":"bksingh!$ADB$8","v":""},null,null,null,{"$f":"bksingh!$ADB$8","v":""},null,null,null,{"$f":"bksingh!$ADB$8","v":""},null,null,null,{"$f":"bksingh!$ADB$8","v":""},null,null,null,{"$f":"bksingh!$ADB$8","v":""},null,null,null,{"$f":"bksingh!$ADB$8","v":""},null,null,null,{"$f":"bksingh!$ADB$8","v":""},null,null,null,{"$f":"bksingh!$ADB$8","v":""},null,null,null,{"$f":"bksingh!$ADB$8","v":""},null,null,null,{"$f":"bksingh!$ADB$8","v":""},null,null,null,{"$f":"bksingh!$ADB$8","v":""},null,null,null,{"$f":"bksingh!$ADB$8","v":""},null,null,null,{"$f":"bksingh!$ADB$8","v":""},null,null,null,{"$f":"bksingh!$ADB$8","v":""},null,null,null,{"$f":"bksingh!$ADB$8","v":""},null,null,null,{"$f":"bksingh!$ADB$8","v":""},null,null,null,{"$f":"bksingh!$ADB$8","v":""},null,null,null,{"$f":"bksingh!$ADB$8","v":""},null,null,null,{"$f":"bksingh!$ADB$8","v":""},null,null,null,{"$f":"bksingh!$ADB$8","v":""},null,null,null,{"$f":"bksingh!$ADB$8","v":""},null,null,null,{"$f":"bksingh!$ADB$8","v":""},null,null,null,{"$f":"bksingh!$ADB$8","v":""},null,null,null,{"$f":"bksingh!$ADB$8","v":""},null,null,null,{"$f":"bksingh!$ADB$8","v":""},null,null,null,{"$f":"bksingh!$ADB$8","v":""},null,null,null,{"$f":"bksingh!$ADB$8","v":""},null,null,null,{"$f":"bksingh!$ADB$8","v":""},null,null,null,{"$f":"bksingh!$ADB$8","v":""},null,null,null,{"$f":"bksingh!$ADB$8","v":""},null,null,null,{"$f":"bksingh!$ADB$8","v":""},null,null,null,{"$f":"bksingh!$ADB$8","v":""},null,null,null,{"$f":"bksingh!$ADB$8","v":""},null,null,null,{"$f":"bksingh!$ADB$8","v":""},null,null,null,{"$f":"bksingh!$ADB$8","v":""},null,null,null,{"$f":"bksingh!$ADB$8","v":""},null,null,null,{"$f":"bksingh!$ADB$8","v":""},null,null,null,{"$f":"bksingh!$ADB$8","v":""},null,null,null,{"$f":"bksingh!$ADB$8","v":""},null,null,null,{"$f":"bksingh!$ADB$8","v":""},null,null,null,{"$f":"bksingh!$ADB$8","v":""},null,null,null,{"$f":"bksingh!$ADB$8","v":""},null,null,null,{"$f":"bksingh!$ADB$8","v":""},null,null,null,{"$f":"bksingh!$ADB$8","v":""},null,null,null,{"$f":"bksingh!$ADB$8","v":""},null,null,null,{"$f":"bksingh!$ADB$8","v":""},null,null,null,{"$f":"bksingh!$ADB$8","v":""},null,null,null,{"$f":"bksingh!$ADB$8","v":""},null,null,null,{"$f":"bksingh!$ADB$8","v":""},null,null,null,{"$f":"bksingh!$ADB$8","v":""},null,null,null,{"$f":"bksingh!$ADB$8","v":""},null,null,null,{"$f":"bksingh!$ADB$8","v":""},null,null,null,{"$f":"bksingh!$ADB$8","v":""},null,null,null,{"$f":"bksingh!$ADB$8","v":""},null,null,null,{"$f":"bksingh!$ADB$8","v":""},null,null,null,{"$f":"bksingh!$ADB$8","v":""},null,null,null,{"$f":"bksingh!$ADB$8","v":""},null,null,null,{"$f":"bksingh!$ADB$8","v":""},null,null,null,{"$f":"bksingh!$ADB$8","v":""},null,null,null,{"$f":"bksingh!$ADB$8","v":""},null,null,null,{"$f":"bksingh!$ADB$8","v":""},null,null,null,{"$f":"bksingh!$ADB$8","v":""},null,null,null,{"$f":"bksingh!$ADB$8","v":""},null,null,null,{"$f":"bksingh!$ADB$8","v":""},null,null,null,{"$f":"bksingh!$ADB$8","v":""},null,null,null,{"$f":"bksingh!$ADB$8","v":""},null,null,null,{"$f":"bksingh!$ADB$8","v":""},null,null,null,{"$f":"bksingh!$ADB$8","v":""},null,null,null,{"$f":"bksingh!$ADB$8","v":""},null,null,null,{"$f":"bksingh!$ADB$8","v":""},null,null,null,{"$f":"bksingh!$ADB$8","v":""},null,null,null,{"$f":"bksingh!$ADB$8","v":""},null,null,null,{"$f":"bksingh!$ADB$8","v":""},null,null,null,{"$f":"bksingh!$ADB$8","v":""},null,null,null,{"$f":"bksingh!$ADB$8","v":""},null,null,null,{"$f":"bksingh!$ADB$8","v":""},null,null,null,{"$f":"bksingh!$ADB$8","v":""},null,null,null,{"$f":"bksingh!$ADB$8","v":""},null,null,null,{"$f":"bksingh!$ADB$8","v":""},null,null,null,{"$f":"bksingh!$ADB$8","v":""},null,null,null,{"$f":"bksingh!$ADB$8","v":""},null,null,null,{"$f":"bksingh!$ADB$8","v":""},null,null,null,{"$f":"bksingh!$ADB$8","v":""},null,null,null,{"$f":"bksingh!$ADB$8","v":""},null,null,null,{"$f":"bksingh!$ADB$8","v":""},null,null,null,{"$f":"bksingh!$ADB$8","v":""},null,null,null,{"$f":"bksingh!$ADB$8","v":""},null,null,null,{"$f":"bksingh!$ADB$8","v":""},null,null,null,{"$f":"bksingh!$ADB$8","v":""},null,null,null,{"$f":"bksingh!$ADB$8","v":""},null,null,null,{"$f":"bksingh!$ADB$8","v":""},null,null,null,{"$f":"bksingh!$ADB$8","v":""},null,null,null,{"$f":"bksingh!$ADB$8","v":""},null,null,null,{"$f":"bksingh!$ADB$8","v":""},null,null,null,{"$f":"bksingh!$ADB$8","v":""},null,null,null,{"$f":"bksingh!$ADB$8","v":""},null,null,null,{"$f":"bksingh!$ADB$8","v":""},null,null,null,{"$f":"bksingh!$ADB$8","v":""},null,null,null,{"$f":"bksingh!$ADB$8","v":""},null,null,null,{"$f":"bksingh!$ADB$8","v":""},null,null,null,{"$f":"bksingh!$ADB$8","v":""},null,null,null,{"$f":"bksingh!$ADB$8","v":""},null,null,null,{"$f":"bksingh!$ADB$8","v":""},null,null,null,{"$f":"bksingh!$ADB$8","v":""},null,null,null,{"$f":"bksingh!$ADB$8","v":""},null,null,null,{"$f":"bksingh!$ADB$8","v":""},null,null,null,{"$f":"bksingh!$ADB$8","v":""},null,null,null,{"$f":"bksingh!$ADB$8","v":""},null,null,null,{"$f":"bksingh!$ADB$8","v":""},null,null,null,{"$f":"bksingh!$ADB$8","v":""},null,null,null,{"$f":"bksingh!$ADB$8","v":""},null,null,null,{"$f":"bksingh!$ADB$8","v":""},null,null,null,{"$f":"bksingh!$ADB$8","v":""},null,null,null,{"$f":"bksingh!$ADB$8","v":""},null,null,null,{"$f":"bksingh!$ADB$8","v":""},null,null,null,{"$f":"bksingh!$ADB$8","v":""},null,null,null,{"$f":"bksingh!$ADB$8","v":""},null,null,null,{"$f":"bksingh!$ADB$8","v":""},null,null,null,{"$f":"bksingh!$ADB$8","v":""},null,null,null,{"$f":"bksingh!$ADB$8","v":""},null,null,null,{"$f":"bksingh!$ADB$8","v":""},null,null,null,{"$f":"bksingh!$ADB$8","v":""},null,null,null,{"$f":"bksingh!$ADB$8","v":""},null,null,null,{"$f":"bksingh!$ADB$8","v":""},null,null,null,{"$f":"bksingh!$ADB$8","v":""},null,null,null,{"$f":"bksingh!$ADB$8","v":""},null,null,null,{"$f":"bksingh!$ADB$8","v":""},null,null,null,{"$f":"bksingh!$ADB$8","v":""},null,null,null,{"$f":"bksingh!$ADB$8","v":""},null,null,null,{"$f":"bksingh!$ADB$8","v":""},null,null,null,{"$f":"bksingh!$ADB$8","v":""},null,null,null,{"$f":"bksingh!$ADB$8","v":""},null,null,null,{"$f":"bksingh!$ADB$8","v":""},null,null,null,{"$f":"bksingh!$ADB$8","v":""},null,null,null,{"$f":"bksingh!$ADB$8","v":""},null,null,null,{"$f":"bksingh!$ADB$8","v":""},null,null,null,{"$f":"bksingh!$ADB$8","v":""},null,null,null,{"$f":"bksingh!$ADB$8","v":""},null,null,null,{"$f":"bksingh!$ADB$8","v":""},null,null,null,{"$f":"bksingh!$ADB$8","v":""},null,null,null,{"$f":"bksingh!$ADB$8","v":""},null,null,null,{"$f":"bksingh!$ADB$8","v":""},null,null,null,{"$f":"bksingh!$ADB$8","v":""},null,null,null,{"$f":"bksingh!$ADB$8","v":""},null,null,null,{"$f":"bksingh!$ADB$8","v":""},null,null,null,{"$f":"bksingh!$ADB$8","v":""},null,null,null,{"$f":"bksingh!$ADB$8","v":""},null,null,null,{"$f":"bksingh!$ADB$8","v":""},null,null,null,{"$f":"bksingh!$ADB$8","v":""},null,null,null,{"$f":"bksingh!$ADB$8","v":""},null,null,null,{"$f":"bksingh!$ADB$8","v":""},null,null,null,{"$f":"bksingh!$ADB$8","v":""},null,null,null,{"$f":"bksingh!$ADB$8","v":""},null,null,null,{"$f":"bksingh!$ADB$8","v":""},null,null,null,{"$f":"bksingh!$ADB$8","v":""},null,null,null,{"$f":"bksingh!$ADB$8","v":""},null,null,null,{"$f":"bksingh!$ADB$8","v":""},null,null,null,{"$f":"bksingh!$ADB$8","v":""},null,null,null,{"$f":"bksingh!$ADB$8","v":""},null,null,null,{"$f":"bksingh!$ADB$8","v":""},null,null,null,{"$f":"bksingh!$ADB$8","v":""},null,null,null,{"$f":"bksingh!$ADB$8","v":""},null,null,null,{"$f":"bksingh!$ADB$8","v":""},null,null,null,{"$f":"bksingh!$ADB$8","v":""},null,null,null,{"$f":"bksingh!$ADB$8","v":""},null,null,null,{"$f":"bksingh!$ADB$8","v":""},null,null,null,{"$f":"bksingh!$ADB$8","v":""},null,null,null,{"$f":"bksingh!$ADB$8","v":""},null,null,null,{"$f":"bksingh!$ADB$8","v":""},null,null,null,{"$f":"bksingh!$ADB$8","v":""},null,null,null,{"$f":"bksingh!$ADB$8","v":""},null,null,null,{"$f":"bksingh!$ADB$8","v":""},null,null,null,{"$f":"bksingh!$ADB$8","v":""},null,null,null,{"$f":"bksingh!$ADB$8","v":""},null,null,null,{"$f":"bksingh!$ADB$8","v":""},null,null,null,{"$f":"bksingh!$ADB$8","v":""},null,null,null,{"$f":"bksingh!$ADB$8","v":""},null,null,null,{"$f":"bksingh!$ADB$8","v":""},null,null,null,{"$f":"bksingh!$ADB$8","v":""},null,null,null,{"$f":"bksingh!$ADB$8","v":""},null,null,null,{"$f":"bksingh!$ADB$8","v":""},null,null,null,{"$f":"bksingh!$ADB$8","v":""},null,null,null,{"$f":"bksingh!$ADB$8","v":""},null,null,null,{"$f":"bksingh!$ADB$8","v":""},null,null,null,{"$f":"bksingh!$ADB$8","v":""},null,null,null,{"$f":"bksingh!$ADB$8","v":""},null,null,null,{"$f":"bksingh!$ADB$8","v":""},null,null,null,{"$f":"bksingh!$ADB$8","v":""},null,null,null,{"$f":"bksingh!$ADB$8","v":""},null,null,null,{"$f":"bksingh!$ADB$8","v":""},null,null,null,{"$f":"bksingh!$ADB$8","v":""},null,null,null,{"$f":"bksingh!$ADB$8","v":""},null,null,null,{"$f":"bksingh!$ADB$8","v":""},null,null,null,{"$f":"bksingh!$ADB$8","v":""},null,null,null,{"$f":"bksingh!$ADB$8","v":""},null,null,null,{"$f":"bksingh!$ADB$8","v":""},null,null,null,{"$f":"bksingh!$ADB$8","v":""},null,null,null,{"$f":"bksingh!$ADB$8","v":""},null,null,null,{"$f":"bksingh!$ADB$8","v":""},null,null,null,{"$f":"bksingh!$ADB$8","v":""},null,null,null,{"$f":"bksingh!$ADB$8","v":""},null,null,null,{"$f":"bksingh!$ADB$8","v":""},null,null,null,{"$f":"bksingh!$ADB$8","v":""},null,null,null,{"$f":"bksingh!$ADB$8","v":""},null,null,null,{"$f":"bksingh!$ADB$8","v":""},null,null,null,{"$f":"bksingh!$ADB$8","v":""},null,null,null,{"$f":"bksingh!$ADB$8","v":""},null,null,null,{"$f":"bksingh!$ADB$8","v":""},null,null,null,{"$f":"bksingh!$ADB$8","v":""},null,null,null,{"$f":"bksingh!$ADB$8","v":""},null,null,null,{"$f":"bksingh!$ADB$8","v":""},null,null,null,{"$f":"bksingh!$ADB$8","v":""},null,null,null,{"$f":"bksingh!$ADB$8","v":""},null,null,null,{"$f":"bksingh!$ADB$8","v":""},null,null,null,{"$f":"bksingh!$ADB$8","v":""},null,null,null,{"$f":"bksingh!$ADB$8","v":""},null,null,null,{"$f":"bksingh!$ADB$8","v":""},null,null,null,{"$f":"bksingh!$ADB$8","v":""},null,null,null,{"$f":"bksingh!$ADB$8","v":""},null,null,null,{"$f":"bksingh!$ADB$8","v":""},null,null,null,{"$f":"bksingh!$ADB$8","v":""},null,null,null,{"$f":"bksingh!$ADB$8","v":""},null,null,null,{"$f":"bksingh!$ADB$8","v":""},null,null,null,{"$f":"bksingh!$ADB$8","v":""},null,null,null,{"$f":"bksingh!$ADB$8","v":""},null,null,null,{"$f":"bksingh!$ADB$8","v":""},null,null,null,{"$f":"bksingh!$ADB$8","v":""},null,null,null,{"$f":"bksingh!$ADB$8","v":""},null,null,null,{"$f":"bksingh!$ADB$8","v":""},null,null,null,{"$f":"bksingh!$ADB$8","v":""},null,null,null,{"$f":"bksingh!$ADB$8","v":""},null,null,null,{"$f":"bksingh!$ADB$8","v":""},null,null,null,{"$f":"bksingh!$ADB$8","v":""},null,null,null,{"$f":"bksingh!$ADB$8","v":""},null,null,null,{"$f":"bksingh!$ADB$8","v":""},null,null,null,{"$f":"bksingh!$ADB$8","v":""},null,null,null,{"$f":"bksingh!$ADB$8","v":""},null,null,null,{"$f":"bksingh!$ADB$8","v":""},null,null,null,{"$f":"bksingh!$ADB$8","v":""},null,null,null,{"$f":"bksingh!$ADB$8","v":""},null,null,null,{"$f":"bksingh!$ADB$8","v":""},null,null,null,{"$f":"bksingh!$ADB$8","v":""},null,null,null,{"$f":"bksingh!$ADB$8","v":""},null,null,null,{"$f":"bksingh!$ADB$8","v":""},null,null,null,{"$f":"bksingh!$ADB$8","v":""},null,null,null,{"$f":"bksingh!$ADB$8","v":""},null,null,null,{"$f":"bksingh!$ADB$8","v":""},null,null,null,{"$f":"bksingh!$ADB$8","v":""},null,null,null,{"$f":"bksingh!$ADB$8","v":""},null,null,null,{"$f":"bksingh!$ADB$8","v":""},null,null,null,{"$f":"bksingh!$ADB$8","v":""},null,null,null,{"$f":"bksingh!$ADB$8","v":""},null,null,null,{"$f":"bksingh!$ADB$8","v":""},null,null,null,{"$f":"bksingh!$ADB$8","v":""},null,null,null,{"$f":"bksingh!$ADB$8","v":""},null,null,null,{"$f":"bksingh!$ADB$8","v":""},null,null,null,{"$f":"bksingh!$ADB$8","v":""},null,null,null,{"$f":"bksingh!$ADB$8","v":""},null,null,null,{"$f":"bksingh!$ADB$8","v":""},null,null,null,{"$f":"bksingh!$ADB$8","v":""},null,null,null,{"$f":"bksingh!$ADB$8","v":""},null,null,null,{"$f":"bksingh!$ADB$8","v":""},null,null,null,{"$f":"bksingh!$ADB$8","v":""},null,null,null,{"$f":"bksingh!$ADB$8","v":""},null,null,null,{"$f":"bksingh!$ADB$8","v":""},null,null,null,{"$f":"bksingh!$ADB$8","v":""},null,null,null,{"$f":"bksingh!$ADB$8","v":""},null,null,null,{"$f":"bksingh!$ADB$8","v":""},null,null,null,{"$f":"bksingh!$ADB$8","v":""},null,null,null,{"$f":"bksingh!$ADB$8","v":""},null,null,null,{"$f":"bksingh!$ADB$8","v":""},null,null,null,{"$f":"bksingh!$ADB$8","v":""},null,null,null,{"$f":"bksingh!$ADB$8","v":""},null,null,null,{"$f":"bksingh!$ADB$8","v":""},null,null,null,{"$f":"bksingh!$ADB$8","v":""},null,null,null,{"$f":"bksingh!$ADB$8","v":""},null,null,null,{"$f":"bksingh!$ADB$8","v":""},null,null,null,{"$f":"bksingh!$ADB$8","v":""},null,null,null,{"$f":"bksingh!$ADB$8","v":""},null,null,null,{"$f":"bksingh!$ADB$8","v":""},null,null,null,{"$f":"bksingh!$ADB$8","v":""},null,null,null,{"$f":"bksingh!$ADB$8","v":""},null,null,null,{"$f":"bksingh!$ADB$8","v":""},null,null,null,{"$f":"bksingh!$ADB$8","v":""},null,null,null,{"$f":"bksingh!$ADB$8","v":""},null,null,null,{"$f":"bksingh!$ADB$8","v":""},null,null,null,{"$f":"bksingh!$ADB$8","v":""},null,null,null,{"$f":"bksingh!$ADB$8","v":""},null,null,null,{"$f":"bksingh!$ADB$8","v":""},null,null,null,{"$f":"bksingh!$ADB$8","v":""},null,null,null,{"$f":"bksingh!$ADB$8","v":""},null,null,null,{"$f":"bksingh!$ADB$8","v":""},null,null,null,{"$f":"bksingh!$ADB$8","v":""},null,null,null,{"$f":"bksingh!$ADB$8","v":""},null,null,null,{"$f":"bksingh!$ADB$8","v":""},null,null,null,{"$f":"bksingh!$ADB$8","v":""},null,null,null,{"$f":"bksingh!$ADB$8","v":""},null,null,null,{"$f":"bksingh!$ADB$8","v":""},null,null,null,{"$f":"bksingh!$ADB$8","v":""},null,null,null,{"$f":"bksingh!$ADB$8","v":""},null,null,null,{"$f":"bksingh!$ADB$8","v":""},null,null,null,{"$f":"bksingh!$ADB$8","v":""},null,null,null,{"$f":"bksingh!$ADB$8","v":""},null,null,null,{"$f":"bksingh!$ADB$8","v":""},null,null,null,{"$f":"bksingh!$ADB$8","v":""},null,null,null,{"$f":"bksingh!$ADB$8","v":""},null,null,null,{"$f":"bksingh!$ADB$8","v":""},null,null,null,{"$f":"bksingh!$ADB$8","v":""},null,null,null,{"$f":"bksingh!$ADB$8","v":""},null,null,null,{"$f":"bksingh!$ADB$8","v":""},null,null,null,{"$f":"bksingh!$ADB$8","v":""},null,null,null,{"$f":"bksingh!$ADB$8","v":""},null,null,null,{"$f":"bksingh!$ADB$8","v":""},null,null,null,{"$f":"bksingh!$ADB$8","v":""},null,null,null,{"$f":"bksingh!$ADB$8","v":""},null,null,null,{"$f":"bksingh!$ADB$8","v":""},null,null,null,{"$f":"bksingh!$ADB$8","v":""},null,null,null,{"$f":"bksingh!$ADB$8","v":""},null,null,null,{"$f":"bksingh!$ADB$8","v":""},null,null,null,{"$f":"bksingh!$ADB$8","v":""},null,null,null,{"$f":"bksingh!$ADB$8","v":""},null,null,null,{"$f":"bksingh!$ADB$8","v":""},null,null,null,{"$f":"bksingh!$ADB$8","v":""},null,null,null,{"$f":"bksingh!$ADB$8","v":""},null,null,null,{"$f":"bksingh!$ADB$8","v":""},null,null,null,{"$f":"bksingh!$ADB$8","v":""},null,null,null,{"$f":"bksingh!$ADB$8","v":""},null,null,null,{"$f":"bksingh!$ADB$8","v":""},null,null,null,{"$f":"bksingh!$ADB$8","v":""},null,null,null,{"$f":"bksingh!$ADB$8","v":""},null,null,null,{"$f":"bksingh!$ADB$8","v":""},null,null,null,{"$f":"bksingh!$ADB$8","v":""},null,null,null,{"$f":"bksingh!$ADB$8","v":""},null,null,null,{"$f":"bksingh!$ADB$8","v":""},null,null,null,{"$f":"bksingh!$ADB$8","v":""},null,null,null,{"$f":"bksingh!$ADB$8","v":""},null,null,null,{"$f":"bksingh!$ADB$8","v":""},null,null,null,{"$f":"bksingh!$ADB$8","v":""},null,null,null,{"$f":"bksingh!$ADB$8","v":""},null,null,null,{"$f":"bksingh!$ADB$8","v":""},null,null,null,{"$f":"bksingh!$ADB$8","v":""},null,null,null,{"$f":"bksingh!$ADB$8","v":""},null,null,null,{"$f":"bksingh!$ADB$8","v":""},null,null,null,{"$f":"bksingh!$ADB$8","v":""},null,null,null,{"$f":"bksingh!$ADB$8","v":""},null,null,null,{"$f":"bksingh!$ADB$8","v":""},null,null,null,{"$f":"bksingh!$ADB$8","v":""},null,null,null,{"$f":"bksingh!$ADB$8","v":""},null,null,null,{"$f":"bksingh!$ADB$8","v":""},null,null,null,{"$f":"bksingh!$ADB$8","v":""},null,null,null,{"$f":"bksingh!$ADB$8","v":""},null,null,null,{"$f":"bksingh!$ADB$8","v":""},null,null,null,{"$f":"bksingh!$ADB$8","v":""},null,null,null,{"$f":"bksingh!$ADB$8","v":""},null,null,null,{"$f":"bksingh!$ADB$8","v":""},null,null,null,{"$f":"bksingh!$ADB$8","v":""},null,null,null,{"$f":"bksingh!$ADB$8","v":""},null,null,null,{"$f":"bksingh!$ADB$8","v":""},null,null,null,{"$f":"bksingh!$ADB$8","v":""},null,null,null,{"$f":"bksingh!$ADB$8","v":""},null,null,null,{"$f":"bksingh!$ADB$8","v":""},null,null,null,{"$f":"bksingh!$ADB$8","v":""},null,null,null,{"$f":"bksingh!$ADB$8","v":""},null,null,null,{"$f":"bksingh!$ADB$8","v":""},null,null,null,{"$f":"bksingh!$ADB$8","v":""},null,null,null,{"$f":"bksingh!$ADB$8","v":""},null,null,null,{"$f":"bksingh!$ADB$8","v":""},null,null,null,{"$f":"bksingh!$ADB$8","v":""},null,null,null,{"$f":"bksingh!$ADB$8","v":""},null,null,null,{"$f":"bksingh!$ADB$8","v":""},null,null,null,{"$f":"bksingh!$ADB$8","v":""},null,null,null,{"$f":"bksingh!$ADB$8","v":""},null,null,null,{"$f":"bksingh!$ADB$8","v":""},null,null,null,{"$f":"bksingh!$ADB$8","v":""},null,null,null,{"$f":"bksingh!$ADB$8","v":""},null,null,null,{"$f":"bksingh!$ADB$8","v":""},null,null,null,{"$f":"bksingh!$ADB$8","v":""},null,null,null,{"$f":"bksingh!$ADB$8","v":""},null,null,null,{"$f":"bksingh!$ADB$8","v":""},null,null,null,{"$f":"bksingh!$ADB$8","v":""},null,null,null,{"$f":"bksingh!$ADB$8","v":""},null,null,null,{"$f":"bksingh!$ADB$8","v":""},null,null,null,{"$f":"bksingh!$ADB$8","v":""},null,null,null,{"$f":"bksingh!$ADB$8","v":""},null,null,null,{"$f":"bksingh!$ADB$8","v":""},null,null,null,{"$f":"bksingh!$ADB$8","v":""},null,null,null,{"$f":"bksingh!$ADB$8","v":""},null,null,null,{"$f":"bksingh!$ADB$8","v":""},null,null,null,{"$f":"bksingh!$ADB$8","v":""},null,null,null,{"$f":"bksingh!$ADB$8","v":""},null,null,null,{"$f":"bksingh!$ADB$8","v":""},null,null,null,{"$f":"bksingh!$ADB$8","v":""},null,null,null,{"$f":"bksingh!$ADB$8","v":""},null,null,null,{"$f":"bksingh!$ADB$8","v":""},null,null,null,{"$f":"bksingh!$ADB$8","v":""},null,null,null,{"$f":"bksingh!$ADB$8","v":""},null,null,null,{"$f":"bksingh!$ADB$8","v":""},null,null,null,{"$f":"bksingh!$ADB$8","v":""},null,null,null,{"$f":"bksingh!$ADB$8","v":""},null,null,null,{"$f":"bksingh!$ADB$8","v":""},null,null,null,{"$f":"bksingh!$ADB$8","v":""},null,null,null,{"$f":"bksingh!$ADB$8","v":""},null,null,null,{"$f":"bksingh!$ADB$8","v":""},null,null,null,{"$f":"bksingh!$ADB$8","v":""},null,null,null,{"$f":"bksingh!$ADB$8","v":""},null,null,null,{"$f":"bksingh!$ADB$8","v":""},null,null,null,{"$f":"bksingh!$ADB$8","v":""},null,null,null,{"$f":"bksingh!$ADB$8","v":""},null,null,null,{"$f":"bksingh!$ADB$8","v":""},null,null,null,{"$f":"bksingh!$ADB$8","v":""},null,null,null,{"$f":"bksingh!$ADB$8","v":""},null,null,null,{"$f":"bksingh!$ADB$8","v":""},null,null,null,{"$f":"bksingh!$ADB$8","v":""},null,null,null,{"$f":"bksingh!$ADB$8","v":""},null,null,null,{"$f":"bksingh!$ADB$8","v":""},null,null,null,{"$f":"bksingh!$ADB$8","v":""},null,null,null,{"$f":"bksingh!$ADB$8","v":""},null,null,null,{"$f":"bksingh!$ADB$8","v":""},null,null,null,{"$f":"bksingh!$ADB$8","v":""},null,null,null,{"$f":"bksingh!$ADB$8","v":""},null,null,null,{"$f":"bksingh!$ADB$8","v":""},null,null,null,{"$f":"bksingh!$ADB$8","v":""},null,null,null,{"$f":"bksingh!$ADB$8","v":""},null,null,null,{"$f":"bksingh!$ADB$8","v":""},null,null,null,{"$f":"bksingh!$ADB$8","v":""},null,null,null,{"$f":"bksingh!$ADB$8","v":""},null,null,null,{"$f":"bksingh!$ADB$8","v":""},null,null,null,{"$f":"bksingh!$ADB$8","v":""},null,null,null,{"$f":"bksingh!$ADB$8","v":""},null,null,null,{"$f":"bksingh!$ADB$8","v":""},null,null,null,{"$f":"bksingh!$ADB$8","v":""},null,null,null,{"$f":"bksingh!$ADB$8","v":""},null,null,null,{"$f":"bksingh!$ADB$8","v":""},null,null,null,{"$f":"bksingh!$ADB$8","v":""},null,null,null,{"$f":"bksingh!$ADB$8","v":""},null,null,null,{"$f":"bksingh!$ADB$8","v":""},null,null,null,{"$f":"bksingh!$ADB$8","v":""},null,null,null,{"$f":"bksingh!$ADB$8","v":""},null,null,null,{"$f":"bksingh!$ADB$8","v":""},null,null,null,{"$f":"bksingh!$ADB$8","v":""},null,null,null,{"$f":"bksingh!$ADB$8","v":""},null,null,null,{"$f":"bksingh!$ADB$8","v":""},null,null,null,{"$f":"bksingh!$ADB$8","v":""},null,null,null,{"$f":"bksingh!$ADB$8","v":""},null,null,null,{"$f":"bksingh!$ADB$8","v":""},null,null,null,{"$f":"bksingh!$ADB$8","v":""},null,null,null,{"$f":"bksingh!$ADB$8","v":""},null,null,null,{"$f":"bksingh!$ADB$8","v":""},null,null,null,{"$f":"bksingh!$ADB$8","v":""},null,null,null,{"$f":"bksingh!$ADB$8","v":""},null,null,null,{"$f":"bksingh!$ADB$8","v":""},null,null,null,{"$f":"bksingh!$ADB$8","v":""},null,null,null,{"$f":"bksingh!$ADB$8","v":""},null,null,null,{"$f":"bksingh!$ADB$8","v":""},null,null,null,{"$f":"bksingh!$ADB$8","v":""},null,null,null,{"$f":"bksingh!$ADB$8","v":""},null,null,null,{"$f":"bksingh!$ADB$8","v":""},null,null,null,{"$f":"bksingh!$ADB$8","v":""},null,null,null,{"$f":"bksingh!$ADB$8","v":""},null,null,null,{"$f":"bksingh!$ADB$8","v":""},null,null,null,{"$f":"bksingh!$ADB$8","v":""},null,null,null,{"$f":"bksingh!$ADB$8","v":""},null,null,null,{"$f":"bksingh!$ADB$8","v":""},null,null,null,{"$f":"bksingh!$ADB$8","v":""},null,null,null,{"$f":"bksingh!$ADB$8","v":""},null,null,null,{"$f":"bksingh!$ADB$8","v":""},null,null,null,{"$f":"bksingh!$ADB$8","v":""},null,null,null,{"$f":"bksingh!$ADB$8","v":""},null,null,null,{"$f":"bksingh!$ADB$8","v":""},null,null,null,{"$f":"bksingh!$ADB$8","v":""},null,null,null,{"$f":"bksingh!$ADB$8","v":""},null,null,null,{"$f":"bksingh!$ADB$8","v":""},null,null,null,{"$f":"bksingh!$ADB$8","v":""},null,null,null,{"$f":"bksingh!$ADB$8","v":""},null,null,null,{"$f":"bksingh!$ADB$8","v":""},null,null,null,{"$f":"bksingh!$ADB$8","v":""},null,null,null,{"$f":"bksingh!$ADB$8","v":""},null,null,null,{"$f":"bksingh!$ADB$8","v":""},null,null,null,{"$f":"bksingh!$ADB$8","v":""},null,null,null,{"$f":"bksingh!$ADB$8","v":""},null,null,null,{"$f":"bksingh!$ADB$8","v":""},null,null,null,{"$f":"bksingh!$ADB$8","v":""},null,null,null,{"$f":"bksingh!$ADB$8","v":""},null,null,null,{"$f":"bksingh!$ADB$8","v":""},null,null,null,{"$f":"bksingh!$ADB$8","v":""},null,null,null,{"$f":"bksingh!$ADB$8","v":""},null,null,null,{"$f":"bksingh!$ADB$8","v":""},null,null,null,{"$f":"bksingh!$ADB$8","v":""},null,null,null,{"$f":"bksingh!$ADB$8","v":""},null,null,null,{"$f":"bksingh!$ADB$8","v":""},null,null,null,{"$f":"bksingh!$ADB$8","v":""},null,null,null,{"$f":"bksingh!$ADB$8","v":""},null,null,null,{"$f":"bksingh!$ADB$8","v":""},null,null,null,{"$f":"bksingh!$ADB$8","v":""},null,null,null,{"$f":"bksingh!$ADB$8","v":""},null,null,null,{"$f":"bksingh!$ADB$8","v":""},null,null,null,{"$f":"bksingh!$ADB$8","v":""},null,null,null,{"$f":"bksingh!$ADB$8","v":""},null,null,null,{"$f":"bksingh!$ADB$8","v":""},null,null,null,{"$f":"bksingh!$ADB$8","v":""},null,null,null,{"$f":"bksingh!$ADB$8","v":""},null,null,null,{"$f":"bksingh!$ADB$8","v":""},null,null,null,{"$f":"bksingh!$ADB$8","v":""},null,null,null,{"$f":"bksingh!$ADB$8","v":""},null,null,null,{"$f":"bksingh!$ADB$8","v":""},null,null,null,{"$f":"bksingh!$ADB$8","v":""},null,null,null,{"$f":"bksingh!$ADB$8","v":""},null,null,null,{"$f":"bksingh!$ADB$8","v":""},null,null,null,{"$f":"bksingh!$ADB$8","v":""},null,null,null,{"$f":"bksingh!$ADB$8","v":""},null,null,null,{"$f":"bksingh!$ADB$8","v":""},null,null,null,{"$f":"bksingh!$ADB$8","v":""},null,null,null,{"$f":"bksingh!$ADB$8","v":""},null,null,null,{"$f":"bksingh!$ADB$8","v":""},null,null,null,{"$f":"bksingh!$ADB$8","v":""},null,null,null,{"$f":"bksingh!$ADB$8","v":""},null,null,null,{"$f":"bksingh!$ADB$8","v":""},null,null,null,{"$f":"bksingh!$ADB$8","v":""},null,null,null,{"$f":"bksingh!$ADB$8","v":""},null,null,null,{"$f":"bksingh!$ADB$8","v":""},null,null,null,{"$f":"bksingh!$ADB$8","v":""},null,null,null,{"$f":"bksingh!$ADB$8","v":""},null,null,null,{"$f":"bksingh!$ADB$8","v":""},null,null,null,{"$f":"bksingh!$ADB$8","v":""},null,null,null,{"$f":"bksingh!$ADB$8","v":""},null,null,null,{"$f":"bksingh!$ADB$8","v":""},null,null,null,{"$f":"bksingh!$ADB$8","v":""},null,null,null,{"$f":"bksingh!$ADB$8","v":""},null,null,null,{"$f":"bksingh!$ADB$8","v":""},null,null,null,{"$f":"bksingh!$ADB$8","v":""},null,null,null,{"$f":"bksingh!$ADB$8","v":""},null,null,null,{"$f":"bksingh!$ADB$8","v":""},null,null,null,{"$f":"bksingh!$ADB$8","v":""},null,null,null,{"$f":"bksingh!$ADB$8","v":""},null,null,null,{"$f":"bksingh!$ADB$8","v":""},null,null,null,{"$f":"bksingh!$ADB$8","v":""},null,null,null,{"$f":"bksingh!$ADB$8","v":""},null,null,null,{"$f":"bksingh!$ADB$8","v":""},null,null,null,{"$f":"bksingh!$ADB$8","v":""},null,null,null,{"$f":"bksingh!$ADB$8","v":""},null,null,null,{"$f":"bksingh!$ADB$8","v":""},null,null,null,{"$f":"bksingh!$ADB$8","v":""},null,null,null,{"$f":"bksingh!$ADB$8","v":""},null,null,null,{"$f":"bksingh!$ADB$8","v":""},null,null,null,{"$f":"bksingh!$ADB$8","v":""},null,null,null,{"$f":"bksingh!$ADB$8","v":""},null,null,null,{"$f":"bksingh!$ADB$8","v":""},null,null,null,{"$f":"bksingh!$ADB$8","v":""},null,null,null,{"$f":"bksingh!$ADB$8","v":""},null,null,null,{"$f":"bksingh!$ADB$8","v":""},null,null,null,{"$f":"bksingh!$ADB$8","v":""},null,null,null,{"$f":"bksingh!$ADB$8","v":""},null,null,null,{"$f":"bksingh!$ADB$8","v":""},null,null,null,{"$f":"bksingh!$ADB$8","v":""},null,null,null,{"$f":"bksingh!$ADB$8","v":""},null,null,null,{"$f":"bksingh!$ADB$8","v":""},null,null,null,{"$f":"bksingh!$ADB$8","v":""},null,null,null,{"$f":"bksingh!$ADB$8","v":""},null,null,null,{"$f":"bksingh!$ADB$8","v":""},null,null,null,{"$f":"bksingh!$ADB$8","v":""},null,null,null,{"$f":"bksingh!$ADB$8","v":""},null,null,null,{"$f":"bksingh!$ADB$8","v":""},null,null,null,{"$f":"bksingh!$ADB$8","v":""},null,null,null,{"$f":"bksingh!$ADB$8","v":""},null,null,null,{"$f":"bksingh!$ADB$8","v":""},null,null,null,{"$f":"bksingh!$ADB$8","v":""},null,null,null,{"$f":"bksingh!$ADB$8","v":""},null,null,null,{"$f":"bksingh!$ADB$8","v":""},null,null,null,{"$f":"bksingh!$ADB$8","v":""},null,null,null,{"$f":"bksingh!$ADB$8","v":""},null,null,null,{"$f":"bksingh!$ADB$8","v":""},null,null,null,{"$f":"bksingh!$ADB$8","v":""},null,null,null,{"$f":"bksingh!$ADB$8","v":""},null,null,null,{"$f":"bksingh!$ADB$8","v":""},null,null,null,{"$f":"bksingh!$ADB$8","v":""},null,null,null,{"$f":"bksingh!$ADB$8","v":""},null,null,null,{"$f":"bksingh!$ADB$8","v":""},null,null,null,{"$f":"bksingh!$ADB$8","v":""},null,null,null,{"$f":"bksingh!$ADB$8","v":""},null,null,null,{"$f":"bksingh!$ADB$8","v":""},null,null,null,{"$f":"bksingh!$ADB$8","v":""},null,null,null,{"$f":"bksingh!$ADB$8","v":""},null,null,null,{"$f":"bksingh!$ADB$8","v":""},null,null,null,{"$f":"bksingh!$ADB$8","v":""},null,null,null,{"$f":"bksingh!$ADB$8","v":""},null,null,null,{"$f":"bksingh!$ADB$8","v":""},null,null,null,{"$f":"bksingh!$ADB$8","v":""},null,null,null,{"$f":"bksingh!$ADB$8","v":""},null,null,null,{"$f":"bksingh!$ADB$8","v":""},null,null,null,{"$f":"bksingh!$ADB$8","v":""},null,null,null,{"$f":"bksingh!$ADB$8","v":""},null,null,null,{"$f":"bksingh!$ADB$8","v":""},null,null,null,{"$f":"bksingh!$ADB$8","v":""},null,null,null,{"$f":"bksingh!$ADB$8","v":""},null,null,null,{"$f":"bksingh!$ADB$8","v":""},null,null,null,{"$f":"bksingh!$ADB$8","v":""},null,null,null,{"$f":"bksingh!$ADB$8","v":""},null,null,null,{"$f":"bksingh!$ADB$8","v":""},null,null,null,{"$f":"bksingh!$ADB$8","v":""},null,null,null,{"$f":"bksingh!$ADB$8","v":""},null,null,null,{"$f":"bksingh!$ADB$8","v":""},null,null,null,{"$f":"bksingh!$ADB$8","v":""},null,null,null,{"$f":"bksingh!$ADB$8","v":""},null,null,null,{"$f":"bksingh!$ADB$8","v":""},null,null,null,{"$f":"bksingh!$ADB$8","v":""},null,null,null,{"$f":"bksingh!$ADB$8","v":""},null,null,null,{"$f":"bksingh!$ADB$8","v":""},null,null,null,{"$f":"bksingh!$ADB$8","v":""},null,null,null,{"$f":"bksingh!$ADB$8","v":""},null,null,null,{"$f":"bksingh!$ADB$8","v":""},null,null,null,{"$f":"bksingh!$ADB$8","v":""},null,null,null,{"$f":"bksingh!$ADB$8","v":""},null,null,null,{"$f":"bksingh!$ADB$8","v":""},null,null,null,{"$f":"bksingh!$ADB$8","v":""},null,null,null,{"$f":"bksingh!$ADB$8","v":""},null,null,null,{"$f":"bksingh!$ADB$8","v":""},null,null,null,{"$f":"bksingh!$ADB$8","v":""},null,null,null,{"$f":"bksingh!$ADB$8","v":""},null,null,null,{"$f":"bksingh!$ADB$8","v":""},null,null,null,{"$f":"bksingh!$ADB$8","v":""},null,null,null,{"$f":"bksingh!$ADB$8","v":""},null,null,null,{"$f":"bksingh!$ADB$8","v":""},null,null,null,{"$f":"bksingh!$ADB$8","v":""},null,null,null,{"$f":"bksingh!$ADB$8","v":""},null,null,null,{"$f":"bksingh!$ADB$8","v":""},null,null,null,{"$f":"bksingh!$ADB$8","v":""},null,null,null,{"$f":"bksingh!$ADB$8","v":""},null,null,null,{"$f":"bksingh!$ADB$8","v":""},null,null,null,{"$f":"bksingh!$ADB$8","v":""},null,null,null,{"$f":"bksingh!$ADB$8","v":""},null,null,null,{"$f":"bksingh!$ADB$8","v":""},null,null,null,{"$f":"bksingh!$ADB$8","v":""},null,null,null,{"$f":"bksingh!$ADB$8","v":""},null,null,null,{"$f":"bksingh!$ADB$8","v":""},null,null,null,{"$f":"bksingh!$ADB$8","v":""},null,null,null,{"$f":"bksingh!$ADB$8","v":""},null,null,null,{"$f":"bksingh!$ADB$8","v":""},null,null,null,{"$f":"bksingh!$ADB$8","v":""},null,null,null,{"$f":"bksingh!$ADB$8","v":""},null,null,null,{"$f":"bksingh!$ADB$8","v":""},null,null,null,{"$f":"bksingh!$ADB$8","v":""},null,null,null,{"$f":"bksingh!$ADB$8","v":""},null,null,null,{"$f":"bksingh!$ADB$8","v":""},null,null,null,{"$f":"bksingh!$ADB$8","v":""},null,null,null,{"$f":"bksingh!$ADB$8","v":""},null,null,null,{"$f":"bksingh!$ADB$8","v":""},null,null,null,{"$f":"bksingh!$ADB$8","v":""},null,null,null,{"$f":"bksingh!$ADB$8","v":""},null,null,null,{"$f":"bksingh!$ADB$8","v":""},null,null,null,{"$f":"bksingh!$ADB$8","v":""},null,null,null,{"$f":"bksingh!$ADB$8","v":""},null,null,null,{"$f":"bksingh!$ADB$8","v":""},null,null,null,{"$f":"bksingh!$ADB$8","v":""},null,null,null,{"$f":"bksingh!$ADB$8","v":""},null,null,null,{"$f":"bksingh!$ADB$8","v":""},null,null,null,{"$f":"bksingh!$ADB$8","v":""},null,null,null,{"$f":"bksingh!$ADB$8","v":""},null,null,null,{"$f":"bksingh!$ADB$8","v":""},null,null,null,{"$f":"bksingh!$ADB$8","v":""},null,null,null,{"$f":"bksingh!$ADB$8","v":""},null,null,null,{"$f":"bksingh!$ADB$8","v":""},null,null,null,{"$f":"bksingh!$ADB$8","v":""},null,null,null,{"$f":"bksingh!$ADB$8","v":""},null,null,null,{"$f":"bksingh!$ADB$8","v":""},null,null,null,{"$f":"bksingh!$ADB$8","v":""},null,null,null,{"$f":"bksingh!$ADB$8","v":""},null,null,null,{"$f":"bksingh!$ADB$8","v":""},null,null,null,{"$f":"bksingh!$ADB$8","v":""},null,null,null,{"$f":"bksingh!$ADB$8","v":""},null,null,null,{"$f":"bksingh!$ADB$8","v":""},null,null,null,{"$f":"bksingh!$ADB$8","v":""},null,null,null,{"$f":"bksingh!$ADB$8","v":""},null,null,null,{"$f":"bksingh!$ADB$8","v":""},null,null,null,{"$f":"bksingh!$ADB$8","v":""},null,null,null,{"$f":"bksingh!$ADB$8","v":""},null,null,null,{"$f":"bksingh!$ADB$8","v":""},null,null,null,{"$f":"bksingh!$ADB$8","v":""},null,null,null,{"$f":"bksingh!$ADB$8","v":""},null,null,null,{"$f":"bksingh!$ADB$8","v":""},null,null,null,{"$f":"bksingh!$ADB$8","v":""},null,null,null,{"$f":"bksingh!$ADB$8","v":""},null,null,null,{"$f":"bksingh!$ADB$8","v":""},null,null,null,{"$f":"bksingh!$ADB$8","v":""},null,null,null,{"$f":"bksingh!$ADB$8","v":""},null,null,null,{"$f":"bksingh!$ADB$8","v":""},null,null,null,{"$f":"bksingh!$ADB$8","v":""},null,null,null,{"$f":"bksingh!$ADB$8","v":""},null,null,null,{"$f":"bksingh!$ADB$8","v":""},null,null,null,{"$f":"bksingh!$ADB$8","v":""},null,null,null,{"$f":"bksingh!$ADB$8","v":""},null,null,null,{"$f":"bksingh!$ADB$8","v":""},null,null,null,{"$f":"bksingh!$ADB$8","v":""},null,null,null,{"$f":"bksingh!$ADB$8","v":""},null,null,null,{"$f":"bksingh!$ADB$8","v":""},null,null,null,{"$f":"bksingh!$ADB$8","v":""},null,null,null,{"$f":"bksingh!$ADB$8","v":""},null,null,null,{"$f":"bksingh!$ADB$8","v":""},null,null,null,{"$f":"bksingh!$ADB$8","v":""},null,null,null,{"$f":"bksingh!$ADB$8","v":""},null,null,null,{"$f":"bksingh!$ADB$8","v":""},null,null,null,{"$f":"bksingh!$ADB$8","v":""},null,null,null,{"$f":"bksingh!$ADB$8","v":""},null,null,null,{"$f":"bksingh!$ADB$8","v":""},null,null,null,{"$f":"bksingh!$ADB$8","v":""},null,null,null,{"$f":"bksingh!$ADB$8","v":""},null,null,null,{"$f":"bksingh!$ADB$8","v":""},null,null,null,{"$f":"bksingh!$ADB$8","v":""},null,null,null,{"$f":"bksingh!$ADB$8","v":""},null,null,null,{"$f":"bksingh!$ADB$8","v":""},null,null,null,{"$f":"bksingh!$ADB$8","v":""},null,null,null,{"$f":"bksingh!$ADB$8","v":""},null,null,null,{"$f":"bksingh!$ADB$8","v":""},null,null,null,{"$f":"bksingh!$ADB$8","v":""},null,null,null,{"$f":"bksingh!$ADB$8","v":""},null,null,null,{"$f":"bksingh!$ADB$8","v":""},null,null,null,{"$f":"bksingh!$ADB$8","v":""},null,null,null,{"$f":"bksingh!$ADB$8","v":""},null,null,null,{"$f":"bksingh!$ADB$8","v":""},null,null,null,{"$f":"bksingh!$ADB$8","v":""},null,null,null,{"$f":"bksingh!$ADB$8","v":""},null,null,null,{"$f":"bksingh!$ADB$8","v":""},null,null,null,{"$f":"bksingh!$ADB$8","v":""},null,null,null,{"$f":"bksingh!$ADB$8","v":""},null,null,null,{"$f":"bksingh!$ADB$8","v":""},null,null,null,{"$f":"bksingh!$ADB$8","v":""},null,null,null,{"$f":"bksingh!$ADB$8","v":""},null,null,null,{"$f":"bksingh!$ADB$8","v":""},null,null,null,{"$f":"bksingh!$ADB$8","v":""},null,null,null,{"$f":"bksingh!$ADB$8","v":""},null,null,null,{"$f":"bksingh!$ADB$8","v":""},null,null,null,{"$f":"bksingh!$ADB$8","v":""},null,null,null,{"$f":"bksingh!$ADB$8","v":""},null,null,null,{"$f":"bksingh!$ADB$8","v":""},null,null,null,{"$f":"bksingh!$ADB$8","v":""},null,null,null,{"$f":"bksingh!$ADB$8","v":""},null,null,null,{"$f":"bksingh!$ADB$8","v":""},null,null,null,{"$f":"bksingh!$ADB$8","v":""},null,null,null,{"$f":"bksingh!$ADB$8","v":""},null,null,null,{"$f":"bksingh!$ADB$8","v":""},null,null,null,{"$f":"bksingh!$ADB$8","v":""},null,null,null,{"$f":"bksingh!$ADB$8","v":""},null,null,null,{"$f":"bksingh!$ADB$8","v":""},null,null,null,{"$f":"bksingh!$ADB$8","v":""},null,null,null,{"$f":"bksingh!$ADB$8","v":""},null,null,null,{"$f":"bksingh!$ADB$8","v":""},null,null,null,{"$f":"bksingh!$ADB$8","v":""},null,null,null,{"$f":"bksingh!$ADB$8","v":""},null,null,null,{"$f":"bksingh!$ADB$8","v":""},null,null,null,{"$f":"bksingh!$ADB$8","v":""},null,null,null,{"$f":"bksingh!$ADB$8","v":""},null,null,null,{"$f":"bksingh!$ADB$8","v":""},null,null,null,{"$f":"bksingh!$ADB$8","v":""},null,null,null,{"$f":"bksingh!$ADB$8","v":""},null,null,null,{"$f":"bksingh!$ADB$8","v":""},null,null,null,{"$f":"bksingh!$ADB$8","v":""},null,null,null,{"$f":"bksingh!$ADB$8","v":""},null,null,null,{"$f":"bksingh!$ADB$8","v":""},null,null,null,{"$f":"bksingh!$ADB$8","v":""},null,null,null,{"$f":"bksingh!$ADB$8","v":""},null,null,null,{"$f":"bksingh!$ADB$8","v":""},null,null,null,{"$f":"bksingh!$ADB$8","v":""},null,null,null,{"$f":"bksingh!$ADB$8","v":""},null,null,null,{"$f":"bksingh!$ADB$8","v":""},null,null,null,{"$f":"bksingh!$ADB$8","v":""},null,null,null,{"$f":"bksingh!$ADB$8","v":""},null,null,null,{"$f":"bksingh!$ADB$8","v":""},null,null,null,{"$f":"bksingh!$ADB$8","v":""},null,null,null,{"$f":"bksingh!$ADB$8","v":""},null,null,null,{"$f":"bksingh!$ADB$8","v":""},null,null,null,{"$f":"bksingh!$ADB$8","v":""},null,null,null,{"$f":"bksingh!$ADB$8","v":""},null,null,null,{"$f":"bksingh!$ADB$8","v":""},null,null,null,{"$f":"bksingh!$ADB$8","v":""},null,null,null,{"$f":"bksingh!$ADB$8","v":""},null,null,null,{"$f":"bksingh!$ADB$8","v":""},null,null,null,{"$f":"bksingh!$ADB$8","v":""},null,null,null,{"$f":"bksingh!$ADB$8","v":""},null,null,null,{"$f":"bksingh!$ADB$8","v":""},null,null,null,{"$f":"bksingh!$ADB$8","v":""},null,null,null,{"$f":"bksingh!$ADB$8","v":""},null,null,null,{"$f":"bksingh!$ADB$8","v":""},null,null,null,{"$f":"bksingh!$ADB$8","v":""},null,null,null,{"$f":"bksingh!$ADB$8","v":""},null,null,null,{"$f":"bksingh!$ADB$8","v":""},null,null,null,{"$f":"bksingh!$ADB$8","v":""},null,null,null,{"$f":"bksingh!$ADB$8","v":""},null,null,null,{"$f":"bksingh!$ADB$8","v":""},null,null,null,{"$f":"bksingh!$ADB$8","v":""},null,null,null,{"$f":"bksingh!$ADB$8","v":""},null,null,null,{"$f":"bksingh!$ADB$8","v":""},null,null,null,{"$f":"bksingh!$ADB$8","v":""},null,null,null,{"$f":"bksingh!$ADB$8","v":""},null,null,null,{"$f":"bksingh!$ADB$8","v":""},null,null,null,{"$f":"bksingh!$ADB$8","v":""},null,null,null,{"$f":"bksingh!$ADB$8","v":""},null,null,null,{"$f":"bksingh!$ADB$8","v":""},null,null,null,{"$f":"bksingh!$ADB$8","v":""},null,null,null,{"$f":"bksingh!$ADB$8","v":""},null,null,null,{"$f":"bksingh!$ADB$8","v":""},null,null,null,{"$f":"bksingh!$ADB$8","v":""},null,null,null,{"$f":"bksingh!$ADB$8","v":""},null,null,null,{"$f":"bksingh!$ADB$8","v":""},null,null,null,{"$f":"bksingh!$ADB$8","v":""},null,null,null,{"$f":"bksingh!$ADB$8","v":""},null,null,null,{"$f":"bksingh!$ADB$8","v":""},null,null,null,{"$f":"bksingh!$ADB$8","v":""},null,null,null,{"$f":"bksingh!$ADB$8","v":""},null,null,null,{"$f":"bksingh!$ADB$8","v":""},null,null,null,{"$f":"bksingh!$ADB$8","v":""},null,null,null,{"$f":"bksingh!$ADB$8","v":""},null,null,null,{"$f":"bksingh!$ADB$8","v":""},null,null,null,{"$f":"bksingh!$ADB$8","v":""},null,null,null,{"$f":"bksingh!$ADB$8","v":""},null,null,null,{"$f":"bksingh!$ADB$8","v":""},null,null,null,{"$f":"bksingh!$ADB$8","v":""},null,null,null,{"$f":"bksingh!$ADB$8","v":""},null,null,null,{"$f":"bksingh!$ADB$8","v":""},null,null,null,{"$f":"bksingh!$ADB$8","v":""},null,null,null,{"$f":"bksingh!$ADB$8","v":""},null,null,null,{"$f":"bksingh!$ADB$8","v":""},null,null,null,{"$f":"bksingh!$ADB$8","v":""},null,null,null,{"$f":"bksingh!$ADB$8","v":""},null,null,null,{"$f":"bksingh!$ADB$8","v":""},null,null,null,{"$f":"bksingh!$ADB$8","v":""},null,null,null,{"$f":"bksingh!$ADB$8","v":""},null,null,null,{"$f":"bksingh!$ADB$8","v":""},null,null,null,{"$f":"bksingh!$ADB$8","v":""},null,null,null,{"$f":"bksingh!$ADB$8","v":""},null,null,null,{"$f":"bksingh!$ADB$8","v":""},null,null,null,{"$f":"bksingh!$ADB$8","v":""},null,null,null,{"$f":"bksingh!$ADB$8","v":""},null,null,null,{"$f":"bksingh!$ADB$8","v":""},null,null,null,{"$f":"bksingh!$ADB$8","v":""},null,null,null,{"$f":"bksingh!$ADB$8","v":""},null,null,null,{"$f":"bksingh!$ADB$8","v":""},null,null,null,{"$f":"bksingh!$ADB$8","v":""},null,null,null,{"$f":"bksingh!$ADB$8","v":""},null,null,null,{"$f":"bksingh!$ADB$8","v":""},null,null,null,{"$f":"bksingh!$ADB$8","v":""},null,null,null,{"$f":"bksingh!$ADB$8","v":""},null,null,null,{"$f":"bksingh!$ADB$8","v":""},null,null,null,{"$f":"bksingh!$ADB$8","v":""},null,null,null,{"$f":"bksingh!$ADB$8","v":""},null,null,null,{"$f":"bksingh!$ADB$8","v":""},null,null,null,{"$f":"bksingh!$ADB$8","v":""},null,null,null,{"$f":"bksingh!$ADB$8","v":""},null,null,null,{"$f":"bksingh!$ADB$8","v":""},null,null,null,{"$f":"bksingh!$ADB$8","v":""},null,null,null,{"$f":"bksingh!$ADB$8","v":""},null,null,null,{"$f":"bksingh!$ADB$8","v":""},null,null,null,{"$f":"bksingh!$ADB$8","v":""},null,null,null,{"$f":"bksingh!$ADB$8","v":""},null,null,null,{"$f":"bksingh!$ADB$8","v":""},null,null,null,{"$f":"bksingh!$ADB$8","v":""},null,null,null,{"$f":"bksingh!$ADB$8","v":""},null,null,null,{"$f":"bksingh!$ADB$8","v":""},null,null,null,{"$f":"bksingh!$ADB$8","v":""},null,null,null,{"$f":"bksingh!$ADB$8","v":""},null,null,null,{"$f":"bksingh!$ADB$8","v":""},null,null,null,{"$f":"bksingh!$ADB$8","v":""},null,null,null,{"$f":"bksingh!$ADB$8","v":""},null,null,null,{"$f":"bksingh!$ADB$8","v":""},null,null,null,{"$f":"bksingh!$ADB$8","v":""},null,null,null,{"$f":"bksingh!$ADB$8","v":""},null,null,null,{"$f":"bksingh!$ADB$8","v":""},null,null,null,{"$f":"bksingh!$ADB$8","v":""},null,null,null,{"$f":"bksingh!$ADB$8","v":""},null,null,null,{"$f":"bksingh!$ADB$8","v":""},null,null,null,{"$f":"bksingh!$ADB$8","v":""},null,null,null,{"$f":"bksingh!$ADB$8","v":""},null,null,null,{"$f":"bksingh!$ADB$8","v":""},null,null,null,{"$f":"bksingh!$ADB$8","v":""},null,null,null,{"$f":"bksingh!$ADB$8","v":""},null,null,null,{"$f":"bksingh!$ADB$8","v":""},null,null,null,{"$f":"bksingh!$ADB$8","v":""},null,null,null,{"$f":"bksingh!$ADB$8","v":""},null,null,null,{"$f":"bksingh!$ADB$8","v":""},null,null,null,{"$f":"bksingh!$ADB$8","v":""},null,null,null,{"$f":"bksingh!$ADB$8","v":""},null,null,null,{"$f":"bksingh!$ADB$8","v":""},null,null,null,{"$f":"bksingh!$ADB$8","v":""},null,null,null,{"$f":"bksingh!$ADB$8","v":""},null,null,null,{"$f":"bksingh!$ADB$8","v":""},null,null,null,{"$f":"bksingh!$ADB$8","v":""},null,null,null,{"$f":"bksingh!$ADB$8","v":""},null,null,null,{"$f":"bksingh!$ADB$8","v":""},null,null,null,{"$f":"bksingh!$ADB$8","v":""},null,null,null,{"$f":"bksingh!$ADB$8","v":""},null,null,null,{"$f":"bksingh!$ADB$8","v":""},null,null,null,{"$f":"bksingh!$ADB$8","v":""},null,null,null,{"$f":"bksingh!$ADB$8","v":""},null,null,null,{"$f":"bksingh!$ADB$8","v":""},null,null,null,{"$f":"bksingh!$ADB$8","v":""},null,null,null,{"$f":"bksingh!$ADB$8","v":""},null,null,null,{"$f":"bksingh!$ADB$8","v":""},null,null,null,{"$f":"bksingh!$ADB$8","v":""},null,null,null,{"$f":"bksingh!$ADB$8","v":""},null,null,null,{"$f":"bksingh!$ADB$8","v":""},null,null,null,{"$f":"bksingh!$ADB$8","v":""},null,null,null,{"$f":"bksingh!$ADB$8","v":""},null,null,null,{"$f":"bksingh!$ADB$8","v":""},null,null,null,{"$f":"bksingh!$ADB$8","v":""},null,null,null,{"$f":"bksingh!$ADB$8","v":""},null,null,null,{"$f":"bksingh!$ADB$8","v":""},null,null,null,{"$f":"bksingh!$ADB$8","v":""},null,null,null,{"$f":"bksingh!$ADB$8","v":""},null,null,null,{"$f":"bksingh!$ADB$8","v":""},null,null,null,{"$f":"bksingh!$ADB$8","v":""},null,null,null,{"$f":"bksingh!$ADB$8","v":""},null,null,null,{"$f":"bksingh!$ADB$8","v":""},null,null,null,{"$f":"bksingh!$ADB$8","v":""},null,null,null,{"$f":"bksingh!$ADB$8","v":""},null,null,null,{"$f":"bksingh!$ADB$8","v":""},null,null,null,{"$f":"bksingh!$ADB$8","v":""},null,null,null,{"$f":"bksingh!$ADB$8","v":""},null,null,null,{"$f":"bksingh!$ADB$8","v":""},null,null,null,{"$f":"bksingh!$ADB$8","v":""},null,null,null,{"$f":"bksingh!$ADB$8","v":""},null,null,null,{"$f":"bksingh!$ADB$8","v":""},null,null,null,{"$f":"bksingh!$ADB$8","v":""},null,null,null,{"$f":"bksingh!$ADB$8","v":""},null,null,null,{"$f":"bksingh!$ADB$8","v":""},null,null,null,{"$f":"bksingh!$ADB$8","v":""},null,null,null,{"$f":"bksingh!$ADB$8","v":""},null,null,null,{"$f":"bksingh!$ADB$8","v":""},null,null,null,{"$f":"bksingh!$ADB$8","v":""},null,null,null,{"$f":"bksingh!$ADB$8","v":""},null,null,null,{"$f":"bksingh!$ADB$8","v":""},null,null,null,{"$f":"bksingh!$ADB$8","v":""},null,null,null,{"$f":"bksingh!$ADB$8","v":""},null,null,null,{"$f":"bksingh!$ADB$8","v":""},null,null,null,{"$f":"bksingh!$ADB$8","v":""},null,null,null,{"$f":"bksingh!$ADB$8","v":""},null,null,null,{"$f":"bksingh!$ADB$8","v":""},null,null,null,{"$f":"bksingh!$ADB$8","v":""},null,null,null,{"$f":"bksingh!$ADB$8","v":""},null,null,null,{"$f":"bksingh!$ADB$8","v":""},null,null,null,{"$f":"bksingh!$ADB$8","v":""},null,null,null,{"$f":"bksingh!$ADB$8","v":""},null,null,null,{"$f":"bksingh!$ADB$8","v":""},null,null,null,{"$f":"bksingh!$ADB$8","v":""},null,null,null,{"$f":"bksingh!$ADB$8","v":""},null,null,null,{"$f":"bksingh!$ADB$8","v":""},null,null,null,{"$f":"bksingh!$ADB$8","v":""},null,null,null,{"$f":"bksingh!$ADB$8","v":""},null,null,null,{"$f":"bksingh!$ADB$8","v":""},null,null,null,{"$f":"bksingh!$ADB$8","v":""},null,null,null,{"$f":"bksingh!$ADB$8","v":""},null,null,null,{"$f":"bksingh!$ADB$8","v":""},null,null,null,{"$f":"bksingh!$ADB$8","v":""},null,null,null,{"$f":"bksingh!$ADB$8","v":""},null,null,null,{"$f":"bksingh!$ADB$8","v":""},null,null,null,{"$f":"bksingh!$ADB$8","v":""},null,null,null,{"$f":"bksingh!$ADB$8","v":""},null,null,null,{"$f":"bksingh!$ADB$8","v":""},null,null,null,{"$f":"bksingh!$ADB$8","v":""},null,null,null,{"$f":"bksingh!$ADB$8","v":""},null,null,null,{"$f":"bksingh!$ADB$8","v":""},null,null,null,{"$f":"bksingh!$ADB$8","v":""},null,null,null,{"$f":"bksingh!$ADB$8","v":""},null,null,null,{"$f":"bksingh!$ADB$8","v":""},null,null,null,{"$f":"bksingh!$ADB$8","v":""},null,null,null,{"$f":"bksingh!$ADB$8","v":""},null,null,null,{"$f":"bksingh!$ADB$8","v":""},null,null,null,{"$f":"bksingh!$ADB$8","v":""},null,null,null,{"$f":"bksingh!$ADB$8","v":""},null,null,null,{"$f":"bksingh!$ADB$8","v":""},null,null,null,{"$f":"bksingh!$ADB$8","v":""},null,null,null,{"$f":"bksingh!$ADB$8","v":""},null,null,null,{"$f":"bksingh!$ADB$8","v":""},null,null,null,{"$f":"bksingh!$ADB$8","v":""},null,null,null,{"$f":"bksingh!$ADB$8","v":""},null,null,null,{"$f":"bksingh!$ADB$8","v":""},null,null,null,{"$f":"bksingh!$ADB$8","v":""},null,null,null,{"$f":"bksingh!$ADB$8","v":""},null,null,null,{"$f":"bksingh!$ADB$8","v":""},null,null,null,{"$f":"bksingh!$ADB$8","v":""},null,null,null,{"$f":"bksingh!$ADB$8","v":""},null,null,null,{"$f":"bksingh!$ADB$8","v":""},null,null,null,{"$f":"bksingh!$ADB$8","v":""},null,null,null,{"$f":"bksingh!$ADB$8","v":""},null,null,null,{"$f":"bksingh!$ADB$8","v":""},null,null,null,{"$f":"bksingh!$ADB$8","v":""},null,null,null,{"$f":"bksingh!$ADB$8","v":""},null,null,null,{"$f":"bksingh!$ADB$8","v":""},null,null,null,{"$f":"bksingh!$ADB$8","v":""},null,null,null,{"$f":"bksingh!$ADB$8","v":""},null,null,null,{"$f":"bksingh!$ADB$8","v":""},null,null,null,{"$f":"bksingh!$ADB$8","v":""},null,null,null,{"$f":"bksingh!$ADB$8","v":""},null,null,null,{"$f":"bksingh!$ADB$8","v":""},null,null,null,{"$f":"bksingh!$ADB$8","v":""},null,null,null,{"$f":"bksingh!$ADB$8","v":""},null,null,null,{"$f":"bksingh!$ADB$8","v":""},null,null,null,{"$f":"bksingh!$ADB$8","v":""},null,null,null,{"$f":"bksingh!$ADB$8","v":""},null,null,null,{"$f":"bksingh!$ADB$8","v":""},null,null,null,{"$f":"bksingh!$ADB$8","v":""},null,null,null,{"$f":"bksingh!$ADB$8","v":""},null,null,null,{"$f":"bksingh!$ADB$8","v":""},null,null,null,{"$f":"bksingh!$ADB$8","v":""},null,null,null,{"$f":"bksingh!$ADB$8","v":""},null,null,null,{"$f":"bksingh!$ADB$8","v":""},null,null,null,{"$f":"bksingh!$ADB$8","v":""},null,null,null,{"$f":"bksingh!$ADB$8","v":""},null,null,null,{"$f":"bksingh!$ADB$8","v":""},null,null,null,{"$f":"bksingh!$ADB$8","v":""},null,null,null,{"$f":"bksingh!$ADB$8","v":""},null,null,null,{"$f":"bksingh!$ADB$8","v":""},null,null,null,{"$f":"bksingh!$ADB$8","v":""},null,null,null,{"$f":"bksingh!$ADB$8","v":""},null,null,null,{"$f":"bksingh!$ADB$8","v":""},null,null,null,{"$f":"bksingh!$ADB$8","v":""},null,null,null,{"$f":"bksingh!$ADB$8","v":""},null,null,null,{"$f":"bksingh!$ADB$8","v":""},null,null,null,{"$f":"bksingh!$ADB$8","v":""},null,null,null,{"$f":"bksingh!$ADB$8","v":""},null,null,null,{"$f":"bksingh!$ADB$8","v":""},null,null,null,{"$f":"bksingh!$ADB$8","v":""},null,null,null,{"$f":"bksingh!$ADB$8","v":""},null,null,null,{"$f":"bksingh!$ADB$8","v":""},null,null,null,{"$f":"bksingh!$ADB$8","v":""},null,null,null,{"$f":"bksingh!$ADB$8","v":""},null,null,null,{"$f":"bksingh!$ADB$8","v":""},null,null,null,{"$f":"bksingh!$ADB$8","v":""},null,null,null,{"$f":"bksingh!$ADB$8","v":""},null,null,null,{"$f":"bksingh!$ADB$8","v":""},null,null,null,{"$f":"bksingh!$ADB$8","v":""},null,null,null,{"$f":"bksingh!$ADB$8","v":""},null,null,null,{"$f":"bksingh!$ADB$8","v":""},null,null,null,{"$f":"bksingh!$ADB$8","v":""},null,null,null,{"$f":"bksingh!$ADB$8","v":""},null,null,null,{"$f":"bksingh!$ADB$8","v":""},null,null,null,{"$f":"bksingh!$ADB$8","v":""},null,null,null,{"$f":"bksingh!$ADB$8","v":""},null,null,null,{"$f":"bksingh!$ADB$8","v":""},null,null,null,{"$f":"bksingh!$ADB$8","v":""},null,null,null,{"$f":"bksingh!$ADB$8","v":""},null,null,null,{"$f":"bksingh!$ADB$8","v":""},null,null,null,{"$f":"bksingh!$ADB$8","v":""},null,null,null,{"$f":"bksingh!$ADB$8","v":""},null,null,null,{"$f":"bksingh!$ADB$8","v":""},null,null,null,{"$f":"bksingh!$ADB$8","v":""},null,null,null,{"$f":"bksingh!$ADB$8","v":""},null,null,null,{"$f":"bksingh!$ADB$8","v":""},null,null,null,{"$f":"bksingh!$ADB$8","v":""},null,null,null,{"$f":"bksingh!$ADB$8","v":""},null,null,null,{"$f":"bksingh!$ADB$8","v":""},null,null,null,{"$f":"bksingh!$ADB$8","v":""},null,null,null,{"$f":"bksingh!$ADB$8","v":""},null,null,null,{"$f":"bksingh!$ADB$8","v":""},null,null,null,{"$f":"bksingh!$ADB$8","v":""},null,null,null,{"$f":"bksingh!$ADB$8","v":""},null,null,null,{"$f":"bksingh!$ADB$8","v":""},null,null,null,{"$f":"bksingh!$ADB$8","v":""},null,null,null,{"$f":"bksingh!$ADB$8","v":""},null,null,null,{"$f":"bksingh!$ADB$8","v":""},null,null,null,{"$f":"bksingh!$ADB$8","v":""},null,null,null,{"$f":"bksingh!$ADB$8","v":""},null,null,null,{"$f":"bksingh!$ADB$8","v":""},null,null,null,{"$f":"bksingh!$ADB$8","v":""},null,null,null,{"$f":"bksingh!$ADB$8","v":""},null,null,null,{"$f":"bksingh!$ADB$8","v":""},null,null,null,{"$f":"bksingh!$ADB$8","v":""},null,null,null,{"$f":"bksingh!$ADB$8","v":""},null,null,null,{"$f":"bksingh!$ADB$8","v":""},null,null,null,{"$f":"bksingh!$ADB$8","v":""},null,null,null,{"$f":"bksingh!$ADB$8","v":""},null,null,null,{"$f":"bksingh!$ADB$8","v":""},null,null,null,{"$f":"bksingh!$ADB$8","v":""},null,null,null,{"$f":"bksingh!$ADB$8","v":""},null,null,null,{"$f":"bksingh!$ADB$8","v":""},null,null,null,{"$f":"bksingh!$ADB$8","v":""},null,null,null,{"$f":"bksingh!$ADB$8","v":""},null,null,null,{"$f":"bksingh!$ADB$8","v":""},null,null,null,{"$f":"bksingh!$ADB$8","v":""},null,null,null,{"$f":"bksingh!$ADB$8","v":""},null,null,null,{"$f":"bksingh!$ADB$8","v":""},null,null,null,{"$f":"bksingh!$ADB$8","v":""},null,null,null,{"$f":"bksingh!$ADB$8","v":""},null,null,null,{"$f":"bksingh!$ADB$8","v":""},null,null,null,{"$f":"bksingh!$ADB$8","v":""},null,null,null,{"$f":"bksingh!$ADB$8","v":""},null,null,null,{"$f":"bksingh!$ADB$8","v":""},null,null,null,{"$f":"bksingh!$ADB$8","v":""},null,null,null,{"$f":"bksingh!$ADB$8","v":""},null,null,null,{"$f":"bksingh!$ADB$8","v":""},null,null,null,{"$f":"bksingh!$ADB$8","v":""},null,null,null,{"$f":"bksingh!$ADB$8","v":""},null,null,null,{"$f":"bksingh!$ADB$8","v":""},null,null,null,{"$f":"bksingh!$ADB$8","v":""},null,null,null,{"$f":"bksingh!$ADB$8","v":""},null,null,null,{"$f":"bksingh!$ADB$8","v":""},null,null,null,{"$f":"bksingh!$ADB$8","v":""},null,null,null,{"$f":"bksingh!$ADB$8","v":""},null,null,null,{"$f":"bksingh!$ADB$8","v":""},null,null,null,{"$f":"bksingh!$ADB$8","v":""},null,null,null,{"$f":"bksingh!$ADB$8","v":""},null,null,null,{"$f":"bksingh!$ADB$8","v":""},null,null,null,{"$f":"bksingh!$ADB$8","v":""},null,null,null,{"$f":"bksingh!$ADB$8","v":""},null,null,null,{"$f":"bksingh!$ADB$8","v":""},null,null,null,{"$f":"bksingh!$ADB$8","v":""},null,null,null,{"$f":"bksingh!$ADB$8","v":""},null,null,null,{"$f":"bksingh!$ADB$8","v":""},null,null,null,{"$f":"bksingh!$ADB$8","v":""},null,null,null,{"$f":"bksingh!$ADB$8","v":""},null,null,null,{"$f":"bksingh!$ADB$8","v":""},null,null,null,{"$f":"bksingh!$ADB$8","v":""},null,null,null,{"$f":"bksingh!$ADB$8","v":""},null,null,null,{"$f":"bksingh!$ADB$8","v":""},null,null,null,{"$f":"bksingh!$ADB$8","v":""},null,null,null,{"$f":"bksingh!$ADB$8","v":""},null,null,null,{"$f":"bksingh!$ADB$8","v":""},null,null,null,{"$f":"bksingh!$ADB$8","v":""},null,null,null,{"$f":"bksingh!$ADB$8","v":""},null,null,null,{"$f":"bksingh!$ADB$8","v":""},null,null,null,{"$f":"bksingh!$ADB$8","v":""},null,null,null,{"$f":"bksingh!$ADB$8","v":""},null,null,null,{"$f":"bksingh!$ADB$8","v":""},null,null,null,{"$f":"bksingh!$ADB$8","v":""},null,null,null,{"$f":"bksingh!$ADB$8","v":""},null,null,null,{"$f":"bksingh!$ADB$8","v":""},null,null,null,{"$f":"bksingh!$ADB$8","v":""},null,null,null,{"$f":"bksingh!$ADB$8","v":""},null,null,null,{"$f":"bksingh!$ADB$8","v":""},null,null,null,{"$f":"bksingh!$ADB$8","v":""},null,null,null,{"$f":"bksingh!$ADB$8","v":""},null,null,null,{"$f":"bksingh!$ADB$8","v":""},null,null,null,{"$f":"bksingh!$ADB$8","v":""},null,null,null,{"$f":"bksingh!$ADB$8","v":""},null,null,null,{"$f":"bksingh!$ADB$8","v":""},null,null,null,{"$f":"bksingh!$ADB$8","v":""},null,null,null,{"$f":"bksingh!$ADB$8","v":""},null,null,null,{"$f":"bksingh!$ADB$8","v":""},null,null,null,{"$f":"bksingh!$ADB$8","v":""},null,null,null,{"$f":"bksingh!$ADB$8","v":""},null,null,null,{"$f":"bksingh!$ADB$8","v":""},null,null,null,{"$f":"bksingh!$ADB$8","v":""},null,null,null,{"$f":"bksingh!$ADB$8","v":""},null,null,null,{"$f":"bksingh!$ADB$8","v":""},null,null,null,{"$f":"bksingh!$ADB$8","v":""},null,null,null,{"$f":"bksingh!$ADB$8","v":""},null,null,null,{"$f":"bksingh!$ADB$8","v":""},null,null,null,{"$f":"bksingh!$ADB$8","v":""},null,null,null,{"$f":"bksingh!$ADB$8","v":""},null,null,null,{"$f":"bksingh!$ADB$8","v":""},null,null,null,{"$f":"bksingh!$ADB$8","v":""},null,null,null,{"$f":"bksingh!$ADB$8","v":""},null,null,null,{"$f":"bksingh!$ADB$8","v":""},null,null,null,{"$f":"bksingh!$ADB$8","v":""},null,null,null,{"$f":"bksingh!$ADB$8","v":""},null,null,null,{"$f":"bksingh!$ADB$8","v":""},null,null,null,{"$f":"bksingh!$ADB$8","v":""},null,null,null,{"$f":"bksingh!$ADB$8","v":""},null,null,null,{"$f":"bksingh!$ADB$8","v":""},null,null,null,{"$f":"bksingh!$ADB$8","v":""},null,null,null,{"$f":"bksingh!$ADB$8","v":""},null,null,null,{"$f":"bksingh!$ADB$8","v":""},null,null,null,{"$f":"bksingh!$ADB$8","v":""},null,null,null,{"$f":"bksingh!$ADB$8","v":""},null,null,null,{"$f":"bksingh!$ADB$8","v":""},null,null,null,{"$f":"bksingh!$ADB$8","v":""},null,null,null,{"$f":"bksingh!$ADB$8","v":""},null,null,null,{"$f":"bksingh!$ADB$8","v":""},null,null,null,{"$f":"bksingh!$ADB$8","v":""},null,null,null,{"$f":"bksingh!$ADB$8","v":""},null,null,null,{"$f":"bksingh!$ADB$8","v":""},null,null,null,{"$f":"bksingh!$ADB$8","v":""},null,null,null,{"$f":"bksingh!$ADB$8","v":""},null,null,null,{"$f":"bksingh!$ADB$8","v":""},null,null,null,{"$f":"bksingh!$ADB$8","v":""},null,null,null,{"$f":"bksingh!$ADB$8","v":""},null,null,null,{"$f":"bksingh!$ADB$8","v":""},null,null,null,{"$f":"bksingh!$ADB$8","v":""},null,null,null,{"$f":"bksingh!$ADB$8","v":""},null,null,null,{"$f":"bksingh!$ADB$8","v":""},null,null,null,{"$f":"bksingh!$ADB$8","v":""},null,null,null,{"$f":"bksingh!$ADB$8","v":""},null,null,null,{"$f":"bksingh!$ADB$8","v":""},null,null,null,{"$f":"bksingh!$ADB$8","v":""},null,null,null,{"$f":"bksingh!$ADB$8","v":""},null,null,null,{"$f":"bksingh!$ADB$8","v":""},null,null,null,{"$f":"bksingh!$ADB$8","v":""},null,null,null,{"$f":"bksingh!$ADB$8","v":""},null,null,null,{"$f":"bksingh!$ADB$8","v":""},null,null,null,{"$f":"bksingh!$ADB$8","v":""},null,null,null,{"$f":"bksingh!$ADB$8","v":""}]
[{"$f":"bksingh!$ADI$15","v":""},null,null,null,{"$f":"bksingh!$ADI$8","v":""},null,null,null,{"$f":"bksingh!$ADI$8","v":""},null,null,null,{"$f":"bksingh!$ADI$8","v":""},null,null,null,{"$f":"bksingh!$ADI$8","v":""},null,null,null,{"$f":"bksingh!$ADI$8","v":""},null,null,null,{"$f":"bksingh!$ADI$8","v":""},null,null,null,{"$f":"bksingh!$ADI$8","v":""},null,null,null,{"$f":"bksingh!$ADI$8","v":""},null,null,null,{"$f":"bksingh!$ADI$8","v":""},null,null,null,{"$f":"bksingh!$ADI$8","v":""},null,null,null,{"$f":"bksingh!$ADI$8","v":""},null,null,null,{"$f":"bksingh!$ADI$8","v":""},null,null,null,{"$f":"bksingh!$ADI$8","v":""},null,null,null,{"$f":"bksingh!$ADI$8","v":""},null,null,null,{"$f":"bksingh!$ADI$8","v":""},null,null,null,{"$f":"bksingh!$ADI$8","v":""},null,null,null,{"$f":"bksingh!$ADI$8","v":""},null,null,null,{"$f":"bksingh!$ADI$8","v":""},null,null,null,{"$f":"bksingh!$ADI$8","v":""},null,null,null,{"$f":"bksingh!$ADI$8","v":""},null,null,null,{"$f":"bksingh!$ADI$8","v":""},null,null,null,{"$f":"bksingh!$ADI$8","v":""},null,null,null,{"$f":"bksingh!$ADI$8","v":""},null,null,null,{"$f":"bksingh!$ADI$8","v":""},null,null,null,{"$f":"bksingh!$ADI$8","v":""},null,null,null,{"$f":"bksingh!$ADI$8","v":""},null,null,null,{"$f":"bksingh!$ADI$8","v":""},null,null,null,{"$f":"bksingh!$ADI$8","v":""},null,null,null,{"$f":"bksingh!$ADI$8","v":""},null,null,null,{"$f":"bksingh!$ADI$8","v":""},null,null,null,{"$f":"bksingh!$ADI$8","v":""},null,null,null,{"$f":"bksingh!$ADI$8","v":""},null,null,null,{"$f":"bksingh!$ADI$8","v":""},null,null,null,{"$f":"bksingh!$ADI$8","v":""},null,null,null,{"$f":"bksingh!$ADI$8","v":""},null,null,null,{"$f":"bksingh!$ADI$8","v":""},null,null,null,{"$f":"bksingh!$ADI$8","v":""},null,null,null,{"$f":"bksingh!$ADI$8","v":""},null,null,null,{"$f":"bksingh!$ADI$8","v":""},null,null,null,{"$f":"bksingh!$ADI$8","v":""},null,null,null,{"$f":"bksingh!$ADI$8","v":""},null,null,null,{"$f":"bksingh!$ADI$8","v":""},null,null,null,{"$f":"bksingh!$ADI$8","v":""},null,null,null,{"$f":"bksingh!$ADI$8","v":""},null,null,null,{"$f":"bksingh!$ADI$8","v":""},null,null,null,{"$f":"bksingh!$ADI$8","v":""},null,null,null,{"$f":"bksingh!$ADI$8","v":""},null,null,null,{"$f":"bksingh!$ADI$8","v":""},null,null,null,{"$f":"bksingh!$ADI$8","v":""},null,null,null,{"$f":"bksingh!$ADI$8","v":""},null,null,null,{"$f":"bksingh!$ADI$8","v":""},null,null,null,{"$f":"bksingh!$ADI$8","v":""},null,null,null,{"$f":"bksingh!$ADI$8","v":""},null,null,null,{"$f":"bksingh!$ADI$8","v":""},null,null,null,{"$f":"bksingh!$ADI$8","v":""},null,null,null,{"$f":"bksingh!$ADI$8","v":""},null,null,null,{"$f":"bksingh!$ADI$8","v":""},null,null,null,{"$f":"bksingh!$ADI$8","v":""},null,null,null,{"$f":"bksingh!$ADI$8","v":""},null,null,null,{"$f":"bksingh!$ADI$8","v":""},null,null,null,{"$f":"bksingh!$ADI$8","v":""},null,null,null,{"$f":"bksingh!$ADI$8","v":""},null,null,null,{"$f":"bksingh!$ADI$8","v":""},null,null,null,{"$f":"bksingh!$ADI$8","v":""},null,null,null,{"$f":"bksingh!$ADI$8","v":""},null,null,null,{"$f":"bksingh!$ADI$8","v":""},null,null,null,{"$f":"bksingh!$ADI$8","v":""},null,null,null,{"$f":"bksingh!$ADI$8","v":""},null,null,null,{"$f":"bksingh!$ADI$8","v":""},null,null,null,{"$f":"bksingh!$ADI$8","v":""},null,null,null,{"$f":"bksingh!$ADI$8","v":""},null,null,null,{"$f":"bksingh!$ADI$8","v":""},null,null,null,{"$f":"bksingh!$ADI$8","v":""},null,null,null,{"$f":"bksingh!$ADI$8","v":""},null,null,null,{"$f":"bksingh!$ADI$8","v":""},null,null,null,{"$f":"bksingh!$ADI$8","v":""},null,null,null,{"$f":"bksingh!$ADI$8","v":""},null,null,null,{"$f":"bksingh!$ADI$8","v":""},null,null,null,{"$f":"bksingh!$ADI$8","v":""},null,null,null,{"$f":"bksingh!$ADI$8","v":""},null,null,null,{"$f":"bksingh!$ADI$8","v":""},null,null,null,{"$f":"bksingh!$ADI$8","v":""},null,null,null,{"$f":"bksingh!$ADI$8","v":""},null,null,null,{"$f":"bksingh!$ADI$8","v":""},null,null,null,{"$f":"bksingh!$ADI$8","v":""},null,null,null,{"$f":"bksingh!$ADI$8","v":""},null,null,null,{"$f":"bksingh!$ADI$8","v":""},null,null,null,{"$f":"bksingh!$ADI$8","v":""},null,null,null,{"$f":"bksingh!$ADI$8","v":""},null,null,null,{"$f":"bksingh!$ADI$8","v":""},null,null,null,{"$f":"bksingh!$ADI$8","v":""},null,null,null,{"$f":"bksingh!$ADI$8","v":""},null,null,null,{"$f":"bksingh!$ADI$8","v":""},null,null,null,{"$f":"bksingh!$ADI$8","v":""},null,null,null,{"$f":"bksingh!$ADI$8","v":""},null,null,null,{"$f":"bksingh!$ADI$8","v":""},null,null,null,{"$f":"bksingh!$ADI$8","v":""},null,null,null,{"$f":"bksingh!$ADI$8","v":""},null,null,null,{"$f":"bksingh!$ADI$8","v":""},null,null,null,{"$f":"bksingh!$ADI$8","v":""},null,null,null,{"$f":"bksingh!$ADI$8","v":""},null,null,null,{"$f":"bksingh!$ADI$8","v":""},null,null,null,{"$f":"bksingh!$ADI$8","v":""},null,null,null,{"$f":"bksingh!$ADI$8","v":""},null,null,null,{"$f":"bksingh!$ADI$8","v":""},null,null,null,{"$f":"bksingh!$ADI$8","v":""},null,null,null,{"$f":"bksingh!$ADI$8","v":""},null,null,null,{"$f":"bksingh!$ADI$8","v":""},null,null,null,{"$f":"bksingh!$ADI$8","v":""},null,null,null,{"$f":"bksingh!$ADI$8","v":""},null,null,null,{"$f":"bksingh!$ADI$8","v":""},null,null,null,{"$f":"bksingh!$ADI$8","v":""},null,null,null,{"$f":"bksingh!$ADI$8","v":""},null,null,null,{"$f":"bksingh!$ADI$8","v":""},null,null,null,{"$f":"bksingh!$ADI$8","v":""},null,null,null,{"$f":"bksingh!$ADI$8","v":""},null,null,null,{"$f":"bksingh!$ADI$8","v":""},null,null,null,{"$f":"bksingh!$ADI$8","v":""},null,null,null,{"$f":"bksingh!$ADI$8","v":""},null,null,null,{"$f":"bksingh!$ADI$8","v":""},null,null,null,{"$f":"bksingh!$ADI$8","v":""},null,null,null,{"$f":"bksingh!$ADI$8","v":""},null,null,null,{"$f":"bksingh!$ADI$8","v":""},null,null,null,{"$f":"bksingh!$ADI$8","v":""},null,null,null,{"$f":"bksingh!$ADI$8","v":""},null,null,null,{"$f":"bksingh!$ADI$8","v":""},null,null,null,{"$f":"bksingh!$ADI$8","v":""},null,null,null,{"$f":"bksingh!$ADI$8","v":""},null,null,null,{"$f":"bksingh!$ADI$8","v":""},null,null,null,{"$f":"bksingh!$ADI$8","v":""},null,null,null,{"$f":"bksingh!$ADI$8","v":""},null,null,null,{"$f":"bksingh!$ADI$8","v":""},null,null,null,{"$f":"bksingh!$ADI$8","v":""},null,null,null,{"$f":"bksingh!$ADI$8","v":""},null,null,null,{"$f":"bksingh!$ADI$8","v":""},null,null,null,{"$f":"bksingh!$ADI$8","v":""},null,null,null,{"$f":"bksingh!$ADI$8","v":""},null,null,null,{"$f":"bksingh!$ADI$8","v":""},null,null,null,{"$f":"bksingh!$ADI$8","v":""},null,null,null,{"$f":"bksingh!$ADI$8","v":""},null,null,null,{"$f":"bksingh!$ADI$8","v":""},null,null,null,{"$f":"bksingh!$ADI$8","v":""},null,null,null,{"$f":"bksingh!$ADI$8","v":""},null,null,null,{"$f":"bksingh!$ADI$8","v":""},null,null,null,{"$f":"bksingh!$ADI$8","v":""},null,null,null,{"$f":"bksingh!$ADI$8","v":""},null,null,null,{"$f":"bksingh!$ADI$8","v":""},null,null,null,{"$f":"bksingh!$ADI$8","v":""},null,null,null,{"$f":"bksingh!$ADI$8","v":""},null,null,null,{"$f":"bksingh!$ADI$8","v":""},null,null,null,{"$f":"bksingh!$ADI$8","v":""},null,null,null,{"$f":"bksingh!$ADI$8","v":""},null,null,null,{"$f":"bksingh!$ADI$8","v":""},null,null,null,{"$f":"bksingh!$ADI$8","v":""},null,null,null,{"$f":"bksingh!$ADI$8","v":""},null,null,null,{"$f":"bksingh!$ADI$8","v":""},null,null,null,{"$f":"bksingh!$ADI$8","v":""},null,null,null,{"$f":"bksingh!$ADI$8","v":""},null,null,null,{"$f":"bksingh!$ADI$8","v":""},null,null,null,{"$f":"bksingh!$ADI$8","v":""},null,null,null,{"$f":"bksingh!$ADI$8","v":""},null,null,null,{"$f":"bksingh!$ADI$8","v":""},null,null,null,{"$f":"bksingh!$ADI$8","v":""},null,null,null,{"$f":"bksingh!$ADI$8","v":""},null,null,null,{"$f":"bksingh!$ADI$8","v":""},null,null,null,{"$f":"bksingh!$ADI$8","v":""},null,null,null,{"$f":"bksingh!$ADI$8","v":""},null,null,null,{"$f":"bksingh!$ADI$8","v":""},null,null,null,{"$f":"bksingh!$ADI$8","v":""},null,null,null,{"$f":"bksingh!$ADI$8","v":""},null,null,null,{"$f":"bksingh!$ADI$8","v":""},null,null,null,{"$f":"bksingh!$ADI$8","v":""},null,null,null,{"$f":"bksingh!$ADI$8","v":""},null,null,null,{"$f":"bksingh!$ADI$8","v":""},null,null,null,{"$f":"bksingh!$ADI$8","v":""},null,null,null,{"$f":"bksingh!$ADI$8","v":""},null,null,null,{"$f":"bksingh!$ADI$8","v":""},null,null,null,{"$f":"bksingh!$ADI$8","v":""},null,null,null,{"$f":"bksingh!$ADI$8","v":""},null,null,null,{"$f":"bksingh!$ADI$8","v":""},null,null,null,{"$f":"bksingh!$ADI$8","v":""},null,null,null,{"$f":"bksingh!$ADI$8","v":""},null,null,null,{"$f":"bksingh!$ADI$8","v":""},null,null,null,{"$f":"bksingh!$ADI$8","v":""},null,null,null,{"$f":"bksingh!$ADI$8","v":""},null,null,null,{"$f":"bksingh!$ADI$8","v":""},null,null,null,{"$f":"bksingh!$ADI$8","v":""},null,null,null,{"$f":"bksingh!$ADI$8","v":""},null,null,null,{"$f":"bksingh!$ADI$8","v":""},null,null,null,{"$f":"bksingh!$ADI$8","v":""},null,null,null,{"$f":"bksingh!$ADI$8","v":""},null,null,null,{"$f":"bksingh!$ADI$8","v":""},null,null,null,{"$f":"bksingh!$ADI$8","v":""},null,null,null,{"$f":"bksingh!$ADI$8","v":""},null,null,null,{"$f":"bksingh!$ADI$8","v":""},null,null,null,{"$f":"bksingh!$ADI$8","v":""},null,null,null,{"$f":"bksingh!$ADI$8","v":""},null,null,null,{"$f":"bksingh!$ADI$8","v":""},null,null,null,{"$f":"bksingh!$ADI$8","v":""},null,null,null,{"$f":"bksingh!$ADI$8","v":""},null,null,null,{"$f":"bksingh!$ADI$8","v":""},null,null,null,{"$f":"bksingh!$ADI$8","v":""},null,null,null,{"$f":"bksingh!$ADI$8","v":""},null,null,null,{"$f":"bksingh!$ADI$8","v":""},null,null,null,{"$f":"bksingh!$ADI$8","v":""},null,null,null,{"$f":"bksingh!$ADI$8","v":""},null,null,null,{"$f":"bksingh!$ADI$8","v":""},null,null,null,{"$f":"bksingh!$ADI$8","v":""},null,null,null,{"$f":"bksingh!$ADI$8","v":""},null,null,null,{"$f":"bksingh!$ADI$8","v":""},null,null,null,{"$f":"bksingh!$ADI$8","v":""},null,null,null,{"$f":"bksingh!$ADI$8","v":""},null,null,null,{"$f":"bksingh!$ADI$8","v":""},null,null,null,{"$f":"bksingh!$ADI$8","v":""},null,null,null,{"$f":"bksingh!$ADI$8","v":""},null,null,null,{"$f":"bksingh!$ADI$8","v":""},null,null,null,{"$f":"bksingh!$ADI$8","v":""},null,null,null,{"$f":"bksingh!$ADI$8","v":""},null,null,null,{"$f":"bksingh!$ADI$8","v":""},null,null,null,{"$f":"bksingh!$ADI$8","v":""},null,null,null,{"$f":"bksingh!$ADI$8","v":""},null,null,null,{"$f":"bksingh!$ADI$8","v":""},null,null,null,{"$f":"bksingh!$ADI$8","v":""},null,null,null,{"$f":"bksingh!$ADI$8","v":""},null,null,null,{"$f":"bksingh!$ADI$8","v":""},null,null,null,{"$f":"bksingh!$ADI$8","v":""},null,null,null,{"$f":"bksingh!$ADI$8","v":""},null,null,null,{"$f":"bksingh!$ADI$8","v":""},null,null,null,{"$f":"bksingh!$ADI$8","v":""},null,null,null,{"$f":"bksingh!$ADI$8","v":""},null,null,null,{"$f":"bksingh!$ADI$8","v":""},null,null,null,{"$f":"bksingh!$ADI$8","v":""},null,null,null,{"$f":"bksingh!$ADI$8","v":""},null,null,null,{"$f":"bksingh!$ADI$8","v":""},null,null,null,{"$f":"bksingh!$ADI$8","v":""},null,null,null,{"$f":"bksingh!$ADI$8","v":""},null,null,null,{"$f":"bksingh!$ADI$8","v":""},null,null,null,{"$f":"bksingh!$ADI$8","v":""},null,null,null,{"$f":"bksingh!$ADI$8","v":""},null,null,null,{"$f":"bksingh!$ADI$8","v":""},null,null,null,{"$f":"bksingh!$ADI$8","v":""},null,null,null,{"$f":"bksingh!$ADI$8","v":""},null,null,null,{"$f":"bksingh!$ADI$8","v":""},null,null,null,{"$f":"bksingh!$ADI$8","v":""},null,null,null,{"$f":"bksingh!$ADI$8","v":""},null,null,null,{"$f":"bksingh!$ADI$8","v":""},null,null,null,{"$f":"bksingh!$ADI$8","v":""},null,null,null,{"$f":"bksingh!$ADI$8","v":""},null,null,null,{"$f":"bksingh!$ADI$8","v":""},null,null,null,{"$f":"bksingh!$ADI$8","v":""},null,null,null,{"$f":"bksingh!$ADI$8","v":""},null,null,null,{"$f":"bksingh!$ADI$8","v":""},null,null,null,{"$f":"bksingh!$ADI$8","v":""},null,null,null,{"$f":"bksingh!$ADI$8","v":""},null,null,null,{"$f":"bksingh!$ADI$8","v":""},null,null,null,{"$f":"bksingh!$ADI$8","v":""},null,null,null,{"$f":"bksingh!$ADI$8","v":""},null,null,null,{"$f":"bksingh!$ADI$8","v":""},null,null,null,{"$f":"bksingh!$ADI$8","v":""},null,null,null,{"$f":"bksingh!$ADI$8","v":""},null,null,null,{"$f":"bksingh!$ADI$8","v":""},null,null,null,{"$f":"bksingh!$ADI$8","v":""},null,null,null,{"$f":"bksingh!$ADI$8","v":""},null,null,null,{"$f":"bksingh!$ADI$8","v":""},null,null,null,{"$f":"bksingh!$ADI$8","v":""},null,null,null,{"$f":"bksingh!$ADI$8","v":""},null,null,null,{"$f":"bksingh!$ADI$8","v":""},null,null,null,{"$f":"bksingh!$ADI$8","v":""},null,null,null,{"$f":"bksingh!$ADI$8","v":""},null,null,null,{"$f":"bksingh!$ADI$8","v":""},null,null,null,{"$f":"bksingh!$ADI$8","v":""},null,null,null,{"$f":"bksingh!$ADI$8","v":""},null,null,null,{"$f":"bksingh!$ADI$8","v":""},null,null,null,{"$f":"bksingh!$ADI$8","v":""},null,null,null,{"$f":"bksingh!$ADI$8","v":""},null,null,null,{"$f":"bksingh!$ADI$8","v":""},null,null,null,{"$f":"bksingh!$ADI$8","v":""},null,null,null,{"$f":"bksingh!$ADI$8","v":""},null,null,null,{"$f":"bksingh!$ADI$8","v":""},null,null,null,{"$f":"bksingh!$ADI$8","v":""},null,null,null,{"$f":"bksingh!$ADI$8","v":""},null,null,null,{"$f":"bksingh!$ADI$8","v":""},null,null,null,{"$f":"bksingh!$ADI$8","v":""},null,null,null,{"$f":"bksingh!$ADI$8","v":""},null,null,null,{"$f":"bksingh!$ADI$8","v":""},null,null,null,{"$f":"bksingh!$ADI$8","v":""},null,null,null,{"$f":"bksingh!$ADI$8","v":""},null,null,null,{"$f":"bksingh!$ADI$8","v":""},null,null,null,{"$f":"bksingh!$ADI$8","v":""},null,null,null,{"$f":"bksingh!$ADI$8","v":""},null,null,null,{"$f":"bksingh!$ADI$8","v":""},null,null,null,{"$f":"bksingh!$ADI$8","v":""},null,null,null,{"$f":"bksingh!$ADI$8","v":""},null,null,null,{"$f":"bksingh!$ADI$8","v":""},null,null,null,{"$f":"bksingh!$ADI$8","v":""},null,null,null,{"$f":"bksingh!$ADI$8","v":""},null,null,null,{"$f":"bksingh!$ADI$8","v":""},null,null,null,{"$f":"bksingh!$ADI$8","v":""},null,null,null,{"$f":"bksingh!$ADI$8","v":""},null,null,null,{"$f":"bksingh!$ADI$8","v":""},null,null,null,{"$f":"bksingh!$ADI$8","v":""},null,null,null,{"$f":"bksingh!$ADI$8","v":""},null,null,null,{"$f":"bksingh!$ADI$8","v":""},null,null,null,{"$f":"bksingh!$ADI$8","v":""},null,null,null,{"$f":"bksingh!$ADI$8","v":""},null,null,null,{"$f":"bksingh!$ADI$8","v":""},null,null,null,{"$f":"bksingh!$ADI$8","v":""},null,null,null,{"$f":"bksingh!$ADI$8","v":""},null,null,null,{"$f":"bksingh!$ADI$8","v":""},null,null,null,{"$f":"bksingh!$ADI$8","v":""},null,null,null,{"$f":"bksingh!$ADI$8","v":""},null,null,null,{"$f":"bksingh!$ADI$8","v":""},null,null,null,{"$f":"bksingh!$ADI$8","v":""},null,null,null,{"$f":"bksingh!$ADI$8","v":""},null,null,null,{"$f":"bksingh!$ADI$8","v":""},null,null,null,{"$f":"bksingh!$ADI$8","v":""},null,null,null,{"$f":"bksingh!$ADI$8","v":""},null,null,null,{"$f":"bksingh!$ADI$8","v":""},null,null,null,{"$f":"bksingh!$ADI$8","v":""},null,null,null,{"$f":"bksingh!$ADI$8","v":""},null,null,null,{"$f":"bksingh!$ADI$8","v":""},null,null,null,{"$f":"bksingh!$ADI$8","v":""},null,null,null,{"$f":"bksingh!$ADI$8","v":""},null,null,null,{"$f":"bksingh!$ADI$8","v":""},null,null,null,{"$f":"bksingh!$ADI$8","v":""},null,null,null,{"$f":"bksingh!$ADI$8","v":""},null,null,null,{"$f":"bksingh!$ADI$8","v":""},null,null,null,{"$f":"bksingh!$ADI$8","v":""},null,null,null,{"$f":"bksingh!$ADI$8","v":""},null,null,null,{"$f":"bksingh!$ADI$8","v":""},null,null,null,{"$f":"bksingh!$ADI$8","v":""},null,null,null,{"$f":"bksingh!$ADI$8","v":""},null,null,null,{"$f":"bksingh!$ADI$8","v":""},null,null,null,{"$f":"bksingh!$ADI$8","v":""},null,null,null,{"$f":"bksingh!$ADI$8","v":""},null,null,null,{"$f":"bksingh!$ADI$8","v":""},null,null,null,{"$f":"bksingh!$ADI$8","v":""},null,null,null,{"$f":"bksingh!$ADI$8","v":""},null,null,null,{"$f":"bksingh!$ADI$8","v":""},null,null,null,{"$f":"bksingh!$ADI$8","v":""},null,null,null,{"$f":"bksingh!$ADI$8","v":""},null,null,null,{"$f":"bksingh!$ADI$8","v":""},null,null,null,{"$f":"bksingh!$ADI$8","v":""},null,null,null,{"$f":"bksingh!$ADI$8","v":""},null,null,null,{"$f":"bksingh!$ADI$8","v":""},null,null,null,{"$f":"bksingh!$ADI$8","v":""},null,null,null,{"$f":"bksingh!$ADI$8","v":""},null,null,null,{"$f":"bksingh!$ADI$8","v":""},null,null,null,{"$f":"bksingh!$ADI$8","v":""},null,null,null,{"$f":"bksingh!$ADI$8","v":""},null,null,null,{"$f":"bksingh!$ADI$8","v":""},null,null,null,{"$f":"bksingh!$ADI$8","v":""},null,null,null,{"$f":"bksingh!$ADI$8","v":""},null,null,null,{"$f":"bksingh!$ADI$8","v":""},null,null,null,{"$f":"bksingh!$ADI$8","v":""},null,null,null,{"$f":"bksingh!$ADI$8","v":""},null,null,null,{"$f":"bksingh!$ADI$8","v":""},null,null,null,{"$f":"bksingh!$ADI$8","v":""},null,null,null,{"$f":"bksingh!$ADI$8","v":""},null,null,null,{"$f":"bksingh!$ADI$8","v":""},null,null,null,{"$f":"bksingh!$ADI$8","v":""},null,null,null,{"$f":"bksingh!$ADI$8","v":""},null,null,null,{"$f":"bksingh!$ADI$8","v":""},null,null,null,{"$f":"bksingh!$ADI$8","v":""},null,null,null,{"$f":"bksingh!$ADI$8","v":""},null,null,null,{"$f":"bksingh!$ADI$8","v":""},null,null,null,{"$f":"bksingh!$ADI$8","v":""},null,null,null,{"$f":"bksingh!$ADI$8","v":""},null,null,null,{"$f":"bksingh!$ADI$8","v":""},null,null,null,{"$f":"bksingh!$ADI$8","v":""},null,null,null,{"$f":"bksingh!$ADI$8","v":""},null,null,null,{"$f":"bksingh!$ADI$8","v":""},null,null,null,{"$f":"bksingh!$ADI$8","v":""},null,null,null,{"$f":"bksingh!$ADI$8","v":""},null,null,null,{"$f":"bksingh!$ADI$8","v":""},null,null,null,{"$f":"bksingh!$ADI$8","v":""},null,null,null,{"$f":"bksingh!$ADI$8","v":""},null,null,null,{"$f":"bksingh!$ADI$8","v":""},null,null,null,{"$f":"bksingh!$ADI$8","v":""},null,null,null,{"$f":"bksingh!$ADI$8","v":""},null,null,null,{"$f":"bksingh!$ADI$8","v":""},null,null,null,{"$f":"bksingh!$ADI$8","v":""},null,null,null,{"$f":"bksingh!$ADI$8","v":""},null,null,null,{"$f":"bksingh!$ADI$8","v":""},null,null,null,{"$f":"bksingh!$ADI$8","v":""},null,null,null,{"$f":"bksingh!$ADI$8","v":""},null,null,null,{"$f":"bksingh!$ADI$8","v":""},null,null,null,{"$f":"bksingh!$ADI$8","v":""},null,null,null,{"$f":"bksingh!$ADI$8","v":""},null,null,null,{"$f":"bksingh!$ADI$8","v":""},null,null,null,{"$f":"bksingh!$ADI$8","v":""},null,null,null,{"$f":"bksingh!$ADI$8","v":""},null,null,null,{"$f":"bksingh!$ADI$8","v":""},null,null,null,{"$f":"bksingh!$ADI$8","v":""},null,null,null,{"$f":"bksingh!$ADI$8","v":""},null,null,null,{"$f":"bksingh!$ADI$8","v":""},null,null,null,{"$f":"bksingh!$ADI$8","v":""},null,null,null,{"$f":"bksingh!$ADI$8","v":""},null,null,null,{"$f":"bksingh!$ADI$8","v":""},null,null,null,{"$f":"bksingh!$ADI$8","v":""},null,null,null,{"$f":"bksingh!$ADI$8","v":""},null,null,null,{"$f":"bksingh!$ADI$8","v":""},null,null,null,{"$f":"bksingh!$ADI$8","v":""},null,null,null,{"$f":"bksingh!$ADI$8","v":""},null,null,null,{"$f":"bksingh!$ADI$8","v":""},null,null,null,{"$f":"bksingh!$ADI$8","v":""},null,null,null,{"$f":"bksingh!$ADI$8","v":""},null,null,null,{"$f":"bksingh!$ADI$8","v":""},null,null,null,{"$f":"bksingh!$ADI$8","v":""},null,null,null,{"$f":"bksingh!$ADI$8","v":""},null,null,null,{"$f":"bksingh!$ADI$8","v":""},null,null,null,{"$f":"bksingh!$ADI$8","v":""},null,null,null,{"$f":"bksingh!$ADI$8","v":""},null,null,null,{"$f":"bksingh!$ADI$8","v":""},null,null,null,{"$f":"bksingh!$ADI$8","v":""},null,null,null,{"$f":"bksingh!$ADI$8","v":""},null,null,null,{"$f":"bksingh!$ADI$8","v":""},null,null,null,{"$f":"bksingh!$ADI$8","v":""},null,null,null,{"$f":"bksingh!$ADI$8","v":""},null,null,null,{"$f":"bksingh!$ADI$8","v":""},null,null,null,{"$f":"bksingh!$ADI$8","v":""},null,null,null,{"$f":"bksingh!$ADI$8","v":""},null,null,null,{"$f":"bksingh!$ADI$8","v":""},null,null,null,{"$f":"bksingh!$ADI$8","v":""},null,null,null,{"$f":"bksingh!$ADI$8","v":""},null,null,null,{"$f":"bksingh!$ADI$8","v":""},null,null,null,{"$f":"bksingh!$ADI$8","v":""},null,null,null,{"$f":"bksingh!$ADI$8","v":""},null,null,null,{"$f":"bksingh!$ADI$8","v":""},null,null,null,{"$f":"bksingh!$ADI$8","v":""},null,null,null,{"$f":"bksingh!$ADI$8","v":""},null,null,null,{"$f":"bksingh!$ADI$8","v":""},null,null,null,{"$f":"bksingh!$ADI$8","v":""},null,null,null,{"$f":"bksingh!$ADI$8","v":""},null,null,null,{"$f":"bksingh!$ADI$8","v":""},null,null,null,{"$f":"bksingh!$ADI$8","v":""},null,null,null,{"$f":"bksingh!$ADI$8","v":""},null,null,null,{"$f":"bksingh!$ADI$8","v":""},null,null,null,{"$f":"bksingh!$ADI$8","v":""},null,null,null,{"$f":"bksingh!$ADI$8","v":""},null,null,null,{"$f":"bksingh!$ADI$8","v":""},null,null,null,{"$f":"bksingh!$ADI$8","v":""},null,null,null,{"$f":"bksingh!$ADI$8","v":""},null,null,null,{"$f":"bksingh!$ADI$8","v":""},null,null,null,{"$f":"bksingh!$ADI$8","v":""},null,null,null,{"$f":"bksingh!$ADI$8","v":""},null,null,null,{"$f":"bksingh!$ADI$8","v":""},null,null,null,{"$f":"bksingh!$ADI$8","v":""},null,null,null,{"$f":"bksingh!$ADI$8","v":""},null,null,null,{"$f":"bksingh!$ADI$8","v":""},null,null,null,{"$f":"bksingh!$ADI$8","v":""},null,null,null,{"$f":"bksingh!$ADI$8","v":""},null,null,null,{"$f":"bksingh!$ADI$8","v":""},null,null,null,{"$f":"bksingh!$ADI$8","v":""},null,null,null,{"$f":"bksingh!$ADI$8","v":""},null,null,null,{"$f":"bksingh!$ADI$8","v":""},null,null,null,{"$f":"bksingh!$ADI$8","v":""},null,null,null,{"$f":"bksingh!$ADI$8","v":""},null,null,null,{"$f":"bksingh!$ADI$8","v":""},null,null,null,{"$f":"bksingh!$ADI$8","v":""},null,null,null,{"$f":"bksingh!$ADI$8","v":""},null,null,null,{"$f":"bksingh!$ADI$8","v":""},null,null,null,{"$f":"bksingh!$ADI$8","v":""},null,null,null,{"$f":"bksingh!$ADI$8","v":""},null,null,null,{"$f":"bksingh!$ADI$8","v":""},null,null,null,{"$f":"bksingh!$ADI$8","v":""},null,null,null,{"$f":"bksingh!$ADI$8","v":""},null,null,null,{"$f":"bksingh!$ADI$8","v":""},null,null,null,{"$f":"bksingh!$ADI$8","v":""},null,null,null,{"$f":"bksingh!$ADI$8","v":""},null,null,null,{"$f":"bksingh!$ADI$8","v":""},null,null,null,{"$f":"bksingh!$ADI$8","v":""},null,null,null,{"$f":"bksingh!$ADI$8","v":""},null,null,null,{"$f":"bksingh!$ADI$8","v":""},null,null,null,{"$f":"bksingh!$ADI$8","v":""},null,null,null,{"$f":"bksingh!$ADI$8","v":""},null,null,null,{"$f":"bksingh!$ADI$8","v":""},null,null,null,{"$f":"bksingh!$ADI$8","v":""},null,null,null,{"$f":"bksingh!$ADI$8","v":""},null,null,null,{"$f":"bksingh!$ADI$8","v":""},null,null,null,{"$f":"bksingh!$ADI$8","v":""},null,null,null,{"$f":"bksingh!$ADI$8","v":""},null,null,null,{"$f":"bksingh!$ADI$8","v":""},null,null,null,{"$f":"bksingh!$ADI$8","v":""},null,null,null,{"$f":"bksingh!$ADI$8","v":""},null,null,null,{"$f":"bksingh!$ADI$8","v":""},null,null,null,{"$f":"bksingh!$ADI$8","v":""},null,null,null,{"$f":"bksingh!$ADI$8","v":""},null,null,null,{"$f":"bksingh!$ADI$8","v":""},null,null,null,{"$f":"bksingh!$ADI$8","v":""},null,null,null,{"$f":"bksingh!$ADI$8","v":""},null,null,null,{"$f":"bksingh!$ADI$8","v":""},null,null,null,{"$f":"bksingh!$ADI$8","v":""},null,null,null,{"$f":"bksingh!$ADI$8","v":""},null,null,null,{"$f":"bksingh!$ADI$8","v":""},null,null,null,{"$f":"bksingh!$ADI$8","v":""},null,null,null,{"$f":"bksingh!$ADI$8","v":""},null,null,null,{"$f":"bksingh!$ADI$8","v":""},null,null,null,{"$f":"bksingh!$ADI$8","v":""},null,null,null,{"$f":"bksingh!$ADI$8","v":""},null,null,null,{"$f":"bksingh!$ADI$8","v":""},null,null,null,{"$f":"bksingh!$ADI$8","v":""},null,null,null,{"$f":"bksingh!$ADI$8","v":""},null,null,null,{"$f":"bksingh!$ADI$8","v":""},null,null,null,{"$f":"bksingh!$ADI$8","v":""},null,null,null,{"$f":"bksingh!$ADI$8","v":""},null,null,null,{"$f":"bksingh!$ADI$8","v":""},null,null,null,{"$f":"bksingh!$ADI$8","v":""},null,null,null,{"$f":"bksingh!$ADI$8","v":""},null,null,null,{"$f":"bksingh!$ADI$8","v":""},null,null,null,{"$f":"bksingh!$ADI$8","v":""},null,null,null,{"$f":"bksingh!$ADI$8","v":""},null,null,null,{"$f":"bksingh!$ADI$8","v":""},null,null,null,{"$f":"bksingh!$ADI$8","v":""},null,null,null,{"$f":"bksingh!$ADI$8","v":""},null,null,null,{"$f":"bksingh!$ADI$8","v":""},null,null,null,{"$f":"bksingh!$ADI$8","v":""},null,null,null,{"$f":"bksingh!$ADI$8","v":""},null,null,null,{"$f":"bksingh!$ADI$8","v":""},null,null,null,{"$f":"bksingh!$ADI$8","v":""},null,null,null,{"$f":"bksingh!$ADI$8","v":""},null,null,null,{"$f":"bksingh!$ADI$8","v":""},null,null,null,{"$f":"bksingh!$ADI$8","v":""},null,null,null,{"$f":"bksingh!$ADI$8","v":""},null,null,null,{"$f":"bksingh!$ADI$8","v":""},null,null,null,{"$f":"bksingh!$ADI$8","v":""},null,null,null,{"$f":"bksingh!$ADI$8","v":""},null,null,null,{"$f":"bksingh!$ADI$8","v":""},null,null,null,{"$f":"bksingh!$ADI$8","v":""},null,null,null,{"$f":"bksingh!$ADI$8","v":""},null,null,null,{"$f":"bksingh!$ADI$8","v":""},null,null,null,{"$f":"bksingh!$ADI$8","v":""},null,null,null,{"$f":"bksingh!$ADI$8","v":""},null,null,null,{"$f":"bksingh!$ADI$8","v":""},null,null,null,{"$f":"bksingh!$ADI$8","v":""},null,null,null,{"$f":"bksingh!$ADI$8","v":""},null,null,null,{"$f":"bksingh!$ADI$8","v":""},null,null,null,{"$f":"bksingh!$ADI$8","v":""},null,null,null,{"$f":"bksingh!$ADI$8","v":""},null,null,null,{"$f":"bksingh!$ADI$8","v":""},null,null,null,{"$f":"bksingh!$ADI$8","v":""},null,null,null,{"$f":"bksingh!$ADI$8","v":""},null,null,null,{"$f":"bksingh!$ADI$8","v":""},null,null,null,{"$f":"bksingh!$ADI$8","v":""},null,null,null,{"$f":"bksingh!$ADI$8","v":""},null,null,null,{"$f":"bksingh!$ADI$8","v":""},null,null,null,{"$f":"bksingh!$ADI$8","v":""},null,null,null,{"$f":"bksingh!$ADI$8","v":""},null,null,null,{"$f":"bksingh!$ADI$8","v":""},null,null,null,{"$f":"bksingh!$ADI$8","v":""},null,null,null,{"$f":"bksingh!$ADI$8","v":""},null,null,null,{"$f":"bksingh!$ADI$8","v":""},null,null,null,{"$f":"bksingh!$ADI$8","v":""},null,null,null,{"$f":"bksingh!$ADI$8","v":""},null,null,null,{"$f":"bksingh!$ADI$8","v":""},null,null,null,{"$f":"bksingh!$ADI$8","v":""},null,null,null,{"$f":"bksingh!$ADI$8","v":""},null,null,null,{"$f":"bksingh!$ADI$8","v":""},null,null,null,{"$f":"bksingh!$ADI$8","v":""},null,null,null,{"$f":"bksingh!$ADI$8","v":""},null,null,null,{"$f":"bksingh!$ADI$8","v":""},null,null,null,{"$f":"bksingh!$ADI$8","v":""},null,null,null,{"$f":"bksingh!$ADI$8","v":""},null,null,null,{"$f":"bksingh!$ADI$8","v":""},null,null,null,{"$f":"bksingh!$ADI$8","v":""},null,null,null,{"$f":"bksingh!$ADI$8","v":""},null,null,null,{"$f":"bksingh!$ADI$8","v":""},null,null,null,{"$f":"bksingh!$ADI$8","v":""},null,null,null,{"$f":"bksingh!$ADI$8","v":""},null,null,null,{"$f":"bksingh!$ADI$8","v":""},null,null,null,{"$f":"bksingh!$ADI$8","v":""},null,null,null,{"$f":"bksingh!$ADI$8","v":""},null,null,null,{"$f":"bksingh!$ADI$8","v":""},null,null,null,{"$f":"bksingh!$ADI$8","v":""},null,null,null,{"$f":"bksingh!$ADI$8","v":""},null,null,null,{"$f":"bksingh!$ADI$8","v":""},null,null,null,{"$f":"bksingh!$ADI$8","v":""},null,null,null,{"$f":"bksingh!$ADI$8","v":""},null,null,null,{"$f":"bksingh!$ADI$8","v":""},null,null,null,{"$f":"bksingh!$ADI$8","v":""},null,null,null,{"$f":"bksingh!$ADI$8","v":""},null,null,null,{"$f":"bksingh!$ADI$8","v":""},null,null,null,{"$f":"bksingh!$ADI$8","v":""},null,null,null,{"$f":"bksingh!$ADI$8","v":""},null,null,null,{"$f":"bksingh!$ADI$8","v":""},null,null,null,{"$f":"bksingh!$ADI$8","v":""},null,null,null,{"$f":"bksingh!$ADI$8","v":""},null,null,null,{"$f":"bksingh!$ADI$8","v":""},null,null,null,{"$f":"bksingh!$ADI$8","v":""},null,null,null,{"$f":"bksingh!$ADI$8","v":""},null,null,null,{"$f":"bksingh!$ADI$8","v":""},null,null,null,{"$f":"bksingh!$ADI$8","v":""},null,null,null,{"$f":"bksingh!$ADI$8","v":""},null,null,null,{"$f":"bksingh!$ADI$8","v":""},null,null,null,{"$f":"bksingh!$ADI$8","v":""},null,null,null,{"$f":"bksingh!$ADI$8","v":""},null,null,null,{"$f":"bksingh!$ADI$8","v":""},null,null,null,{"$f":"bksingh!$ADI$8","v":""},null,null,null,{"$f":"bksingh!$ADI$8","v":""},null,null,null,{"$f":"bksingh!$ADI$8","v":""},null,null,null,{"$f":"bksingh!$ADI$8","v":""},null,null,null,{"$f":"bksingh!$ADI$8","v":""},null,null,null,{"$f":"bksingh!$ADI$8","v":""},null,null,null,{"$f":"bksingh!$ADI$8","v":""},null,null,null,{"$f":"bksingh!$ADI$8","v":""},null,null,null,{"$f":"bksingh!$ADI$8","v":""},null,null,null,{"$f":"bksingh!$ADI$8","v":""},null,null,null,{"$f":"bksingh!$ADI$8","v":""},null,null,null,{"$f":"bksingh!$ADI$8","v":""},null,null,null,{"$f":"bksingh!$ADI$8","v":""},null,null,null,{"$f":"bksingh!$ADI$8","v":""},null,null,null,{"$f":"bksingh!$ADI$8","v":""},null,null,null,{"$f":"bksingh!$ADI$8","v":""},null,null,null,{"$f":"bksingh!$ADI$8","v":""},null,null,null,{"$f":"bksingh!$ADI$8","v":""},null,null,null,{"$f":"bksingh!$ADI$8","v":""},null,null,null,{"$f":"bksingh!$ADI$8","v":""},null,null,null,{"$f":"bksingh!$ADI$8","v":""},null,null,null,{"$f":"bksingh!$ADI$8","v":""},null,null,null,{"$f":"bksingh!$ADI$8","v":""},null,null,null,{"$f":"bksingh!$ADI$8","v":""},null,null,null,{"$f":"bksingh!$ADI$8","v":""},null,null,null,{"$f":"bksingh!$ADI$8","v":""},null,null,null,{"$f":"bksingh!$ADI$8","v":""},null,null,null,{"$f":"bksingh!$ADI$8","v":""},null,null,null,{"$f":"bksingh!$ADI$8","v":""},null,null,null,{"$f":"bksingh!$ADI$8","v":""},null,null,null,{"$f":"bksingh!$ADI$8","v":""},null,null,null,{"$f":"bksingh!$ADI$8","v":""},null,null,null,{"$f":"bksingh!$ADI$8","v":""},null,null,null,{"$f":"bksingh!$ADI$8","v":""},null,null,null,{"$f":"bksingh!$ADI$8","v":""},null,null,null,{"$f":"bksingh!$ADI$8","v":""},null,null,null,{"$f":"bksingh!$ADI$8","v":""},null,null,null,{"$f":"bksingh!$ADI$8","v":""},null,null,null,{"$f":"bksingh!$ADI$8","v":""},null,null,null,{"$f":"bksingh!$ADI$8","v":""},null,null,null,{"$f":"bksingh!$ADI$8","v":""},null,null,null,{"$f":"bksingh!$ADI$8","v":""},null,null,null,{"$f":"bksingh!$ADI$8","v":""},null,null,null,{"$f":"bksingh!$ADI$8","v":""},null,null,null,{"$f":"bksingh!$ADI$8","v":""},null,null,null,{"$f":"bksingh!$ADI$8","v":""},null,null,null,{"$f":"bksingh!$ADI$8","v":""},null,null,null,{"$f":"bksingh!$ADI$8","v":""},null,null,null,{"$f":"bksingh!$ADI$8","v":""},null,null,null,{"$f":"bksingh!$ADI$8","v":""},null,null,null,{"$f":"bksingh!$ADI$8","v":""},null,null,null,{"$f":"bksingh!$ADI$8","v":""},null,null,null,{"$f":"bksingh!$ADI$8","v":""},null,null,null,{"$f":"bksingh!$ADI$8","v":""},null,null,null,{"$f":"bksingh!$ADI$8","v":""},null,null,null,{"$f":"bksingh!$ADI$8","v":""},null,null,null,{"$f":"bksingh!$ADI$8","v":""},null,null,null,{"$f":"bksingh!$ADI$8","v":""},null,null,null,{"$f":"bksingh!$ADI$8","v":""},null,null,null,{"$f":"bksingh!$ADI$8","v":""},null,null,null,{"$f":"bksingh!$ADI$8","v":""},null,null,null,{"$f":"bksingh!$ADI$8","v":""},null,null,null,{"$f":"bksingh!$ADI$8","v":""},null,null,null,{"$f":"bksingh!$ADI$8","v":""},null,null,null,{"$f":"bksingh!$ADI$8","v":""},null,null,null,{"$f":"bksingh!$ADI$8","v":""},null,null,null,{"$f":"bksingh!$ADI$8","v":""},null,null,null,{"$f":"bksingh!$ADI$8","v":""},null,null,null,{"$f":"bksingh!$ADI$8","v":""},null,null,null,{"$f":"bksingh!$ADI$8","v":""},null,null,null,{"$f":"bksingh!$ADI$8","v":""},null,null,null,{"$f":"bksingh!$ADI$8","v":""},null,null,null,{"$f":"bksingh!$ADI$8","v":""},null,null,null,{"$f":"bksingh!$ADI$8","v":""},null,null,null,{"$f":"bksingh!$ADI$8","v":""},null,null,null,{"$f":"bksingh!$ADI$8","v":""},null,null,null,{"$f":"bksingh!$ADI$8","v":""},null,null,null,{"$f":"bksingh!$ADI$8","v":""},null,null,null,{"$f":"bksingh!$ADI$8","v":""},null,null,null,{"$f":"bksingh!$ADI$8","v":""},null,null,null,{"$f":"bksingh!$ADI$8","v":""},null,null,null,{"$f":"bksingh!$ADI$8","v":""},null,null,null,{"$f":"bksingh!$ADI$8","v":""},null,null,null,{"$f":"bksingh!$ADI$8","v":""},null,null,null,{"$f":"bksingh!$ADI$8","v":""},null,null,null,{"$f":"bksingh!$ADI$8","v":""},null,null,null,{"$f":"bksingh!$ADI$8","v":""},null,null,null,{"$f":"bksingh!$ADI$8","v":""},null,null,null,{"$f":"bksingh!$ADI$8","v":""},null,null,null,{"$f":"bksingh!$ADI$8","v":""},null,null,null,{"$f":"bksingh!$ADI$8","v":""},null,null,null,{"$f":"bksingh!$ADI$8","v":""},null,null,null,{"$f":"bksingh!$ADI$8","v":""},null,null,null,{"$f":"bksingh!$ADI$8","v":""},null,null,null,{"$f":"bksingh!$ADI$8","v":""},null,null,null,{"$f":"bksingh!$ADI$8","v":""},null,null,null,{"$f":"bksingh!$ADI$8","v":""},null,null,null,{"$f":"bksingh!$ADI$8","v":""},null,null,null,{"$f":"bksingh!$ADI$8","v":""},null,null,null,{"$f":"bksingh!$ADI$8","v":""},null,null,null,{"$f":"bksingh!$ADI$8","v":""},null,null,null,{"$f":"bksingh!$ADI$8","v":""},null,null,null,{"$f":"bksingh!$ADI$8","v":""},null,null,null,{"$f":"bksingh!$ADI$8","v":""},null,null,null,{"$f":"bksingh!$ADI$8","v":""},null,null,null,{"$f":"bksingh!$ADI$8","v":""},null,null,null,{"$f":"bksingh!$ADI$8","v":""},null,null,null,{"$f":"bksingh!$ADI$8","v":""},null,null,null,{"$f":"bksingh!$ADI$8","v":""},null,null,null,{"$f":"bksingh!$ADI$8","v":""},null,null,null,{"$f":"bksingh!$ADI$8","v":""},null,null,null,{"$f":"bksingh!$ADI$8","v":""},null,null,null,{"$f":"bksingh!$ADI$8","v":""},null,null,null,{"$f":"bksingh!$ADI$8","v":""},null,null,null,{"$f":"bksingh!$ADI$8","v":""},null,null,null,{"$f":"bksingh!$ADI$8","v":""},null,null,null,{"$f":"bksingh!$ADI$8","v":""},null,null,null,{"$f":"bksingh!$ADI$8","v":""},null,null,null,{"$f":"bksingh!$ADI$8","v":""},null,null,null,{"$f":"bksingh!$ADI$8","v":""},null,null,null,{"$f":"bksingh!$ADI$8","v":""},null,null,null,{"$f":"bksingh!$ADI$8","v":""},null,null,null,{"$f":"bksingh!$ADI$8","v":""},null,null,null,{"$f":"bksingh!$ADI$8","v":""},null,null,null,{"$f":"bksingh!$ADI$8","v":""},null,null,null,{"$f":"bksingh!$ADI$8","v":""},null,null,null,{"$f":"bksingh!$ADI$8","v":""},null,null,null,{"$f":"bksingh!$ADI$8","v":""},null,null,null,{"$f":"bksingh!$ADI$8","v":""},null,null,null,{"$f":"bksingh!$ADI$8","v":""},null,null,null,{"$f":"bksingh!$ADI$8","v":""},null,null,null,{"$f":"bksingh!$ADI$8","v":""},null,null,null,{"$f":"bksingh!$ADI$8","v":""},null,null,null,{"$f":"bksingh!$ADI$8","v":""},null,null,null,{"$f":"bksingh!$ADI$8","v":""},null,null,null,{"$f":"bksingh!$ADI$8","v":""},null,null,null,{"$f":"bksingh!$ADI$8","v":""},null,null,null,{"$f":"bksingh!$ADI$8","v":""},null,null,null,{"$f":"bksingh!$ADI$8","v":""},null,null,null,{"$f":"bksingh!$ADI$8","v":""},null,null,null,{"$f":"bksingh!$ADI$8","v":""},null,null,null,{"$f":"bksingh!$ADI$8","v":""},null,null,null,{"$f":"bksingh!$ADI$8","v":""},null,null,null,{"$f":"bksingh!$ADI$8","v":""},null,null,null,{"$f":"bksingh!$ADI$8","v":""},null,null,null,{"$f":"bksingh!$ADI$8","v":""},null,null,null,{"$f":"bksingh!$ADI$8","v":""},null,null,null,{"$f":"bksingh!$ADI$8","v":""},null,null,null,{"$f":"bksingh!$ADI$8","v":""},null,null,null,{"$f":"bksingh!$ADI$8","v":""},null,null,null,{"$f":"bksingh!$ADI$8","v":""},null,null,null,{"$f":"bksingh!$ADI$8","v":""},null,null,null,{"$f":"bksingh!$ADI$8","v":""},null,null,null,{"$f":"bksingh!$ADI$8","v":""},null,null,null,{"$f":"bksingh!$ADI$8","v":""},null,null,null,{"$f":"bksingh!$ADI$8","v":""},null,null,null,{"$f":"bksingh!$ADI$8","v":""},null,null,null,{"$f":"bksingh!$ADI$8","v":""},null,null,null,{"$f":"bksingh!$ADI$8","v":""},null,null,null,{"$f":"bksingh!$ADI$8","v":""},null,null,null,{"$f":"bksingh!$ADI$8","v":""},null,null,null,{"$f":"bksingh!$ADI$8","v":""},null,null,null,{"$f":"bksingh!$ADI$8","v":""},null,null,null,{"$f":"bksingh!$ADI$8","v":""},null,null,null,{"$f":"bksingh!$ADI$8","v":""},null,null,null,{"$f":"bksingh!$ADI$8","v":""},null,null,null,{"$f":"bksingh!$ADI$8","v":""},null,null,null,{"$f":"bksingh!$ADI$8","v":""},null,null,null,{"$f":"bksingh!$ADI$8","v":""},null,null,null,{"$f":"bksingh!$ADI$8","v":""},null,null,null,{"$f":"bksingh!$ADI$8","v":""},null,null,null,{"$f":"bksingh!$ADI$8","v":""},null,null,null,{"$f":"bksingh!$ADI$8","v":""},null,null,null,{"$f":"bksingh!$ADI$8","v":""},null,null,null,{"$f":"bksingh!$ADI$8","v":""},null,null,null,{"$f":"bksingh!$ADI$8","v":""},null,null,null,{"$f":"bksingh!$ADI$8","v":""},null,null,null,{"$f":"bksingh!$ADI$8","v":""},null,null,null,{"$f":"bksingh!$ADI$8","v":""},null,null,null,{"$f":"bksingh!$ADI$8","v":""},null,null,null,{"$f":"bksingh!$ADI$8","v":""},null,null,null,{"$f":"bksingh!$ADI$8","v":""},null,null,null,{"$f":"bksingh!$ADI$8","v":""},null,null,null,{"$f":"bksingh!$ADI$8","v":""},null,null,null,{"$f":"bksingh!$ADI$8","v":""},null,null,null,{"$f":"bksingh!$ADI$8","v":""},null,null,null,{"$f":"bksingh!$ADI$8","v":""},null,null,null,{"$f":"bksingh!$ADI$8","v":""},null,null,null,{"$f":"bksingh!$ADI$8","v":""},null,null,null,{"$f":"bksingh!$ADI$8","v":""},null,null,null,{"$f":"bksingh!$ADI$8","v":""},null,null,null,{"$f":"bksingh!$ADI$8","v":""},null,null,null,{"$f":"bksingh!$ADI$8","v":""},null,null,null,{"$f":"bksingh!$ADI$8","v":""},null,null,null,{"$f":"bksingh!$ADI$8","v":""},null,null,null,{"$f":"bksingh!$ADI$8","v":""},null,null,null,{"$f":"bksingh!$ADI$8","v":""},null,null,null,{"$f":"bksingh!$ADI$8","v":""},null,null,null,{"$f":"bksingh!$ADI$8","v":""},null,null,null,{"$f":"bksingh!$ADI$8","v":""},null,null,null,{"$f":"bksingh!$ADI$8","v":""},null,null,null,{"$f":"bksingh!$ADI$8","v":""},null,null,null,{"$f":"bksingh!$ADI$8","v":""},null,null,null,{"$f":"bksingh!$ADI$8","v":""},null,null,null,{"$f":"bksingh!$ADI$8","v":""},null,null,null,{"$f":"bksingh!$ADI$8","v":""},null,null,null,{"$f":"bksingh!$ADI$8","v":""},null,null,null,{"$f":"bksingh!$ADI$8","v":""},null,null,null,{"$f":"bksingh!$ADI$8","v":""},null,null,null,{"$f":"bksingh!$ADI$8","v":""},null,null,null,{"$f":"bksingh!$ADI$8","v":""},null,null,null,{"$f":"bksingh!$ADI$8","v":""},null,null,null,{"$f":"bksingh!$ADI$8","v":""},null,null,null,{"$f":"bksingh!$ADI$8","v":""},null,null,null,{"$f":"bksingh!$ADI$8","v":""},null,null,null,{"$f":"bksingh!$ADI$8","v":""},null,null,null,{"$f":"bksingh!$ADI$8","v":""},null,null,null,{"$f":"bksingh!$ADI$8","v":""},null,null,null,{"$f":"bksingh!$ADI$8","v":""},null,null,null,{"$f":"bksingh!$ADI$8","v":""},null,null,null,{"$f":"bksingh!$ADI$8","v":""},null,null,null,{"$f":"bksingh!$ADI$8","v":""},null,null,null,{"$f":"bksingh!$ADI$8","v":""},null,null,null,{"$f":"bksingh!$ADI$8","v":""},null,null,null,{"$f":"bksingh!$ADI$8","v":""},null,null,null,{"$f":"bksingh!$ADI$8","v":""},null,null,null,{"$f":"bksingh!$ADI$8","v":""},null,null,null,{"$f":"bksingh!$ADI$8","v":""},null,null,null,{"$f":"bksingh!$ADI$8","v":""},null,null,null,{"$f":"bksingh!$ADI$8","v":""},null,null,null,{"$f":"bksingh!$ADI$8","v":""},null,null,null,{"$f":"bksingh!$ADI$8","v":""},null,null,null,{"$f":"bksingh!$ADI$8","v":""},null,null,null,{"$f":"bksingh!$ADI$8","v":""},null,null,null,{"$f":"bksingh!$ADI$8","v":""},null,null,null,{"$f":"bksingh!$ADI$8","v":""},null,null,null,{"$f":"bksingh!$ADI$8","v":""},null,null,null,{"$f":"bksingh!$ADI$8","v":""},null,null,null,{"$f":"bksingh!$ADI$8","v":""},null,null,null,{"$f":"bksingh!$ADI$8","v":""},null,null,null,{"$f":"bksingh!$ADI$8","v":""},null,null,null,{"$f":"bksingh!$ADI$8","v":""},null,null,null,{"$f":"bksingh!$ADI$8","v":""},null,null,null,{"$f":"bksingh!$ADI$8","v":""},null,null,null,{"$f":"bksingh!$ADI$8","v":""},null,null,null,{"$f":"bksingh!$ADI$8","v":""},null,null,null,{"$f":"bksingh!$ADI$8","v":""},null,null,null,{"$f":"bksingh!$ADI$8","v":""},null,null,null,{"$f":"bksingh!$ADI$8","v":""},null,null,null,{"$f":"bksingh!$ADI$8","v":""},null,null,null,{"$f":"bksingh!$ADI$8","v":""},null,null,null,{"$f":"bksingh!$ADI$8","v":""},null,null,null,{"$f":"bksingh!$ADI$8","v":""},null,null,null,{"$f":"bksingh!$ADI$8","v":""},null,null,null,{"$f":"bksingh!$ADI$8","v":""},null,null,null,{"$f":"bksingh!$ADI$8","v":""},null,null,null,{"$f":"bksingh!$ADI$8","v":""},null,null,null,{"$f":"bksingh!$ADI$8","v":""},null,null,null,{"$f":"bksingh!$ADI$8","v":""},null,null,null,{"$f":"bksingh!$ADI$8","v":""},null,null,null,{"$f":"bksingh!$ADI$8","v":""},null,null,null,{"$f":"bksingh!$ADI$8","v":""},null,null,null,{"$f":"bksingh!$ADI$8","v":""},null,null,null,{"$f":"bksingh!$ADI$8","v":""},null,null,null,{"$f":"bksingh!$ADI$8","v":""},null,null,null,{"$f":"bksingh!$ADI$8","v":""},null,null,null,{"$f":"bksingh!$ADI$8","v":""},null,null,null,{"$f":"bksingh!$ADI$8","v":""},null,null,null,{"$f":"bksingh!$ADI$8","v":""},null,null,null,{"$f":"bksingh!$ADI$8","v":""},null,null,null,{"$f":"bksingh!$ADI$8","v":""},null,null,null,{"$f":"bksingh!$ADI$8","v":""},null,null,null,{"$f":"bksingh!$ADI$8","v":""},null,null,null,{"$f":"bksingh!$ADI$8","v":""},null,null,null,{"$f":"bksingh!$ADI$8","v":""},null,null,null,{"$f":"bksingh!$ADI$8","v":""},null,null,null,{"$f":"bksingh!$ADI$8","v":""},null,null,null,{"$f":"bksingh!$ADI$8","v":""},null,null,null,{"$f":"bksingh!$ADI$8","v":""},null,null,null,{"$f":"bksingh!$ADI$8","v":""},null,null,null,{"$f":"bksingh!$ADI$8","v":""},null,null,null,{"$f":"bksingh!$ADI$8","v":""},null,null,null,{"$f":"bksingh!$ADI$8","v":""},null,null,null,{"$f":"bksingh!$ADI$8","v":""},null,null,null,{"$f":"bksingh!$ADI$8","v":""},null,null,null,{"$f":"bksingh!$ADI$8","v":""},null,null,null,{"$f":"bksingh!$ADI$8","v":""},null,null,null,{"$f":"bksingh!$ADI$8","v":""},null,null,null,{"$f":"bksingh!$ADI$8","v":""},null,null,null,{"$f":"bksingh!$ADI$8","v":""},null,null,null,{"$f":"bksingh!$ADI$8","v":""},null,null,null,{"$f":"bksingh!$ADI$8","v":""},null,null,null,{"$f":"bksingh!$ADI$8","v":""},null,null,null,{"$f":"bksingh!$ADI$8","v":""},null,null,null,{"$f":"bksingh!$ADI$8","v":""},null,null,null,{"$f":"bksingh!$ADI$8","v":""},null,null,null,{"$f":"bksingh!$ADI$8","v":""},null,null,null,{"$f":"bksingh!$ADI$8","v":""},null,null,null,{"$f":"bksingh!$ADI$8","v":""},null,null,null,{"$f":"bksingh!$ADI$8","v":""},null,null,null,{"$f":"bksingh!$ADI$8","v":""},null,null,null,{"$f":"bksingh!$ADI$8","v":""},null,null,null,{"$f":"bksingh!$ADI$8","v":""},null,null,null,{"$f":"bksingh!$ADI$8","v":""},null,null,null,{"$f":"bksingh!$ADI$8","v":""},null,null,null,{"$f":"bksingh!$ADI$8","v":""},null,null,null,{"$f":"bksingh!$ADI$8","v":""},null,null,null,{"$f":"bksingh!$ADI$8","v":""},null,null,null,{"$f":"bksingh!$ADI$8","v":""},null,null,null,{"$f":"bksingh!$ADI$8","v":""},null,null,null,{"$f":"bksingh!$ADI$8","v":""},null,null,null,{"$f":"bksingh!$ADI$8","v":""},null,null,null,{"$f":"bksingh!$ADI$8","v":""},null,null,null,{"$f":"bksingh!$ADI$8","v":""},null,null,null,{"$f":"bksingh!$ADI$8","v":""},null,null,null,{"$f":"bksingh!$ADI$8","v":""},null,null,null,{"$f":"bksingh!$ADI$8","v":""},null,null,null,{"$f":"bksingh!$ADI$8","v":""},null,null,null,{"$f":"bksingh!$ADI$8","v":""},null,null,null,{"$f":"bksingh!$ADI$8","v":""},null,null,null,{"$f":"bksingh!$ADI$8","v":""},null,null,null,{"$f":"bksingh!$ADI$8","v":""},null,null,null,{"$f":"bksingh!$ADI$8","v":""},null,null,null,{"$f":"bksingh!$ADI$8","v":""},null,null,null,{"$f":"bksingh!$ADI$8","v":""},null,null,null,{"$f":"bksingh!$ADI$8","v":""},null,null,null,{"$f":"bksingh!$ADI$8","v":""},null,null,null,{"$f":"bksingh!$ADI$8","v":""},null,null,null,{"$f":"bksingh!$ADI$8","v":""},null,null,null,{"$f":"bksingh!$ADI$8","v":""},null,null,null,{"$f":"bksingh!$ADI$8","v":""},null,null,null,{"$f":"bksingh!$ADI$8","v":""},null,null,null,{"$f":"bksingh!$ADI$8","v":""},null,null,null,{"$f":"bksingh!$ADI$8","v":""},null,null,null,{"$f":"bksingh!$ADI$8","v":""},null,null,null,{"$f":"bksingh!$ADI$8","v":""},null,null,null,{"$f":"bksingh!$ADI$8","v":""},null,null,null,{"$f":"bksingh!$ADI$8","v":""},null,null,null,{"$f":"bksingh!$ADI$8","v":""},null,null,null,{"$f":"bksingh!$ADI$8","v":""},null,null,null,{"$f":"bksingh!$ADI$8","v":""},null,null,null,{"$f":"bksingh!$ADI$8","v":""},null,null,null,{"$f":"bksingh!$ADI$8","v":""},null,null,null,{"$f":"bksingh!$ADI$8","v":""},null,null,null,{"$f":"bksingh!$ADI$8","v":""},null,null,null,{"$f":"bksingh!$ADI$8","v":""},null,null,null,{"$f":"bksingh!$ADI$8","v":""},null,null,null,{"$f":"bksingh!$ADI$8","v":""},null,null,null,{"$f":"bksingh!$ADI$8","v":""},null,null,null,{"$f":"bksingh!$ADI$8","v":""},null,null,null,{"$f":"bksingh!$ADI$8","v":""},null,null,null,{"$f":"bksingh!$ADI$8","v":""},null,null,null,{"$f":"bksingh!$ADI$8","v":""},null,null,null,{"$f":"bksingh!$ADI$8","v":""},null,null,null,{"$f":"bksingh!$ADI$8","v":""},null,null,null,{"$f":"bksingh!$ADI$8","v":""},null,null,null,{"$f":"bksingh!$ADI$8","v":""},null,null,null,{"$f":"bksingh!$ADI$8","v":""},null,null,null,{"$f":"bksingh!$ADI$8","v":""},null,null,null,{"$f":"bksingh!$ADI$8","v":""},null,null,null,{"$f":"bksingh!$ADI$8","v":""},null,null,null,{"$f":"bksingh!$ADI$8","v":""},null,null,null,{"$f":"bksingh!$ADI$8","v":""},null,null,null,{"$f":"bksingh!$ADI$8","v":""},null,null,null,{"$f":"bksingh!$ADI$8","v":""},null,null,null,{"$f":"bksingh!$ADI$8","v":""},null,null,null,{"$f":"bksingh!$ADI$8","v":""},null,null,null,{"$f":"bksingh!$ADI$8","v":""},null,null,null,{"$f":"bksingh!$ADI$8","v":""},null,null,null,{"$f":"bksingh!$ADI$8","v":""},null,null,null,{"$f":"bksingh!$ADI$8","v":""},null,null,null,{"$f":"bksingh!$ADI$8","v":""},null,null,null,{"$f":"bksingh!$ADI$8","v":""},null,null,null,{"$f":"bksingh!$ADI$8","v":""},null,null,null,{"$f":"bksingh!$ADI$8","v":""},null,null,null,{"$f":"bksingh!$ADI$8","v":""},null,null,null,{"$f":"bksingh!$ADI$8","v":""},null,null,null,{"$f":"bksingh!$ADI$8","v":""},null,null,null,{"$f":"bksingh!$ADI$8","v":""},null,null,null,{"$f":"bksingh!$ADI$8","v":""},null,null,null,{"$f":"bksingh!$ADI$8","v":""},null,null,null,{"$f":"bksingh!$ADI$8","v":""},null,null,null,{"$f":"bksingh!$ADI$8","v":""},null,null,null,{"$f":"bksingh!$ADI$8","v":""},null,null,null,{"$f":"bksingh!$ADI$8","v":""},null,null,null,{"$f":"bksingh!$ADI$8","v":""},null,null,null,{"$f":"bksingh!$ADI$8","v":""},null,null,null,{"$f":"bksingh!$ADI$8","v":""},null,null,null,{"$f":"bksingh!$ADI$8","v":""},null,null,null,{"$f":"bksingh!$ADI$8","v":""},null,null,null,{"$f":"bksingh!$ADI$8","v":""},null,null,null,{"$f":"bksingh!$ADI$8","v":""},null,null,null,{"$f":"bksingh!$ADI$8","v":""},null,null,null,{"$f":"bksingh!$ADI$8","v":""},null,null,null,{"$f":"bksingh!$ADI$8","v":""},null,null,null,{"$f":"bksingh!$ADI$8","v":""},null,null,null,{"$f":"bksingh!$ADI$8","v":""},null,null,null,{"$f":"bksingh!$ADI$8","v":""},null,null,null,{"$f":"bksingh!$ADI$8","v":""},null,null,null,{"$f":"bksingh!$ADI$8","v":""},null,null,null,{"$f":"bksingh!$ADI$8","v":""},null,null,null,{"$f":"bksingh!$ADI$8","v":""},null,null,null,{"$f":"bksingh!$ADI$8","v":""},null,null,null,{"$f":"bksingh!$ADI$8","v":""},null,null,null,{"$f":"bksingh!$ADI$8","v":""},null,null,null,{"$f":"bksingh!$ADI$8","v":""},null,null,null,{"$f":"bksingh!$ADI$8","v":""},null,null,null,{"$f":"bksingh!$ADI$8","v":""},null,null,null,{"$f":"bksingh!$ADI$8","v":""},null,null,null,{"$f":"bksingh!$ADI$8","v":""},null,null,null,{"$f":"bksingh!$ADI$8","v":""},null,null,null,{"$f":"bksingh!$ADI$8","v":""},null,null,null,{"$f":"bksingh!$ADI$8","v":""},null,null,null,{"$f":"bksingh!$ADI$8","v":""},null,null,null,{"$f":"bksingh!$ADI$8","v":""},null,null,null,{"$f":"bksingh!$ADI$8","v":""},null,null,null,{"$f":"bksingh!$ADI$8","v":""},null,null,null,{"$f":"bksingh!$ADI$8","v":""},null,null,null,{"$f":"bksingh!$ADI$8","v":""},null,null,null,{"$f":"bksingh!$ADI$8","v":""},null,null,null,{"$f":"bksingh!$ADI$8","v":""},null,null,null,{"$f":"bksingh!$ADI$8","v":""},null,null,null,{"$f":"bksingh!$ADI$8","v":""},null,null,null,{"$f":"bksingh!$ADI$8","v":""},null,null,null,{"$f":"bksingh!$ADI$8","v":""},null,null,null,{"$f":"bksingh!$ADI$8","v":""},null,null,null,{"$f":"bksingh!$ADI$8","v":""},null,null,null,{"$f":"bksingh!$ADI$8","v":""},null,null,null,{"$f":"bksingh!$ADI$8","v":""},null,null,null,{"$f":"bksingh!$ADI$8","v":""},null,null,null,{"$f":"bksingh!$ADI$8","v":""},null,null,null,{"$f":"bksingh!$ADI$8","v":""},null,null,null,{"$f":"bksingh!$ADI$8","v":""},null,null,null,{"$f":"bksingh!$ADI$8","v":""},null,null,null,{"$f":"bksingh!$ADI$8","v":""},null,null,null,{"$f":"bksingh!$ADI$8","v":""},null,null,null,{"$f":"bksingh!$ADI$8","v":""},null,null,null,{"$f":"bksingh!$ADI$8","v":""},null,null,null,{"$f":"bksingh!$ADI$8","v":""},null,null,null,{"$f":"bksingh!$ADI$8","v":""},null,null,null,{"$f":"bksingh!$ADI$8","v":""},null,null,null,{"$f":"bksingh!$ADI$8","v":""},null,null,null,{"$f":"bksingh!$ADI$8","v":""},null,null,null,{"$f":"bksingh!$ADI$8","v":""},null,null,null,{"$f":"bksingh!$ADI$8","v":""},null,null,null,{"$f":"bksingh!$ADI$8","v":""},null,null,null,{"$f":"bksingh!$ADI$8","v":""},null,null,null,{"$f":"bksingh!$ADI$8","v":""},null,null,null,{"$f":"bksingh!$ADI$8","v":""},null,null,null,{"$f":"bksingh!$ADI$8","v":""},null,null,null,{"$f":"bksingh!$ADI$8","v":""},null,null,null,{"$f":"bksingh!$ADI$8","v":""},null,null,null,{"$f":"bksingh!$ADI$8","v":""},null,null,null,{"$f":"bksingh!$ADI$8","v":""},null,null,null,{"$f":"bksingh!$ADI$8","v":""},null,null,null,{"$f":"bksingh!$ADI$8","v":""},null,null,null,{"$f":"bksingh!$ADI$8","v":""},null,null,null,{"$f":"bksingh!$ADI$8","v":""},null,null,null,{"$f":"bksingh!$ADI$8","v":""},null,null,null,{"$f":"bksingh!$ADI$8","v":""},null,null,null,{"$f":"bksingh!$ADI$8","v":""},null,null,null,{"$f":"bksingh!$ADI$8","v":""},null,null,null,{"$f":"bksingh!$ADI$8","v":""},null,null,null,{"$f":"bksingh!$ADI$8","v":""},null,null,null,{"$f":"bksingh!$ADI$8","v":""},null,null,null,{"$f":"bksingh!$ADI$8","v":""},null,null,null,{"$f":"bksingh!$ADI$8","v":""},null,null,null,{"$f":"bksingh!$ADI$8","v":""},null,null,null,{"$f":"bksingh!$ADI$8","v":""},null,null,null,{"$f":"bksingh!$ADI$8","v":""},null,null,null,{"$f":"bksingh!$ADI$8","v":""},null,null,null,{"$f":"bksingh!$ADI$8","v":""},null,null,null,{"$f":"bksingh!$ADI$8","v":""},null,null,null,{"$f":"bksingh!$ADI$8","v":""},null,null,null,{"$f":"bksingh!$ADI$8","v":""},null,null,null,{"$f":"bksingh!$ADI$8","v":""},null,null,null,{"$f":"bksingh!$ADI$8","v":""},null,null,null,{"$f":"bksingh!$ADI$8","v":""},null,null,null,{"$f":"bksingh!$ADI$8","v":""},null,null,null,{"$f":"bksingh!$ADI$8","v":""},null,null,null,{"$f":"bksingh!$ADI$8","v":""},null,null,null,{"$f":"bksingh!$ADI$8","v":""},null,null,null,{"$f":"bksingh!$ADI$8","v":""},null,null,null,{"$f":"bksingh!$ADI$8","v":""},null,null,null,{"$f":"bksingh!$ADI$8","v":""},null,null,null,{"$f":"bksingh!$ADI$8","v":""},null,null,null,{"$f":"bksingh!$ADI$8","v":""},null,null,null,{"$f":"bksingh!$ADI$8","v":""},null,null,null,{"$f":"bksingh!$ADI$8","v":""},null,null,null,{"$f":"bksingh!$ADI$8","v":""},null,null,null,{"$f":"bksingh!$ADI$8","v":""},null,null,null,{"$f":"bksingh!$ADI$8","v":""},null,null,null,{"$f":"bksingh!$ADI$8","v":""},null,null,null,{"$f":"bksingh!$ADI$8","v":""},null,null,null,{"$f":"bksingh!$ADI$8","v":""},null,null,null,{"$f":"bksingh!$ADI$8","v":""},null,null,null,{"$f":"bksingh!$ADI$8","v":""},null,null,null,{"$f":"bksingh!$ADI$8","v":""},null,null,null,{"$f":"bksingh!$ADI$8","v":""},null,null,null,{"$f":"bksingh!$ADI$8","v":""},null,null,null,{"$f":"bksingh!$ADI$8","v":""},null,null,null,{"$f":"bksingh!$ADI$8","v":""},null,null,null,{"$f":"bksingh!$ADI$8","v":""},null,null,null,{"$f":"bksingh!$ADI$8","v":""},null,null,null,{"$f":"bksingh!$ADI$8","v":""},null,null,null,{"$f":"bksingh!$ADI$8","v":""},null,null,null,{"$f":"bksingh!$ADI$8","v":""},null,null,null,{"$f":"bksingh!$ADI$8","v":""},null,null,null,{"$f":"bksingh!$ADI$8","v":""},null,null,null,{"$f":"bksingh!$ADI$8","v":""},null,null,null,{"$f":"bksingh!$ADI$8","v":""},null,null,null,{"$f":"bksingh!$ADI$8","v":""},null,null,null,{"$f":"bksingh!$ADI$8","v":""},null,null,null,{"$f":"bksingh!$ADI$8","v":""},null,null,null,{"$f":"bksingh!$ADI$8","v":""},null,null,null,{"$f":"bksingh!$ADI$8","v":""},null,null,null,{"$f":"bksingh!$ADI$8","v":""},null,null,null,{"$f":"bksingh!$ADI$8","v":""},null,null,null,{"$f":"bksingh!$ADI$8","v":""},null,null,null,{"$f":"bksingh!$ADI$8","v":""},null,null,null,{"$f":"bksingh!$ADI$8","v":""},null,null,null,{"$f":"bksingh!$ADI$8","v":""},null,null,null,{"$f":"bksingh!$ADI$8","v":""},null,null,null,{"$f":"bksingh!$ADI$8","v":""},null,null,null,{"$f":"bksingh!$ADI$8","v":""},null,null,null,{"$f":"bksingh!$ADI$8","v":""},null,null,null,{"$f":"bksingh!$ADI$8","v":""},null,null,null,{"$f":"bksingh!$ADI$8","v":""},null,null,null,{"$f":"bksingh!$ADI$8","v":""},null,null,null,{"$f":"bksingh!$ADI$8","v":""},null,null,null,{"$f":"bksingh!$ADI$8","v":""},null,null,null,{"$f":"bksingh!$ADI$8","v":""},null,null,null,{"$f":"bksingh!$ADI$8","v":""},null,null,null,{"$f":"bksingh!$ADI$8","v":""},null,null,null,{"$f":"bksingh!$ADI$8","v":""},null,null,null,{"$f":"bksingh!$ADI$8","v":""},null,null,null,{"$f":"bksingh!$ADI$8","v":""},null,null,null,{"$f":"bksingh!$ADI$8","v":""},null,null,null,{"$f":"bksingh!$ADI$8","v":""},null,null,null,{"$f":"bksingh!$ADI$8","v":""},null,null,null,{"$f":"bksingh!$ADI$8","v":""},null,null,null,{"$f":"bksingh!$ADI$8","v":""},null,null,null,{"$f":"bksingh!$ADI$8","v":""},null,null,null,{"$f":"bksingh!$ADI$8","v":""},null,null,null,{"$f":"bksingh!$ADI$8","v":""},null,null,null,{"$f":"bksingh!$ADI$8","v":""},null,null,null,{"$f":"bksingh!$ADI$8","v":""},null,null,null,{"$f":"bksingh!$ADI$8","v":""},null,null,null,{"$f":"bksingh!$ADI$8","v":""},null,null,null,{"$f":"bksingh!$ADI$8","v":""},null,null,null,{"$f":"bksingh!$ADI$8","v":""},null,null,null,{"$f":"bksingh!$ADI$8","v":""},null,null,null,{"$f":"bksingh!$ADI$8","v":""},null,null,null,{"$f":"bksingh!$ADI$8","v":""},null,null,null,{"$f":"bksingh!$ADI$8","v":""},null,null,null,{"$f":"bksingh!$ADI$8","v":""},null,null,null,{"$f":"bksingh!$ADI$8","v":""},null,null,null,{"$f":"bksingh!$ADI$8","v":""},null,null,null,{"$f":"bksingh!$ADI$8","v":""},null,null,null,{"$f":"bksingh!$ADI$8","v":""},null,null,null,{"$f":"bksingh!$ADI$8","v":""},null,null,null,{"$f":"bksingh!$ADI$8","v":""},null,null,null,{"$f":"bksingh!$ADI$8","v":""},null,null,null,{"$f":"bksingh!$ADI$8","v":""},null,null,null,{"$f":"bksingh!$ADI$8","v":""},null,null,null,{"$f":"bksingh!$ADI$8","v":""},null,null,null,{"$f":"bksingh!$ADI$8","v":""},null,null,null,{"$f":"bksingh!$ADI$8","v":""},null,null,null,{"$f":"bksingh!$ADI$8","v":""},null,null,null,{"$f":"bksingh!$ADI$8","v":""},null,null,null,{"$f":"bksingh!$ADI$8","v":""},null,null,null,{"$f":"bksingh!$ADI$8","v":""},null,null,null,{"$f":"bksingh!$ADI$8","v":""},null,null,null,{"$f":"bksingh!$ADI$8","v":""},null,null,null,{"$f":"bksingh!$ADI$8","v":""},null,null,null,{"$f":"bksingh!$ADI$8","v":""},null,null,null,{"$f":"bksingh!$ADI$8","v":""},null,null,null,{"$f":"bksingh!$ADI$8","v":""},null,null,null,{"$f":"bksingh!$ADI$8","v":""},null,null,null,{"$f":"bksingh!$ADI$8","v":""},null,null,null,{"$f":"bksingh!$ADI$8","v":""},null,null,null,{"$f":"bksingh!$ADI$8","v":""},null,null,null,{"$f":"bksingh!$ADI$8","v":""},null,null,null,{"$f":"bksingh!$ADI$8","v":""},null,null,null,{"$f":"bksingh!$ADI$8","v":""},null,null,null,{"$f":"bksingh!$ADI$8","v":""},null,null,null,{"$f":"bksingh!$ADI$8","v":""},null,null,null,{"$f":"bksingh!$ADI$8","v":""},null,null,null,{"$f":"bksingh!$ADI$8","v":""},null,null,null,{"$f":"bksingh!$ADI$8","v":""},null,null,null,{"$f":"bksingh!$ADI$8","v":""},null,null,null,{"$f":"bksingh!$ADI$8","v":""},null,null,null,{"$f":"bksingh!$ADI$8","v":""},null,null,null,{"$f":"bksingh!$ADI$8","v":""},null,null,null,{"$f":"bksingh!$ADI$8","v":""},null,null,null,{"$f":"bksingh!$ADI$8","v":""},null,null,null,{"$f":"bksingh!$ADI$8","v":""},null,null,null,{"$f":"bksingh!$ADI$8","v":""},null,null,null,{"$f":"bksingh!$ADI$8","v":""},null,null,null,{"$f":"bksingh!$ADI$8","v":""},null,null,null,{"$f":"bksingh!$ADI$8","v":""},null,null,null,{"$f":"bksingh!$ADI$8","v":""},null,null,null,{"$f":"bksingh!$ADI$8","v":""},null,null,null,{"$f":"bksingh!$ADI$8","v":""},null,null,null,{"$f":"bksingh!$ADI$8","v":""},null,null,null,{"$f":"bksingh!$ADI$8","v":""},null,null,null,{"$f":"bksingh!$ADI$8","v":""},null,null,null,{"$f":"bksingh!$ADI$8","v":""},null,null,null,{"$f":"bksingh!$ADI$8","v":""},null,null,null,{"$f":"bksingh!$ADI$8","v":""},null,null,null,{"$f":"bksingh!$ADI$8","v":""},null,null,null,{"$f":"bksingh!$ADI$8","v":""},null,null,null,{"$f":"bksingh!$ADI$8","v":""},null,null,null,{"$f":"bksingh!$ADI$8","v":""},null,null,null,{"$f":"bksingh!$ADI$8","v":""},null,null,null,{"$f":"bksingh!$ADI$8","v":""},null,null,null,{"$f":"bksingh!$ADI$8","v":""},null,null,null,{"$f":"bksingh!$ADI$8","v":""},null,null,null,{"$f":"bksingh!$ADI$8","v":""},null,null,null,{"$f":"bksingh!$ADI$8","v":""},null,null,null,{"$f":"bksingh!$ADI$8","v":""},null,null,null,{"$f":"bksingh!$ADI$8","v":""},null,null,null,{"$f":"bksingh!$ADI$8","v":""},null,null,null,{"$f":"bksingh!$ADI$8","v":""},null,null,null,{"$f":"bksingh!$ADI$8","v":""},null,null,null,{"$f":"bksingh!$ADI$8","v":""},null,null,null,{"$f":"bksingh!$ADI$8","v":""},null,null,null,{"$f":"bksingh!$ADI$8","v":""},null,null,null,{"$f":"bksingh!$ADI$8","v":""},null,null,null,{"$f":"bksingh!$ADI$8","v":""},null,null,null,{"$f":"bksingh!$ADI$8","v":""},null,null,null,{"$f":"bksingh!$ADI$8","v":""},null,null,null,{"$f":"bksingh!$ADI$8","v":""},null,null,null,{"$f":"bksingh!$ADI$8","v":""},null,null,null,{"$f":"bksingh!$ADI$8","v":""},null,null,null,{"$f":"bksingh!$ADI$8","v":""},null,null,null,{"$f":"bksingh!$ADI$8","v":""},null,null,null,{"$f":"bksingh!$ADI$8","v":""},null,null,null,{"$f":"bksingh!$ADI$8","v":""},null,null,null,{"$f":"bksingh!$ADI$8","v":""},null,null,null,{"$f":"bksingh!$ADI$8","v":""},null,null,null,{"$f":"bksingh!$ADI$8","v":""},null,null,null,{"$f":"bksingh!$ADI$8","v":""},null,null,null,{"$f":"bksingh!$ADI$8","v":""},null,null,null,{"$f":"bksingh!$ADI$8","v":""},null,null,null,{"$f":"bksingh!$ADI$8","v":""},null,null,null,{"$f":"bksingh!$ADI$8","v":""},null,null,null,{"$f":"bksingh!$ADI$8","v":""},null,null,null,{"$f":"bksingh!$ADI$8","v":""},null,null,null,{"$f":"bksingh!$ADI$8","v":""},null,null,null,{"$f":"bksingh!$ADI$8","v":""},null,null,null,{"$f":"bksingh!$ADI$8","v":""},null,null,null,{"$f":"bksingh!$ADI$8","v":""},null,null,null,{"$f":"bksingh!$ADI$8","v":""},null,null,null,{"$f":"bksingh!$ADI$8","v":""},null,null,null,{"$f":"bksingh!$ADI$8","v":""},null,null,null,{"$f":"bksingh!$ADI$8","v":""},null,null,null,{"$f":"bksingh!$ADI$8","v":""},null,null,null,{"$f":"bksingh!$ADI$8","v":""},null,null,null,{"$f":"bksingh!$ADI$8","v":""},null,null,null,{"$f":"bksingh!$ADI$8","v":""},null,null,null,{"$f":"bksingh!$ADI$8","v":""},null,null,null,{"$f":"bksingh!$ADI$8","v":""},null,null,null,{"$f":"bksingh!$ADI$8","v":""},null,null,null,{"$f":"bksingh!$ADI$8","v":""},null,null,null,{"$f":"bksingh!$ADI$8","v":""},null,null,null,{"$f":"bksingh!$ADI$8","v":""},null,null,null,{"$f":"bksingh!$ADI$8","v":""},null,null,null,{"$f":"bksingh!$ADI$8","v":""},null,null,null,{"$f":"bksingh!$ADI$8","v":""},null,null,null,{"$f":"bksingh!$ADI$8","v":""},null,null,null,{"$f":"bksingh!$ADI$8","v":""},null,null,null,{"$f":"bksingh!$ADI$8","v":""},null,null,null,{"$f":"bksingh!$ADI$8","v":""},null,null,null,{"$f":"bksingh!$ADI$8","v":""},null,null,null,{"$f":"bksingh!$ADI$8","v":""},null,null,null,{"$f":"bksingh!$ADI$8","v":""},null,null,null,{"$f":"bksingh!$ADI$8","v":""},null,null,null,{"$f":"bksingh!$ADI$8","v":""},null,null,null,{"$f":"bksingh!$ADI$8","v":""},null,null,null,{"$f":"bksingh!$ADI$8","v":""},null,null,null,{"$f":"bksingh!$ADI$8","v":""},null,null,null,{"$f":"bksingh!$ADI$8","v":""},null,null,null,{"$f":"bksingh!$ADI$8","v":""},null,null,null,{"$f":"bksingh!$ADI$8","v":""},null,null,null,{"$f":"bksingh!$ADI$8","v":""},null,null,null,{"$f":"bksingh!$ADI$8","v":""},null,null,null,{"$f":"bksingh!$ADI$8","v":""},null,null,null,{"$f":"bksingh!$ADI$8","v":""},null,null,null,{"$f":"bksingh!$ADI$8","v":""},null,null,null,{"$f":"bksingh!$ADI$8","v":""},null,null,null,{"$f":"bksingh!$ADI$8","v":""},null,null,null,{"$f":"bksingh!$ADI$8","v":""},null,null,null,{"$f":"bksingh!$ADI$8","v":""},null,null,null,{"$f":"bksingh!$ADI$8","v":""},null,null,null,{"$f":"bksingh!$ADI$8","v":""},null,null,null,{"$f":"bksingh!$ADI$8","v":""},null,null,null,{"$f":"bksingh!$ADI$8","v":""},null,null,null,{"$f":"bksingh!$ADI$8","v":""},null,null,null,{"$f":"bksingh!$ADI$8","v":""},null,null,null,{"$f":"bksingh!$ADI$8","v":""},null,null,null,{"$f":"bksingh!$ADI$8","v":""},null,null,null,{"$f":"bksingh!$ADI$8","v":""},null,null,null,{"$f":"bksingh!$ADI$8","v":""},null,null,null,{"$f":"bksingh!$ADI$8","v":""},null,null,null,{"$f":"bksingh!$ADI$8","v":""},null,null,null,{"$f":"bksingh!$ADI$8","v":""},null,null,null,{"$f":"bksingh!$ADI$8","v":""},null,null,null,{"$f":"bksingh!$ADI$8","v":""},null,null,null,{"$f":"bksingh!$ADI$8","v":""},null,null,null,{"$f":"bksingh!$ADI$8","v":""},null,null,null,{"$f":"bksingh!$ADI$8","v":""},null,null,null,{"$f":"bksingh!$ADI$8","v":""},null,null,null,{"$f":"bksingh!$ADI$8","v":""},null,null,null,{"$f":"bksingh!$ADI$8","v":""},null,null,null,{"$f":"bksingh!$ADI$8","v":""},null,null,null,{"$f":"bksingh!$ADI$8","v":""},null,null,null,{"$f":"bksingh!$ADI$8","v":""},null,null,null,{"$f":"bksingh!$ADI$8","v":""},null,null,null,{"$f":"bksingh!$ADI$8","v":""},null,null,null,{"$f":"bksingh!$ADI$8","v":""},null,null,null,{"$f":"bksingh!$ADI$8","v":""},null,null,null,{"$f":"bksingh!$ADI$8","v":""},null,null,null,{"$f":"bksingh!$ADI$8","v":""},null,null,null,{"$f":"bksingh!$ADI$8","v":""},null,null,null,{"$f":"bksingh!$ADI$8","v":""},null,null,null,{"$f":"bksingh!$ADI$8","v":""},null,null,null,{"$f":"bksingh!$ADI$8","v":""},null,null,null,{"$f":"bksingh!$ADI$8","v":""},null,null,null,{"$f":"bksingh!$ADI$8","v":""},null,null,null,{"$f":"bksingh!$ADI$8","v":""},null,null,null,{"$f":"bksingh!$ADI$8","v":""},null,null,null,{"$f":"bksingh!$ADI$8","v":""},null,null,null,{"$f":"bksingh!$ADI$8","v":""},null,null,null,{"$f":"bksingh!$ADI$8","v":""},null,null,null,{"$f":"bksingh!$ADI$8","v":""},null,null,null,{"$f":"bksingh!$ADI$8","v":""},null,null,null,{"$f":"bksingh!$ADI$8","v":""},null,null,null,{"$f":"bksingh!$ADI$8","v":""},null,null,null,{"$f":"bksingh!$ADI$8","v":""},null,null,null,{"$f":"bksingh!$ADI$8","v":""},null,null,null,{"$f":"bksingh!$ADI$8","v":""},null,null,null,{"$f":"bksingh!$ADI$8","v":""},null,null,null,{"$f":"bksingh!$ADI$8","v":""},null,null,null,{"$f":"bksingh!$ADI$8","v":""},null,null,null,{"$f":"bksingh!$ADI$8","v":""},null,null,null,{"$f":"bksingh!$ADI$8","v":""},null,null,null,{"$f":"bksingh!$ADI$8","v":""},null,null,null,{"$f":"bksingh!$ADI$8","v":""},null,null,null,{"$f":"bksingh!$ADI$8","v":""},null,null,null,{"$f":"bksingh!$ADI$8","v":""},null,null,null,{"$f":"bksingh!$ADI$8","v":""},null,null,null,{"$f":"bksingh!$ADI$8","v":""},null,null,null,{"$f":"bksingh!$ADI$8","v":""},null,null,null,{"$f":"bksingh!$ADI$8","v":""},null,null,null,{"$f":"bksingh!$ADI$8","v":""},null,null,null,{"$f":"bksingh!$ADI$8","v":""},null,null,null,{"$f":"bksingh!$ADI$8","v":""},null,null,null,{"$f":"bksingh!$ADI$8","v":""},null,null,null,{"$f":"bksingh!$ADI$8","v":""},null,null,null,{"$f":"bksingh!$ADI$8","v":""},null,null,null,{"$f":"bksingh!$ADI$8","v":""},null,null,null,{"$f":"bksingh!$ADI$8","v":""},null,null,null,{"$f":"bksingh!$ADI$8","v":""},null,null,null,{"$f":"bksingh!$ADI$8","v":""},null,null,null,{"$f":"bksingh!$ADI$8","v":""},null,null,null,{"$f":"bksingh!$ADI$8","v":""},null,null,null,{"$f":"bksingh!$ADI$8","v":""},null,null,null,{"$f":"bksingh!$ADI$8","v":""},null,null,null,{"$f":"bksingh!$ADI$8","v":""},null,null,null,{"$f":"bksingh!$ADI$8","v":""},null,null,null,{"$f":"bksingh!$ADI$8","v":""},null,null,null,{"$f":"bksingh!$ADI$8","v":""},null,null,null,{"$f":"bksingh!$ADI$8","v":""},null,null,null,{"$f":"bksingh!$ADI$8","v":""},null,null,null,{"$f":"bksingh!$ADI$8","v":""},null,null,null,{"$f":"bksingh!$ADI$8","v":""},null,null,null,{"$f":"bksingh!$ADI$8","v":""},null,null,null,{"$f":"bksingh!$ADI$8","v":""},null,null,null,{"$f":"bksingh!$ADI$8","v":""},null,null,null,{"$f":"bksingh!$ADI$8","v":""},null,null,null,{"$f":"bksingh!$ADI$8","v":""},null,null,null,{"$f":"bksingh!$ADI$8","v":""},null,null,null,{"$f":"bksingh!$ADI$8","v":""},null,null,null,{"$f":"bksingh!$ADI$8","v":""},null,null,null,{"$f":"bksingh!$ADI$8","v":""},null,null,null,{"$f":"bksingh!$ADI$8","v":""},null,null,null,{"$f":"bksingh!$ADI$8","v":""},null,null,null,{"$f":"bksingh!$ADI$8","v":""},null,null,null,{"$f":"bksingh!$ADI$8","v":""},null,null,null,{"$f":"bksingh!$ADI$8","v":""},null,null,null,{"$f":"bksingh!$ADI$8","v":""},null,null,null,{"$f":"bksingh!$ADI$8","v":""},null,null,null,{"$f":"bksingh!$ADI$8","v":""},null,null,null,{"$f":"bksingh!$ADI$8","v":""},null,null,null,{"$f":"bksingh!$ADI$8","v":""},null,null,null,{"$f":"bksingh!$ADI$8","v":""},null,null,null,{"$f":"bksingh!$ADI$8","v":""},null,null,null,{"$f":"bksingh!$ADI$8","v":""},null,null,null,{"$f":"bksingh!$ADI$8","v":""},null,null,null,{"$f":"bksingh!$ADI$8","v":""},null,null,null,{"$f":"bksingh!$ADI$8","v":""},null,null,null,{"$f":"bksingh!$ADI$8","v":""},null,null,null,{"$f":"bksingh!$ADI$8","v":""},null,null,null,{"$f":"bksingh!$ADI$8","v":""},null,null,null,{"$f":"bksingh!$ADI$8","v":""},null,null,null,{"$f":"bksingh!$ADI$8","v":""},null,null,null,{"$f":"bksingh!$ADI$8","v":""},null,null,null,{"$f":"bksingh!$ADI$8","v":""},null,null,null,{"$f":"bksingh!$ADI$8","v":""},null,null,null,{"$f":"bksingh!$ADI$8","v":""},null,null,null,{"$f":"bksingh!$ADI$8","v":""},null,null,null,{"$f":"bksingh!$ADI$8","v":""},null,null,null,{"$f":"bksingh!$ADI$8","v":""},null,null,null,{"$f":"bksingh!$ADI$8","v":""},null,null,null,{"$f":"bksingh!$ADI$8","v":""},null,null,null,{"$f":"bksingh!$ADI$8","v":""},null,null,null,{"$f":"bksingh!$ADI$8","v":""},null,null,null,{"$f":"bksingh!$ADI$8","v":""},null,null,null,{"$f":"bksingh!$ADI$8","v":""},null,null,null,{"$f":"bksingh!$ADI$8","v":""},null,null,null,{"$f":"bksingh!$ADI$8","v":""},null,null,null,{"$f":"bksingh!$ADI$8","v":""},null,null,null,{"$f":"bksingh!$ADI$8","v":""},null,null,null,{"$f":"bksingh!$ADI$8","v":""},null,null,null,{"$f":"bksingh!$ADI$8","v":""},null,null,null,{"$f":"bksingh!$ADI$8","v":""},null,null,null,{"$f":"bksingh!$ADI$8","v":""},null,null,null,{"$f":"bksingh!$ADI$8","v":""},null,null,null,{"$f":"bksingh!$ADI$8","v":""},null,null,null,{"$f":"bksingh!$ADI$8","v":""},null,null,null,{"$f":"bksingh!$ADI$8","v":""},null,null,null,{"$f":"bksingh!$ADI$8","v":""},null,null,null,{"$f":"bksingh!$ADI$8","v":""},null,null,null,{"$f":"bksingh!$ADI$8","v":""},null,null,null,{"$f":"bksingh!$ADI$8","v":""},null,null,null,{"$f":"bksingh!$ADI$8","v":""},null,null,null,{"$f":"bksingh!$ADI$8","v":""},null,null,null,{"$f":"bksingh!$ADI$8","v":""},null,null,null,{"$f":"bksingh!$ADI$8","v":""},null,null,null,{"$f":"bksingh!$ADI$8","v":""},null,null,null,{"$f":"bksingh!$ADI$8","v":""},null,null,null,{"$f":"bksingh!$ADI$8","v":""},null,null,null,{"$f":"bksingh!$ADI$8","v":""},null,null,null,{"$f":"bksingh!$ADI$8","v":""},null,null,null,{"$f":"bksingh!$ADI$8","v":""},null,null,null,{"$f":"bksingh!$ADI$8","v":""},null,null,null,{"$f":"bksingh!$ADI$8","v":""},null,null,null,{"$f":"bksingh!$ADI$8","v":""},null,null,null,{"$f":"bksingh!$ADI$8","v":""},null,null,null,{"$f":"bksingh!$ADI$8","v":""},null,null,null,{"$f":"bksingh!$ADI$8","v":""},null,null,null,{"$f":"bksingh!$ADI$8","v":""},null,null,null,{"$f":"bksingh!$ADI$8","v":""},null,null,null,{"$f":"bksingh!$ADI$8","v":""},null,null,null,{"$f":"bksingh!$ADI$8","v":""},null,null,null,{"$f":"bksingh!$ADI$8","v":""},null,null,null,{"$f":"bksingh!$ADI$8","v":""},null,null,null,{"$f":"bksingh!$ADI$8","v":""},null,null,null,{"$f":"bksingh!$ADI$8","v":""},null,null,null,{"$f":"bksingh!$ADI$8","v":""},null,null,null,{"$f":"bksingh!$ADI$8","v":""},null,null,null,{"$f":"bksingh!$ADI$8","v":""},null,null,null,{"$f":"bksingh!$ADI$8","v":""},null,null,null,{"$f":"bksingh!$ADI$8","v":""},null,null,null,{"$f":"bksingh!$ADI$8","v":""},null,null,null,{"$f":"bksingh!$ADI$8","v":""},null,null,null,{"$f":"bksingh!$ADI$8","v":""},null,null,null,{"$f":"bksingh!$ADI$8","v":""},null,null,null,{"$f":"bksingh!$ADI$8","v":""},null,null,null,{"$f":"bksingh!$ADI$8","v":""},null,null,null,{"$f":"bksingh!$ADI$8","v":""},null,null,null,{"$f":"bksingh!$ADI$8","v":""},null,null,null,{"$f":"bksingh!$ADI$8","v":""},null,null,null,{"$f":"bksingh!$ADI$8","v":""},null,null,null,{"$f":"bksingh!$ADI$8","v":""},null,null,null,{"$f":"bksingh!$ADI$8","v":""},null,null,null,{"$f":"bksingh!$ADI$8","v":""},null,null,null,{"$f":"bksingh!$ADI$8","v":""},null,null,null,{"$f":"bksingh!$ADI$8","v":""},null,null,null,{"$f":"bksingh!$ADI$8","v":""},null,null,null,{"$f":"bksingh!$ADI$8","v":""},null,null,null,{"$f":"bksingh!$ADI$8","v":""},null,null,null,{"$f":"bksingh!$ADI$8","v":""},null,null,null,{"$f":"bksingh!$ADI$8","v":""},null,null,null,{"$f":"bksingh!$ADI$8","v":""},null,null,null,{"$f":"bksingh!$ADI$8","v":""},null,null,null,{"$f":"bksingh!$ADI$8","v":""},null,null,null,{"$f":"bksingh!$ADI$8","v":""},null,null,null,{"$f":"bksingh!$ADI$8","v":""},null,null,null,{"$f":"bksingh!$ADI$8","v":""},null,null,null,{"$f":"bksingh!$ADI$8","v":""},null,null,null,{"$f":"bksingh!$ADI$8","v":""},null,null,null,{"$f":"bksingh!$ADI$8","v":""},null,null,null,{"$f":"bksingh!$ADI$8","v":""},null,null,null,{"$f":"bksingh!$ADI$8","v":""},null,null,null,{"$f":"bksingh!$ADI$8","v":""},null,null,null,{"$f":"bksingh!$ADI$8","v":""},null,null,null,{"$f":"bksingh!$ADI$8","v":""},null,null,null,{"$f":"bksingh!$ADI$8","v":""},null,null,null,{"$f":"bksingh!$ADI$8","v":""},null,null,null,{"$f":"bksingh!$ADI$8","v":""},null,null,null,{"$f":"bksingh!$ADI$8","v":""},null,null,null,{"$f":"bksingh!$ADI$8","v":""},null,null,null,{"$f":"bksingh!$ADI$8","v":""},null,null,null,{"$f":"bksingh!$ADI$8","v":""},null,null,null,{"$f":"bksingh!$ADI$8","v":""},null,null,null,{"$f":"bksingh!$ADI$8","v":""},null,null,null,{"$f":"bksingh!$ADI$8","v":""},null,null,null,{"$f":"bksingh!$ADI$8","v":""},null,null,null,{"$f":"bksingh!$ADI$8","v":""},null,null,null,{"$f":"bksingh!$ADI$8","v":""},null,null,null,{"$f":"bksingh!$ADI$8","v":""},null,null,null,{"$f":"bksingh!$ADI$8","v":""},null,null,null,{"$f":"bksingh!$ADI$8","v":""},null,null,null,{"$f":"bksingh!$ADI$8","v":""},null,null,null,{"$f":"bksingh!$ADI$8","v":""},null,null,null,{"$f":"bksingh!$ADI$8","v":""},null,null,null,{"$f":"bksingh!$ADI$8","v":""},null,null,null,{"$f":"bksingh!$ADI$8","v":""},null,null,null,{"$f":"bksingh!$ADI$8","v":""},null,null,null,{"$f":"bksingh!$ADI$8","v":""},null,null,null,{"$f":"bksingh!$ADI$8","v":""},null,null,null,{"$f":"bksingh!$ADI$8","v":""},null,null,null,{"$f":"bksingh!$ADI$8","v":""},null,null,null,{"$f":"bksingh!$ADI$8","v":""},null,null,null,{"$f":"bksingh!$ADI$8","v":""},null,null,null,{"$f":"bksingh!$ADI$8","v":""},null,null,null,{"$f":"bksingh!$ADI$8","v":""},null,null,null,{"$f":"bksingh!$ADI$8","v":""},null,null,null,{"$f":"bksingh!$ADI$8","v":""},null,null,null,{"$f":"bksingh!$ADI$8","v":""},null,null,null,{"$f":"bksingh!$ADI$8","v":""},null,null,null,{"$f":"bksingh!$ADI$8","v":""},null,null,null,{"$f":"bksingh!$ADI$8","v":""},null,null,null,{"$f":"bksingh!$ADI$8","v":""},null,null,null,{"$f":"bksingh!$ADI$8","v":""},null,null,null,{"$f":"bksingh!$ADI$8","v":""},null,null,null,{"$f":"bksingh!$ADI$8","v":""},null,null,null,{"$f":"bksingh!$ADI$8","v":""},null,null,null,{"$f":"bksingh!$ADI$8","v":""},null,null,null,{"$f":"bksingh!$ADI$8","v":""},null,null,null,{"$f":"bksingh!$ADI$8","v":""},null,null,null,{"$f":"bksingh!$ADI$8","v":""},null,null,null,{"$f":"bksingh!$ADI$8","v":""},null,null,null,{"$f":"bksingh!$ADI$8","v":""},null,null,null,{"$f":"bksingh!$ADI$8","v":""},null,null,null,{"$f":"bksingh!$ADI$8","v":""},null,null,null,{"$f":"bksingh!$ADI$8","v":""},null,null,null,{"$f":"bksingh!$ADI$8","v":""},null,null,null,{"$f":"bksingh!$ADI$8","v":""},null,null,null,{"$f":"bksingh!$ADI$8","v":""},null,null,null,{"$f":"bksingh!$ADI$8","v":""},null,null,null,{"$f":"bksingh!$ADI$8","v":""},null,null,null,{"$f":"bksingh!$ADI$8","v":""},null,null,null,{"$f":"bksingh!$ADI$8","v":""},null,null,null,{"$f":"bksingh!$ADI$8","v":""},null,null,null,{"$f":"bksingh!$ADI$8","v":""},null,null,null,{"$f":"bksingh!$ADI$8","v":""},null,null,null,{"$f":"bksingh!$ADI$8","v":""},null,null,null,{"$f":"bksingh!$ADI$8","v":""},null,null,null,{"$f":"bksingh!$ADI$8","v":""},null,null,null,{"$f":"bksingh!$ADI$8","v":""},null,null,null,{"$f":"bksingh!$ADI$8","v":""},null,null,null,{"$f":"bksingh!$ADI$8","v":""},null,null,null,{"$f":"bksingh!$ADI$8","v":""},null,null,null,{"$f":"bksingh!$ADI$8","v":""},null,null,null,{"$f":"bksingh!$ADI$8","v":""},null,null,null,{"$f":"bksingh!$ADI$8","v":""},null,null,null,{"$f":"bksingh!$ADI$8","v":""},null,null,null,{"$f":"bksingh!$ADI$8","v":""},null,null,null,{"$f":"bksingh!$ADI$8","v":""},null,null,null,{"$f":"bksingh!$ADI$8","v":""},null,null,null,{"$f":"bksingh!$ADI$8","v":""},null,null,null,{"$f":"bksingh!$ADI$8","v":""},null,null,null,{"$f":"bksingh!$ADI$8","v":""},null,null,null,{"$f":"bksingh!$ADI$8","v":""},null,null,null,{"$f":"bksingh!$ADI$8","v":""},null,null,null,{"$f":"bksingh!$ADI$8","v":""},null,null,null,{"$f":"bksingh!$ADI$8","v":""},null,null,null,{"$f":"bksingh!$ADI$8","v":""},null,null,null,{"$f":"bksingh!$ADI$8","v":""},null,null,null,{"$f":"bksingh!$ADI$8","v":""},null,null,null,{"$f":"bksingh!$ADI$8","v":""},null,null,null,{"$f":"bksingh!$ADI$8","v":""},null,null,null,{"$f":"bksingh!$ADI$8","v":""},null,null,null,{"$f":"bksingh!$ADI$8","v":""},null,null,null,{"$f":"bksingh!$ADI$8","v":""},null,null,null,{"$f":"bksingh!$ADI$8","v":""},null,null,null,{"$f":"bksingh!$ADI$8","v":""},null,null,null,{"$f":"bksingh!$ADI$8","v":""},null,null,null,{"$f":"bksingh!$ADI$8","v":""},null,null,null,{"$f":"bksingh!$ADI$8","v":""},null,null,null,{"$f":"bksingh!$ADI$8","v":""},null,null,null,{"$f":"bksingh!$ADI$8","v":""},null,null,null,{"$f":"bksingh!$ADI$8","v":""},null,null,null,{"$f":"bksingh!$ADI$8","v":""},null,null,null,{"$f":"bksingh!$ADI$8","v":""},null,null,null,{"$f":"bksingh!$ADI$8","v":""},null,null,null,{"$f":"bksingh!$ADI$8","v":""},null,null,null,{"$f":"bksingh!$ADI$8","v":""},null,null,null,{"$f":"bksingh!$ADI$8","v":""},null,null,null,{"$f":"bksingh!$ADI$8","v":""},null,null,null,{"$f":"bksingh!$ADI$8","v":""},null,null,null,{"$f":"bksingh!$ADI$8","v":""},null,null,null,{"$f":"bksingh!$ADI$8","v":""},null,null,null,{"$f":"bksingh!$ADI$8","v":""},null,null,null,{"$f":"bksingh!$ADI$8","v":""},null,null,null,{"$f":"bksingh!$ADI$8","v":""},null,null,null,{"$f":"bksingh!$ADI$8","v":""},null,null,null,{"$f":"bksingh!$ADI$8","v":""},null,null,null,{"$f":"bksingh!$ADI$8","v":""},null,null,null,{"$f":"bksingh!$ADI$8","v":""},null,null,null,{"$f":"bksingh!$ADI$8","v":""},null,null,null,{"$f":"bksingh!$ADI$8","v":""},null,null,null,{"$f":"bksingh!$ADI$8","v":""},null,null,null,{"$f":"bksingh!$ADI$8","v":""},null,null,null,{"$f":"bksingh!$ADI$8","v":""},null,null,null,{"$f":"bksingh!$ADI$8","v":""},null,null,null,{"$f":"bksingh!$ADI$8","v":""},null,null,null,{"$f":"bksingh!$ADI$8","v":""},null,null,null,{"$f":"bksingh!$ADI$8","v":""},null,null,null,{"$f":"bksingh!$ADI$8","v":""},null,null,null,{"$f":"bksingh!$ADI$8","v":""},null,null,null,{"$f":"bksingh!$ADI$8","v":""},null,null,null,{"$f":"bksingh!$ADI$8","v":""},null,null,null,{"$f":"bksingh!$ADI$8","v":""},null,null,null,{"$f":"bksingh!$ADI$8","v":""},null,null,null,{"$f":"bksingh!$ADI$8","v":""},null,null,null,{"$f":"bksingh!$ADI$8","v":""},null,null,null,{"$f":"bksingh!$ADI$8","v":""},null,null,null,{"$f":"bksingh!$ADI$8","v":""},null,null,null,{"$f":"bksingh!$ADI$8","v":""},null,null,null,{"$f":"bksingh!$ADI$8","v":""},null,null,null,{"$f":"bksingh!$ADI$8","v":""},null,null,null,{"$f":"bksingh!$ADI$8","v":""},null,null,null,{"$f":"bksingh!$ADI$8","v":""},null,null,null,{"$f":"bksingh!$ADI$8","v":""},null,null,null,{"$f":"bksingh!$ADI$8","v":""},null,null,null,{"$f":"bksingh!$ADI$8","v":""},null,null,null,{"$f":"bksingh!$ADI$8","v":""},null,null,null,{"$f":"bksingh!$ADI$8","v":""},null,null,null,{"$f":"bksingh!$ADI$8","v":""},null,null,null,{"$f":"bksingh!$ADI$8","v":""},null,null,null,{"$f":"bksingh!$ADI$8","v":""},null,null,null,{"$f":"bksingh!$ADI$8","v":""},null,null,null,{"$f":"bksingh!$ADI$8","v":""},null,null,null,{"$f":"bksingh!$ADI$8","v":""},null,null,null,{"$f":"bksingh!$ADI$8","v":""},null,null,null,{"$f":"bksingh!$ADI$8","v":""},null,null,null,{"$f":"bksingh!$ADI$8","v":""},null,null,null,{"$f":"bksingh!$ADI$8","v":""},null,null,null,{"$f":"bksingh!$ADI$8","v":""},null,null,null,{"$f":"bksingh!$ADI$8","v":""},null,null,null,{"$f":"bksingh!$ADI$8","v":""},null,null,null,{"$f":"bksingh!$ADI$8","v":""},null,null,null,{"$f":"bksingh!$ADI$8","v":""},null,null,null,{"$f":"bksingh!$ADI$8","v":""},null,null,null,{"$f":"bksingh!$ADI$8","v":""},null,null,null,{"$f":"bksingh!$ADI$8","v":""},null,null,null,{"$f":"bksingh!$ADI$8","v":""},null,null,null,{"$f":"bksingh!$ADI$8","v":""},null,null,null,{"$f":"bksingh!$ADI$8","v":""},null,null,null,{"$f":"bksingh!$ADI$8","v":""},null,null,null,{"$f":"bksingh!$ADI$8","v":""},null,null,null,{"$f":"bksingh!$ADI$8","v":""},null,null,null,{"$f":"bksingh!$ADI$8","v":""},null,null,null,{"$f":"bksingh!$ADI$8","v":""},null,null,null,{"$f":"bksingh!$ADI$8","v":""},null,null,null,{"$f":"bksingh!$ADI$8","v":""},null,null,null,{"$f":"bksingh!$ADI$8","v":""},null,null,null,{"$f":"bksingh!$ADI$8","v":""},null,null,null,{"$f":"bksingh!$ADI$8","v":""},null,null,null,{"$f":"bksingh!$ADI$8","v":""},null,null,null,{"$f":"bksingh!$ADI$8","v":""},null,null,null,{"$f":"bksingh!$ADI$8","v":""},null,null,null,{"$f":"bksingh!$ADI$8","v":""},null,null,null,{"$f":"bksingh!$ADI$8","v":""},null,null,null,{"$f":"bksingh!$ADI$8","v":""},null,null,null,{"$f":"bksingh!$ADI$8","v":""},null,null,null,{"$f":"bksingh!$ADI$8","v":""},null,null,null,{"$f":"bksingh!$ADI$8","v":""},null,null,null,{"$f":"bksingh!$ADI$8","v":""},null,null,null,{"$f":"bksingh!$ADI$8","v":""},null,null,null,{"$f":"bksingh!$ADI$8","v":""},null,null,null,{"$f":"bksingh!$ADI$8","v":""},null,null,null,{"$f":"bksingh!$ADI$8","v":""},null,null,null,{"$f":"bksingh!$ADI$8","v":""},null,null,null,{"$f":"bksingh!$ADI$8","v":""},null,null,null,{"$f":"bksingh!$ADI$8","v":""},null,null,null,{"$f":"bksingh!$ADI$8","v":""},null,null,null,{"$f":"bksingh!$ADI$8","v":""},null,null,null,{"$f":"bksingh!$ADI$8","v":""},null,null,null,{"$f":"bksingh!$ADI$8","v":""},null,null,null,{"$f":"bksingh!$ADI$8","v":""},null,null,null,{"$f":"bksingh!$ADI$8","v":""},null,null,null,{"$f":"bksingh!$ADI$8","v":""},null,null,null,{"$f":"bksingh!$ADI$8","v":""},null,null,null,{"$f":"bksingh!$ADI$8","v":""},null,null,null,{"$f":"bksingh!$ADI$8","v":""},null,null,null,{"$f":"bksingh!$ADI$8","v":""},null,null,null,{"$f":"bksingh!$ADI$8","v":""},null,null,null,{"$f":"bksingh!$ADI$8","v":""},null,null,null,{"$f":"bksingh!$ADI$8","v":""},null,null,null,{"$f":"bksingh!$ADI$8","v":""},null,null,null,{"$f":"bksingh!$ADI$8","v":""},null,null,null,{"$f":"bksingh!$ADI$8","v":""},null,null,null,{"$f":"bksingh!$ADI$8","v":""},null,null,null,{"$f":"bksingh!$ADI$8","v":""},null,null,null,{"$f":"bksingh!$ADI$8","v":""},null,null,null,{"$f":"bksingh!$ADI$8","v":""},null,null,null,{"$f":"bksingh!$ADI$8","v":""},null,null,null,{"$f":"bksingh!$ADI$8","v":""},null,null,null,{"$f":"bksingh!$ADI$8","v":""},null,null,null,{"$f":"bksingh!$ADI$8","v":""},null,null,null,{"$f":"bksingh!$ADI$8","v":""},null,null,null,{"$f":"bksingh!$ADI$8","v":""},null,null,null,{"$f":"bksingh!$ADI$8","v":""},null,null,null,{"$f":"bksingh!$ADI$8","v":""},null,null,null,{"$f":"bksingh!$ADI$8","v":""},null,null,null,{"$f":"bksingh!$ADI$8","v":""},null,null,null,{"$f":"bksingh!$ADI$8","v":""},null,null,null,{"$f":"bksingh!$ADI$8","v":""},null,null,null,{"$f":"bksingh!$ADI$8","v":""},null,null,null,{"$f":"bksingh!$ADI$8","v":""},null,null,null,{"$f":"bksingh!$ADI$8","v":""},null,null,null,{"$f":"bksingh!$ADI$8","v":""},null,null,null,{"$f":"bksingh!$ADI$8","v":""},null,null,null,{"$f":"bksingh!$ADI$8","v":""},null,null,null,{"$f":"bksingh!$ADI$8","v":""},null,null,null,{"$f":"bksingh!$ADI$8","v":""},null,null,null,{"$f":"bksingh!$ADI$8","v":""},null,null,null,{"$f":"bksingh!$ADI$8","v":""},null,null,null,{"$f":"bksingh!$ADI$8","v":""},null,null,null,{"$f":"bksingh!$ADI$8","v":""},null,null,null,{"$f":"bksingh!$ADI$8","v":""},null,null,null,{"$f":"bksingh!$ADI$8","v":""},null,null,null,{"$f":"bksingh!$ADI$8","v":""},null,null,null,{"$f":"bksingh!$ADI$8","v":""},null,null,null,{"$f":"bksingh!$ADI$8","v":""},null,null,null,{"$f":"bksingh!$ADI$8","v":""},null,null,null,{"$f":"bksingh!$ADI$8","v":""},null,null,null,{"$f":"bksingh!$ADI$8","v":""},null,null,null,{"$f":"bksingh!$ADI$8","v":""},null,null,null,{"$f":"bksingh!$ADI$8","v":""},null,null,null,{"$f":"bksingh!$ADI$8","v":""},null,null,null,{"$f":"bksingh!$ADI$8","v":""},null,null,null,{"$f":"bksingh!$ADI$8","v":""},null,null,null,{"$f":"bksingh!$ADI$8","v":""},null,null,null,{"$f":"bksingh!$ADI$8","v":""},null,null,null,{"$f":"bksingh!$ADI$8","v":""},null,null,null,{"$f":"bksingh!$ADI$8","v":""},null,null,null,{"$f":"bksingh!$ADI$8","v":""},null,null,null,{"$f":"bksingh!$ADI$8","v":""},null,null,null,{"$f":"bksingh!$ADI$8","v":""},null,null,null,{"$f":"bksingh!$ADI$8","v":""},null,null,null,{"$f":"bksingh!$ADI$8","v":""},null,null,null,{"$f":"bksingh!$ADI$8","v":""},null,null,null,{"$f":"bksingh!$ADI$8","v":""},null,null,null,{"$f":"bksingh!$ADI$8","v":""},null,null,null,{"$f":"bksingh!$ADI$8","v":""},null,null,null,{"$f":"bksingh!$ADI$8","v":""},null,null,null,{"$f":"bksingh!$ADI$8","v":""},null,null,null,{"$f":"bksingh!$ADI$8","v":""},null,null,null,{"$f":"bksingh!$ADI$8","v":""},null,null,null,{"$f":"bksingh!$ADI$8","v":""},null,null,null,{"$f":"bksingh!$ADI$8","v":""},null,null,null,{"$f":"bksingh!$ADI$8","v":""},null,null,null,{"$f":"bksingh!$ADI$8","v":""},null,null,null,{"$f":"bksingh!$ADI$8","v":""},null,null,null,{"$f":"bksingh!$ADI$8","v":""},null,null,null,{"$f":"bksingh!$ADI$8","v":""},null,null,null,{"$f":"bksingh!$ADI$8","v":""},null,null,null,{"$f":"bksingh!$ADI$8","v":""},null,null,null,{"$f":"bksingh!$ADI$8","v":""},null,null,null,{"$f":"bksingh!$ADI$8","v":""},null,null,null,{"$f":"bksingh!$ADI$8","v":""},null,null,null,{"$f":"bksingh!$ADI$8","v":""},null,null,null,{"$f":"bksingh!$ADI$8","v":""},null,null,null,{"$f":"bksingh!$ADI$8","v":""},null,null,null,{"$f":"bksingh!$ADI$8","v":""},null,null,null,{"$f":"bksingh!$ADI$8","v":""},null,null,null,{"$f":"bksingh!$ADI$8","v":""},null,null,null,{"$f":"bksingh!$ADI$8","v":""},null,null,null,{"$f":"bksingh!$ADI$8","v":""},null,null,null,{"$f":"bksingh!$ADI$8","v":""},null,null,null,{"$f":"bksingh!$ADI$8","v":""},null,null,null,{"$f":"bksingh!$ADI$8","v":""},null,null,null,{"$f":"bksingh!$ADI$8","v":""},null,null,null,{"$f":"bksingh!$ADI$8","v":""},null,null,null,{"$f":"bksingh!$ADI$8","v":""},null,null,null,{"$f":"bksingh!$ADI$8","v":""},null,null,null,{"$f":"bksingh!$ADI$8","v":""},null,null,null,{"$f":"bksingh!$ADI$8","v":""},null,null,null,{"$f":"bksingh!$ADI$8","v":""},null,null,null,{"$f":"bksingh!$ADI$8","v":""},null,null,null,{"$f":"bksingh!$ADI$8","v":""},null,null,null,{"$f":"bksingh!$ADI$8","v":""},null,null,null,{"$f":"bksingh!$ADI$8","v":""},null,null,null,{"$f":"bksingh!$ADI$8","v":""},null,null,null,{"$f":"bksingh!$ADI$8","v":""},null,null,null,{"$f":"bksingh!$ADI$8","v":""},null,null,null,{"$f":"bksingh!$ADI$8","v":""},null,null,null,{"$f":"bksingh!$ADI$8","v":""},null,null,null,{"$f":"bksingh!$ADI$8","v":""},null,null,null,{"$f":"bksingh!$ADI$8","v":""},null,null,null,{"$f":"bksingh!$ADI$8","v":""},null,null,null,{"$f":"bksingh!$ADI$8","v":""},null,null,null,{"$f":"bksingh!$ADI$8","v":""},null,null,null,{"$f":"bksingh!$ADI$8","v":""},null,null,null,{"$f":"bksingh!$ADI$8","v":""},null,null,null,{"$f":"bksingh!$ADI$8","v":""},null,null,null,{"$f":"bksingh!$ADI$8","v":""},null,null,null,{"$f":"bksingh!$ADI$8","v":""},null,null,null,{"$f":"bksingh!$ADI$8","v":""},null,null,null,{"$f":"bksingh!$ADI$8","v":""},null,null,null,{"$f":"bksingh!$ADI$8","v":""},null,null,null,{"$f":"bksingh!$ADI$8","v":""},null,null,null,{"$f":"bksingh!$ADI$8","v":""},null,null,null,{"$f":"bksingh!$ADI$8","v":""},null,null,null,{"$f":"bksingh!$ADI$8","v":""},null,null,null,{"$f":"bksingh!$ADI$8","v":""},null,null,null,{"$f":"bksingh!$ADI$8","v":""},null,null,null,{"$f":"bksingh!$ADI$8","v":""},null,null,null,{"$f":"bksingh!$ADI$8","v":""},null,null,null,{"$f":"bksingh!$ADI$8","v":""},null,null,null,{"$f":"bksingh!$ADI$8","v":""},null,null,null,{"$f":"bksingh!$ADI$8","v":""},null,null,null,{"$f":"bksingh!$ADI$8","v":""},null,null,null,{"$f":"bksingh!$ADI$8","v":""},null,null,null,{"$f":"bksingh!$ADI$8","v":""},null,null,null,{"$f":"bksingh!$ADI$8","v":""},null,null,null,{"$f":"bksingh!$ADI$8","v":""},null,null,null,{"$f":"bksingh!$ADI$8","v":""},null,null,null,{"$f":"bksingh!$ADI$8","v":""},null,null,null,{"$f":"bksingh!$ADI$8","v":""},null,null,null,{"$f":"bksingh!$ADI$8","v":""},null,null,null,{"$f":"bksingh!$ADI$8","v":""},null,null,null,{"$f":"bksingh!$ADI$8","v":""},null,null,null,{"$f":"bksingh!$ADI$8","v":""},null,null,null,{"$f":"bksingh!$ADI$8","v":""},null,null,null,{"$f":"bksingh!$ADI$8","v":""},null,null,null,{"$f":"bksingh!$ADI$8","v":""},null,null,null,{"$f":"bksingh!$ADI$8","v":""},null,null,null,{"$f":"bksingh!$ADI$8","v":""},null,null,null,{"$f":"bksingh!$ADI$8","v":""},null,null,null,{"$f":"bksingh!$ADI$8","v":""},null,null,null,{"$f":"bksingh!$ADI$8","v":""},null,null,null,{"$f":"bksingh!$ADI$8","v":""},null,null,null,{"$f":"bksingh!$ADI$8","v":""},null,null,null,{"$f":"bksingh!$ADI$8","v":""},null,null,null,{"$f":"bksingh!$ADI$8","v":""},null,null,null,{"$f":"bksingh!$ADI$8","v":""},null,null,null,{"$f":"bksingh!$ADI$8","v":""},null,null,null,{"$f":"bksingh!$ADI$8","v":""},null,null,null,{"$f":"bksingh!$ADI$8","v":""},null,null,null,{"$f":"bksingh!$ADI$8","v":""},null,null,null,{"$f":"bksingh!$ADI$8","v":""},null,null,null,{"$f":"bksingh!$ADI$8","v":""},null,null,null,{"$f":"bksingh!$ADI$8","v":""},null,null,null,{"$f":"bksingh!$ADI$8","v":""},null,null,null,{"$f":"bksingh!$ADI$8","v":""},null,null,null,{"$f":"bksingh!$ADI$8","v":""},null,null,null,{"$f":"bksingh!$ADI$8","v":""},null,null,null,{"$f":"bksingh!$ADI$8","v":""},null,null,null,{"$f":"bksingh!$ADI$8","v":""},null,null,null,{"$f":"bksingh!$ADI$8","v":""},null,null,null,{"$f":"bksingh!$ADI$8","v":""},null,null,null,{"$f":"bksingh!$ADI$8","v":""},null,null,null,{"$f":"bksingh!$ADI$8","v":""},null,null,null,{"$f":"bksingh!$ADI$8","v":""},null,null,null,{"$f":"bksingh!$ADI$8","v":""},null,null,null,{"$f":"bksingh!$ADI$8","v":""},null,null,null,{"$f":"bksingh!$ADI$8","v":""},null,null,null,{"$f":"bksingh!$ADI$8","v":""},null,null,null,{"$f":"bksingh!$ADI$8","v":""},null,null,null,{"$f":"bksingh!$ADI$8","v":""},null,null,null,{"$f":"bksingh!$ADI$8","v":""},null,null,null,{"$f":"bksingh!$ADI$8","v":""},null,null,null,{"$f":"bksingh!$ADI$8","v":""},null,null,null,{"$f":"bksingh!$ADI$8","v":""},null,null,null,{"$f":"bksingh!$ADI$8","v":""},null,null,null,{"$f":"bksingh!$ADI$8","v":""},null,null,null,{"$f":"bksingh!$ADI$8","v":""},null,null,null,{"$f":"bksingh!$ADI$8","v":""},null,null,null,{"$f":"bksingh!$ADI$8","v":""},null,null,null,{"$f":"bksingh!$ADI$8","v":""},null,null,null,{"$f":"bksingh!$ADI$8","v":""},null,null,null,{"$f":"bksingh!$ADI$8","v":""},null,null,null,{"$f":"bksingh!$ADI$8","v":""},null,null,null,{"$f":"bksingh!$ADI$8","v":""},null,null,null,{"$f":"bksingh!$ADI$8","v":""},null,null,null,{"$f":"bksingh!$ADI$8","v":""},null,null,null,{"$f":"bksingh!$ADI$8","v":""},null,null,null,{"$f":"bksingh!$ADI$8","v":""},null,null,null,{"$f":"bksingh!$ADI$8","v":""},null,null,null,{"$f":"bksingh!$ADI$8","v":""},null,null,null,{"$f":"bksingh!$ADI$8","v":""},null,null,null,{"$f":"bksingh!$ADI$8","v":""},null,null,null,{"$f":"bksingh!$ADI$8","v":""},null,null,null,{"$f":"bksingh!$ADI$8","v":""},null,null,null,{"$f":"bksingh!$ADI$8","v":""},null,null,null,{"$f":"bksingh!$ADI$8","v":""},null,null,null,{"$f":"bksingh!$ADI$8","v":""},null,null,null,{"$f":"bksingh!$ADI$8","v":""},null,null,null,{"$f":"bksingh!$ADI$8","v":""},null,null,null,{"$f":"bksingh!$ADI$8","v":""},null,null,null,{"$f":"bksingh!$ADI$8","v":""},null,null,null,{"$f":"bksingh!$ADI$8","v":""},null,null,null,{"$f":"bksingh!$ADI$8","v":""},null,null,null,{"$f":"bksingh!$ADI$8","v":""},null,null,null,{"$f":"bksingh!$ADI$8","v":""},null,null,null,{"$f":"bksingh!$ADI$8","v":""},null,null,null,{"$f":"bksingh!$ADI$8","v":""},null,null,null,{"$f":"bksingh!$ADI$8","v":""},null,null,null,{"$f":"bksingh!$ADI$8","v":""},null,null,null,{"$f":"bksingh!$ADI$8","v":""},null,null,null,{"$f":"bksingh!$ADI$8","v":""},null,null,null,{"$f":"bksingh!$ADI$8","v":""},null,null,null,{"$f":"bksingh!$ADI$8","v":""},null,null,null,{"$f":"bksingh!$ADI$8","v":""},null,null,null,{"$f":"bksingh!$ADI$8","v":""},null,null,null,{"$f":"bksingh!$ADI$8","v":""},null,null,null,{"$f":"bksingh!$ADI$8","v":""},null,null,null,{"$f":"bksingh!$ADI$8","v":""},null,null,null,{"$f":"bksingh!$ADI$8","v":""},null,null,null,{"$f":"bksingh!$ADI$8","v":""},null,null,null,{"$f":"bksingh!$ADI$8","v":""},null,null,null,{"$f":"bksingh!$ADI$8","v":""},null,null,null,{"$f":"bksingh!$ADI$8","v":""},null,null,null,{"$f":"bksingh!$ADI$8","v":""},null,null,null,{"$f":"bksingh!$ADI$8","v":""},null,null,null,{"$f":"bksingh!$ADI$8","v":""},null,null,null,{"$f":"bksingh!$ADI$8","v":""},null,null,null,{"$f":"bksingh!$ADI$8","v":""},null,null,null,{"$f":"bksingh!$ADI$8","v":""},null,null,null,{"$f":"bksingh!$ADI$8","v":""},null,null,null,{"$f":"bksingh!$ADI$8","v":""},null,null,null,{"$f":"bksingh!$ADI$8","v":""},null,null,null,{"$f":"bksingh!$ADI$8","v":""},null,null,null,{"$f":"bksingh!$ADI$8","v":""},null,null,null,{"$f":"bksingh!$ADI$8","v":""},null,null,null,{"$f":"bksingh!$ADI$8","v":""},null,null,null,{"$f":"bksingh!$ADI$8","v":""},null,null,null,{"$f":"bksingh!$ADI$8","v":""},null,null,null,{"$f":"bksingh!$ADI$8","v":""},null,null,null,{"$f":"bksingh!$ADI$8","v":""},null,null,null,{"$f":"bksingh!$ADI$8","v":""},null,null,null,{"$f":"bksingh!$ADI$8","v":""},null,null,null,{"$f":"bksingh!$ADI$8","v":""},null,null,null,{"$f":"bksingh!$ADI$8","v":""},null,null,null,{"$f":"bksingh!$ADI$8","v":""},null,null,null,{"$f":"bksingh!$ADI$8","v":""},null,null,null,{"$f":"bksingh!$ADI$8","v":""},null,null,null,{"$f":"bksingh!$ADI$8","v":""},null,null,null,{"$f":"bksingh!$ADI$8","v":""},null,null,null,{"$f":"bksingh!$ADI$8","v":""},null,null,null,{"$f":"bksingh!$ADI$8","v":""},null,null,null,{"$f":"bksingh!$ADI$8","v":""},null,null,null,{"$f":"bksingh!$ADI$8","v":""},null,null,null,{"$f":"bksingh!$ADI$8","v":""},null,null,null,{"$f":"bksingh!$ADI$8","v":""},null,null,null,{"$f":"bksingh!$ADI$8","v":""},null,null,null,{"$f":"bksingh!$ADI$8","v":""},null,null,null,{"$f":"bksingh!$ADI$8","v":""},null,null,null,{"$f":"bksingh!$ADI$8","v":""},null,null,null,{"$f":"bksingh!$ADI$8","v":""},null,null,null,{"$f":"bksingh!$ADI$8","v":""},null,null,null,{"$f":"bksingh!$ADI$8","v":""},null,null,null,{"$f":"bksingh!$ADI$8","v":""},null,null,null,{"$f":"bksingh!$ADI$8","v":""},null,null,null,{"$f":"bksingh!$ADI$8","v":""},null,null,null,{"$f":"bksingh!$ADI$8","v":""},null,null,null,{"$f":"bksingh!$ADI$8","v":""},null,null,null,{"$f":"bksingh!$ADI$8","v":""},null,null,null,{"$f":"bksingh!$ADI$8","v":""},null,null,null,{"$f":"bksingh!$ADI$8","v":""},null,null,null,{"$f":"bksingh!$ADI$8","v":""},null,null,null,{"$f":"bksingh!$ADI$8","v":""},null,null,null,{"$f":"bksingh!$ADI$8","v":""},null,null,null,{"$f":"bksingh!$ADI$8","v":""},null,null,null,{"$f":"bksingh!$ADI$8","v":""},null,null,null,{"$f":"bksingh!$ADI$8","v":""},null,null,null,{"$f":"bksingh!$ADI$8","v":""},null,null,null,{"$f":"bksingh!$ADI$8","v":""},null,null,null,{"$f":"bksingh!$ADI$8","v":""},null,null,null,{"$f":"bksingh!$ADI$8","v":""},null,null,null,{"$f":"bksingh!$ADI$8","v":""},null,null,null,{"$f":"bksingh!$ADI$8","v":""},null,null,null,{"$f":"bksingh!$ADI$8","v":""},null,null,null,{"$f":"bksingh!$ADI$8","v":""},null,null,null,{"$f":"bksingh!$ADI$8","v":""},null,null,null,{"$f":"bksingh!$ADI$8","v":""},null,null,null,{"$f":"bksingh!$ADI$8","v":""},null,null,null,{"$f":"bksingh!$ADI$8","v":""},null,null,null,{"$f":"bksingh!$ADI$8","v":""},null,null,null,{"$f":"bksingh!$ADI$8","v":""},null,null,null,{"$f":"bksingh!$ADI$8","v":""},null,null,null,{"$f":"bksingh!$ADI$8","v":""},null,null,null,{"$f":"bksingh!$ADI$8","v":""},null,null,null,{"$f":"bksingh!$ADI$8","v":""},null,null,null,{"$f":"bksingh!$ADI$8","v":""},null,null,null,{"$f":"bksingh!$ADI$8","v":""},null,null,null,{"$f":"bksingh!$ADI$8","v":""},null,null,null,{"$f":"bksingh!$ADI$8","v":""},null,null,null,{"$f":"bksingh!$ADI$8","v":""},null,null,null,{"$f":"bksingh!$ADI$8","v":""},null,null,null,{"$f":"bksingh!$ADI$8","v":""},null,null,null,{"$f":"bksingh!$ADI$8","v":""},null,null,null,{"$f":"bksingh!$ADI$8","v":""},null,null,null,{"$f":"bksingh!$ADI$8","v":""},null,null,null,{"$f":"bksingh!$ADI$8","v":""},null,null,null,{"$f":"bksingh!$ADI$8","v":""},null,null,null,{"$f":"bksingh!$ADI$8","v":""},null,null,null,{"$f":"bksingh!$ADI$8","v":""},null,null,null,{"$f":"bksingh!$ADI$8","v":""},null,null,null,{"$f":"bksingh!$ADI$8","v":""},null,null,null,{"$f":"bksingh!$ADI$8","v":""},null,null,null,{"$f":"bksingh!$ADI$8","v":""},null,null,null,{"$f":"bksingh!$ADI$8","v":""},null,null,null,{"$f":"bksingh!$ADI$8","v":""},null,null,null,{"$f":"bksingh!$ADI$8","v":""},null,null,null,{"$f":"bksingh!$ADI$8","v":""},null,null,null,{"$f":"bksingh!$ADI$8","v":""},null,null,null,{"$f":"bksingh!$ADI$8","v":""},null,null,null,{"$f":"bksingh!$ADI$8","v":""},null,null,null,{"$f":"bksingh!$ADI$8","v":""},null,null,null,{"$f":"bksingh!$ADI$8","v":""},null,null,null,{"$f":"bksingh!$ADI$8","v":""},null,null,null,{"$f":"bksingh!$ADI$8","v":""},null,null,null,{"$f":"bksingh!$ADI$8","v":""},null,null,null,{"$f":"bksingh!$ADI$8","v":""},null,null,null,{"$f":"bksingh!$ADI$8","v":""},null,null,null,{"$f":"bksingh!$ADI$8","v":""},null,null,null,{"$f":"bksingh!$ADI$8","v":""},null,null,null,{"$f":"bksingh!$ADI$8","v":""},null,null,null,{"$f":"bksingh!$ADI$8","v":""},null,null,null,{"$f":"bksingh!$ADI$8","v":""},null,null,null,{"$f":"bksingh!$ADI$8","v":""},null,null,null,{"$f":"bksingh!$ADI$8","v":""},null,null,null,{"$f":"bksingh!$ADI$8","v":""},null,null,null,{"$f":"bksingh!$ADI$8","v":""},null,null,null,{"$f":"bksingh!$ADI$8","v":""},null,null,null,{"$f":"bksingh!$ADI$8","v":""},null,null,null,{"$f":"bksingh!$ADI$8","v":""},null,null,null,{"$f":"bksingh!$ADI$8","v":""},null,null,null,{"$f":"bksingh!$ADI$8","v":""},null,null,null,{"$f":"bksingh!$ADI$8","v":""},null,null,null,{"$f":"bksingh!$ADI$8","v":""},null,null,null,{"$f":"bksingh!$ADI$8","v":""},null,null,null,{"$f":"bksingh!$ADI$8","v":""},null,null,null,{"$f":"bksingh!$ADI$8","v":""},null,null,null,{"$f":"bksingh!$ADI$8","v":""},null,null,null,{"$f":"bksingh!$ADI$8","v":""},null,null,null,{"$f":"bksingh!$ADI$8","v":""},null,null,null,{"$f":"bksingh!$ADI$8","v":""},null,null,null,{"$f":"bksingh!$ADI$8","v":""},null,null,null,{"$f":"bksingh!$ADI$8","v":""},null,null,null,{"$f":"bksingh!$ADI$8","v":""},null,null,null,{"$f":"bksingh!$ADI$8","v":""},null,null,null,{"$f":"bksingh!$ADI$8","v":""},null,null,null,{"$f":"bksingh!$ADI$8","v":""},null,null,null,{"$f":"bksingh!$ADI$8","v":""},null,null,null,{"$f":"bksingh!$ADI$8","v":""},null,null,null,{"$f":"bksingh!$ADI$8","v":""},null,null,null,{"$f":"bksingh!$ADI$8","v":""},null,null,null,{"$f":"bksingh!$ADI$8","v":""},null,null,null,{"$f":"bksingh!$ADI$8","v":""},null,null,null,{"$f":"bksingh!$ADI$8","v":""},null,null,null,{"$f":"bksingh!$ADI$8","v":""},null,null,null,{"$f":"bksingh!$ADI$8","v":""},null,null,null,{"$f":"bksingh!$ADI$8","v":""},null,null,null,{"$f":"bksingh!$ADI$8","v":""},null,null,null,{"$f":"bksingh!$ADI$8","v":""},null,null,null,{"$f":"bksingh!$ADI$8","v":""},null,null,null,{"$f":"bksingh!$ADI$8","v":""},null,null,null,{"$f":"bksingh!$ADI$8","v":""},null,null,null,{"$f":"bksingh!$ADI$8","v":""},null,null,null,{"$f":"bksingh!$ADI$8","v":""},null,null,null,{"$f":"bksingh!$ADI$8","v":""},null,null,null,{"$f":"bksingh!$ADI$8","v":""},null,null,null,{"$f":"bksingh!$ADI$8","v":""},null,null,null,{"$f":"bksingh!$ADI$8","v":""},null,null,null,{"$f":"bksingh!$ADI$8","v":""},null,null,null,{"$f":"bksingh!$ADI$8","v":""},null,null,null,{"$f":"bksingh!$ADI$8","v":""},null,null,null,{"$f":"bksingh!$ADI$8","v":""},null,null,null,{"$f":"bksingh!$ADI$8","v":""},null,null,null,{"$f":"bksingh!$ADI$8","v":""},null,null,null,{"$f":"bksingh!$ADI$8","v":""},null,null,null,{"$f":"bksingh!$ADI$8","v":""},null,null,null,{"$f":"bksingh!$ADI$8","v":""},null,null,null,{"$f":"bksingh!$ADI$8","v":""},null,null,null,{"$f":"bksingh!$ADI$8","v":""},null,null,null,{"$f":"bksingh!$ADI$8","v":""},null,null,null,{"$f":"bksingh!$ADI$8","v":""},null,null,null,{"$f":"bksingh!$ADI$8","v":""},null,null,null,{"$f":"bksingh!$ADI$8","v":""},null,null,null,{"$f":"bksingh!$ADI$8","v":""},null,null,null,{"$f":"bksingh!$ADI$8","v":""},null,null,null,{"$f":"bksingh!$ADI$8","v":""},null,null,null,{"$f":"bksingh!$ADI$8","v":""},null,null,null,{"$f":"bksingh!$ADI$8","v":""},null,null,null,{"$f":"bksingh!$ADI$8","v":""},null,null,null,{"$f":"bksingh!$ADI$8","v":""},null,null,null,{"$f":"bksingh!$ADI$8","v":""},null,null,null,{"$f":"bksingh!$ADI$8","v":""},null,null,null,{"$f":"bksingh!$ADI$8","v":""},null,null,null,{"$f":"bksingh!$ADI$8","v":""},null,null,null,{"$f":"bksingh!$ADI$8","v":""},null,null,null,{"$f":"bksingh!$ADI$8","v":""},null,null,null,{"$f":"bksingh!$ADI$8","v":""},null,null,null,{"$f":"bksingh!$ADI$8","v":""},null,null,null,{"$f":"bksingh!$ADI$8","v":""},null,null,null,{"$f":"bksingh!$ADI$8","v":""},null,null,null,{"$f":"bksingh!$ADI$8","v":""},null,null,null,{"$f":"bksingh!$ADI$8","v":""},null,null,null,{"$f":"bksingh!$ADI$8","v":""},null,null,null,{"$f":"bksingh!$ADI$8","v":""},null,null,null,{"$f":"bksingh!$ADI$8","v":""},null,null,null,{"$f":"bksingh!$ADI$8","v":""},null,null,null,{"$f":"bksingh!$ADI$8","v":""},null,null,null,{"$f":"bksingh!$ADI$8","v":""},null,null,null,{"$f":"bksingh!$ADI$8","v":""},null,null,null,{"$f":"bksingh!$ADI$8","v":""},null,null,null,{"$f":"bksingh!$ADI$8","v":""},null,null,null,{"$f":"bksingh!$ADI$8","v":""},null,null,null,{"$f":"bksingh!$ADI$8","v":""},null,null,null,{"$f":"bksingh!$ADI$8","v":""},null,null,null,{"$f":"bksingh!$ADI$8","v":""},null,null,null,{"$f":"bksingh!$ADI$8","v":""},null,null,null,{"$f":"bksingh!$ADI$8","v":""},null,null,null,{"$f":"bksingh!$ADI$8","v":""},null,null,null,{"$f":"bksingh!$ADI$8","v":""},null,null,null,{"$f":"bksingh!$ADI$8","v":""},null,null,null,{"$f":"bksingh!$ADI$8","v":""},null,null,null,{"$f":"bksingh!$ADI$8","v":""},null,null,null,{"$f":"bksingh!$ADI$8","v":""},null,null,null,{"$f":"bksingh!$ADI$8","v":""},null,null,null,{"$f":"bksingh!$ADI$8","v":""},null,null,null,{"$f":"bksingh!$ADI$8","v":""},null,null,null,{"$f":"bksingh!$ADI$8","v":""},null,null,null,{"$f":"bksingh!$ADI$8","v":""},null,null,null,{"$f":"bksingh!$ADI$8","v":""},null,null,null,{"$f":"bksingh!$ADI$8","v":""},null,null,null,{"$f":"bksingh!$ADI$8","v":""},null,null,null,{"$f":"bksingh!$ADI$8","v":""},null,null,null,{"$f":"bksingh!$ADI$8","v":""},null,null,null,{"$f":"bksingh!$ADI$8","v":""},null,null,null,{"$f":"bksingh!$ADI$8","v":""},null,null,null,{"$f":"bksingh!$ADI$8","v":""},null,null,null,{"$f":"bksingh!$ADI$8","v":""},null,null,null,{"$f":"bksingh!$ADI$8","v":""},null,null,null,{"$f":"bksingh!$ADI$8","v":""},null,null,null,{"$f":"bksingh!$ADI$8","v":""},null,null,null,{"$f":"bksingh!$ADI$8","v":""},null,null,null,{"$f":"bksingh!$ADI$8","v":""},null,null,null,{"$f":"bksingh!$ADI$8","v":""},null,null,null,{"$f":"bksingh!$ADI$8","v":""},null,null,null,{"$f":"bksingh!$ADI$8","v":""},null,null,null,{"$f":"bksingh!$ADI$8","v":""},null,null,null,{"$f":"bksingh!$ADI$8","v":""},null,null,null,{"$f":"bksingh!$ADI$8","v":""},null,null,null,{"$f":"bksingh!$ADI$8","v":""},null,null,null,{"$f":"bksingh!$ADI$8","v":""},null,null,null,{"$f":"bksingh!$ADI$8","v":""},null,null,null,{"$f":"bksingh!$ADI$8","v":""},null,null,null,{"$f":"bksingh!$ADI$8","v":""},null,null,null,{"$f":"bksingh!$ADI$8","v":""},null,null,null,{"$f":"bksingh!$ADI$8","v":""},null,null,null,{"$f":"bksingh!$ADI$8","v":""},null,null,null,{"$f":"bksingh!$ADI$8","v":""},null,null,null,{"$f":"bksingh!$ADI$8","v":""},null,null,null,{"$f":"bksingh!$ADI$8","v":""},null,null,null,{"$f":"bksingh!$ADI$8","v":""},null,null,null,{"$f":"bksingh!$ADI$8","v":""},null,null,null,{"$f":"bksingh!$ADI$8","v":""},null,null,null,{"$f":"bksingh!$ADI$8","v":""},null,null,null,{"$f":"bksingh!$ADI$8","v":""},null,null,null,{"$f":"bksingh!$ADI$8","v":""},null,null,null,{"$f":"bksingh!$ADI$8","v":""},null,null,null,{"$f":"bksingh!$ADI$8","v":""},null,null,null,{"$f":"bksingh!$ADI$8","v":""},null,null,null,{"$f":"bksingh!$ADI$8","v":""},null,null,null,{"$f":"bksingh!$ADI$8","v":""},null,null,null,{"$f":"bksingh!$ADI$8","v":""},null,null,null,{"$f":"bksingh!$ADI$8","v":""},null,null,null,{"$f":"bksingh!$ADI$8","v":""},null,null,null,{"$f":"bksingh!$ADI$8","v":""},null,null,null,{"$f":"bksingh!$ADI$8","v":""},null,null,null,{"$f":"bksingh!$ADI$8","v":""},null,null,null,{"$f":"bksingh!$ADI$8","v":""},null,null,null,{"$f":"bksingh!$ADI$8","v":""},null,null,null,{"$f":"bksingh!$ADI$8","v":""},null,null,null,{"$f":"bksingh!$ADI$8","v":""},null,null,null,{"$f":"bksingh!$ADI$8","v":""},null,null,null,{"$f":"bksingh!$ADI$8","v":""},null,null,null,{"$f":"bksingh!$ADI$8","v":""},null,null,null,{"$f":"bksingh!$ADI$8","v":""},null,null,null,{"$f":"bksingh!$ADI$8","v":""},null,null,null,{"$f":"bksingh!$ADI$8","v":""},null,null,null,{"$f":"bksingh!$ADI$8","v":""},null,null,null,{"$f":"bksingh!$ADI$8","v":""},null,null,null,{"$f":"bksingh!$ADI$8","v":""},null,null,null,{"$f":"bksingh!$ADI$8","v":""},null,null,null,{"$f":"bksingh!$ADI$8","v":""},null,null,null,{"$f":"bksingh!$ADI$8","v":""},null,null,null,{"$f":"bksingh!$ADI$8","v":""},null,null,null,{"$f":"bksingh!$ADI$8","v":""},null,null,null,{"$f":"bksingh!$ADI$8","v":""},null,null,null,{"$f":"bksingh!$ADI$8","v":""},null,null,null,{"$f":"bksingh!$ADI$8","v":""},null,null,null,{"$f":"bksingh!$ADI$8","v":""},null,null,null,{"$f":"bksingh!$ADI$8","v":""},null,null,null,{"$f":"bksingh!$ADI$8","v":""},null,null,null,{"$f":"bksingh!$ADI$8","v":""},null,null,null,{"$f":"bksingh!$ADI$8","v":""},null,null,null,{"$f":"bksingh!$ADI$8","v":""},null,null,null,{"$f":"bksingh!$ADI$8","v":""},null,null,null,{"$f":"bksingh!$ADI$8","v":""},null,null,null,{"$f":"bksingh!$ADI$8","v":""},null,null,null,{"$f":"bksingh!$ADI$8","v":""},null,null,null,{"$f":"bksingh!$ADI$8","v":""},null,null,null,{"$f":"bksingh!$ADI$8","v":""},null,null,null,{"$f":"bksingh!$ADI$8","v":""},null,null,null,{"$f":"bksingh!$ADI$8","v":""},null,null,null,{"$f":"bksingh!$ADI$8","v":""},null,null,null,{"$f":"bksingh!$ADI$8","v":""},null,null,null,{"$f":"bksingh!$ADI$8","v":""},null,null,null,{"$f":"bksingh!$ADI$8","v":""},null,null,null,{"$f":"bksingh!$ADI$8","v":""},null,null,null,{"$f":"bksingh!$ADI$8","v":""},null,null,null,{"$f":"bksingh!$ADI$8","v":""},null,null,null,{"$f":"bksingh!$ADI$8","v":""},null,null,null,{"$f":"bksingh!$ADI$8","v":""},null,null,null,{"$f":"bksingh!$ADI$8","v":""},null,null,null,{"$f":"bksingh!$ADI$8","v":""},null,null,null,{"$f":"bksingh!$ADI$8","v":""},null,null,null,{"$f":"bksingh!$ADI$8","v":""},null,null,null,{"$f":"bksingh!$ADI$8","v":""},null,null,null,{"$f":"bksingh!$ADI$8","v":""},null,null,null,{"$f":"bksingh!$ADI$8","v":""},null,null,null,{"$f":"bksingh!$ADI$8","v":""},null,null,null,{"$f":"bksingh!$ADI$8","v":""},null,null,null,{"$f":"bksingh!$ADI$8","v":""},null,null,null,{"$f":"bksingh!$ADI$8","v":""},null,null,null,{"$f":"bksingh!$ADI$8","v":""},null,null,null,{"$f":"bksingh!$ADI$8","v":""},null,null,null,{"$f":"bksingh!$ADI$8","v":""},null,null,null,{"$f":"bksingh!$ADI$8","v":""},null,null,null,{"$f":"bksingh!$ADI$8","v":""},null,null,null,{"$f":"bksingh!$ADI$8","v":""},null,null,null,{"$f":"bksingh!$ADI$8","v":""},null,null,null,{"$f":"bksingh!$ADI$8","v":""},null,null,null,{"$f":"bksingh!$ADI$8","v":""},null,null,null,{"$f":"bksingh!$ADI$8","v":""},null,null,null,{"$f":"bksingh!$ADI$8","v":""},null,null,null,{"$f":"bksingh!$ADI$8","v":""},null,null,null,{"$f":"bksingh!$ADI$8","v":""},null,null,null,{"$f":"bksingh!$ADI$8","v":""},null,null,null,{"$f":"bksingh!$ADI$8","v":""},null,null,null,{"$f":"bksingh!$ADI$8","v":""},null,null,null,{"$f":"bksingh!$ADI$8","v":""},null,null,null,{"$f":"bksingh!$ADI$8","v":""},null,null,null,{"$f":"bksingh!$ADI$8","v":""},null,null,null,{"$f":"bksingh!$ADI$8","v":""},null,null,null,{"$f":"bksingh!$ADI$8","v":""},null,null,null,{"$f":"bksingh!$ADI$8","v":""},null,null,null,{"$f":"bksingh!$ADI$8","v":""},null,null,null,{"$f":"bksingh!$ADI$8","v":""},null,null,null,{"$f":"bksingh!$ADI$8","v":""},null,null,null,{"$f":"bksingh!$ADI$8","v":""},null,null,null,{"$f":"bksingh!$ADI$8","v":""},null,null,null,{"$f":"bksingh!$ADI$8","v":""},null,null,null,{"$f":"bksingh!$ADI$8","v":""},null,null,null,{"$f":"bksingh!$ADI$8","v":""},null,null,null,{"$f":"bksingh!$ADI$8","v":""},null,null,null,{"$f":"bksingh!$ADI$8","v":""},null,null,null,{"$f":"bksingh!$ADI$8","v":""},null,null,null,{"$f":"bksingh!$ADI$8","v":""},null,null,null,{"$f":"bksingh!$ADI$8","v":""},null,null,null,{"$f":"bksingh!$ADI$8","v":""},null,null,null,{"$f":"bksingh!$ADI$8","v":""},null,null,null,{"$f":"bksingh!$ADI$8","v":""},null,null,null,{"$f":"bksingh!$ADI$8","v":""},null,null,null,{"$f":"bksingh!$ADI$8","v":""},null,null,null,{"$f":"bksingh!$ADI$8","v":""},null,null,null,{"$f":"bksingh!$ADI$8","v":""},null,null,null,{"$f":"bksingh!$ADI$8","v":""},null,null,null,{"$f":"bksingh!$ADI$8","v":""},null,null,null,{"$f":"bksingh!$ADI$8","v":""},null,null,null,{"$f":"bksingh!$ADI$8","v":""},null,null,null,{"$f":"bksingh!$ADI$8","v":""},null,null,null,{"$f":"bksingh!$ADI$8","v":""},null,null,null,{"$f":"bksingh!$ADI$8","v":""},null,null,null,{"$f":"bksingh!$ADI$8","v":""},null,null,null,{"$f":"bksingh!$ADI$8","v":""},null,null,null,{"$f":"bksingh!$ADI$8","v":""},null,null,null,{"$f":"bksingh!$ADI$8","v":""},null,null,null,{"$f":"bksingh!$ADI$8","v":""},null,null,null,{"$f":"bksingh!$ADI$8","v":""},null,null,null,{"$f":"bksingh!$ADI$8","v":""},null,null,null,{"$f":"bksingh!$ADI$8","v":""},null,null,null,{"$f":"bksingh!$ADI$8","v":""},null,null,null,{"$f":"bksingh!$ADI$8","v":""},null,null,null,{"$f":"bksingh!$ADI$8","v":""},null,null,null,{"$f":"bksingh!$ADI$8","v":""},null,null,null,{"$f":"bksingh!$ADI$8","v":""},null,null,null,{"$f":"bksingh!$ADI$8","v":""},null,null,null,{"$f":"bksingh!$ADI$8","v":""},null,null,null,{"$f":"bksingh!$ADI$8","v":""},null,null,null,{"$f":"bksingh!$ADI$8","v":""},null,null,null,{"$f":"bksingh!$ADI$8","v":""},null,null,null,{"$f":"bksingh!$ADI$8","v":""},null,null,null,{"$f":"bksingh!$ADI$8","v":""},null,null,null,{"$f":"bksingh!$ADI$8","v":""},null,null,null,{"$f":"bksingh!$ADI$8","v":""},null,null,null,{"$f":"bksingh!$ADI$8","v":""},null,null,null,{"$f":"bksingh!$ADI$8","v":""},null,null,null,{"$f":"bksingh!$ADI$8","v":""},null,null,null,{"$f":"bksingh!$ADI$8","v":""},null,null,null,{"$f":"bksingh!$ADI$8","v":""},null,null,null,{"$f":"bksingh!$ADI$8","v":""},null,null,null,{"$f":"bksingh!$ADI$8","v":""},null,null,null,{"$f":"bksingh!$ADI$8","v":""},null,null,null,{"$f":"bksingh!$ADI$8","v":""},null,null,null,{"$f":"bksingh!$ADI$8","v":""},null,null,null,{"$f":"bksingh!$ADI$8","v":""},null,null,null,{"$f":"bksingh!$ADI$8","v":""},null,null,null,{"$f":"bksingh!$ADI$8","v":""},null,null,null,{"$f":"bksingh!$ADI$8","v":""},null,null,null,{"$f":"bksingh!$ADI$8","v":""},null,null,null,{"$f":"bksingh!$ADI$8","v":""},null,null,null,{"$f":"bksingh!$ADI$8","v":""},null,null,null,{"$f":"bksingh!$ADI$8","v":""},null,null,null,{"$f":"bksingh!$ADI$8","v":""},null,null,null,{"$f":"bksingh!$ADI$8","v":""},null,null,null,{"$f":"bksingh!$ADI$8","v":""},null,null,null,{"$f":"bksingh!$ADI$8","v":""},null,null,null,{"$f":"bksingh!$ADI$8","v":""},null,null,null,{"$f":"bksingh!$ADI$8","v":""},null,null,null,{"$f":"bksingh!$ADI$8","v":""},null,null,null,{"$f":"bksingh!$ADI$8","v":""},null,null,null,{"$f":"bksingh!$ADI$8","v":""},null,null,null,{"$f":"bksingh!$ADI$8","v":""},null,null,null,{"$f":"bksingh!$ADI$8","v":""},null,null,null,{"$f":"bksingh!$ADI$8","v":""},null,null,null,{"$f":"bksingh!$ADI$8","v":""},null,null,null,{"$f":"bksingh!$ADI$8","v":""},null,null,null,{"$f":"bksingh!$ADI$8","v":""},null,null,null,{"$f":"bksingh!$ADI$8","v":""},null,null,null,{"$f":"bksingh!$ADI$8","v":""},null,null,null,{"$f":"bksingh!$ADI$8","v":""},null,null,null,{"$f":"bksingh!$ADI$8","v":""},null,null,null,{"$f":"bksingh!$ADI$8","v":""},null,null,null,{"$f":"bksingh!$ADI$8","v":""},null,null,null,{"$f":"bksingh!$ADI$8","v":""},null,null,null,{"$f":"bksingh!$ADI$8","v":""},null,null,null,{"$f":"bksingh!$ADI$8","v":""},null,null,null,{"$f":"bksingh!$ADI$8","v":""},null,null,null,{"$f":"bksingh!$ADI$8","v":""},null,null,null,{"$f":"bksingh!$ADI$8","v":""},null,null,null,{"$f":"bksingh!$ADI$8","v":""},null,null,null,{"$f":"bksingh!$ADI$8","v":""},null,null,null,{"$f":"bksingh!$ADI$8","v":""},null,null,null,{"$f":"bksingh!$ADI$8","v":""},null,null,null,{"$f":"bksingh!$ADI$8","v":""},null,null,null,{"$f":"bksingh!$ADI$8","v":""},null,null,null,{"$f":"bksingh!$ADI$8","v":""},null,null,null,{"$f":"bksingh!$ADI$8","v":""},null,null,null,{"$f":"bksingh!$ADI$8","v":""},null,null,null,{"$f":"bksingh!$ADI$8","v":""},null,null,null,{"$f":"bksingh!$ADI$8","v":""},null,null,null,{"$f":"bksingh!$ADI$8","v":""},null,null,null,{"$f":"bksingh!$ADI$8","v":""},null,null,null,{"$f":"bksingh!$ADI$8","v":""},null,null,null,{"$f":"bksingh!$ADI$8","v":""},null,null,null,{"$f":"bksingh!$ADI$8","v":""},null,null,null,{"$f":"bksingh!$ADI$8","v":""},null,null,null,{"$f":"bksingh!$ADI$8","v":""},null,null,null,{"$f":"bksingh!$ADI$8","v":""},null,null,null,{"$f":"bksingh!$ADI$8","v":""},null,null,null,{"$f":"bksingh!$ADI$8","v":""},null,null,null,{"$f":"bksingh!$ADI$8","v":""},null,null,null,{"$f":"bksingh!$ADI$8","v":""},null,null,null,{"$f":"bksingh!$ADI$8","v":""},null,null,null,{"$f":"bksingh!$ADI$8","v":""},null,null,null,{"$f":"bksingh!$ADI$8","v":""},null,null,null,{"$f":"bksingh!$ADI$8","v":""},null,null,null,{"$f":"bksingh!$ADI$8","v":""},null,null,null,{"$f":"bksingh!$ADI$8","v":""},null,null,null,{"$f":"bksingh!$ADI$8","v":""},null,null,null,{"$f":"bksingh!$ADI$8","v":""},null,null,null,{"$f":"bksingh!$ADI$8","v":""},null,null,null,{"$f":"bksingh!$ADI$8","v":""},null,null,null,{"$f":"bksingh!$ADI$8","v":""},null,null,null,{"$f":"bksingh!$ADI$8","v":""},null,null,null,{"$f":"bksingh!$ADI$8","v":""},null,null,null,{"$f":"bksingh!$ADI$8","v":""},null,null,null,{"$f":"bksingh!$ADI$8","v":""},null,null,null,{"$f":"bksingh!$ADI$8","v":""},null,null,null,{"$f":"bksingh!$ADI$8","v":""},null,null,null,{"$f":"bksingh!$ADI$8","v":""},null,null,null,{"$f":"bksingh!$ADI$8","v":""},null,null,null,{"$f":"bksingh!$ADI$8","v":""},null,null,null,{"$f":"bksingh!$ADI$8","v":""},null,null,null,{"$f":"bksingh!$ADI$8","v":""},null,null,null,{"$f":"bksingh!$ADI$8","v":""},null,null,null,{"$f":"bksingh!$ADI$8","v":""},null,null,null,{"$f":"bksingh!$ADI$8","v":""},null,null,null,{"$f":"bksingh!$ADI$8","v":""},null,null,null,{"$f":"bksingh!$ADI$8","v":""},null,null,null,{"$f":"bksingh!$ADI$8","v":""},null,null,null,{"$f":"bksingh!$ADI$8","v":""},null,null,null,{"$f":"bksingh!$ADI$8","v":""},null,null,null,{"$f":"bksingh!$ADI$8","v":""},null,null,null,{"$f":"bksingh!$ADI$8","v":""},null,null,null,{"$f":"bksingh!$ADI$8","v":""},null,null,null,{"$f":"bksingh!$ADI$8","v":""},null,null,null,{"$f":"bksingh!$ADI$8","v":""},null,null,null,{"$f":"bksingh!$ADI$8","v":""},null,null,null,{"$f":"bksingh!$ADI$8","v":""},null,null,null,{"$f":"bksingh!$ADI$8","v":""},null,null,null,{"$f":"bksingh!$ADI$8","v":""},null,null,null,{"$f":"bksingh!$ADI$8","v":""},null,null,null,{"$f":"bksingh!$ADI$8","v":""},null,null,null,{"$f":"bksingh!$ADI$8","v":""},null,null,null,{"$f":"bksingh!$ADI$8","v":""},null,null,null,{"$f":"bksingh!$ADI$8","v":""},null,null,null,{"$f":"bksingh!$ADI$8","v":""},null,null,null,{"$f":"bksingh!$ADI$8","v":""},null,null,null,{"$f":"bksingh!$ADI$8","v":""},null,null,null,{"$f":"bksingh!$ADI$8","v":""},null,null,null,{"$f":"bksingh!$ADI$8","v":""},null,null,null,{"$f":"bksingh!$ADI$8","v":""},null,null,null,{"$f":"bksingh!$ADI$8","v":""},null,null,null,{"$f":"bksingh!$ADI$8","v":""},null,null,null,{"$f":"bksingh!$ADI$8","v":""},null,null,null,{"$f":"bksingh!$ADI$8","v":""},null,null,null,{"$f":"bksingh!$ADI$8","v":""},null,null,null,{"$f":"bksingh!$ADI$8","v":""},null,null,null,{"$f":"bksingh!$ADI$8","v":""},null,null,null,{"$f":"bksingh!$ADI$8","v":""},null,null,null,{"$f":"bksingh!$ADI$8","v":""},null,null,null,{"$f":"bksingh!$ADI$8","v":""},null,null,null,{"$f":"bksingh!$ADI$8","v":""},null,null,null,{"$f":"bksingh!$ADI$8","v":""},null,null,null,{"$f":"bksingh!$ADI$8","v":""},null,null,null,{"$f":"bksingh!$ADI$8","v":""},null,null,null,{"$f":"bksingh!$ADI$8","v":""},null,null,null,{"$f":"bksingh!$ADI$8","v":""},null,null,null,{"$f":"bksingh!$ADI$8","v":""},null,null,null,{"$f":"bksingh!$ADI$8","v":""},null,null,null,{"$f":"bksingh!$ADI$8","v":""},null,null,null,{"$f":"bksingh!$ADI$8","v":""},null,null,null,{"$f":"bksingh!$ADI$8","v":""},null,null,null,{"$f":"bksingh!$ADI$8","v":""},null,null,null,{"$f":"bksingh!$ADI$8","v":""},null,null,null,{"$f":"bksingh!$ADI$8","v":""},null,null,null,{"$f":"bksingh!$ADI$8","v":""},null,null,null,{"$f":"bksingh!$ADI$8","v":""},null,null,null,{"$f":"bksingh!$ADI$8","v":""},null,null,null,{"$f":"bksingh!$ADI$8","v":""},null,null,null,{"$f":"bksingh!$ADI$8","v":""},null,null,null,{"$f":"bksingh!$ADI$8","v":""},null,null,null,{"$f":"bksingh!$ADI$8","v":""},null,null,null,{"$f":"bksingh!$ADI$8","v":""},null,null,null,{"$f":"bksingh!$ADI$8","v":""},null,null,null,{"$f":"bksingh!$ADI$8","v":""},null,null,null,{"$f":"bksingh!$ADI$8","v":""},null,null,null,{"$f":"bksingh!$ADI$8","v":""},null,null,null,{"$f":"bksingh!$ADI$8","v":""},null,null,null,{"$f":"bksingh!$ADI$8","v":""},null,null,null,{"$f":"bksingh!$ADI$8","v":""},null,null,null,{"$f":"bksingh!$ADI$8","v":""},null,null,null,{"$f":"bksingh!$ADI$8","v":""},null,null,null,{"$f":"bksingh!$ADI$8","v":""},null,null,null,{"$f":"bksingh!$ADI$8","v":""},null,null,null,{"$f":"bksingh!$ADI$8","v":""},null,null,null,{"$f":"bksingh!$ADI$8","v":""},null,null,null,{"$f":"bksingh!$ADI$8","v":""},null,null,null,{"$f":"bksingh!$ADI$8","v":""},null,null,null,{"$f":"bksingh!$ADI$8","v":""},null,null,null,{"$f":"bksingh!$ADI$8","v":""},null,null,null,{"$f":"bksingh!$ADI$8","v":""},null,null,null,{"$f":"bksingh!$ADI$8","v":""},null,null,null,{"$f":"bksingh!$ADI$8","v":""},null,null,null,{"$f":"bksingh!$ADI$8","v":""},null,null,null,{"$f":"bksingh!$ADI$8","v":""},null,null,null,{"$f":"bksingh!$ADI$8","v":""},null,null,null,{"$f":"bksingh!$ADI$8","v":""},null,null,null,{"$f":"bksingh!$ADI$8","v":""},null,null,null,{"$f":"bksingh!$ADI$8","v":""},null,null,null,{"$f":"bksingh!$ADI$8","v":""},null,null,null,{"$f":"bksingh!$ADI$8","v":""},null,null,null,{"$f":"bksingh!$ADI$8","v":""},null,null,null,{"$f":"bksingh!$ADI$8","v":""},null,null,null,{"$f":"bksingh!$ADI$8","v":""},null,null,null,{"$f":"bksingh!$ADI$8","v":""},null,null,null,{"$f":"bksingh!$ADI$8","v":""},null,null,null,{"$f":"bksingh!$ADI$8","v":""},null,null,null,{"$f":"bksingh!$ADI$8","v":""},null,null,null,{"$f":"bksingh!$ADI$8","v":""},null,null,null,{"$f":"bksingh!$ADI$8","v":""},null,null,null,{"$f":"bksingh!$ADI$8","v":""},null,null,null,{"$f":"bksingh!$ADI$8","v":""},null,null,null,{"$f":"bksingh!$ADI$8","v":""},null,null,null,{"$f":"bksingh!$ADI$8","v":""},null,null,null,{"$f":"bksingh!$ADI$8","v":""},null,null,null,{"$f":"bksingh!$ADI$8","v":""},null,null,null,{"$f":"bksingh!$ADI$8","v":""},null,null,null,{"$f":"bksingh!$ADI$8","v":""},null,null,null,{"$f":"bksingh!$ADI$8","v":""},null,null,null,{"$f":"bksingh!$ADI$8","v":""},null,null,null,{"$f":"bksingh!$ADI$8","v":""},null,null,null,{"$f":"bksingh!$ADI$8","v":""},null,null,null,{"$f":"bksingh!$ADI$8","v":""},null,null,null,{"$f":"bksingh!$ADI$8","v":""},null,null,null,{"$f":"bksingh!$ADI$8","v":""},null,null,null,{"$f":"bksingh!$ADI$8","v":""},null,null,null,{"$f":"bksingh!$ADI$8","v":""},null,null,null,{"$f":"bksingh!$ADI$8","v":""},null,null,null,{"$f":"bksingh!$ADI$8","v":""},null,null,null,{"$f":"bksingh!$ADI$8","v":""},null,null,null,{"$f":"bksingh!$ADI$8","v":""},null,null,null,{"$f":"bksingh!$ADI$8","v":""},null,null,null,{"$f":"bksingh!$ADI$8","v":""},null,null,null,{"$f":"bksingh!$ADI$8","v":""},null,null,null,{"$f":"bksingh!$ADI$8","v":""},null,null,null,{"$f":"bksingh!$ADI$8","v":""},null,null,null,{"$f":"bksingh!$ADI$8","v":""},null,null,null,{"$f":"bksingh!$ADI$8","v":""},null,null,null,{"$f":"bksingh!$ADI$8","v":""},null,null,null,{"$f":"bksingh!$ADI$8","v":""},null,null,null,{"$f":"bksingh!$ADI$8","v":""},null,null,null,{"$f":"bksingh!$ADI$8","v":""},null,null,null,{"$f":"bksingh!$ADI$8","v":""},null,null,null,{"$f":"bksingh!$ADI$8","v":""},null,null,null,{"$f":"bksingh!$ADI$8","v":""},null,null,null,{"$f":"bksingh!$ADI$8","v":""},null,null,null,{"$f":"bksingh!$ADI$8","v":""},null,null,null,{"$f":"bksingh!$ADI$8","v":""},null,null,null,{"$f":"bksingh!$ADI$8","v":""},null,null,null,{"$f":"bksingh!$ADI$8","v":""},null,null,null,{"$f":"bksingh!$ADI$8","v":""},null,null,null,{"$f":"bksingh!$ADI$8","v":""},null,null,null,{"$f":"bksingh!$ADI$8","v":""},null,null,null,{"$f":"bksingh!$ADI$8","v":""},null,null,null,{"$f":"bksingh!$ADI$8","v":""},null,null,null,{"$f":"bksingh!$ADI$8","v":""},null,null,null,{"$f":"bksingh!$ADI$8","v":""},null,null,null,{"$f":"bksingh!$ADI$8","v":""},null,null,null,{"$f":"bksingh!$ADI$8","v":""},null,null,null,{"$f":"bksingh!$ADI$8","v":""},null,null,null,{"$f":"bksingh!$ADI$8","v":""},null,null,null,{"$f":"bksingh!$ADI$8","v":""},null,null,null,{"$f":"bksingh!$ADI$8","v":""},null,null,null,{"$f":"bksingh!$ADI$8","v":""},null,null,null,{"$f":"bksingh!$ADI$8","v":""},null,null,null,{"$f":"bksingh!$ADI$8","v":""},null,null,null,{"$f":"bksingh!$ADI$8","v":""},null,null,null,{"$f":"bksingh!$ADI$8","v":""},null,null,null,{"$f":"bksingh!$ADI$8","v":""},null,null,null,{"$f":"bksingh!$ADI$8","v":""},null,null,null,{"$f":"bksingh!$ADI$8","v":""},null,null,null,{"$f":"bksingh!$ADI$8","v":""},null,null,null,{"$f":"bksingh!$ADI$8","v":""},null,null,null,{"$f":"bksingh!$ADI$8","v":""},null,null,null,{"$f":"bksingh!$ADI$8","v":""},null,null,null,{"$f":"bksingh!$ADI$8","v":""},null,null,null,{"$f":"bksingh!$ADI$8","v":""},null,null,null,{"$f":"bksingh!$ADI$8","v":""},null,null,null,{"$f":"bksingh!$ADI$8","v":""},null,null,null,{"$f":"bksingh!$ADI$8","v":""},null,null,null,{"$f":"bksingh!$ADI$8","v":""},null,null,null,{"$f":"bksingh!$ADI$8","v":""},null,null,null,{"$f":"bksingh!$ADI$8","v":""},null,null,null,{"$f":"bksingh!$ADI$8","v":""},null,null,null,{"$f":"bksingh!$ADI$8","v":""},null,null,null,{"$f":"bksingh!$ADI$8","v":""},null,null,null,{"$f":"bksingh!$ADI$8","v":""},null,null,null,{"$f":"bksingh!$ADI$8","v":""},null,null,null,{"$f":"bksingh!$ADI$8","v":""},null,null,null,{"$f":"bksingh!$ADI$8","v":""},null,null,null,{"$f":"bksingh!$ADI$8","v":""},null,null,null,{"$f":"bksingh!$ADI$8","v":""},null,null,null,{"$f":"bksingh!$ADI$8","v":""},null,null,null,{"$f":"bksingh!$ADI$8","v":""},null,null,null,{"$f":"bksingh!$ADI$8","v":""},null,null,null,{"$f":"bksingh!$ADI$8","v":""},null,null,null,{"$f":"bksingh!$ADI$8","v":""},null,null,null,{"$f":"bksingh!$ADI$8","v":""},null,null,null,{"$f":"bksingh!$ADI$8","v":""},null,null,null,{"$f":"bksingh!$ADI$8","v":""},null,null,null,{"$f":"bksingh!$ADI$8","v":""},null,null,null,{"$f":"bksingh!$ADI$8","v":""},null,null,null,{"$f":"bksingh!$ADI$8","v":""},null,null,null,{"$f":"bksingh!$ADI$8","v":""},null,null,null,{"$f":"bksingh!$ADI$8","v":""},null,null,null,{"$f":"bksingh!$ADI$8","v":""},null,null,null,{"$f":"bksingh!$ADI$8","v":""},null,null,null,{"$f":"bksingh!$ADI$8","v":""},null,null,null,{"$f":"bksingh!$ADI$8","v":""},null,null,null,{"$f":"bksingh!$ADI$8","v":""},null,null,null,{"$f":"bksingh!$ADI$8","v":""},null,null,null,{"$f":"bksingh!$ADI$8","v":""},null,null,null,{"$f":"bksingh!$ADI$8","v":""},null,null,null,{"$f":"bksingh!$ADI$8","v":""},null,null,null,{"$f":"bksingh!$ADI$8","v":""},null,null,null,{"$f":"bksingh!$ADI$8","v":""},null,null,null,{"$f":"bksingh!$ADI$8","v":""},null,null,null,{"$f":"bksingh!$ADI$8","v":""},null,null,null,{"$f":"bksingh!$ADI$8","v":""},null,null,null,{"$f":"bksingh!$ADI$8","v":""},null,null,null,{"$f":"bksingh!$ADI$8","v":""},null,null,null,{"$f":"bksingh!$ADI$8","v":""},null,null,null,{"$f":"bksingh!$ADI$8","v":""},null,null,null,{"$f":"bksingh!$ADI$8","v":""},null,null,null,{"$f":"bksingh!$ADI$8","v":""},null,null,null,{"$f":"bksingh!$ADI$8","v":""},null,null,null,{"$f":"bksingh!$ADI$8","v":""},null,null,null,{"$f":"bksingh!$ADI$8","v":""},null,null,null,{"$f":"bksingh!$ADI$8","v":""},null,null,null,{"$f":"bksingh!$ADI$8","v":""},null,null,null,{"$f":"bksingh!$ADI$8","v":""},null,null,null,{"$f":"bksingh!$ADI$8","v":""},null,null,null,{"$f":"bksingh!$ADI$8","v":""},null,null,null,{"$f":"bksingh!$ADI$8","v":""},null,null,null,{"$f":"bksingh!$ADI$8","v":""},null,null,null,{"$f":"bksingh!$ADI$8","v":""},null,null,null,{"$f":"bksingh!$ADI$8","v":""},null,null,null,{"$f":"bksingh!$ADI$8","v":""},null,null,null,{"$f":"bksingh!$ADI$8","v":""},null,null,null,{"$f":"bksingh!$ADI$8","v":""},null,null,null,{"$f":"bksingh!$ADI$8","v":""},null,null,null,{"$f":"bksingh!$ADI$8","v":""},null,null,null,{"$f":"bksingh!$ADI$8","v":""},null,null,null,{"$f":"bksingh!$ADI$8","v":""},null,null,null,{"$f":"bksingh!$ADI$8","v":""},null,null,null,{"$f":"bksingh!$ADI$8","v":""},null,null,null,{"$f":"bksingh!$ADI$8","v":""},null,null,null,{"$f":"bksingh!$ADI$8","v":""},null,null,null,{"$f":"bksingh!$ADI$8","v":""},null,null,null,{"$f":"bksingh!$ADI$8","v":""},null,null,null,{"$f":"bksingh!$ADI$8","v":""},null,null,null,{"$f":"bksingh!$ADI$8","v":""},null,null,null,{"$f":"bksingh!$ADI$8","v":""},null,null,null,{"$f":"bksingh!$ADI$8","v":""},null,null,null,{"$f":"bksingh!$ADI$8","v":""},null,null,null,{"$f":"bksingh!$ADI$8","v":""},null,null,null,{"$f":"bksingh!$ADI$8","v":""},null,null,null,{"$f":"bksingh!$ADI$8","v":""},null,null,null,{"$f":"bksingh!$ADI$8","v":""},null,null,null,{"$f":"bksingh!$ADI$8","v":""},null,null,null,{"$f":"bksingh!$ADI$8","v":""},null,null,null,{"$f":"bksingh!$ADI$8","v":""},null,null,null,{"$f":"bksingh!$ADI$8","v":""},null,null,null,{"$f":"bksingh!$ADI$8","v":""},null,null,null,{"$f":"bksingh!$ADI$8","v":""},null,null,null,{"$f":"bksingh!$ADI$8","v":""},null,null,null,{"$f":"bksingh!$ADI$8","v":""},null,null,null,{"$f":"bksingh!$ADI$8","v":""},null,null,null,{"$f":"bksingh!$ADI$8","v":""},null,null,null,{"$f":"bksingh!$ADI$8","v":""},null,null,null,{"$f":"bksingh!$ADI$8","v":""},null,null,null,{"$f":"bksingh!$ADI$8","v":""},null,null,null,{"$f":"bksingh!$ADI$8","v":""},null,null,null,{"$f":"bksingh!$ADI$8","v":""},null,null,null,{"$f":"bksingh!$ADI$8","v":""},null,null,null,{"$f":"bksingh!$ADI$8","v":""},null,null,null,{"$f":"bksingh!$ADI$8","v":""},null,null,null,{"$f":"bksingh!$ADI$8","v":""},null,null,null,{"$f":"bksingh!$ADI$8","v":""},null,null,null,{"$f":"bksingh!$ADI$8","v":""},null,null,null,{"$f":"bksingh!$ADI$8","v":""},null,null,null,{"$f":"bksingh!$ADI$8","v":""},null,null,null,{"$f":"bksingh!$ADI$8","v":""},null,null,null,{"$f":"bksingh!$ADI$8","v":""},null,null,null,{"$f":"bksingh!$ADI$8","v":""},null,null,null,{"$f":"bksingh!$ADI$8","v":""},null,null,null,{"$f":"bksingh!$ADI$8","v":""},null,null,null,{"$f":"bksingh!$ADI$8","v":""},null,null,null,{"$f":"bksingh!$ADI$8","v":""},null,null,null,{"$f":"bksingh!$ADI$8","v":""},null,null,null,{"$f":"bksingh!$ADI$8","v":""},null,null,null,{"$f":"bksingh!$ADI$8","v":""},null,null,null,{"$f":"bksingh!$ADI$8","v":""},null,null,null,{"$f":"bksingh!$ADI$8","v":""},null,null,null,{"$f":"bksingh!$ADI$8","v":""},null,null,null,{"$f":"bksingh!$ADI$8","v":""},null,null,null,{"$f":"bksingh!$ADI$8","v":""},null,null,null,{"$f":"bksingh!$ADI$8","v":""},null,null,null,{"$f":"bksingh!$ADI$8","v":""},null,null,null,{"$f":"bksingh!$ADI$8","v":""},null,null,null,{"$f":"bksingh!$ADI$8","v":""},null,null,null,{"$f":"bksingh!$ADI$8","v":""},null,null,null,{"$f":"bksingh!$ADI$8","v":""},null,null,null,{"$f":"bksingh!$ADI$8","v":""},null,null,null,{"$f":"bksingh!$ADI$8","v":""},null,null,null,{"$f":"bksingh!$ADI$8","v":""},null,null,null,{"$f":"bksingh!$ADI$8","v":""},null,null,null,{"$f":"bksingh!$ADI$8","v":""},null,null,null,{"$f":"bksingh!$ADI$8","v":""},null,null,null,{"$f":"bksingh!$ADI$8","v":""},null,null,null,{"$f":"bksingh!$ADI$8","v":""},null,null,null,{"$f":"bksingh!$ADI$8","v":""},null,null,null,{"$f":"bksingh!$ADI$8","v":""},null,null,null,{"$f":"bksingh!$ADI$8","v":""},null,null,null,{"$f":"bksingh!$ADI$8","v":""},null,null,null,{"$f":"bksingh!$ADI$8","v":""},null,null,null,{"$f":"bksingh!$ADI$8","v":""},null,null,null,{"$f":"bksingh!$ADI$8","v":""},null,null,null,{"$f":"bksingh!$ADI$8","v":""},null,null,null,{"$f":"bksingh!$ADI$8","v":""},null,null,null,{"$f":"bksingh!$ADI$8","v":""},null,null,null,{"$f":"bksingh!$ADI$8","v":""},null,null,null,{"$f":"bksingh!$ADI$8","v":""},null,null,null,{"$f":"bksingh!$ADI$8","v":""},null,null,null,{"$f":"bksingh!$ADI$8","v":""},null,null,null,{"$f":"bksingh!$ADI$8","v":""},null,null,null,{"$f":"bksingh!$ADI$8","v":""},null,null,null,{"$f":"bksingh!$ADI$8","v":""},null,null,null,{"$f":"bksingh!$ADI$8","v":""},null,null,null,{"$f":"bksingh!$ADI$8","v":""},null,null,null,{"$f":"bksingh!$ADI$8","v":""},null,null,null,{"$f":"bksingh!$ADI$8","v":""},null,null,null,{"$f":"bksingh!$ADI$8","v":""},null,null,null,{"$f":"bksingh!$ADI$8","v":""},null,null,null,{"$f":"bksingh!$ADI$8","v":""},null,null,null,{"$f":"bksingh!$ADI$8","v":""},null,null,null,{"$f":"bksingh!$ADI$8","v":""},null,null,null,{"$f":"bksingh!$ADI$8","v":""},null,null,null,{"$f":"bksingh!$ADI$8","v":""},null,null,null,{"$f":"bksingh!$ADI$8","v":""},null,null,null,{"$f":"bksingh!$ADI$8","v":""},null,null,null,{"$f":"bksingh!$ADI$8","v":""},null,null,null,{"$f":"bksingh!$ADI$8","v":""},null,null,null,{"$f":"bksingh!$ADI$8","v":""},null,null,null,{"$f":"bksingh!$ADI$8","v":""},null,null,null,{"$f":"bksingh!$ADI$8","v":""},null,null,null,{"$f":"bksingh!$ADI$8","v":""},null,null,null,{"$f":"bksingh!$ADI$8","v":""},null,null,null,{"$f":"bksingh!$ADI$8","v":""},null,null,null,{"$f":"bksingh!$ADI$8","v":""},null,null,null,{"$f":"bksingh!$ADI$8","v":""},null,null,null,{"$f":"bksingh!$ADI$8","v":""},null,null,null,{"$f":"bksingh!$ADI$8","v":""},null,null,null,{"$f":"bksingh!$ADI$8","v":""},null,null,null,{"$f":"bksingh!$ADI$8","v":""},null,null,null,{"$f":"bksingh!$ADI$8","v":""},null,null,null,{"$f":"bksingh!$ADI$8","v":""},null,null,null,{"$f":"bksingh!$ADI$8","v":""},null,null,null,{"$f":"bksingh!$ADI$8","v":""},null,null,null,{"$f":"bksingh!$ADI$8","v":""},null,null,null,{"$f":"bksingh!$ADI$8","v":""},null,null,null,{"$f":"bksingh!$ADI$8","v":""},null,null,null,{"$f":"bksingh!$ADI$8","v":""},null,null,null,{"$f":"bksingh!$ADI$8","v":""},null,null,null,{"$f":"bksingh!$ADI$8","v":""},null,null,null,{"$f":"bksingh!$ADI$8","v":""},null,null,null,{"$f":"bksingh!$ADI$8","v":""},null,null,null,{"$f":"bksingh!$ADI$8","v":""},null,null,null,{"$f":"bksingh!$ADI$8","v":""},null,null,null,{"$f":"bksingh!$ADI$8","v":""},null,null,null,{"$f":"bksingh!$ADI$8","v":""},null,null,null,{"$f":"bksingh!$ADI$8","v":""},null,null,null,{"$f":"bksingh!$ADI$8","v":""},null,null,null,{"$f":"bksingh!$ADI$8","v":""},null,null,null,{"$f":"bksingh!$ADI$8","v":""},null,null,null,{"$f":"bksingh!$ADI$8","v":""},null,null,null,{"$f":"bksingh!$ADI$8","v":""},null,null,null,{"$f":"bksingh!$ADI$8","v":""},null,null,null,{"$f":"bksingh!$ADI$8","v":""},null,null,null,{"$f":"bksingh!$ADI$8","v":""},null,null,null,{"$f":"bksingh!$ADI$8","v":""},null,null,null,{"$f":"bksingh!$ADI$8","v":""},null,null,null,{"$f":"bksingh!$ADI$8","v":""},null,null,null,{"$f":"bksingh!$ADI$8","v":""},null,null,null,{"$f":"bksingh!$ADI$8","v":""},null,null,null,{"$f":"bksingh!$ADI$8","v":""},null,null,null,{"$f":"bksingh!$ADI$8","v":""},null,null,null,{"$f":"bksingh!$ADI$8","v":""},null,null,null,{"$f":"bksingh!$ADI$8","v":""},null,null,null,{"$f":"bksingh!$ADI$8","v":""},null,null,null,{"$f":"bksingh!$ADI$8","v":""},null,null,null,{"$f":"bksingh!$ADI$8","v":""},null,null,null,{"$f":"bksingh!$ADI$8","v":""},null,null,null,{"$f":"bksingh!$ADI$8","v":""},null,null,null,{"$f":"bksingh!$ADI$8","v":""},null,null,null,{"$f":"bksingh!$ADI$8","v":""},null,null,null,{"$f":"bksingh!$ADI$8","v":""},null,null,null,{"$f":"bksingh!$ADI$8","v":""},null,null,null,{"$f":"bksingh!$ADI$8","v":""},null,null,null,{"$f":"bksingh!$ADI$8","v":""},null,null,null,{"$f":"bksingh!$ADI$8","v":""},null,null,null,{"$f":"bksingh!$ADI$8","v":""},null,null,null,{"$f":"bksingh!$ADI$8","v":""},null,null,null,{"$f":"bksingh!$ADI$8","v":""},null,null,null,{"$f":"bksingh!$ADI$8","v":""},null,null,null,{"$f":"bksingh!$ADI$8","v":""},null,null,null,{"$f":"bksingh!$ADI$8","v":""},null,null,null,{"$f":"bksingh!$ADI$8","v":""},null,null,null,{"$f":"bksingh!$ADI$8","v":""},null,null,null,{"$f":"bksingh!$ADI$8","v":""},null,null,null,{"$f":"bksingh!$ADI$8","v":""},null,null,null,{"$f":"bksingh!$ADI$8","v":""},null,null,null,{"$f":"bksingh!$ADI$8","v":""},null,null,null,{"$f":"bksingh!$ADI$8","v":""},null,null,null,{"$f":"bksingh!$ADI$8","v":""},null,null,null,{"$f":"bksingh!$ADI$8","v":""},null,null,null,{"$f":"bksingh!$ADI$8","v":""},null,null,null,{"$f":"bksingh!$ADI$8","v":""},null,null,null,{"$f":"bksingh!$ADI$8","v":""},null,null,null,{"$f":"bksingh!$ADI$8","v":""},null,null,null,{"$f":"bksingh!$ADI$8","v":""},null,null,null,{"$f":"bksingh!$ADI$8","v":""},null,null,null,{"$f":"bksingh!$ADI$8","v":""},null,null,null,{"$f":"bksingh!$ADI$8","v":""},null,null,null,{"$f":"bksingh!$ADI$8","v":""},null,null,null,{"$f":"bksingh!$ADI$8","v":""},null,null,null,{"$f":"bksingh!$ADI$8","v":""},null,null,null,{"$f":"bksingh!$ADI$8","v":""},null,null,null,{"$f":"bksingh!$ADI$8","v":""},null,null,null,{"$f":"bksingh!$ADI$8","v":""},null,null,null,{"$f":"bksingh!$ADI$8","v":""},null,null,null,{"$f":"bksingh!$ADI$8","v":""},null,null,null,{"$f":"bksingh!$ADI$8","v":""},null,null,null,{"$f":"bksingh!$ADI$8","v":""},null,null,null,{"$f":"bksingh!$ADI$8","v":""},null,null,null,{"$f":"bksingh!$ADI$8","v":""},null,null,null,{"$f":"bksingh!$ADI$8","v":""},null,null,null,{"$f":"bksingh!$ADI$8","v":""},null,null,null,{"$f":"bksingh!$ADI$8","v":""},null,null,null,{"$f":"bksingh!$ADI$8","v":""},null,null,null,{"$f":"bksingh!$ADI$8","v":""},null,null,null,{"$f":"bksingh!$ADI$8","v":""},null,null,null,{"$f":"bksingh!$ADI$8","v":""},null,null,null,{"$f":"bksingh!$ADI$8","v":""},null,null,null,{"$f":"bksingh!$ADI$8","v":""},null,null,null,{"$f":"bksingh!$ADI$8","v":""},null,null,null,{"$f":"bksingh!$ADI$8","v":""},null,null,null,{"$f":"bksingh!$ADI$8","v":""},null,null,null,{"$f":"bksingh!$ADI$8","v":""},null,null,null,{"$f":"bksingh!$ADI$8","v":""},null,null,null,{"$f":"bksingh!$ADI$8","v":""},null,null,null,{"$f":"bksingh!$ADI$8","v":""},null,null,null,{"$f":"bksingh!$ADI$8","v":""},null,null,null,{"$f":"bksingh!$ADI$8","v":""},null,null,null,{"$f":"bksingh!$ADI$8","v":""},null,null,null,{"$f":"bksingh!$ADI$8","v":""},null,null,null,{"$f":"bksingh!$ADI$8","v":""},null,null,null,{"$f":"bksingh!$ADI$8","v":""},null,null,null,{"$f":"bksingh!$ADI$8","v":""},null,null,null,{"$f":"bksingh!$ADI$8","v":""},null,null,null,{"$f":"bksingh!$ADI$8","v":""},null,null,null,{"$f":"bksingh!$ADI$8","v":""},null,null,null,{"$f":"bksingh!$ADI$8","v":""},null,null,null,{"$f":"bksingh!$ADI$8","v":""},null,null,null,{"$f":"bksingh!$ADI$8","v":""},null,null,null,{"$f":"bksingh!$ADI$8","v":""},null,null,null,{"$f":"bksingh!$ADI$8","v":""},null,null,null,{"$f":"bksingh!$ADI$8","v":""},null,null,null,{"$f":"bksingh!$ADI$8","v":""},null,null,null,{"$f":"bksingh!$ADI$8","v":""},null,null,null,{"$f":"bksingh!$ADI$8","v":""},null,null,null,{"$f":"bksingh!$ADI$8","v":""},null,null,null,{"$f":"bksingh!$ADI$8","v":""},null,null,null,{"$f":"bksingh!$ADI$8","v":""},null,null,null,{"$f":"bksingh!$ADI$8","v":""},null,null,null,{"$f":"bksingh!$ADI$8","v":""},null,null,null,{"$f":"bksingh!$ADI$8","v":""},null,null,null,{"$f":"bksingh!$ADI$8","v":""},null,null,null,{"$f":"bksingh!$ADI$8","v":""},null,null,null,{"$f":"bksingh!$ADI$8","v":""},null,null,null,{"$f":"bksingh!$ADI$8","v":""},null,null,null,{"$f":"bksingh!$ADI$8","v":""},null,null,null,{"$f":"bksingh!$ADI$8","v":""},null,null,null,{"$f":"bksingh!$ADI$8","v":""},null,null,null,{"$f":"bksingh!$ADI$8","v":""},null,null,null,{"$f":"bksingh!$ADI$8","v":""},null,null,null,{"$f":"bksingh!$ADI$8","v":""},null,null,null,{"$f":"bksingh!$ADI$8","v":""},null,null,null,{"$f":"bksingh!$ADI$8","v":""},null,null,null,{"$f":"bksingh!$ADI$8","v":""},null,null,null,{"$f":"bksingh!$ADI$8","v":""},null,null,null,{"$f":"bksingh!$ADI$8","v":""},null,null,null,{"$f":"bksingh!$ADI$8","v":""},null,null,null,{"$f":"bksingh!$ADI$8","v":""},null,null,null,{"$f":"bksingh!$ADI$8","v":""},null,null,null,{"$f":"bksingh!$ADI$8","v":""},null,null,null,{"$f":"bksingh!$ADI$8","v":""},null,null,null,{"$f":"bksingh!$ADI$8","v":""},null,null,null,{"$f":"bksingh!$ADI$8","v":""},null,null,null,{"$f":"bksingh!$ADI$8","v":""},null,null,null,{"$f":"bksingh!$ADI$8","v":""},null,null,null,{"$f":"bksingh!$ADI$8","v":""},null,null,null,{"$f":"bksingh!$ADI$8","v":""},null,null,null,{"$f":"bksingh!$ADI$8","v":""},null,null,null,{"$f":"bksingh!$ADI$8","v":""},null,null,null,{"$f":"bksingh!$ADI$8","v":""},null,null,null,{"$f":"bksingh!$ADI$8","v":""},null,null,null,{"$f":"bksingh!$ADI$8","v":""},null,null,null,{"$f":"bksingh!$ADI$8","v":""},null,null,null,{"$f":"bksingh!$ADI$8","v":""},null,null,null,{"$f":"bksingh!$ADI$8","v":""},null,null,null,{"$f":"bksingh!$ADI$8","v":""},null,null,null,{"$f":"bksingh!$ADI$8","v":""},null,null,null,{"$f":"bksingh!$ADI$8","v":""},null,null,null,{"$f":"bksingh!$ADI$8","v":""},null,null,null,{"$f":"bksingh!$ADI$8","v":""},null,null,null,{"$f":"bksingh!$ADI$8","v":""},null,null,null,{"$f":"bksingh!$ADI$8","v":""},null,null,null,{"$f":"bksingh!$ADI$8","v":""},null,null,null,{"$f":"bksingh!$ADI$8","v":""},null,null,null,{"$f":"bksingh!$ADI$8","v":""},null,null,null,{"$f":"bksingh!$ADI$8","v":""},null,null,null,{"$f":"bksingh!$ADI$8","v":""},null,null,null,{"$f":"bksingh!$ADI$8","v":""},null,null,null,{"$f":"bksingh!$ADI$8","v":""},null,null,null,{"$f":"bksingh!$ADI$8","v":""},null,null,null,{"$f":"bksingh!$ADI$8","v":""},null,null,null,{"$f":"bksingh!$ADI$8","v":""},null,null,null,{"$f":"bksingh!$ADI$8","v":""},null,null,null,{"$f":"bksingh!$ADI$8","v":""},null,null,null,{"$f":"bksingh!$ADI$8","v":""},null,null,null,{"$f":"bksingh!$ADI$8","v":""},null,null,null,{"$f":"bksingh!$ADI$8","v":""},null,null,null,{"$f":"bksingh!$ADI$8","v":""},null,null,null,{"$f":"bksingh!$ADI$8","v":""},null,null,null,{"$f":"bksingh!$ADI$8","v":""},null,null,null,{"$f":"bksingh!$ADI$8","v":""},null,null,null,{"$f":"bksingh!$ADI$8","v":""},null,null,null,{"$f":"bksingh!$ADI$8","v":""},null,null,null,{"$f":"bksingh!$ADI$8","v":""},null,null,null,{"$f":"bksingh!$ADI$8","v":""},null,null,null,{"$f":"bksingh!$ADI$8","v":""},null,null,null,{"$f":"bksingh!$ADI$8","v":""},null,null,null,{"$f":"bksingh!$ADI$8","v":""},null,null,null,{"$f":"bksingh!$ADI$8","v":""},null,null,null,{"$f":"bksingh!$ADI$8","v":""},null,null,null,{"$f":"bksingh!$ADI$8","v":""},null,null,null,{"$f":"bksingh!$ADI$8","v":""},null,null,null,{"$f":"bksingh!$ADI$8","v":""},null,null,null,{"$f":"bksingh!$ADI$8","v":""},null,null,null,{"$f":"bksingh!$ADI$8","v":""},null,null,null,{"$f":"bksingh!$ADI$8","v":""},null,null,null,{"$f":"bksingh!$ADI$8","v":""},null,null,null,{"$f":"bksingh!$ADI$8","v":""},null,null,null,{"$f":"bksingh!$ADI$8","v":""},null,null,null,{"$f":"bksingh!$ADI$8","v":""},null,null,null,{"$f":"bksingh!$ADI$8","v":""},null,null,null,{"$f":"bksingh!$ADI$8","v":""},null,null,null,{"$f":"bksingh!$ADI$8","v":""},null,null,null,{"$f":"bksingh!$ADI$8","v":""},null,null,null,{"$f":"bksingh!$ADI$8","v":""},null,null,null,{"$f":"bksingh!$ADI$8","v":""},null,null,null,{"$f":"bksingh!$ADI$8","v":""},null,null,null,{"$f":"bksingh!$ADI$8","v":""},null,null,null,{"$f":"bksingh!$ADI$8","v":""},null,null,null,{"$f":"bksingh!$ADI$8","v":""},null,null,null,{"$f":"bksingh!$ADI$8","v":""},null,null,null,{"$f":"bksingh!$ADI$8","v":""},null,null,null,{"$f":"bksingh!$ADI$8","v":""},null,null,null,{"$f":"bksingh!$ADI$8","v":""},null,null,null,{"$f":"bksingh!$ADI$8","v":""},null,null,null,{"$f":"bksingh!$ADI$8","v":""},null,null,null,{"$f":"bksingh!$ADI$8","v":""},null,null,null,{"$f":"bksingh!$ADI$8","v":""},null,null,null,{"$f":"bksingh!$ADI$8","v":""},null,null,null,{"$f":"bksingh!$ADI$8","v":""},null,null,null,{"$f":"bksingh!$ADI$8","v":""},null,null,null,{"$f":"bksingh!$ADI$8","v":""},null,null,null,{"$f":"bksingh!$ADI$8","v":""},null,null,null,{"$f":"bksingh!$ADI$8","v":""},null,null,null,{"$f":"bksingh!$ADI$8","v":""},null,null,null,{"$f":"bksingh!$ADI$8","v":""},null,null,null,{"$f":"bksingh!$ADI$8","v":""},null,null,null,{"$f":"bksingh!$ADI$8","v":""},null,null,null,{"$f":"bksingh!$ADI$8","v":""},null,null,null,{"$f":"bksingh!$ADI$8","v":""},null,null,null,{"$f":"bksingh!$ADI$8","v":""},null,null,null,{"$f":"bksingh!$ADI$8","v":""},null,null,null,{"$f":"bksingh!$ADI$8","v":""},null,null,null,{"$f":"bksingh!$ADI$8","v":""},null,null,null,{"$f":"bksingh!$ADI$8","v":""},null,null,null,{"$f":"bksingh!$ADI$8","v":""},null,null,null,{"$f":"bksingh!$ADI$8","v":""},null,null,null,{"$f":"bksingh!$ADI$8","v":""},null,null,null,{"$f":"bksingh!$ADI$8","v":""},null,null,null,{"$f":"bksingh!$ADI$8","v":""},null,null,null,{"$f":"bksingh!$ADI$8","v":""},null,null,null,{"$f":"bksingh!$ADI$8","v":""},null,null,null,{"$f":"bksingh!$ADI$8","v":""},null,null,null,{"$f":"bksingh!$ADI$8","v":""},null,null,null,{"$f":"bksingh!$ADI$8","v":""},null,null,null,{"$f":"bksingh!$ADI$8","v":""},null,null,null,{"$f":"bksingh!$ADI$8","v":""},null,null,null,{"$f":"bksingh!$ADI$8","v":""},null,null,null,{"$f":"bksingh!$ADI$8","v":""},null,null,null,{"$f":"bksingh!$ADI$8","v":""},null,null,null,{"$f":"bksingh!$ADI$8","v":""},null,null,null,{"$f":"bksingh!$ADI$8","v":""},null,null,null,{"$f":"bksingh!$ADI$8","v":""},null,null,null,{"$f":"bksingh!$ADI$8","v":""},null,null,null,{"$f":"bksingh!$ADI$8","v":""},null,null,null,{"$f":"bksingh!$ADI$8","v":""},null,null,null,{"$f":"bksingh!$ADI$8","v":""},null,null,null,{"$f":"bksingh!$ADI$8","v":""},null,null,null,{"$f":"bksingh!$ADI$8","v":""},null,null,null,{"$f":"bksingh!$ADI$8","v":""},null,null,null,{"$f":"bksingh!$ADI$8","v":""},null,null,null,{"$f":"bksingh!$ADI$8","v":""},null,null,null,{"$f":"bksingh!$ADI$8","v":""},null,null,null,{"$f":"bksingh!$ADI$8","v":""},null,null,null,{"$f":"bksingh!$ADI$8","v":""},null,null,null,{"$f":"bksingh!$ADI$8","v":""},null,null,null,{"$f":"bksingh!$ADI$8","v":""},null,null,null,{"$f":"bksingh!$ADI$8","v":""},null,null,null,{"$f":"bksingh!$ADI$8","v":""},null,null,null,{"$f":"bksingh!$ADI$8","v":""},null,null,null,{"$f":"bksingh!$ADI$8","v":""},null,null,null,{"$f":"bksingh!$ADI$8","v":""},null,null,null,{"$f":"bksingh!$ADI$8","v":""},null,null,null,{"$f":"bksingh!$ADI$8","v":""},null,null,null,{"$f":"bksingh!$ADI$8","v":""},null,null,null,{"$f":"bksingh!$ADI$8","v":""},null,null,null,{"$f":"bksingh!$ADI$8","v":""},null,null,null,{"$f":"bksingh!$ADI$8","v":""},null,null,null,{"$f":"bksingh!$ADI$8","v":""},null,null,null,{"$f":"bksingh!$ADI$8","v":""},null,null,null,{"$f":"bksingh!$ADI$8","v":""},null,null,null,{"$f":"bksingh!$ADI$8","v":""},null,null,null,{"$f":"bksingh!$ADI$8","v":""},null,null,null,{"$f":"bksingh!$ADI$8","v":""},null,null,null,{"$f":"bksingh!$ADI$8","v":""},null,null,null,{"$f":"bksingh!$ADI$8","v":""},null,null,null,{"$f":"bksingh!$ADI$8","v":""},null,null,null,{"$f":"bksingh!$ADI$8","v":""},null,null,null,{"$f":"bksingh!$ADI$8","v":""},null,null,null,{"$f":"bksingh!$ADI$8","v":""},null,null,null,{"$f":"bksingh!$ADI$8","v":""},null,null,null,{"$f":"bksingh!$ADI$8","v":""},null,null,null,{"$f":"bksingh!$ADI$8","v":""},null,null,null,{"$f":"bksingh!$ADI$8","v":""},null,null,null,{"$f":"bksingh!$ADI$8","v":""},null,null,null,{"$f":"bksingh!$ADI$8","v":""},null,null,null,{"$f":"bksingh!$ADI$8","v":""},null,null,null,{"$f":"bksingh!$ADI$8","v":""},null,null,null,{"$f":"bksingh!$ADI$8","v":""},null,null,null,{"$f":"bksingh!$ADI$8","v":""},null,null,null,{"$f":"bksingh!$ADI$8","v":""},null,null,null,{"$f":"bksingh!$ADI$8","v":""},null,null,null,{"$f":"bksingh!$ADI$8","v":""},null,null,null,{"$f":"bksingh!$ADI$8","v":""},null,null,null,{"$f":"bksingh!$ADI$8","v":""},null,null,null,{"$f":"bksingh!$ADI$8","v":""},null,null,null,{"$f":"bksingh!$ADI$8","v":""},null,null,null,{"$f":"bksingh!$ADI$8","v":""},null,null,null,{"$f":"bksingh!$ADI$8","v":""},null,null,null,{"$f":"bksingh!$ADI$8","v":""},null,null,null,{"$f":"bksingh!$ADI$8","v":""},null,null,null,{"$f":"bksingh!$ADI$8","v":""},null,null,null,{"$f":"bksingh!$ADI$8","v":""},null,null,null,{"$f":"bksingh!$ADI$8","v":""},null,null,null,{"$f":"bksingh!$ADI$8","v":""},null,null,null,{"$f":"bksingh!$ADI$8","v":""},null,null,null,{"$f":"bksingh!$ADI$8","v":""},null,null,null,{"$f":"bksingh!$ADI$8","v":""},null,null,null,{"$f":"bksingh!$ADI$8","v":""},null,null,null,{"$f":"bksingh!$ADI$8","v":""},null,null,null,{"$f":"bksingh!$ADI$8","v":""},null,null,null,{"$f":"bksingh!$ADI$8","v":""},null,null,null,{"$f":"bksingh!$ADI$8","v":""},null,null,null,{"$f":"bksingh!$ADI$8","v":""},null,null,null,{"$f":"bksingh!$ADI$8","v":""},null,null,null,{"$f":"bksingh!$ADI$8","v":""},null,null,null,{"$f":"bksingh!$ADI$8","v":""},null,null,null,{"$f":"bksingh!$ADI$8","v":""},null,null,null,{"$f":"bksingh!$ADI$8","v":""},null,null,null,{"$f":"bksingh!$ADI$8","v":""},null,null,null,{"$f":"bksingh!$ADI$8","v":""},null,null,null,{"$f":"bksingh!$ADI$8","v":""},null,null,null,{"$f":"bksingh!$ADI$8","v":""},null,null,null,{"$f":"bksingh!$ADI$8","v":""},null,null,null,{"$f":"bksingh!$ADI$8","v":""},null,null,null,{"$f":"bksingh!$ADI$8","v":""},null,null,null,{"$f":"bksingh!$ADI$8","v":""},null,null,null,{"$f":"bksingh!$ADI$8","v":""},null,null,null,{"$f":"bksingh!$ADI$8","v":""},null,null,null,{"$f":"bksingh!$ADI$8","v":""},null,null,null,{"$f":"bksingh!$ADI$8","v":""},null,null,null,{"$f":"bksingh!$ADI$8","v":""},null,null,null,{"$f":"bksingh!$ADI$8","v":""},null,null,null,{"$f":"bksingh!$ADI$8","v":""},null,null,null,{"$f":"bksingh!$ADI$8","v":""},null,null,null,{"$f":"bksingh!$ADI$8","v":""},null,null,null,{"$f":"bksingh!$ADI$8","v":""},null,null,null,{"$f":"bksingh!$ADI$8","v":""},null,null,null,{"$f":"bksingh!$ADI$8","v":""},null,null,null,{"$f":"bksingh!$ADI$8","v":""},null,null,null,{"$f":"bksingh!$ADI$8","v":""},null,null,null,{"$f":"bksingh!$ADI$8","v":""},null,null,null,{"$f":"bksingh!$ADI$8","v":""},null,null,null,{"$f":"bksingh!$ADI$8","v":""},null,null,null,{"$f":"bksingh!$ADI$8","v":""},null,null,null,{"$f":"bksingh!$ADI$8","v":""},null,null,null,{"$f":"bksingh!$ADI$8","v":""},null,null,null,{"$f":"bksingh!$ADI$8","v":""},null,null,null,{"$f":"bksingh!$ADI$8","v":""},null,null,null,{"$f":"bksingh!$ADI$8","v":""},null,null,null,{"$f":"bksingh!$ADI$8","v":""},null,null,null,{"$f":"bksingh!$ADI$8","v":""},null,null,null,{"$f":"bksingh!$ADI$8","v":""},null,null,null,{"$f":"bksingh!$ADI$8","v":""},null,null,null,{"$f":"bksingh!$ADI$8","v":""},null,null,null,{"$f":"bksingh!$ADI$8","v":""},null,null,null,{"$f":"bksingh!$ADI$8","v":""},null,null,null,{"$f":"bksingh!$ADI$8","v":""},null,null,null,{"$f":"bksingh!$ADI$8","v":""},null,null,null,{"$f":"bksingh!$ADI$8","v":""},null,null,null,{"$f":"bksingh!$ADI$8","v":""},null,null,null,{"$f":"bksingh!$ADI$8","v":""},null,null,null,{"$f":"bksingh!$ADI$8","v":""},null,null,null,{"$f":"bksingh!$ADI$8","v":""},null,null,null,{"$f":"bksingh!$ADI$8","v":""},null,null,null,{"$f":"bksingh!$ADI$8","v":""},null,null,null,{"$f":"bksingh!$ADI$8","v":""},null,null,null,{"$f":"bksingh!$ADI$8","v":""},null,null,null,{"$f":"bksingh!$ADI$8","v":""},null,null,null,{"$f":"bksingh!$ADI$8","v":""},null,null,null,{"$f":"bksingh!$ADI$8","v":""},null,null,null,{"$f":"bksingh!$ADI$8","v":""},null,null,null,{"$f":"bksingh!$ADI$8","v":""},null,null,null,{"$f":"bksingh!$ADI$8","v":""},null,null,null,{"$f":"bksingh!$ADI$8","v":""},null,null,null,{"$f":"bksingh!$ADI$8","v":""},null,null,null,{"$f":"bksingh!$ADI$8","v":""},null,null,null,{"$f":"bksingh!$ADI$8","v":""},null,null,null,{"$f":"bksingh!$ADI$8","v":""},null,null,null,{"$f":"bksingh!$ADI$8","v":""},null,null,null,{"$f":"bksingh!$ADI$8","v":""},null,null,null,{"$f":"bksingh!$ADI$8","v":""},null,null,null,{"$f":"bksingh!$ADI$8","v":""},null,null,null,{"$f":"bksingh!$ADI$8","v":""},null,null,null,{"$f":"bksingh!$ADI$8","v":""},null,null,null,{"$f":"bksingh!$ADI$8","v":""},null,null,null,{"$f":"bksingh!$ADI$8","v":""},null,null,null,{"$f":"bksingh!$ADI$8","v":""},null,null,null,{"$f":"bksingh!$ADI$8","v":""},null,null,null,{"$f":"bksingh!$ADI$8","v":""},null,null,null,{"$f":"bksingh!$ADI$8","v":""},null,null,null,{"$f":"bksingh!$ADI$8","v":""},null,null,null,{"$f":"bksingh!$ADI$8","v":""},null,null,null,{"$f":"bksingh!$ADI$8","v":""},null,null,null,{"$f":"bksingh!$ADI$8","v":""},null,null,null,{"$f":"bksingh!$ADI$8","v":""},null,null,null,{"$f":"bksingh!$ADI$8","v":""},null,null,null,{"$f":"bksingh!$ADI$8","v":""},null,null,null,{"$f":"bksingh!$ADI$8","v":""},null,null,null,{"$f":"bksingh!$ADI$8","v":""},null,null,null,{"$f":"bksingh!$ADI$8","v":""},null,null,null,{"$f":"bksingh!$ADI$8","v":""},null,null,null,{"$f":"bksingh!$ADI$8","v":""},null,null,null,{"$f":"bksingh!$ADI$8","v":""},null,null,null,{"$f":"bksingh!$ADI$8","v":""},null,null,null,{"$f":"bksingh!$ADI$8","v":""},null,null,null,{"$f":"bksingh!$ADI$8","v":""},null,null,null,{"$f":"bksingh!$ADI$8","v":""},null,null,null,{"$f":"bksingh!$ADI$8","v":""},null,null,null,{"$f":"bksingh!$ADI$8","v":""},null,null,null,{"$f":"bksingh!$ADI$8","v":""},null,null,null,{"$f":"bksingh!$ADI$8","v":""},null,null,null,{"$f":"bksingh!$ADI$8","v":""},null,null,null,{"$f":"bksingh!$ADI$8","v":""},null,null,null,{"$f":"bksingh!$ADI$8","v":""},null,null,null,{"$f":"bksingh!$ADI$8","v":""},null,null,null,{"$f":"bksingh!$ADI$8","v":""},null,null,null,{"$f":"bksingh!$ADI$8","v":""},null,null,null,{"$f":"bksingh!$ADI$8","v":""},null,null,null,{"$f":"bksingh!$ADI$8","v":""},null,null,null,{"$f":"bksingh!$ADI$8","v":""},null,null,null,{"$f":"bksingh!$ADI$8","v":""},null,null,null,{"$f":"bksingh!$ADI$8","v":""},null,null,null,{"$f":"bksingh!$ADI$8","v":""},null,null,null,{"$f":"bksingh!$ADI$8","v":""},null,null,null,{"$f":"bksingh!$ADI$8","v":""},null,null,null,{"$f":"bksingh!$ADI$8","v":""},null,null,null,{"$f":"bksingh!$ADI$8","v":""},null,null,null,{"$f":"bksingh!$ADI$8","v":""},null,null,null,{"$f":"bksingh!$ADI$8","v":""},null,null,null,{"$f":"bksingh!$ADI$8","v":""},null,null,null,{"$f":"bksingh!$ADI$8","v":""},null,null,null,{"$f":"bksingh!$ADI$8","v":""},null,null,null,{"$f":"bksingh!$ADI$8","v":""},null,null,null,{"$f":"bksingh!$ADI$8","v":""},null,null,null,{"$f":"bksingh!$ADI$8","v":""},null,null,null,{"$f":"bksingh!$ADI$8","v":""},null,null,null,{"$f":"bksingh!$ADI$8","v":""},null,null,null,{"$f":"bksingh!$ADI$8","v":""},null,null,null,{"$f":"bksingh!$ADI$8","v":""},null,null,null,{"$f":"bksingh!$ADI$8","v":""},null,null,null,{"$f":"bksingh!$ADI$8","v":""},null,null,null,{"$f":"bksingh!$ADI$8","v":""},null,null,null,{"$f":"bksingh!$ADI$8","v":""},null,null,null,{"$f":"bksingh!$ADI$8","v":""},null,null,null,{"$f":"bksingh!$ADI$8","v":""},null,null,null,{"$f":"bksingh!$ADI$8","v":""},null,null,null,{"$f":"bksingh!$ADI$8","v":""},null,null,null,{"$f":"bksingh!$ADI$8","v":""},null,null,null,{"$f":"bksingh!$ADI$8","v":""},null,null,null,{"$f":"bksingh!$ADI$8","v":""},null,null,null,{"$f":"bksingh!$ADI$8","v":""},null,null,null,{"$f":"bksingh!$ADI$8","v":""},null,null,null,{"$f":"bksingh!$ADI$8","v":""},null,null,null,{"$f":"bksingh!$ADI$8","v":""},null,null,null,{"$f":"bksingh!$ADI$8","v":""},null,null,null,{"$f":"bksingh!$ADI$8","v":""},null,null,null,{"$f":"bksingh!$ADI$8","v":""},null,null,null,{"$f":"bksingh!$ADI$8","v":""},null,null,null,{"$f":"bksingh!$ADI$8","v":""},null,null,null,{"$f":"bksingh!$ADI$8","v":""},null,null,null,{"$f":"bksingh!$ADI$8","v":""},null,null,null,{"$f":"bksingh!$ADI$8","v":""},null,null,null,{"$f":"bksingh!$ADI$8","v":""},null,null,null,{"$f":"bksingh!$ADI$8","v":""},null,null,null,{"$f":"bksingh!$ADI$8","v":""},null,null,null,{"$f":"bksingh!$ADI$8","v":""},null,null,null,{"$f":"bksingh!$ADI$8","v":""},null,null,null,{"$f":"bksingh!$ADI$8","v":""},null,null,null,{"$f":"bksingh!$ADI$8","v":""},null,null,null,{"$f":"bksingh!$ADI$8","v":""},null,null,null,{"$f":"bksingh!$ADI$8","v":""},null,null,null,{"$f":"bksingh!$ADI$8","v":""},null,null,null,{"$f":"bksingh!$ADI$8","v":""},null,null,null,{"$f":"bksingh!$ADI$8","v":""},null,null,null,{"$f":"bksingh!$ADI$8","v":""},null,null,null,{"$f":"bksingh!$ADI$8","v":""},null,null,null,{"$f":"bksingh!$ADI$8","v":""},null,null,null,{"$f":"bksingh!$ADI$8","v":""},null,null,null,{"$f":"bksingh!$ADI$8","v":""},null,null,null,{"$f":"bksingh!$ADI$8","v":""},null,null,null,{"$f":"bksingh!$ADI$8","v":""},null,null,null,{"$f":"bksingh!$ADI$8","v":""},null,null,null,{"$f":"bksingh!$ADI$8","v":""},null,null,null,{"$f":"bksingh!$ADI$8","v":""},null,null,null,{"$f":"bksingh!$ADI$8","v":""},null,null,null,{"$f":"bksingh!$ADI$8","v":""},null,null,null,{"$f":"bksingh!$ADI$8","v":""},null,null,null,{"$f":"bksingh!$ADI$8","v":""},null,null,null,{"$f":"bksingh!$ADI$8","v":""},null,null,null,{"$f":"bksingh!$ADI$8","v":""},null,null,null,{"$f":"bksingh!$ADI$8","v":""},null,null,null,{"$f":"bksingh!$ADI$8","v":""},null,null,null,{"$f":"bksingh!$ADI$8","v":""},null,null,null,{"$f":"bksingh!$ADI$8","v":""},null,null,null,{"$f":"bksingh!$ADI$8","v":""},null,null,null,{"$f":"bksingh!$ADI$8","v":""},null,null,null,{"$f":"bksingh!$ADI$8","v":""},null,null,null,{"$f":"bksingh!$ADI$8","v":""},null,null,null,{"$f":"bksingh!$ADI$8","v":""},null,null,null,{"$f":"bksingh!$ADI$8","v":""},null,null,null,{"$f":"bksingh!$ADI$8","v":""},null,null,null,{"$f":"bksingh!$ADI$8","v":""},null,null,null,{"$f":"bksingh!$ADI$8","v":""},null,null,null,{"$f":"bksingh!$ADI$8","v":""},null,null,null,{"$f":"bksingh!$ADI$8","v":""},null,null,null,{"$f":"bksingh!$ADI$8","v":""},null,null,null,{"$f":"bksingh!$ADI$8","v":""},null,null,null,{"$f":"bksingh!$ADI$8","v":""},null,null,null,{"$f":"bksingh!$ADI$8","v":""},null,null,null,{"$f":"bksingh!$ADI$8","v":""},null,null,null,{"$f":"bksingh!$ADI$8","v":""},null,null,null,{"$f":"bksingh!$ADI$8","v":""},null,null,null,{"$f":"bksingh!$ADI$8","v":""},null,null,null,{"$f":"bksingh!$ADI$8","v":""},null,null,null,{"$f":"bksingh!$ADI$8","v":""},null,null,null,{"$f":"bksingh!$ADI$8","v":""},null,null,null,{"$f":"bksingh!$ADI$8","v":""},null,null,null,{"$f":"bksingh!$ADI$8","v":""},null,null,null,{"$f":"bksingh!$ADI$8","v":""},null,null,null,{"$f":"bksingh!$ADI$8","v":""},null,null,null,{"$f":"bksingh!$ADI$8","v":""},null,null,null,{"$f":"bksingh!$ADI$8","v":""},null,null,null,{"$f":"bksingh!$ADI$8","v":""},null,null,null,{"$f":"bksingh!$ADI$8","v":""},null,null,null,{"$f":"bksingh!$ADI$8","v":""},null,null,null,{"$f":"bksingh!$ADI$8","v":""},null,null,null,{"$f":"bksingh!$ADI$8","v":""},null,null,null,{"$f":"bksingh!$ADI$8","v":""},null,null,null,{"$f":"bksingh!$ADI$8","v":""},null,null,null,{"$f":"bksingh!$ADI$8","v":""},null,null,null,{"$f":"bksingh!$ADI$8","v":""},null,null,null,{"$f":"bksingh!$ADI$8","v":""},null,null,null,{"$f":"bksingh!$ADI$8","v":""},null,null,null,{"$f":"bksingh!$ADI$8","v":""},null,null,null,{"$f":"bksingh!$ADI$8","v":""},null,null,null,{"$f":"bksingh!$ADI$8","v":""},null,null,null,{"$f":"bksingh!$ADI$8","v":""},null,null,null,{"$f":"bksingh!$ADI$8","v":""},null,null,null,{"$f":"bksingh!$ADI$8","v":""},null,null,null,{"$f":"bksingh!$ADI$8","v":""},null,null,null,{"$f":"bksingh!$ADI$8","v":""},null,null,null,{"$f":"bksingh!$ADI$8","v":""},null,null,null,{"$f":"bksingh!$ADI$8","v":""},null,null,null,{"$f":"bksingh!$ADI$8","v":""},null,null,null,{"$f":"bksingh!$ADI$8","v":""},null,null,null,{"$f":"bksingh!$ADI$8","v":""},null,null,null,{"$f":"bksingh!$ADI$8","v":""},null,null,null,{"$f":"bksingh!$ADI$8","v":""},null,null,null,{"$f":"bksingh!$ADI$8","v":""},null,null,null,{"$f":"bksingh!$ADI$8","v":""},null,null,null,{"$f":"bksingh!$ADI$8","v":""},null,null,null,{"$f":"bksingh!$ADI$8","v":""},null,null,null,{"$f":"bksingh!$ADI$8","v":""},null,null,null,{"$f":"bksingh!$ADI$8","v":""},null,null,null,{"$f":"bksingh!$ADI$8","v":""},null,null,null,{"$f":"bksingh!$ADI$8","v":""},null,null,null,{"$f":"bksingh!$ADI$8","v":""},null,null,null,{"$f":"bksingh!$ADI$8","v":""},null,null,null,{"$f":"bksingh!$ADI$8","v":""},null,null,null,{"$f":"bksingh!$ADI$8","v":""},null,null,null,{"$f":"bksingh!$ADI$8","v":""},null,null,null,{"$f":"bksingh!$ADI$8","v":""},null,null,null,{"$f":"bksingh!$ADI$8","v":""},null,null,null,{"$f":"bksingh!$ADI$8","v":""},null,null,null,{"$f":"bksingh!$ADI$8","v":""},null,null,null,{"$f":"bksingh!$ADI$8","v":""},null,null,null,{"$f":"bksingh!$ADI$8","v":""},null,null,null,{"$f":"bksingh!$ADI$8","v":""},null,null,null,{"$f":"bksingh!$ADI$8","v":""},null,null,null,{"$f":"bksingh!$ADI$8","v":""},null,null,null,{"$f":"bksingh!$ADI$8","v":""},null,null,null,{"$f":"bksingh!$ADI$8","v":""},null,null,null,{"$f":"bksingh!$ADI$8","v":""},null,null,null,{"$f":"bksingh!$ADI$8","v":""},null,null,null,{"$f":"bksingh!$ADI$8","v":""},null,null,null,{"$f":"bksingh!$ADI$8","v":""},null,null,null,{"$f":"bksingh!$ADI$8","v":""},null,null,null,{"$f":"bksingh!$ADI$8","v":""},null,null,null,{"$f":"bksingh!$ADI$8","v":""},null,null,null,{"$f":"bksingh!$ADI$8","v":""},null,null,null,{"$f":"bksingh!$ADI$8","v":""},null,null,null,{"$f":"bksingh!$ADI$8","v":""},null,null,null,{"$f":"bksingh!$ADI$8","v":""},null,null,null,{"$f":"bksingh!$ADI$8","v":""},null,null,null,{"$f":"bksingh!$ADI$8","v":""},null,null,null,{"$f":"bksingh!$ADI$8","v":""},null,null,null,{"$f":"bksingh!$ADI$8","v":""},null,null,null,{"$f":"bksingh!$ADI$8","v":""},null,null,null,{"$f":"bksingh!$ADI$8","v":""},null,null,null,{"$f":"bksingh!$ADI$8","v":""},null,null,null,{"$f":"bksingh!$ADI$8","v":""},null,null,null,{"$f":"bksingh!$ADI$8","v":""},null,null,null,{"$f":"bksingh!$ADI$8","v":""},null,null,null,{"$f":"bksingh!$ADI$8","v":""},null,null,null,{"$f":"bksingh!$ADI$8","v":""},null,null,null,{"$f":"bksingh!$ADI$8","v":""},null,null,null,{"$f":"bksingh!$ADI$8","v":""},null,null,null,{"$f":"bksingh!$ADI$8","v":""},null,null,null,{"$f":"bksingh!$ADI$8","v":""},null,null,null,{"$f":"bksingh!$ADI$8","v":""},null,null,null,{"$f":"bksingh!$ADI$8","v":""},null,null,null,{"$f":"bksingh!$ADI$8","v":""},null,null,null,{"$f":"bksingh!$ADI$8","v":""},null,null,null,{"$f":"bksingh!$ADI$8","v":""},null,null,null,{"$f":"bksingh!$ADI$8","v":""},null,null,null,{"$f":"bksingh!$ADI$8","v":""},null,null,null,{"$f":"bksingh!$ADI$8","v":""},null,null,null,{"$f":"bksingh!$ADI$8","v":""},null,null,null,{"$f":"bksingh!$ADI$8","v":""},null,null,null,{"$f":"bksingh!$ADI$8","v":""},null,null,null,{"$f":"bksingh!$ADI$8","v":""},null,null,null,{"$f":"bksingh!$ADI$8","v":""},null,null,null,{"$f":"bksingh!$ADI$8","v":""},null,null,null,{"$f":"bksingh!$ADI$8","v":""},null,null,null,{"$f":"bksingh!$ADI$8","v":""},null,null,null,{"$f":"bksingh!$ADI$8","v":""},null,null,null,{"$f":"bksingh!$ADI$8","v":""},null,null,null,{"$f":"bksingh!$ADI$8","v":""},null,null,null,{"$f":"bksingh!$ADI$8","v":""},null,null,null,{"$f":"bksingh!$ADI$8","v":""},null,null,null,{"$f":"bksingh!$ADI$8","v":""},null,null,null,{"$f":"bksingh!$ADI$8","v":""},null,null,null,{"$f":"bksingh!$ADI$8","v":""},null,null,null,{"$f":"bksingh!$ADI$8","v":""},null,null,null,{"$f":"bksingh!$ADI$8","v":""},null,null,null,{"$f":"bksingh!$ADI$8","v":""},null,null,null,{"$f":"bksingh!$ADI$8","v":""},null,null,null,{"$f":"bksingh!$ADI$8","v":""},null,null,null,{"$f":"bksingh!$ADI$8","v":""},null,null,null,{"$f":"bksingh!$ADI$8","v":""},null,null,null,{"$f":"bksingh!$ADI$8","v":""},null,null,null,{"$f":"bksingh!$ADI$8","v":""},null,null,null,{"$f":"bksingh!$ADI$8","v":""},null,null,null,{"$f":"bksingh!$ADI$8","v":""},null,null,null,{"$f":"bksingh!$ADI$8","v":""},null,null,null,{"$f":"bksingh!$ADI$8","v":""},null,null,null,{"$f":"bksingh!$ADI$8","v":""},null,null,null,{"$f":"bksingh!$ADI$8","v":""},null,null,null,{"$f":"bksingh!$ADI$8","v":""},null,null,null,{"$f":"bksingh!$ADI$8","v":""},null,null,null,{"$f":"bksingh!$ADI$8","v":""},null,null,null,{"$f":"bksingh!$ADI$8","v":""},null,null,null,{"$f":"bksingh!$ADI$8","v":""},null,null,null,{"$f":"bksingh!$ADI$8","v":""},null,null,null,{"$f":"bksingh!$ADI$8","v":""},null,null,null,{"$f":"bksingh!$ADI$8","v":""},null,null,null,{"$f":"bksingh!$ADI$8","v":""},null,null,null,{"$f":"bksingh!$ADI$8","v":""},null,null,null,{"$f":"bksingh!$ADI$8","v":""},null,null,null,{"$f":"bksingh!$ADI$8","v":""},null,null,null,{"$f":"bksingh!$ADI$8","v":""},null,null,null,{"$f":"bksingh!$ADI$8","v":""},null,null,null,{"$f":"bksingh!$ADI$8","v":""},null,null,null,{"$f":"bksingh!$ADI$8","v":""},null,null,null,{"$f":"bksingh!$ADI$8","v":""},null,null,null,{"$f":"bksingh!$ADI$8","v":""},null,null,null,{"$f":"bksingh!$ADI$8","v":""},null,null,null,{"$f":"bksingh!$ADI$8","v":""},null,null,null,{"$f":"bksingh!$ADI$8","v":""},null,null,null,{"$f":"bksingh!$ADI$8","v":""},null,null,null,{"$f":"bksingh!$ADI$8","v":""},null,null,null,{"$f":"bksingh!$ADI$8","v":""},null,null,null,{"$f":"bksingh!$ADI$8","v":""},null,null,null,{"$f":"bksingh!$ADI$8","v":""},null,null,null,{"$f":"bksingh!$ADI$8","v":""},null,null,null,{"$f":"bksingh!$ADI$8","v":""},null,null,null,{"$f":"bksingh!$ADI$8","v":""},null,null,null,{"$f":"bksingh!$ADI$8","v":""},null,null,null,{"$f":"bksingh!$ADI$8","v":""},null,null,null,{"$f":"bksingh!$ADI$8","v":""},null,null,null,{"$f":"bksingh!$ADI$8","v":""},null,null,null,{"$f":"bksingh!$ADI$8","v":""},null,null,null,{"$f":"bksingh!$ADI$8","v":""},null,null,null,{"$f":"bksingh!$ADI$8","v":""},null,null,null,{"$f":"bksingh!$ADI$8","v":""},null,null,null,{"$f":"bksingh!$ADI$8","v":""},null,null,null,{"$f":"bksingh!$ADI$8","v":""},null,null,null,{"$f":"bksingh!$ADI$8","v":""},null,null,null,{"$f":"bksingh!$ADI$8","v":""},null,null,null,{"$f":"bksingh!$ADI$8","v":""},null,null,null,{"$f":"bksingh!$ADI$8","v":""},null,null,null,{"$f":"bksingh!$ADI$8","v":""},null,null,null,{"$f":"bksingh!$ADI$8","v":""},null,null,null,{"$f":"bksingh!$ADI$8","v":""},null,null,null,{"$f":"bksingh!$ADI$8","v":""},null,null,null,{"$f":"bksingh!$ADI$8","v":""},null,null,null,{"$f":"bksingh!$ADI$8","v":""},null,null,null,{"$f":"bksingh!$ADI$8","v":""},null,null,null,{"$f":"bksingh!$ADI$8","v":""},null,null,null,{"$f":"bksingh!$ADI$8","v":""},null,null,null,{"$f":"bksingh!$ADI$8","v":""},null,null,null,{"$f":"bksingh!$ADI$8","v":""},null,null,null,{"$f":"bksingh!$ADI$8","v":""},null,null,null,{"$f":"bksingh!$ADI$8","v":""},null,null,null,{"$f":"bksingh!$ADI$8","v":""},null,null,null,{"$f":"bksingh!$ADI$8","v":""},null,null,null,{"$f":"bksingh!$ADI$8","v":""},null,null,null,{"$f":"bksingh!$ADI$8","v":""},null,null,null,{"$f":"bksingh!$ADI$8","v":""},null,null,null,{"$f":"bksingh!$ADI$8","v":""},null,null,null,{"$f":"bksingh!$ADI$8","v":""},null,null,null,{"$f":"bksingh!$ADI$8","v":""},null,null,null,{"$f":"bksingh!$ADI$8","v":""},null,null,null,{"$f":"bksingh!$ADI$8","v":""},null,null,null,{"$f":"bksingh!$ADI$8","v":""},null,null,null,{"$f":"bksingh!$ADI$8","v":""},null,null,null,{"$f":"bksingh!$ADI$8","v":""},null,null,null,{"$f":"bksingh!$ADI$8","v":""},null,null,null,{"$f":"bksingh!$ADI$8","v":""},null,null,null,{"$f":"bksingh!$ADI$8","v":""},null,null,null,{"$f":"bksingh!$ADI$8","v":""},null,null,null,{"$f":"bksingh!$ADI$8","v":""},null,null,null,{"$f":"bksingh!$ADI$8","v":""},null,null,null,{"$f":"bksingh!$ADI$8","v":""},null,null,null,{"$f":"bksingh!$ADI$8","v":""},null,null,null,{"$f":"bksingh!$ADI$8","v":""},null,null,null,{"$f":"bksingh!$ADI$8","v":""},null,null,null,{"$f":"bksingh!$ADI$8","v":""},null,null,null,{"$f":"bksingh!$ADI$8","v":""},null,null,null,{"$f":"bksingh!$ADI$8","v":""},null,null,null,{"$f":"bksingh!$ADI$8","v":""},null,null,null,{"$f":"bksingh!$ADI$8","v":""},null,null,null,{"$f":"bksingh!$ADI$8","v":""},null,null,null,{"$f":"bksingh!$ADI$8","v":""},null,null,null,{"$f":"bksingh!$ADI$8","v":""},null,null,null,{"$f":"bksingh!$ADI$8","v":""},null,null,null,{"$f":"bksingh!$ADI$8","v":""},null,null,null,{"$f":"bksingh!$ADI$8","v":""},null,null,null,{"$f":"bksingh!$ADI$8","v":""},null,null,null,{"$f":"bksingh!$ADI$8","v":""},null,null,null,{"$f":"bksingh!$ADI$8","v":""},null,null,null,{"$f":"bksingh!$ADI$8","v":""},null,null,null,{"$f":"bksingh!$ADI$8","v":""},null,null,null,{"$f":"bksingh!$ADI$8","v":""},null,null,null,{"$f":"bksingh!$ADI$8","v":""},null,null,null,{"$f":"bksingh!$ADI$8","v":""},null,null,null,{"$f":"bksingh!$ADI$8","v":""},null,null,null,{"$f":"bksingh!$ADI$8","v":""},null,null,null,{"$f":"bksingh!$ADI$8","v":""},null,null,null,{"$f":"bksingh!$ADI$8","v":""},null,null,null,{"$f":"bksingh!$ADI$8","v":""},null,null,null,{"$f":"bksingh!$ADI$8","v":""},null,null,null,{"$f":"bksingh!$ADI$8","v":""},null,null,null,{"$f":"bksingh!$ADI$8","v":""},null,null,null,{"$f":"bksingh!$ADI$8","v":""},null,null,null,{"$f":"bksingh!$ADI$8","v":""},null,null,null,{"$f":"bksingh!$ADI$8","v":""},null,null,null,{"$f":"bksingh!$ADI$8","v":""},null,null,null,{"$f":"bksingh!$ADI$8","v":""},null,null,null,{"$f":"bksingh!$ADI$8","v":""},null,null,null,{"$f":"bksingh!$ADI$8","v":""},null,null,null,{"$f":"bksingh!$ADI$8","v":""},null,null,null,{"$f":"bksingh!$ADI$8","v":""},null,null,null,{"$f":"bksingh!$ADI$8","v":""},null,null,null,{"$f":"bksingh!$ADI$8","v":""},null,null,null,{"$f":"bksingh!$ADI$8","v":""},null,null,null,{"$f":"bksingh!$ADI$8","v":""},null,null,null,{"$f":"bksingh!$ADI$8","v":""},null,null,null,{"$f":"bksingh!$ADI$8","v":""},null,null,null,{"$f":"bksingh!$ADI$8","v":""},null,null,null,{"$f":"bksingh!$ADI$8","v":""},null,null,null,{"$f":"bksingh!$ADI$8","v":""},null,null,null,{"$f":"bksingh!$ADI$8","v":""},null,null,null,{"$f":"bksingh!$ADI$8","v":""},null,null,null,{"$f":"bksingh!$ADI$8","v":""},null,null,null,{"$f":"bksingh!$ADI$8","v":""},null,null,null,{"$f":"bksingh!$ADI$8","v":""},null,null,null,{"$f":"bksingh!$ADI$8","v":""},null,null,null,{"$f":"bksingh!$ADI$8","v":""},null,null,null,{"$f":"bksingh!$ADI$8","v":""},null,null,null,{"$f":"bksingh!$ADI$8","v":""},null,null,null,{"$f":"bksingh!$ADI$8","v":""},null,null,null,{"$f":"bksingh!$ADI$8","v":""},null,null,null,{"$f":"bksingh!$ADI$8","v":""},null,null,null,{"$f":"bksingh!$ADI$8","v":""},null,null,null,{"$f":"bksingh!$ADI$8","v":""},null,null,null,{"$f":"bksingh!$ADI$8","v":""},null,null,null,{"$f":"bksingh!$ADI$8","v":""},null,null,null,{"$f":"bksingh!$ADI$8","v":""},null,null,null,{"$f":"bksingh!$ADI$8","v":""},null,null,null,{"$f":"bksingh!$ADI$8","v":""},null,null,null,{"$f":"bksingh!$ADI$8","v":""},null,null,null,{"$f":"bksingh!$ADI$8","v":""},null,null,null,{"$f":"bksingh!$ADI$8","v":""},null,null,null,{"$f":"bksingh!$ADI$8","v":""},null,null,null,{"$f":"bksingh!$ADI$8","v":""},null,null,null,{"$f":"bksingh!$ADI$8","v":""},null,null,null,{"$f":"bksingh!$ADI$8","v":""},null,null,null,{"$f":"bksingh!$ADI$8","v":""},null,null,null,{"$f":"bksingh!$ADI$8","v":""},null,null,null,{"$f":"bksingh!$ADI$8","v":""},null,null,null,{"$f":"bksingh!$ADI$8","v":""},null,null,null,{"$f":"bksingh!$ADI$8","v":""},null,null,null,{"$f":"bksingh!$ADI$8","v":""},null,null,null,{"$f":"bksingh!$ADI$8","v":""},null,null,null,{"$f":"bksingh!$ADI$8","v":""},null,null,null,{"$f":"bksingh!$ADI$8","v":""},null,null,null,{"$f":"bksingh!$ADI$8","v":""},null,null,null,{"$f":"bksingh!$ADI$8","v":""},null,null,null,{"$f":"bksingh!$ADI$8","v":""},null,null,null,{"$f":"bksingh!$ADI$8","v":""},null,null,null,{"$f":"bksingh!$ADI$8","v":""},null,null,null,{"$f":"bksingh!$ADI$8","v":""},null,null,null,{"$f":"bksingh!$ADI$8","v":""},null,null,null,{"$f":"bksingh!$ADI$8","v":""},null,null,null,{"$f":"bksingh!$ADI$8","v":""},null,null,null,{"$f":"bksingh!$ADI$8","v":""},null,null,null,{"$f":"bksingh!$ADI$8","v":""},null,null,null,{"$f":"bksingh!$ADI$8","v":""},null,null,null,{"$f":"bksingh!$ADI$8","v":""},null,null,null,{"$f":"bksingh!$ADI$8","v":""},null,null,null,{"$f":"bksingh!$ADI$8","v":""},null,null,null,{"$f":"bksingh!$ADI$8","v":""},null,null,null,{"$f":"bksingh!$ADI$8","v":""},null,null,null,{"$f":"bksingh!$ADI$8","v":""},null,null,null,{"$f":"bksingh!$ADI$8","v":""},null,null,null,{"$f":"bksingh!$ADI$8","v":""},null,null,null,{"$f":"bksingh!$ADI$8","v":""},null,null,null,{"$f":"bksingh!$ADI$8","v":""},null,null,null,{"$f":"bksingh!$ADI$8","v":""},null,null,null,{"$f":"bksingh!$ADI$8","v":""},null,null,null,{"$f":"bksingh!$ADI$8","v":""},null,null,null,{"$f":"bksingh!$ADI$8","v":""},null,null,null,{"$f":"bksingh!$ADI$8","v":""},null,null,null,{"$f":"bksingh!$ADI$8","v":""},null,null,null,{"$f":"bksingh!$ADI$8","v":""},null,null,null,{"$f":"bksingh!$ADI$8","v":""},null,null,null,{"$f":"bksingh!$ADI$8","v":""},null,null,null,{"$f":"bksingh!$ADI$8","v":""},null,null,null,{"$f":"bksingh!$ADI$8","v":""},null,null,null,{"$f":"bksingh!$ADI$8","v":""},null,null,null,{"$f":"bksingh!$ADI$8","v":""},null,null,null,{"$f":"bksingh!$ADI$8","v":""},null,null,null,{"$f":"bksingh!$ADI$8","v":""},null,null,null,{"$f":"bksingh!$ADI$8","v":""},null,null,null,{"$f":"bksingh!$ADI$8","v":""},null,null,null,{"$f":"bksingh!$ADI$8","v":""},null,null,null,{"$f":"bksingh!$ADI$8","v":""},null,null,null,{"$f":"bksingh!$ADI$8","v":""},null,null,null,{"$f":"bksingh!$ADI$8","v":""},null,null,null,{"$f":"bksingh!$ADI$8","v":""},null,null,null,{"$f":"bksingh!$ADI$8","v":""},null,null,null,{"$f":"bksingh!$ADI$8","v":""},null,null,null,{"$f":"bksingh!$ADI$8","v":""},null,null,null,{"$f":"bksingh!$ADI$8","v":""},null,null,null,{"$f":"bksingh!$ADI$8","v":""},null,null,null,{"$f":"bksingh!$ADI$8","v":""},null,null,null,{"$f":"bksingh!$ADI$8","v":""},null,null,null,{"$f":"bksingh!$ADI$8","v":""},null,null,null,{"$f":"bksingh!$ADI$8","v":""},null,null,null,{"$f":"bksingh!$ADI$8","v":""},null,null,null,{"$f":"bksingh!$ADI$8","v":""},null,null,null,{"$f":"bksingh!$ADI$8","v":""},null,null,null,{"$f":"bksingh!$ADI$8","v":""},null,null,null,{"$f":"bksingh!$ADI$8","v":""},null,null,null,{"$f":"bksingh!$ADI$8","v":""},null,null,null,{"$f":"bksingh!$ADI$8","v":""},null,null,null,{"$f":"bksingh!$ADI$8","v":""},null,null,null,{"$f":"bksingh!$ADI$8","v":""},null,null,null,{"$f":"bksingh!$ADI$8","v":""},null,null,null,{"$f":"bksingh!$ADI$8","v":""},null,null,null,{"$f":"bksingh!$ADI$8","v":""},null,null,null,{"$f":"bksingh!$ADI$8","v":""},null,null,null,{"$f":"bksingh!$ADI$8","v":""},null,null,null,{"$f":"bksingh!$ADI$8","v":""},null,null,null,{"$f":"bksingh!$ADI$8","v":""},null,null,null,{"$f":"bksingh!$ADI$8","v":""},null,null,null,{"$f":"bksingh!$ADI$8","v":""},null,null,null,{"$f":"bksingh!$ADI$8","v":""},null,null,null,{"$f":"bksingh!$ADI$8","v":""},null,null,null,{"$f":"bksingh!$ADI$8","v":""},null,null,null,{"$f":"bksingh!$ADI$8","v":""},null,null,null,{"$f":"bksingh!$ADI$8","v":""},null,null,null,{"$f":"bksingh!$ADI$8","v":""},null,null,null,{"$f":"bksingh!$ADI$8","v":""},null,null,null,{"$f":"bksingh!$ADI$8","v":""},null,null,null,{"$f":"bksingh!$ADI$8","v":""},null,null,null,{"$f":"bksingh!$ADI$8","v":""},null,null,null,{"$f":"bksingh!$ADI$8","v":""},null,null,null,{"$f":"bksingh!$ADI$8","v":""},null,null,null,{"$f":"bksingh!$ADI$8","v":""},null,null,null,{"$f":"bksingh!$ADI$8","v":""},null,null,null,{"$f":"bksingh!$ADI$8","v":""},null,null,null,{"$f":"bksingh!$ADI$8","v":""},null,null,null,{"$f":"bksingh!$ADI$8","v":""},null,null,null,{"$f":"bksingh!$ADI$8","v":""},null,null,null,{"$f":"bksingh!$ADI$8","v":""},null,null,null,{"$f":"bksingh!$ADI$8","v":""},null,null,null,{"$f":"bksingh!$ADI$8","v":""},null,null,null,{"$f":"bksingh!$ADI$8","v":""},null,null,null,{"$f":"bksingh!$ADI$8","v":""},null,null,null,{"$f":"bksingh!$ADI$8","v":""},null,null,null,{"$f":"bksingh!$ADI$8","v":""},null,null,null,{"$f":"bksingh!$ADI$8","v":""},null,null,null,{"$f":"bksingh!$ADI$8","v":""},null,null,null,{"$f":"bksingh!$ADI$8","v":""},null,null,null,{"$f":"bksingh!$ADI$8","v":""},null,null,null,{"$f":"bksingh!$ADI$8","v":""},null,null,null,{"$f":"bksingh!$ADI$8","v":""},null,null,null,{"$f":"bksingh!$ADI$8","v":""},null,null,null,{"$f":"bksingh!$ADI$8","v":""},null,null,null,{"$f":"bksingh!$ADI$8","v":""},null,null,null,{"$f":"bksingh!$ADI$8","v":""},null,null,null,{"$f":"bksingh!$ADI$8","v":""},null,null,null,{"$f":"bksingh!$ADI$8","v":""},null,null,null,{"$f":"bksingh!$ADI$8","v":""},null,null,null,{"$f":"bksingh!$ADI$8","v":""},null,null,null,{"$f":"bksingh!$ADI$8","v":""},null,null,null,{"$f":"bksingh!$ADI$8","v":""},null,null,null,{"$f":"bksingh!$ADI$8","v":""},null,null,null,{"$f":"bksingh!$ADI$8","v":""},null,null,null,{"$f":"bksingh!$ADI$8","v":""},null,null,null,{"$f":"bksingh!$ADI$8","v":""},null,null,null,{"$f":"bksingh!$ADI$8","v":""},null,null,null,{"$f":"bksingh!$ADI$8","v":""},null,null,null,{"$f":"bksingh!$ADI$8","v":""},null,null,null,{"$f":"bksingh!$ADI$8","v":""},null,null,null,{"$f":"bksingh!$ADI$8","v":""},null,null,null,{"$f":"bksingh!$ADI$8","v":""},null,null,null,{"$f":"bksingh!$ADI$8","v":""},null,null,null,{"$f":"bksingh!$ADI$8","v":""},null,null,null,{"$f":"bksingh!$ADI$8","v":""},null,null,null,{"$f":"bksingh!$ADI$8","v":""},null,null,null,{"$f":"bksingh!$ADI$8","v":""},null,null,null,{"$f":"bksingh!$ADI$8","v":""},null,null,null,{"$f":"bksingh!$ADI$8","v":""},null,null,null,{"$f":"bksingh!$ADI$8","v":""},null,null,null,{"$f":"bksingh!$ADI$8","v":""},null,null,null,{"$f":"bksingh!$ADI$8","v":""},null,null,null,{"$f":"bksingh!$ADI$8","v":""},null,null,null,{"$f":"bksingh!$ADI$8","v":""},null,null,null,{"$f":"bksingh!$ADI$8","v":""},null,null,null,{"$f":"bksingh!$ADI$8","v":""},null,null,null,{"$f":"bksingh!$ADI$8","v":""},null,null,null,{"$f":"bksingh!$ADI$8","v":""},null,null,null,{"$f":"bksingh!$ADI$8","v":""},null,null,null,{"$f":"bksingh!$ADI$8","v":""},null,null,null,{"$f":"bksingh!$ADI$8","v":""},null,null,null,{"$f":"bksingh!$ADI$8","v":""},null,null,null,{"$f":"bksingh!$ADI$8","v":""},null,null,null,{"$f":"bksingh!$ADI$8","v":""},null,null,null,{"$f":"bksingh!$ADI$8","v":""},null,null,null,{"$f":"bksingh!$ADI$8","v":""},null,null,null,{"$f":"bksingh!$ADI$8","v":""},null,null,null,{"$f":"bksingh!$ADI$8","v":""},null,null,null,{"$f":"bksingh!$ADI$8","v":""},null,null,null,{"$f":"bksingh!$ADI$8","v":""},null,null,null,{"$f":"bksingh!$ADI$8","v":""},null,null,null,{"$f":"bksingh!$ADI$8","v":""},null,null,null,{"$f":"bksingh!$ADI$8","v":""},null,null,null,{"$f":"bksingh!$ADI$8","v":""},null,null,null,{"$f":"bksingh!$ADI$8","v":""},null,null,null,{"$f":"bksingh!$ADI$8","v":""},null,null,null,{"$f":"bksingh!$ADI$8","v":""},null,null,null,{"$f":"bksingh!$ADI$8","v":""},null,null,null,{"$f":"bksingh!$ADI$8","v":""},null,null,null,{"$f":"bksingh!$ADI$8","v":""},null,null,null,{"$f":"bksingh!$ADI$8","v":""},null,null,null,{"$f":"bksingh!$ADI$8","v":""},null,null,null,{"$f":"bksingh!$ADI$8","v":""},null,null,null,{"$f":"bksingh!$ADI$8","v":""},null,null,null,{"$f":"bksingh!$ADI$8","v":""},null,null,null,{"$f":"bksingh!$ADI$8","v":""},null,null,null,{"$f":"bksingh!$ADI$8","v":""},null,null,null,{"$f":"bksingh!$ADI$8","v":""},null,null,null,{"$f":"bksingh!$ADI$8","v":""},null,null,null,{"$f":"bksingh!$ADI$8","v":""},null,null,null,{"$f":"bksingh!$ADI$8","v":""},null,null,null,{"$f":"bksingh!$ADI$8","v":""},null,null,null,{"$f":"bksingh!$ADI$8","v":""},null,null,null,{"$f":"bksingh!$ADI$8","v":""},null,null,null,{"$f":"bksingh!$ADI$8","v":""},null,null,null,{"$f":"bksingh!$ADI$8","v":""},null,null,null,{"$f":"bksingh!$ADI$8","v":""},null,null,null,{"$f":"bksingh!$ADI$8","v":""},null,null,null,{"$f":"bksingh!$ADI$8","v":""},null,null,null,{"$f":"bksingh!$ADI$8","v":""},null,null,null,{"$f":"bksingh!$ADI$8","v":""},null,null,null,{"$f":"bksingh!$ADI$8","v":""},null,null,null,{"$f":"bksingh!$ADI$8","v":""},null,null,null,{"$f":"bksingh!$ADI$8","v":""},null,null,null,{"$f":"bksingh!$ADI$8","v":""},null,null,null,{"$f":"bksingh!$ADI$8","v":""},null,null,null,{"$f":"bksingh!$ADI$8","v":""},null,null,null,{"$f":"bksingh!$ADI$8","v":""},null,null,null,{"$f":"bksingh!$ADI$8","v":""},null,null,null,{"$f":"bksingh!$ADI$8","v":""},null,null,null,{"$f":"bksingh!$ADI$8","v":""},null,null,null,{"$f":"bksingh!$ADI$8","v":""},null,null,null,{"$f":"bksingh!$ADI$8","v":""},null,null,null,{"$f":"bksingh!$ADI$8","v":""},null,null,null,{"$f":"bksingh!$ADI$8","v":""},null,null,null,{"$f":"bksingh!$ADI$8","v":""},null,null,null,{"$f":"bksingh!$ADI$8","v":""},null,null,null,{"$f":"bksingh!$ADI$8","v":""},null,null,null,{"$f":"bksingh!$ADI$8","v":""},null,null,null,{"$f":"bksingh!$ADI$8","v":""},null,null,null,{"$f":"bksingh!$ADI$8","v":""},null,null,null,{"$f":"bksingh!$ADI$8","v":""},null,null,null,{"$f":"bksingh!$ADI$8","v":""},null,null,null,{"$f":"bksingh!$ADI$8","v":""},null,null,null,{"$f":"bksingh!$ADI$8","v":""},null,null,null,{"$f":"bksingh!$ADI$8","v":""},null,null,null,{"$f":"bksingh!$ADI$8","v":""},null,null,null,{"$f":"bksingh!$ADI$8","v":""},null,null,null,{"$f":"bksingh!$ADI$8","v":""},null,null,null,{"$f":"bksingh!$ADI$8","v":""},null,null,null,{"$f":"bksingh!$ADI$8","v":""},null,null,null,{"$f":"bksingh!$ADI$8","v":""},null,null,null,{"$f":"bksingh!$ADI$8","v":""},null,null,null,{"$f":"bksingh!$ADI$8","v":""},null,null,null,{"$f":"bksingh!$ADI$8","v":""},null,null,null,{"$f":"bksingh!$ADI$8","v":""},null,null,null,{"$f":"bksingh!$ADI$8","v":""},null,null,null,{"$f":"bksingh!$ADI$8","v":""},null,null,null,{"$f":"bksingh!$ADI$8","v":""},null,null,null,{"$f":"bksingh!$ADI$8","v":""},null,null,null,{"$f":"bksingh!$ADI$8","v":""},null,null,null,{"$f":"bksingh!$ADI$8","v":""},null,null,null,{"$f":"bksingh!$ADI$8","v":""},null,null,null,{"$f":"bksingh!$ADI$8","v":""},null,null,null,{"$f":"bksingh!$ADI$8","v":""},null,null,null,{"$f":"bksingh!$ADI$8","v":""},null,null,null,{"$f":"bksingh!$ADI$8","v":""},null,null,null,{"$f":"bksingh!$ADI$8","v":""},null,null,null,{"$f":"bksingh!$ADI$8","v":""},null,null,null,{"$f":"bksingh!$ADI$8","v":""},null,null,null,{"$f":"bksingh!$ADI$8","v":""},null,null,null,{"$f":"bksingh!$ADI$8","v":""},null,null,null,{"$f":"bksingh!$ADI$8","v":""},null,null,null,{"$f":"bksingh!$ADI$8","v":""},null,null,null,{"$f":"bksingh!$ADI$8","v":""},null,null,null,{"$f":"bksingh!$ADI$8","v":""},null,null,null,{"$f":"bksingh!$ADI$8","v":""},null,null,null,{"$f":"bksingh!$ADI$8","v":""},null,null,null,{"$f":"bksingh!$ADI$8","v":""},null,null,null,{"$f":"bksingh!$ADI$8","v":""},null,null,null,{"$f":"bksingh!$ADI$8","v":""},null,null,null,{"$f":"bksingh!$ADI$8","v":""},null,null,null,{"$f":"bksingh!$ADI$8","v":""},null,null,null,{"$f":"bksingh!$ADI$8","v":""},null,null,null,{"$f":"bksingh!$ADI$8","v":""},null,null,null,{"$f":"bksingh!$ADI$8","v":""},null,null,null,{"$f":"bksingh!$ADI$8","v":""},null,null,null,{"$f":"bksingh!$ADI$8","v":""},null,null,null,{"$f":"bksingh!$ADI$8","v":""},null,null,null,{"$f":"bksingh!$ADI$8","v":""},null,null,null,{"$f":"bksingh!$ADI$8","v":""},null,null,null,{"$f":"bksingh!$ADI$8","v":""},null,null,null,{"$f":"bksingh!$ADI$8","v":""},null,null,null,{"$f":"bksingh!$ADI$8","v":""},null,null,null,{"$f":"bksingh!$ADI$8","v":""},null,null,null,{"$f":"bksingh!$ADI$8","v":""},null,null,null,{"$f":"bksingh!$ADI$8","v":""},null,null,null,{"$f":"bksingh!$ADI$8","v":""},null,null,null,{"$f":"bksingh!$ADI$8","v":""},null,null,null,{"$f":"bksingh!$ADI$8","v":""},null,null,null,{"$f":"bksingh!$ADI$8","v":""},null,null,null,{"$f":"bksingh!$ADI$8","v":""},null,null,null,{"$f":"bksingh!$ADI$8","v":""},null,null,null,{"$f":"bksingh!$ADI$8","v":""},null,null,null,{"$f":"bksingh!$ADI$8","v":""},null,null,null,{"$f":"bksingh!$ADI$8","v":""},null,null,null,{"$f":"bksingh!$ADI$8","v":""},null,null,null,{"$f":"bksingh!$ADI$8","v":""},null,null,null,{"$f":"bksingh!$ADI$8","v":""},null,null,null,{"$f":"bksingh!$ADI$8","v":""},null,null,null,{"$f":"bksingh!$ADI$8","v":""},null,null,null,{"$f":"bksingh!$ADI$8","v":""},null,null,null,{"$f":"bksingh!$ADI$8","v":""},null,null,null,{"$f":"bksingh!$ADI$8","v":""},null,null,null,{"$f":"bksingh!$ADI$8","v":""},null,null,null,{"$f":"bksingh!$ADI$8","v":""},null,null,null,{"$f":"bksingh!$ADI$8","v":""},null,null,null,{"$f":"bksingh!$ADI$8","v":""},null,null,null,{"$f":"bksingh!$ADI$8","v":""},null,null,null,{"$f":"bksingh!$ADI$8","v":""},null,null,null,{"$f":"bksingh!$ADI$8","v":""},null,null,null,{"$f":"bksingh!$ADI$8","v":""},null,null,null,{"$f":"bksingh!$ADI$8","v":""},null,null,null,{"$f":"bksingh!$ADI$8","v":""},null,null,null,{"$f":"bksingh!$ADI$8","v":""},null,null,null,{"$f":"bksingh!$ADI$8","v":""},null,null,null,{"$f":"bksingh!$ADI$8","v":""},null,null,null,{"$f":"bksingh!$ADI$8","v":""},null,null,null,{"$f":"bksingh!$ADI$8","v":""},null,null,null,{"$f":"bksingh!$ADI$8","v":""},null,null,null,{"$f":"bksingh!$ADI$8","v":""},null,null,null,{"$f":"bksingh!$ADI$8","v":""},null,null,null,{"$f":"bksingh!$ADI$8","v":""},null,null,null,{"$f":"bksingh!$ADI$8","v":""},null,null,null,{"$f":"bksingh!$ADI$8","v":""},null,null,null,{"$f":"bksingh!$ADI$8","v":""},null,null,null,{"$f":"bksingh!$ADI$8","v":""},null,null,null,{"$f":"bksingh!$ADI$8","v":""},null,null,null,{"$f":"bksingh!$ADI$8","v":""},null,null,null,{"$f":"bksingh!$ADI$8","v":""},null,null,null,{"$f":"bksingh!$ADI$8","v":""},null,null,null,{"$f":"bksingh!$ADI$8","v":""},null,null,null,{"$f":"bksingh!$ADI$8","v":""},null,null,null,{"$f":"bksingh!$ADI$8","v":""},null,null,null,{"$f":"bksingh!$ADI$8","v":""},null,null,null,{"$f":"bksingh!$ADI$8","v":""},null,null,null,{"$f":"bksingh!$ADI$8","v":""},null,null,null,{"$f":"bksingh!$ADI$8","v":""},null,null,null,{"$f":"bksingh!$ADI$8","v":""},null,null,null,{"$f":"bksingh!$ADI$8","v":""},null,null,null,{"$f":"bksingh!$ADI$8","v":""},null,null,null,{"$f":"bksingh!$ADI$8","v":""},null,null,null,{"$f":"bksingh!$ADI$8","v":""},null,null,null,{"$f":"bksingh!$ADI$8","v":""},null,null,null,{"$f":"bksingh!$ADI$8","v":""},null,null,null,{"$f":"bksingh!$ADI$8","v":""},null,null,null,{"$f":"bksingh!$ADI$8","v":""},null,null,null,{"$f":"bksingh!$ADI$8","v":""},null,null,null,{"$f":"bksingh!$ADI$8","v":""},null,null,null,{"$f":"bksingh!$ADI$8","v":""},null,null,null,{"$f":"bksingh!$ADI$8","v":""},null,null,null,{"$f":"bksingh!$ADI$8","v":""},null,null,null,{"$f":"bksingh!$ADI$8","v":""},null,null,null,{"$f":"bksingh!$ADI$8","v":""},null,null,null,{"$f":"bksingh!$ADI$8","v":""},null,null,null,{"$f":"bksingh!$ADI$8","v":""},null,null,null,{"$f":"bksingh!$ADI$8","v":""},null,null,null,{"$f":"bksingh!$ADI$8","v":""},null,null,null,{"$f":"bksingh!$ADI$8","v":""},null,null,null,{"$f":"bksingh!$ADI$8","v":""},null,null,null,{"$f":"bksingh!$ADI$8","v":""},null,null,null,{"$f":"bksingh!$ADI$8","v":""},null,null,null,{"$f":"bksingh!$ADI$8","v":""},null,null,null,{"$f":"bksingh!$ADI$8","v":""},null,null,null,{"$f":"bksingh!$ADI$8","v":""},null,null,null,{"$f":"bksingh!$ADI$8","v":""},null,null,null,{"$f":"bksingh!$ADI$8","v":""},null,null,null,{"$f":"bksingh!$ADI$8","v":""},null,null,null,{"$f":"bksingh!$ADI$8","v":""},null,null,null,{"$f":"bksingh!$ADI$8","v":""},null,null,null,{"$f":"bksingh!$ADI$8","v":""},null,null,null,{"$f":"bksingh!$ADI$8","v":""},null,null,null,{"$f":"bksingh!$ADI$8","v":""},null,null,null,{"$f":"bksingh!$ADI$8","v":""},null,null,null,{"$f":"bksingh!$ADI$8","v":""},null,null,null,{"$f":"bksingh!$ADI$8","v":""},null,null,null,{"$f":"bksingh!$ADI$8","v":""},null,null,null,{"$f":"bksingh!$ADI$8","v":""},null,null,null,{"$f":"bksingh!$ADI$8","v":""},null,null,null,{"$f":"bksingh!$ADI$8","v":""},null,null,null,{"$f":"bksingh!$ADI$8","v":""},null,null,null,{"$f":"bksingh!$ADI$8","v":""},null,null,null,{"$f":"bksingh!$ADI$8","v":""},null,null,null,{"$f":"bksingh!$ADI$8","v":""},null,null,null,{"$f":"bksingh!$ADI$8","v":""},null,null,null,{"$f":"bksingh!$ADI$8","v":""},null,null,null,{"$f":"bksingh!$ADI$8","v":""},null,null,null,{"$f":"bksingh!$ADI$8","v":""},null,null,null,{"$f":"bksingh!$ADI$8","v":""},null,null,null,{"$f":"bksingh!$ADI$8","v":""},null,null,null,{"$f":"bksingh!$ADI$8","v":""},null,null,null,{"$f":"bksingh!$ADI$8","v":""},null,null,null,{"$f":"bksingh!$ADI$8","v":""},null,null,null,{"$f":"bksingh!$ADI$8","v":""},null,null,null,{"$f":"bksingh!$ADI$8","v":""},null,null,null,{"$f":"bksingh!$ADI$8","v":""},null,null,null,{"$f":"bksingh!$ADI$8","v":""},null,null,null,{"$f":"bksingh!$ADI$8","v":""},null,null,null,{"$f":"bksingh!$ADI$8","v":""},null,null,null,{"$f":"bksingh!$ADI$8","v":""},null,null,null,{"$f":"bksingh!$ADI$8","v":""},null,null,null,{"$f":"bksingh!$ADI$8","v":""},null,null,null,{"$f":"bksingh!$ADI$8","v":""},null,null,null,{"$f":"bksingh!$ADI$8","v":""},null,null,null,{"$f":"bksingh!$ADI$8","v":""},null,null,null,{"$f":"bksingh!$ADI$8","v":""},null,null,null,{"$f":"bksingh!$ADI$8","v":""},null,null,null,{"$f":"bksingh!$ADI$8","v":""},null,null,null,{"$f":"bksingh!$ADI$8","v":""},null,null,null,{"$f":"bksingh!$ADI$8","v":""},null,null,null,{"$f":"bksingh!$ADI$8","v":""},null,null,null,{"$f":"bksingh!$ADI$8","v":""},null,null,null,{"$f":"bksingh!$ADI$8","v":""},null,null,null,{"$f":"bksingh!$ADI$8","v":""},null,null,null,{"$f":"bksingh!$ADI$8","v":""},null,null,null,{"$f":"bksingh!$ADI$8","v":""},null,null,null,{"$f":"bksingh!$ADI$8","v":""},null,null,null,{"$f":"bksingh!$ADI$8","v":""},null,null,null,{"$f":"bksingh!$ADI$8","v":""},null,null,null,{"$f":"bksingh!$ADI$8","v":""},null,null,null,{"$f":"bksingh!$ADI$8","v":""},null,null,null,{"$f":"bksingh!$ADI$8","v":""},null,null,null,{"$f":"bksingh!$ADI$8","v":""},null,null,null,{"$f":"bksingh!$ADI$8","v":""},null,null,null,{"$f":"bksingh!$ADI$8","v":""},null,null,null,{"$f":"bksingh!$ADI$8","v":""},null,null,null,{"$f":"bksingh!$ADI$8","v":""},null,null,null,{"$f":"bksingh!$ADI$8","v":""},null,null,null,{"$f":"bksingh!$ADI$8","v":""},null,null,null,{"$f":"bksingh!$ADI$8","v":""},null,null,null,{"$f":"bksingh!$ADI$8","v":""},null,null,null,{"$f":"bksingh!$ADI$8","v":""},null,null,null,{"$f":"bksingh!$ADI$8","v":""},null,null,null,{"$f":"bksingh!$ADI$8","v":""},null,null,null,{"$f":"bksingh!$ADI$8","v":""},null,null,null,{"$f":"bksingh!$ADI$8","v":""},null,null,null,{"$f":"bksingh!$ADI$8","v":""},null,null,null,{"$f":"bksingh!$ADI$8","v":""},null,null,null,{"$f":"bksingh!$ADI$8","v":""},null,null,null,{"$f":"bksingh!$ADI$8","v":""},null,null,null,{"$f":"bksingh!$ADI$8","v":""},null,null,null,{"$f":"bksingh!$ADI$8","v":""},null,null,null,{"$f":"bksingh!$ADI$8","v":""},null,null,null,{"$f":"bksingh!$ADI$8","v":""},null,null,null,{"$f":"bksingh!$ADI$8","v":""},null,null,null,{"$f":"bksingh!$ADI$8","v":""},null,null,null,{"$f":"bksingh!$ADI$8","v":""},null,null,null,{"$f":"bksingh!$ADI$8","v":""},null,null,null,{"$f":"bksingh!$ADI$8","v":""},null,null,null,{"$f":"bksingh!$ADI$8","v":""},null,null,null,{"$f":"bksingh!$ADI$8","v":""},null,null,null,{"$f":"bksingh!$ADI$8","v":""},null,null,null,{"$f":"bksingh!$ADI$8","v":""},null,null,null,{"$f":"bksingh!$ADI$8","v":""},null,null,null,{"$f":"bksingh!$ADI$8","v":""},null,null,null,{"$f":"bksingh!$ADI$8","v":""},null,null,null,{"$f":"bksingh!$ADI$8","v":""},null,null,null,{"$f":"bksingh!$ADI$8","v":""},null,null,null,{"$f":"bksingh!$ADI$8","v":""},null,null,null,{"$f":"bksingh!$ADI$8","v":""},null,null,null,{"$f":"bksingh!$ADI$8","v":""},null,null,null,{"$f":"bksingh!$ADI$8","v":""},null,null,null,{"$f":"bksingh!$ADI$8","v":""},null,null,null,{"$f":"bksingh!$ADI$8","v":""},null,null,null,{"$f":"bksingh!$ADI$8","v":""},null,null,null,{"$f":"bksingh!$ADI$8","v":""},null,null,null,{"$f":"bksingh!$ADI$8","v":""},null,null,null,{"$f":"bksingh!$ADI$8","v":""},null,null,null,{"$f":"bksingh!$ADI$8","v":""},null,null,null,{"$f":"bksingh!$ADI$8","v":""},null,null,null,{"$f":"bksingh!$ADI$8","v":""},null,null,null,{"$f":"bksingh!$ADI$8","v":""},null,null,null,{"$f":"bksingh!$ADI$8","v":""},null,null,null,{"$f":"bksingh!$ADI$8","v":""},null,null,null,{"$f":"bksingh!$ADI$8","v":""},null,null,null,{"$f":"bksingh!$ADI$8","v":""},null,null,null,{"$f":"bksingh!$ADI$8","v":""},null,null,null,{"$f":"bksingh!$ADI$8","v":""},null,null,null,{"$f":"bksingh!$ADI$8","v":""},null,null,null,{"$f":"bksingh!$ADI$8","v":""},null,null,null,{"$f":"bksingh!$ADI$8","v":""},null,null,null,{"$f":"bksingh!$ADI$8","v":""},null,null,null,{"$f":"bksingh!$ADI$8","v":""},null,null,null,{"$f":"bksingh!$ADI$8","v":""},null,null,null,{"$f":"bksingh!$ADI$8","v":""},null,null,null,{"$f":"bksingh!$ADI$8","v":""},null,null,null,{"$f":"bksingh!$ADI$8","v":""},null,null,null,{"$f":"bksingh!$ADI$8","v":""},null,null,null,{"$f":"bksingh!$ADI$8","v":""},null,null,null,{"$f":"bksingh!$ADI$8","v":""},null,null,null,{"$f":"bksingh!$ADI$8","v":""},null,null,null,{"$f":"bksingh!$ADI$8","v":""},null,null,null,{"$f":"bksingh!$ADI$8","v":""},null,null,null,{"$f":"bksingh!$ADI$8","v":""},null,null,null,{"$f":"bksingh!$ADI$8","v":""},null,null,null,{"$f":"bksingh!$ADI$8","v":""},null,null,null,{"$f":"bksingh!$ADI$8","v":""},null,null,null,{"$f":"bksingh!$ADI$8","v":""},null,null,null,{"$f":"bksingh!$ADI$8","v":""},null,null,null,{"$f":"bksingh!$ADI$8","v":""},null,null,null,{"$f":"bksingh!$ADI$8","v":""},null,null,null,{"$f":"bksingh!$ADI$8","v":""},null,null,null,{"$f":"bksingh!$ADI$8","v":""},null,null,null,{"$f":"bksingh!$ADI$8","v":""},null,null,null,{"$f":"bksingh!$ADI$8","v":""},null,null,null,{"$f":"bksingh!$ADI$8","v":""},null,null,null,{"$f":"bksingh!$ADI$8","v":""},null,null,null,{"$f":"bksingh!$ADI$8","v":""},null,null,null,{"$f":"bksingh!$ADI$8","v":""},null,null,null,{"$f":"bksingh!$ADI$8","v":""},null,null,null,{"$f":"bksingh!$ADI$8","v":""},null,null,null,{"$f":"bksingh!$ADI$8","v":""},null,null,null,{"$f":"bksingh!$ADI$8","v":""},null,null,null,{"$f":"bksingh!$ADI$8","v":""},null,null,null,{"$f":"bksingh!$ADI$8","v":""},null,null,null,{"$f":"bksingh!$ADI$8","v":""},null,null,null,{"$f":"bksingh!$ADI$8","v":""},null,null,null,{"$f":"bksingh!$ADI$8","v":""},null,null,null,{"$f":"bksingh!$ADI$8","v":""},null,null,null,{"$f":"bksingh!$ADI$8","v":""},null,null,null,{"$f":"bksingh!$ADI$8","v":""},null,null,null,{"$f":"bksingh!$ADI$8","v":""},null,null,null,{"$f":"bksingh!$ADI$8","v":""},null,null,null,{"$f":"bksingh!$ADI$8","v":""},null,null,null,{"$f":"bksingh!$ADI$8","v":""},null,null,null,{"$f":"bksingh!$ADI$8","v":""},null,null,null,{"$f":"bksingh!$ADI$8","v":""},null,null,null,{"$f":"bksingh!$ADI$8","v":""},null,null,null,{"$f":"bksingh!$ADI$8","v":""},null,null,null,{"$f":"bksingh!$ADI$8","v":""},null,null,null,{"$f":"bksingh!$ADI$8","v":""},null,null,null,{"$f":"bksingh!$ADI$8","v":""},null,null,null,{"$f":"bksingh!$ADI$8","v":""},null,null,null,{"$f":"bksingh!$ADI$8","v":""},null,null,null,{"$f":"bksingh!$ADI$8","v":""},null,null,null,{"$f":"bksingh!$ADI$8","v":""},null,null,null,{"$f":"bksingh!$ADI$8","v":""},null,null,null,{"$f":"bksingh!$ADI$8","v":""},null,null,null,{"$f":"bksingh!$ADI$8","v":""},null,null,null,{"$f":"bksingh!$ADI$8","v":""},null,null,null,{"$f":"bksingh!$ADI$8","v":""},null,null,null,{"$f":"bksingh!$ADI$8","v":""},null,null,null,{"$f":"bksingh!$ADI$8","v":""},null,null,null,{"$f":"bksingh!$ADI$8","v":""},null,null,null,{"$f":"bksingh!$ADI$8","v":""},null,null,null,{"$f":"bksingh!$ADI$8","v":""},null,null,null,{"$f":"bksingh!$ADI$8","v":""},null,null,null,{"$f":"bksingh!$ADI$8","v":""},null,null,null,{"$f":"bksingh!$ADI$8","v":""},null,null,null,{"$f":"bksingh!$ADI$8","v":""},null,null,null,{"$f":"bksingh!$ADI$8","v":""},null,null,null,{"$f":"bksingh!$ADI$8","v":""},null,null,null,{"$f":"bksingh!$ADI$8","v":""},null,null,null,{"$f":"bksingh!$ADI$8","v":""},null,null,null,{"$f":"bksingh!$ADI$8","v":""},null,null,null,{"$f":"bksingh!$ADI$8","v":""},null,null,null,{"$f":"bksingh!$ADI$8","v":""},null,null,null,{"$f":"bksingh!$ADI$8","v":""},null,null,null,{"$f":"bksingh!$ADI$8","v":""},null,null,null,{"$f":"bksingh!$ADI$8","v":""},null,null,null,{"$f":"bksingh!$ADI$8","v":""},null,null,null,{"$f":"bksingh!$ADI$8","v":""},null,null,null,{"$f":"bksingh!$ADI$8","v":""},null,null,null,{"$f":"bksingh!$ADI$8","v":""},null,null,null,{"$f":"bksingh!$ADI$8","v":""},null,null,null,{"$f":"bksingh!$ADI$8","v":""},null,null,null,{"$f":"bksingh!$ADI$8","v":""},null,null,null,{"$f":"bksingh!$ADI$8","v":""},null,null,null,{"$f":"bksingh!$ADI$8","v":""},null,null,null,{"$f":"bksingh!$ADI$8","v":""}]
[]
[{"$f":"\"(\"&bksingh!AW5&\")\"","v":"(asdf)"}]
[{"$f":"bksingh!AX5","v":"sdfasdfasd"}]

{"sheet":"summon","index":6,"n_rows":19,"n_cols":4,"rows_kept":19,"cut":false,"hidden":false,"merged":[]}
[]
["GOVERNMENT OF INDIA"]
[{"$f":"duty!A2","v":"OFFICE OF THE ABC"}]
[{"$f":"duty!A3","v":"AIRPORT, NAIROBI, KENYA"}]
[{"$f":"\"C.No.:\"&bksingh!CS5&\"                     Dated: \"&bksingh!B45","v":"C.No.:VIII(AP)10/P&I/                     Dated: 14.07.2020"}]
["SUMMONS UNDER SECTION 108 OF THE CUSTOMS ACT, 1962"]
[{"$f":"\"Whereas I, \"&bksingh!AY5&\", \"&bksingh!AZ5&\", \"&bksingh!CA5&\", duly empowered in ‘Prevention of Smuggling’ consider the attendance of \"&bksingh!AA5&\", \"&bksingh!AB5&\", \"&bksingh!AC5&\" \"&bksingh!AD5&\", \"&bksingh!AE5&\", holder of \"&bksingh!AI5&\" Passport No.\"&bksingh!AF5&\" issued on \"&bksingh!AH5&\" at \"&bksingh!AG5&\" was \"&bksingh!AP5&\" by Flight No.\"&bksingh!AN5&\" dated \"&bksingh!AO5&\" for further investigation in case of illegal \"&bksingh!KP5&\".\"","v":"Whereas I, fasd, f, Airport, Nairobi, duly empowered in ‘Prevention of Smuggling’ consider the attendance of asfsfsadf, sfasfafasfasfasdf, Park Road Nairobi, Kenya, holder of Kenyan Passport No.sfasfasfasdfas issued on 02.03.2020 at Nairobi was arrived from Nairobi via Adis Abbaba by Flight No.ET688 dated 02.03.2019 for further investigation in case of illegal import of gold."}]
[{"$f":"\"Whereas, in exercise of the powers conferred on me under Section 108 of the Customs Act, 1962, I, hereby summon you to appear before me in person in my office at \"&bksingh!CA5&\" on  \"&bksingh!CY5&\" at \"&bksingh!CZ5","v":"Whereas, in exercise of the powers conferred on me under Section 108 of the Customs Act, 1962, I, hereby summon you to appear before me in person in my office at Airport, Nairobi on  08.04.2019 at 14:20 hrs."}]
["You are not to leave my office without permission if the same is adjourned, without ascertaining the date of adjournment."]
["Non-compliance with this summons is an offence under Section 174-175 of the Indian Penal Code, 1860."]
["Enquiry as aforesaid shall be deemed to be a judicial proceeding and you are warned that giving false evidence in these proceedings is an offence punishable under Section 193 of the Indian Penal Code."]
[]
[{"$f":"\"Issued today i.e. on \" &bksingh!B45","v":"Issued today i.e. on 14.07.2020"}]
[{"$f":"\"Place:  \"&bksingh!CA5","v":"Place:  Airport, Nairobi"},null,null,"    "]
[]
[]
[{"$f":"\"(\"&bksingh!AY5&\")\"","v":"(fasd)"}]
[{"$f":"bksingh!AZ5","v":"f"}]
[{"$f":"duty!E28","v":"Shift-D"}]

{"sheet":"fax","index":7,"n_rows":26,"n_cols":1,"rows_kept":26,"cut":false,"hidden":false,"merged":[]}
[]
[{"$f":"summon!A2","v":"GOVERNMENT OF INDIA"}]
[{"$f":"press!A3","v":"OFFICE OF THE ABC"}]
[{"$f":"press!A4","v":"AIRPORT, NAIROBI, KENYA"}]
[{"$f":"press!A5","v":"C.No.:VIII(AP)10/P&I/                     Dated: 14.07.2020"}]
[]
["TO"]
[{"$f":"UPPER(\"1. \"&bksingh!CV5&\", \"&bksingh!CW5&\", \"&bksingh!CX5)","v":"1. SHRI SALSFLDFGLASDF'GLSDF'H, DFGSDF, GHSDFGH"}]
[{"$f":"UPPER(\"2. \"&bksingh!CV6&\", \"&bksingh!CW6&\", \"&bksingh!CX6)","v":"2. RTYGHDFJHDF, FGRFYUIYIKJH, FGKKLK"}]
[{"$f":"UPPER(\"3. \"&bksingh!CV7&\", \"&bksingh!CW7&\", \"&bksingh!CX7)","v":"3. , , "}]
[{"$f":"UPPER(\"4. \"&bksingh!CV8&\", \"&bksingh!CW8&\", \"&bksingh!CX8)","v":"4. , , "}]
[{"$f":"UPPER(\"5. \"&bksingh!CV9&\", \"&bksingh!CW9&\", \"&bksingh!CX9)","v":"5. , , "}]
[{"$f":"UPPER(\"6. \"&bksingh!CV10&\", \"&bksingh!CW10&\", \"&bksingh!CX10)","v":"6. , , "}]
[]
[{"$f":"UPPER(\"FROM: \"&UPPER(bksingh!CF5&\", \"&bksingh!CA5))","v":"FROM: SADSDFASDFASDF, AIRPORT, NAIROBI"}]
[{"$f":"summon!A5","v":"C.No.:VIII(AP)10/P&I/                     Dated: 14.07.2020"}]
[]
[{"$f":"bksingh!ACM5","v":"THE CUSTOMS PREVENTIVE OFFICERS OF AIRPORT, NAIROBI INTERCEPTED 1 (ONE) PASSENGERS NAMELY, ASFSFSADF, SFASFAFASFASFASDF, PARK ROAD, NAIROBI, KENYA, HOLDER OF KENYAN PASSPORT BEARING NO.SFASFASFASDFAS ISSUED ON 02.03.2020 AT NAIROBI, WAS ARRIVED FROM NAIROBI VIA ADIS ABBABA BY FLIGHT NO.ET688 DATED 02.03.2019."}]
[{"$f":"UPPER(bksingh!ACM6)","v":"A DETAILED PERSONAL AND BAGGAGE SEARCH OF THE PASSENGERS RESULTED IN THE RECOVERY OF SIX CUT PIECES OF GOLD COLLECTIVELY WEIGHING 668 GRAMS. FURTHER, THE SAID RECOVERED GOLD HAS BEEN SEIZED UNDER SECTION 110 OF THE CUSTOMS ACT, 1962."}]
[{"$f":"UPPER(\"THE MARKET VALUE OF THE SAID SEIZED GOLD WORKS OUT TO BE RS.\"&bksingh!KX5&\" (\"&bksingh_riw(bksingh!IL5)&\") AND THE TARIFF VALUE IS RS.\"&bksingh!KZ5&\" (\"&bksingh_riw(bksingh!IF5)&\").\")","v":"THE MARKET VALUE OF THE SAID SEIZED GOLD WORKS OUT TO BE RS.18,47,020/- (RUPEES EIGHTEEN LACS FORTY SEVEN THOUSAND TWENTY ONLY) AND THE TARIFF VALUE IS RS.16,95,750/- (RUPEES SIXTEEN LACS NINETY FIVE THOUSAND SEVEN HUNDRED FIFTY ONLY)."}]
["THE PASSENGERS HAVE BEEN PLACED UNDER ARREST UNDER THE PROVISIONS OF SECTION 104 OF THE CUSTOMS ACT, 1962. FURTHER INVESTIGATION IS UNDER PROGRESS."]
[]
[]
[]
[{"$f":"UPPER(bksingh!GZ5)","v":"HJK"}]
[{"$f":"UPPER(bksingh!CA5)","v":"AIRPORT, NAIROBI"}]

{"sheet":"press","index":8,"n_rows":16,"n_cols":1,"rows_kept":16,"cut":false,"hidden":false,"merged":[]}
[]
[{"$f":"summon!A2","v":"GOVERNMENT OF INDIA"}]
[{"$f":"summon!A3","v":"OFFICE OF THE ABC"}]
[{"$f":"summon!A4","v":"AIRPORT, NAIROBI, KENYA"}]
[{"$f":"summon!A5","v":"C.No.:VIII(AP)10/P&I/                     Dated: 14.07.2020"}]
[]
["PRESS RELEASE"]
[{"$f":"bksingh!ACS5","v":"The Customs Officers of Airport, Nairobi intercepted 1 (one) Pax arrived from Nairobi via Adis Abbaba by Flight No.ET688 dated 02.03.2019 at Airport, Nairobi on 02.03.2020. A detailed personal and Baggage search of the Pax resulted in the recovery of six cut pieces of gold collectively weighing 668 grams. Further, the said recovered items/Gold has been seized under Section 110 of the Customs Act, 1962."}]
[{"$f":"bksingh!ACT5","v":"The market value of the said Gold works out to be Rs.16,95,750/- (Rupees sixteen lacs ninety five thousand seven hundred fifty only). The  Pax  has been placed under arrest under the provisions of Section 104 of the Customs Act, 1962. Further investigation is under progress."}]
[]
[]
[{"$f":"bksingh!CH5","v":"sf"}]
[{"$f":"bksingh!CA5","v":"Airport, Nairobi"}]
[]
[]
[" "]

{"sheet":"notesheet","index":9,"n_rows":82,"n_cols":1,"rows_kept":82,"cut":false,"hidden":false,"merged":[[68,0,68,3],[69,0,69,3],[70,0,70,3],[77,0,77,3],[76,0,76,3],[71,0,71,3],[72,0,72,3],[73,0,73,3],[74,0,74,3],[75,0,75,3],[63,0,63,3],[64,0,64,3],[65,0,65,3],[66,0,66,3],[67,0,67,3],[58,0,58,3],[59,0,59,3],[60,0,60,3],[61,0,61,3],[62,0,62,3],[53,0,53,3],[54,0,54,3],[55,0,55,3],[56,0,56,3],[57,0,57,3],[7,0,7,3],[0,0,0,3],[1,0,1,3],[2,0,2,3],[3,0,3,3],[5,0,5,3],[6,0,6,3],[4,0,4,3],[13,0,13,3],[21,0,21,3],[22,0,22,3],[23,0,23,3],[24,0,24,3],[14,0,14,3],[15,0,15,3],[16,0,16,3],[18,0,18,3],[19,0,19,3],[20,0,20,3],[17,0,17,3],[8,0,8,3],[9,0,9,3],[10,0,10,3],[11,0,11,3],[12,0,12,3],[81,0,81,3],[27,0,27,3],[32,0,32,3],[33,0,33,3],[78,0,78,3],[79,0,79,3],[35,0,35,3],[36,0,36,3],[37,0,37,3],[38,0,38,3],[39,0,39,3],[40,0,40,3],[30,0,30,3],[31,0,31,3],[34,0,34,3],[41,0,41,3],[28,0,28,3],[26,0,26,3],[25,0,25,3],[29,0,29,3],[80,0,80,3],[42,0,42,3],[43,0,43,3],[44,0,44,3],[45,0,45,3],[46,0,46,3],[47,0,47,3],[48,0,48,3],[49,0,49,3],[50,0,50,3],[51,0,51,3],[52,0,52,3]]}
[{"$f":"\"C.No.:\"&bksingh!CS5","v":"C.No.:VIII(AP)10/P&I/"}]
[{"$f":"bksingh!OA5","v":"On the basis of suspicion, the Customs Officers intercepted 1 (one) Pax namely asfsfsadf, sfasfafasfasfasdf, Park Road, Nairobi, Kenya, holder of Kenyan Passport bearing No.sfasfasfasdfas issued on 02.03.2020 at Nairobi, was arrived from Nairobi via Adis Abbaba by Flight No.ET688 dated 02.03.2019, while she has crossed the green channel and reaching towards the exit gate, diverted to X-Ray belt for scanning of baggage."}]
[{"$f":"bksingh!ABX5","v":""}]
[{"$f":"bksingh!OA6","v":"On being asked whether she was carrying any dutiable goods or Gold, to which she replied in negative. Then, to ascertain the correctness and truthfulness of his/her submissions she was requested to get his/her respective bag scanned through the X-Ray Machine installed at the Green Channel of Airport, Nairobi. During the scanning of his/her respective bag no suspicious images was observed. Further, she was requested to pass through the Door Frame Metal Detector (DFMD) installed at the International Arrival Hall of Airport, Nairobi for bag their personal screening after removal of all metallic items from his/her person. While passing them through the DFMD, loud beep sound were heard. The Pax was once again asked whether she was carrying any dutiable goods or gold to which she again replied in negative."}]
[{"$f":"bksingh!OA7","v":"Thereafter, Pax alongwith her baggage was taken into the Customs Preventive Cell located at the Customs Arrival Hall by the Customs Officers for detailed examination of her baggage and personal search in the presence of two independent Panchas and an English-Kenyan interpreter/translator."}]
[{"$f":"bksingh!OA8","v":"In presence of the Panchas, the Pax was served upon with Notice dated 06.04.2019 issued under Section 102 of the Customs Act, 1962, informing that his/her personal & baggage search was required and if she wishes, his/her baggages and personal search may be conducted in the presence of a Magistrate or a Gazetted Officer of Customs. The Pax gave his/her written consent on the body of the said Notice that she had no objection, if his/her personal and baggage search would be conducted by Gazetted Officer of Customs."}]
[{"$f":"panchnama!A10","v":"During the personal and baggage search of Pax-asfsfsadf, the following items were recovered:"}]
[{"$f":"panchnama!A11","v":"1. Six cut pieces of gold collectively weighing 668 grams."}]
[{"$f":"panchnama!A12","v":"2. Boarding Pass of Flight No.ET688 Dated 02.03.2019 Seat No.E26 arrived from Nairobi via Adis Abbaba."}]
[{"$f":"panchnama!A13","v":"3. Kenyan Passport No.sfasfasfasdfas."}]
[{"$f":"panchnama!A14","v":"4. sfasdfsdf."}]
[{"$f":"panchnama!A15","v":"5. asdfasf."}]
[{"$f":"panchnama!A16","v":"6. asdfasdfaf."}]
[{"$f":"panchnama!A17","v":"7. Kenyan Currency-7100, USD-500, INR-1470."}]
[{"$f":"panchnama!A18","v":"8. Personal Gold Jewellery."}]
[{"$f":"panchnama!A19","v":""}]
[{"$f":"panchnama!A20","v":""}]
[{"$f":"panchnama!A21","v":"The item mentioned at Sl. No.1, 2, 5 above were detained for further investigation and court exhibits, the remaining item listed at Sl. No.2, 3, 4, 5, 6, 7, 8 above were returned to the Pax on the spot."}]
[{"$f":"panchnama!A22","v":""}]
[{"$f":"panchnama!A23","v":""}]
[{"$f":"panchnama!A24","v":""}]
[{"$f":"panchnama!A25","v":""}]
[{"$f":"panchnama!A26","v":""}]
[{"$f":"panchnama!A27","v":""}]
[{"$f":"panchnama!A28","v":""}]
[{"$f":"panchnama!A29","v":""}]
[{"$f":"panchnama!A30","v":""}]
[{"$f":"panchnama!A31","v":""}]
[{"$f":"panchnama!A32","v":""}]
[{"$f":"panchnama!A33","v":"The item mentioned at Sl. No.2, 3, 4 above were detained for further investigation."}]
[{"$f":"panchnama!A34","v":""}]
[{"$f":"panchnama!A35","v":""}]
[{"$f":"panchnama!A36","v":""}]
[{"$f":"panchnama!A37","v":""}]
[{"$f":"panchnama!A38","v":""}]
[{"$f":"panchnama!A39","v":""}]
[{"$f":"panchnama!A40","v":""}]
[{"$f":"panchnama!A41","v":""}]
[{"$f":"panchnama!A42","v":""}]
[{"$f":"panchnama!A43","v":""}]
[{"$f":"panchnama!A44","v":""}]
[{"$f":"panchnama!A45","v":"."}]
[{"$f":"panchnama!A46","v":""}]
[{"$f":"panchnama!A47","v":""}]
[{"$f":"panchnama!A48","v":""}]
[{"$f":"panchnama!A49","v":""}]
[{"$f":"panchnama!A50","v":""}]
[{"$f":"panchnama!A51","v":""}]
[{"$f":"panchnama!A52","v":""}]
[{"$f":"panchnama!A53","v":""}]
[{"$f":"panchnama!A54","v":""}]
[{"$f":"panchnama!A55","v":""}]
[{"$f":"panchnama!A56","v":""}]
[{"$f":"panchnama!A57","v":"The item mentioned at Sl. No.1, 2, 3, 6 above were detained for further investigation."}]
[{"$f":"panchnama!A58","v":""}]
[{"$f":"panchnama!A59","v":""}]
[{"$f":"panchnama!A60","v":""}]
[{"$f":"panchnama!A61","v":""}]
[{"$f":"panchnama!A62","v":""}]
[{"$f":"panchnama!A63","v":""}]
[{"$f":"panchnama!A64","v":""}]
[{"$f":"panchnama!A65","v":""}]
[{"$f":"panchnama!A66","v":""}]
[{"$f":"panchnama!A67","v":""}]
[{"$f":"panchnama!A68","v":""}]
[{"$f":"panchnama!A69","v":"."}]
[{"$f":"panchnama!A70","v":""}]
[{"$f":"panchnama!A71","v":""}]
[{"$f":"panchnama!A72","v":""}]
[{"$f":"panchnama!A73","v":""}]
[{"$f":"panchnama!A74","v":""}]
[{"$f":"panchnama!A75","v":""}]
[{"$f":"panchnama!A76","v":""}]
[{"$f":"panchnama!A77","v":""}]
[{"$f":"panchnama!A78","v":""}]
[{"$f":"panchnama!A79","v":""}]
[{"$f":"panchnama!A79","v":""}]
[{"$f":"panchnama!A81","v":"."}]
[{"$f":"bksingh!OA9","v":"Further, during the course of the Panchnama proceedings, Jewellery Appraiser of Customs was called upon to ascertain the weight, purity and to appraise the value of the said recovered six cut pieces of gold collectively weighing 668 grams. The Jewellery Appraiser submitted their appraisement report dated 02.03.2020."}]
[{"$f":"bksingh!OA10","v":"The said recovered gold were kept in transperent plastic container and wrapped with transperent tape and finally sealed with Customs Plier Seal bearing 'IGI' on one side and 'afdsasd' on another side alongwith a paper seal bearing the signatures the panchas, Pax , English-Kenyan interpreter/translator and the Customs Officers. The same is further required to be deposited vide DR No.6565 dated 03.02.2020."}]
["In view of Circular No.38/2013-Customs dated 17.09.2013 and Circular No. 28/2015-Customs dated 23.10.2015 regarding guidelines for arrest in relation to offences punishable under the Customs Act, 1962 issued by the CBIC, it appears that all the Pax(s) have committed an offence punishable under Section 132 and Section 135 of the Customs Act, 1962. In view of the foregoing acts of omission and commission, if approved, all the Pax(s) may be placed under arrest under Section 104 of the Customs Act, 1962. Due procedure as per law will be followed subsequent to the arrest. Further investigation is going on."]
["Fax message and press release are also put up for kind perusal, approval and signature please."]

{"sheet":"arrest","index":10,"n_rows":16,"n_cols":1,"rows_kept":16,"cut":false,"hidden":false,"merged":[]}
[]
[{"$f":"summon!A2","v":"GOVERNMENT OF INDIA"}]
[{"$f":"'102'!A3:D3","v":"OFFICE OF THE ABC"}]
[{"$f":"'102'!A4:D4","v":"AIRPORT, NAIROBI, KENYA"}]
[{"$f":"'102'!A5:D5","v":"C.No.:VIII(AP)10/P&I/                     Dated: 14.07.2020"}]
[]
["ARREST MEMO"]
[{"$f":"bksingh!AEB5","v":"Consequent upon the seizure of six cut pieces of gold collectively weighing 668 grams under Section 110 of Customs Act, 1962 from following 1 (one) passenger :"}]
[{"$f":"bksingh!AEB6","v":"asfsfsadf, sfasfafasfasfasdf, Park Road, Nairobi, Kenya, holder of Kenyan Passport bearing No.sfasfasfasdfas issued on 02.03.2020 at Nairobi, ."}]
[{"$f":"bksingh!AEB7","v":"It is transpired that aforesaid asfsfsadf has committed an offence punishable under Section 132 and 135 of the Customs Act, 1962."}]
[{"$f":"bksingh!AEB8","v":"Therefore, the aforesaid asfsfsadf has been placed under arrest today i.e. on 08.04.2019 at 17:30 hrs. under Section 104 of the Customs Act, 1962 and she has been explained the ground of her arrest."}]
[]
[]
[{"$f":"\"Date: \"&bksingh!B45","v":"Date: 14.07.2020"}]
[{"$f":"panchnama!A149","v":"(asdf)"}]
[{"$f":"panchnama!A150","v":"sdfasdfasd"}]

{"sheet":"bail","index":11,"n_rows":20,"n_cols":1,"rows_kept":20,"cut":false,"hidden":false,"merged":[]}
[]
[{"$f":"summon!A2","v":"GOVERNMENT OF INDIA"}]
[{"$f":"arrest!A3","v":"OFFICE OF THE ABC"}]
[{"$f":"arrest!A4","v":"AIRPORT, NAIROBI, KENYA"}]
[{"$f":"arrest!A5","v":"C.No.:VIII(AP)10/P&I/                     Dated: 14.07.2020"}]
["To"]
[{"$f":"bksingh!AA5","v":"asfsfsadf"}]
[{"$f":"bksingh!AB5","v":"sfasfafasfasfasdf"}]
[{"$f":"bksingh!AC5&\", \"&bksingh!AD5","v":"Park Road, Nairobi"}]
[{"$f":"bksingh!AE5","v":"Kenya"}]
[" "]
["          Subject: Bail offer - reg."]
[]
[{"$f":"\"         You have been arrested for illegal import of \"&LOWER(bksingh!BL5)&\". Since the offence committed by you is a bailable in nature, therefore you are being offered bail in condition of surety of Rs.\"&bksingh!KV5&\" (\"&bksingh_riw(bksingh!DM5)&\") in form of fixed deposit in bank, in favour of the President of India through the \"&bksingh!CF5&\", \"&bksingh!CA5&\", \"&bksingh!CB5&\".\"","v":"         You have been arrested for illegal import of six cut pieces of gold collectively weighing 668 grams. Since the offence committed by you is a bailable in nature, therefore you are being offered bail in condition of surety of Rs.3,56,000/- (Rupees three lac fifty six thousand  only) in form of fixed deposit in bank, in favour of the President of India through the sadsdfasdfasdf, Airport, Nairobi, Kenya."}]
[]
[]
[]
[{"$f":"arrest!A14","v":"Date: 14.07.2020"}]
[{"$f":"arrest!A15","v":"(asdf)"}]
[{"$f":"arrest!A16","v":"sdfasdfasd"}]

{"sheet":"jamatalashi","index":12,"n_rows":36,"n_cols":2,"rows_kept":36,"cut":false,"hidden":false,"merged":[[34,0,34,1],[35,0,35,1],[9,0,9,1],[10,0,10,1],[1,0,1,1],[2,0,2,1],[3,0,3,1],[4,0,4,1],[6,0,6,1],[8,0,8,1]]}
[]
[{"$f":"summon!A2","v":"GOVERNMENT OF INDIA"}]
[{"$f":"bail!A3","v":"OFFICE OF THE ABC"}]
[{"$f":"bail!A4","v":"AIRPORT, NAIROBI, KENYA"}]
[{"$f":"bail!A5","v":"C.No.:VIII(AP)10/P&I/                     Dated: 14.07.2020"}]
[]
["JAMATALASHI MEMO"]
[]
[{"$f":"bksingh!AFX5","v":"Consequent upon the seizure of six cut pieces of gold collectively weighing 668 grams, under Section 110 of Customs Act, 1962 from  asfsfsadf, sfasfafasfasfasdf, Park Road Nairobi, Kenya, holder of Kenyan Passport No.sfasfasfasdfas issued on 02.03.2020 at Nairobi was arrived from Nairobi via Adis Abbaba by Flight No.ET688 dated 02.03.2019, it is transpired that aforesaid asfsfsadf conspired and has committed an offence punishable under Section 132 and 135 of the Customs Act, 1962."}]
[{"$f":"bksingh!AFY5","v":"Following the deliberations emerged by the voluntary statement given by asfsfsadf on 02.03.2020, and other factors transpiring into smuggle of gold in to India, she has committed an offence punishable under Section 132 and 135 of the Customs Act, 1962. Therefore, the aforesaid asfsfsadf has been placed under arrest on 08.04.2019 at 17:30 hrs. under Section 104 of the Customs Act, 1962 and she has been explained the grounds of arrest."}]
["The following goods were during personal and baggage search and have been taken into possession as JAMATALASHI goods. "]
[{"$f":"IF(bksingh!AFC5=\"\",\"\",\"1.\")","v":"1."},{"$f":"IF(bksingh!AFC5=\"\",\"\",bksingh!AFC5)","v":"Copy of Arrest Memo dated 08.04.2019."}]
[{"$f":"IF(bksingh!AFD5=\"\",\"\",\"2.\")","v":"2."},{"$f":"IF(bksingh!AFD5=\"\",\"\",bksingh!AFD5)","v":"Copy of Panchnama dated 02.03.2019."}]
[{"$f":"IF(bksingh!AFE5=\"\",\"\",\"3.\")","v":"3."},{"$f":"IF(bksingh!AFE5=\"\",\"\",bksingh!AFE5)","v":"Notice issued on 06.04.2019 under Section 102 of the Customs Act, 1962."}]
[{"$f":"IF(bksingh!AFF5=\"\",\"\",\"4.\")","v":"4."},{"$f":"IF(bksingh!AFF5=\"\",\"\",bksingh!AFF5)","v":"Summon dated 08.04.2019."}]
[{"$f":"IF(bksingh!AFG5=\"\",\"\",\"5.\")","v":"5."},{"$f":"IF(bksingh!AFG5=\"\",\"\",bksingh!AFG5)","v":"Copy of Detention Receipt No.6565 dated 03.02.2020."}]
[{"$f":"IF(bksingh!AFH5=\"\",\"\",\"6.\")","v":"6."},{"$f":"IF(bksingh!AFH5=\"\",\"\",bksingh!AFH5)","v":"Copy of Seizure Memo dated 02.02.2020."}]
[{"$f":"IF(bksingh!AFJ5=\"\",\"\",\"7.\")","v":"7."},{"$f":"IF(bksingh!AFJ5=\"\",\"\",bksingh!AFJ5)","v":"Boarding Pass of Flight No.ET688 Dated 02.03.2019 Seat No.E26 arrived from Nairobi via Adis Abbaba."}]
[{"$f":"IF(bksingh!AFK5=\"\",\"\",\"8.\")","v":"8."},{"$f":"IF(bksingh!AFK5=\"\",\"\",bksingh!AFK5)","v":"Kenyan Passport No.sfasfasfasdfas."}]
[{"$f":"IF(bksingh!AFL5=\"\",\"\",\"9.\")","v":"9."},{"$f":"IF(bksingh!AFL5=\"\",\"\",bksingh!AFL5)","v":"sfasdfsdf."}]
[{"$f":"IF(bksingh!AFM5=\"\",\"\",\"10.\")","v":"10."},{"$f":"IF(bksingh!AFM5=\"\",\"\",bksingh!AFM5)","v":"asdfasf."}]
[{"$f":"IF(bksingh!AFN5=\"\",\"\",\"11.\")","v":"11."},{"$f":"IF(bksingh!AFN5=\"\",\"\",bksingh!AFN5)","v":"asdfasdfaf."}]
[{"$f":"IF(bksingh!AFO5=\"\",\"\",\"12.\")","v":"12."},{"$f":"IF(bksingh!AFO5=\"\",\"\",bksingh!AFO5)","v":"Kenyan Currency-7100, USD-500, INR-1470."}]
[{"$f":"IF(bksingh!AFP5=\"\",\"\",\"13.\")","v":"13."},{"$f":"IF(bksingh!AFP5=\"\",\"\",bksingh!AFP5)","v":"Personal Gold Jewellery."}]
[{"$f":"IF(bksingh!AFQ5=\"\",\"\",\"14.\")","v":""},{"$f":"IF(bksingh!AFQ5=\"\",\"\",bksingh!AFQ5)","v":""}]
[{"$f":"IF(bksingh!AFR5=\"\",\"\",\"15.\")","v":""},{"$f":"IF(bksingh!AFR5=\"\",\"\",bksingh!AFR5)","v":""}]
[{"$f":"IF(bksingh!AFS5=\"\",\"\",\"16.\")","v":""},{"$f":"IF(bksingh!AFS5=\"\",\"\",bksingh!AFS5)","v":""}]
[{"$f":"IF(bksingh!AFT5=\"\",\"\",\"17.\")","v":""},{"$f":"IF(bksingh!AFT5=\"\",\"\",bksingh!AFT5&\".\")","v":""}]
[{"$f":"IF(bksingh!AFU5=\"\",\"\",\"18.\")","v":""},{"$f":"IF(bksingh!AFU5=\"\",\"\",bksingh!AFU5&\".\")","v":""}]
[{"$f":"IF(bksingh!AFV5=\"\",\"\",\"19.\")","v":""},{"$f":"IF(bksingh!AFV5=\"\",\"\",bksingh!AFV5&\".\")","v":""}]
[{"$f":"IF(bksingh!AFW5=\"\",\"\",\"20.\")","v":""},{"$f":"IF(bksingh!AFW5=\"\",\"\",bksingh!AFW5&\".\")","v":""}]
[]
[]
[]
[{"$f":"bail!A19","v":"(asdf)"}]
[{"$f":"bail!A20","v":"sdfasdfasd"}]

{"sheet":"fd","index":13,"n_rows":92,"n_cols":10,"rows_kept":92,"cut":false,"hidden":false,"merged":[]}
[]
[{"$f":"summon!A2","v":"GOVERNMENT OF INDIA"}]
[{"$f":"jamatalashi!A3","v":"OFFICE OF THE ABC"}]
[{"$f":"jamatalashi!A4","v":"AIRPORT, NAIROBI, KENYA"}]
[{"$f":"jamatalashi!A5","v":"C.No.:VIII(AP)10/P&I/                     Dated: 14.07.2020"}]
[]
["To"]
[{"$f":"IF(bksingh!LI5=\"\",\"\",bksingh!LI5)","v":"The Branch Manager"}]
[{"$f":"IF(bksingh!LJ5=\"\",\"\",bksingh!LJ5)","v":"Bank"}]
[{"$f":"IF(bksingh!LK5=\"\",\"\",bksingh!LK5)","v":"Nairobi Kenya"}]
[{"$f":"IF(bksingh!LL5=\"\",\"\",bksingh!LL5)","v":""}]
[]
["          Subject: Issue of Deposit/Transfer FDR request – reg."]
[]
["Sir,"]
[{"$f":"bksingh!LN5","v":"It is informed that Md. Salimullah Ansari, Md. Barkatullah Ansari, T/23, Ansaribagh, Varansi, Uttar Pradesh, India,  holder of Indian Passport bearing No.AB22356 issued on 12.03.2018 from Lucknow, India, whose signature is attested below, has agreed to become surer in seizure case against asfsfsadf, sfasfafasfasfasdf, Park Road, Nairobi, Kenya. A deposit of Rs.3,65,000/- (Rupees three lac sixty five thousand  only) for a period of three years may please be accepted from him in the name of the Hon'ble President of India, through sadsdfasdfasdf, Airport, Nairobi, Kenya."}]
[{"$f":"bksingh!LN6","v":"This FDR should not be transferred/released without the permission of the Competent Authority i.e. the Additional Commissioner of Customs, Airport, Nairobi, Kenya."}]
[]
["Yours faithfully,"]
[]
[]
["Signature Attested"]
[{"$f":"summon!A17","v":"(fasd)"}]
[{"$f":"summon!A18","v":"f"}]
[]
[]
[]
[]
["Form No. 45"]
["(Section 436 Cr. P.C.)"]
[{"$f":"\"IN THE \"&A3","v":"IN THE OFFICE OF THE ABC"}]
[{"$f":"A4","v":"AIRPORT, NAIROBI, KENYA"}]
[{"$f":"A5","v":"C.No.:VIII(AP)10/P&I/                     Dated: 14.07.2020"}]
[]
[{"$f":"bksingh!LN7&bksingh!LN8&bksingh!LN9","v":"I, asfsfsadf, (DOB: 03.02.1994), sfasfafasfasfasdf, Park Road, Nairobi, Kenya, holder of Kenyan Passport bearing No.sfasfasfasdfas issued on 02.03.2020 at Nairobi, was arrived from Nairobi via Adis Abbaba by Flight No.ET688 dated 02.03.2019 having been arrested charged with the offenses punishable under Section 132 and 135 of the Customs Act, 1962 and required to give surety for my attendance before such Officer or Court on condition that I shall appear before officer or Court on every day on which any investigation or trial is held with regard to such charge and in case of making default there in I hereby bind myself to forfeit to Government the sum of Rs.3,65,000/- (Rupees three lac sixty five thousand  only)."}]
["I undertake not to leave the country without prior written permission of the concerned officer or the court, as the case may be."]
[]
[]
[{"$f":"\"Dated: \"&bksingh!$B$45","v":"Dated: 14.07.2020"}]
[{"$f":"bksingh!AA5","v":"asfsfsadf"}]
[]
[{"$f":"bksingh!LN10&bksingh!LN11&bksingh!LN9","v":"I, Md. Salimullah Ansari, Md. Barkatullah Ansari, T/23, Ansaribagh, Varansi, Uttar Pradesh, India, PAN-ASDEW4656D hereby declare myself surety for the above said asfsfsadf, that she shall attend the Customs office or the Court every day on which any investigation in the charge is made or any trial on such charge is held that she shall be and re-appear before such officer or Court for the purpose of such investigation to answer the charge against her (as the case may be) and in case of her making default herein, I bind myself to forfeit to Government the sum of Rs.3,65,000/- (Rupees three lac sixty five thousand  only)."}]
[]
[]
[{"$f":"bksingh!LA5","v":"Md. Salimullah Ansari"}]
[{"$f":"A39","v":"Dated: 14.07.2020"}]
["       "]
["Witnesses:"]
["1.    "]
["2.    "]
[]
["Annexure II"]
[{"$f":"A31","v":"IN THE OFFICE OF THE ABC"}]
[{"$f":"A32","v":"AIRPORT, NAIROBI, KENYA"}]
[{"$f":"A33","v":"C.No.:VIII(AP)10/P&I/                     Dated: 14.07.2020"}]
[]
[]
["AFFIDAVIT"]
[]
["I, Sh. Dheeraj Sharma S/o Sh. Kulbhushan Sharma, R/o C-144, Postal & Telecom Staff Quarters, Vivek Vihar,Jhilmil, East Delhi-110095 do hereby solemnly affirm and declare as follows:"]
[]
["1. The accused is my known person."]
["2. I have full control over the accused."]
["3. My PAN is BYZOS5229P."]
["4. I own moveable and immovable assets."]
["5. I am surrendering a FDR No. ________________dated 21.04.2018 in the sum of Rs. 4,50,000/- (Rupees Four  Lakh Fifty Thousand  Only) issued by State Bank of India,Air Cargo terminal, IGI Airport, New Delhi  for the term of 03 years i.e. upto____.04.2021."]
["I undertake to produce the accused before the Investigating Officer and/or the concerned Court, as and when required, failing which I shall forfeit to the Government, the sum of Rs. 4,50,000/- (Rupees Four  Lakh Fifty Thousand  Only) as indicated hereinabove."]
[]
[]
["DEPONENT"]
[]
["Verification:"]
[]
["Verified at New Delhi on this 21th April of 2018 that the contents of the above affidavit are true to my knowledge."]
[]
[]
[]
[]
[null,null,null,null,null,null,null,null,null,"DEPONENT"]
[]
[]
[]
["Annexure-III"]
[]
["FILE NO. VIII(AP)10/P&I/1951-D/Arrival/2018"]
[]
["Sh. Mohammad Haseeb  Mohammad Sami Ansari  S/o Sh. Mohammad Sami   Mohammad Nazir Ansari R/o 09-Khuda Baksh Dalal Chawl, 2nd Flr, R. No.-22, Huasiani Baugh, Madanpura, Mumbai, Maharastra,  Pin- 400008,  holder of Indian Passport No. N4222263 issued on 26.10.2015 at Mumbai, Maharastra, India was intended to depart to Dubai by Flight No. 6E 023 dated 20.04.2018  from Terminal -3, IGI Airport, New Delhi, was arrested in connection with the recovery and seizure of foreign currency US $ 90,000/- is equivalent to INR 5850000/- for offences punishable under Sections 132 and 135 of the Customs Act, 1962. It has been directed that she be released on bail, subject to her furnishing a personal bond in the sum of Rs. 4,50,000/- (Rupees Four  Lakh Fifty Thousand  Only) with surety bond with the like amount and also subject to the condition that she will join investigation as and when required and will surrender her passport and will not leave the country without prior permission of the arresting officer and /or the court. Bonds furnished alongwith surety in the form of Bank guarantee issued by Punjab National Bank for a sum of Rs. 4,50,000/- (Rupees Four  Lakh Fifty Thousand  Only). Accepted be released forthwith."]
[]
[]
["AIR CUSTOMS OFFICER"]
["I.G.I. AIRPORT, NEW DELHI"]
["DATED 21.04.2018"]

{"sheet":"currency","index":14,"n_rows":21,"n_cols":4,"rows_kept":21,"cut":false,"hidden":false,"merged":[[12,0,12,3],[16,0,16,3],[19,0,19,3],[20,0,20,3],[6,0,6,3],[7,0,7,3],[8,0,8,3],[10,0,10,3],[11,0,11,3],[9,0,9,3],[5,0,5,3],[0,0,0,3],[1,0,1,3],[2,0,2,3],[3,0,3,3],[4,0,4,3]]}
[]
[{"$f":"summon!A2","v":"GOVERNMENT OF INDIA"}]
[{"$f":"fd!A3","v":"OFFICE OF THE ABC"}]
[{"$f":"fd!A4","v":"AIRPORT, NAIROBI, KENYA"}]
[{"$f":"fd!A5","v":"C.No.:VIII(AP)10/P&I/                     Dated: 14.07.2020"}]
["To"]
["The AGM"]
["Central Bank of India"]
["Parliament Street, New Delhi"]
[]
["          Subject: Deposit of Foreign Currency in Central Government Account - reg."]
["Sir,"]
[]
["Name of the Currency","No. Of Currency notes","Denomination of Each Currency Note","Total value in Foreign Currency"]
["EURO",76,500,38000]
[]
["Yours faithfully"]
[]
[]
[{"$f":"fd!A24","v":"f"}]
[{"$f":"press!A13","v":"Airport, Nairobi"}]

{"sheet":"medical","index":15,"n_rows":31,"n_cols":4,"rows_kept":31,"cut":false,"hidden":false,"merged":[[29,0,29,3],[30,0,30,3],[28,0,28,3],[5,0,5,3],[10,0,10,3],[14,0,14,3],[23,0,23,3],[11,0,11,3],[24,0,24,3],[25,0,25,3],[26,0,26,3],[9,0,9,3],[12,1,12,3],[0,0,0,3],[1,0,1,3],[2,0,2,3],[3,0,3,3],[4,0,4,3]]}
[]
[{"$f":"summon!A2","v":"GOVERNMENT OF INDIA"}]
[{"$f":"summon!A3","v":"OFFICE OF THE ABC"}]
[{"$f":"summon!A4","v":"AIRPORT, NAIROBI, KENYA"}]
[{"$f":"summon!A5","v":"C.No.:VIII(AP)10/P&I/                     Dated: 14.07.2020"}]
["To,"]
[null,{"$f":"bksingh!ET5","v":"The Medical Superintendent"}]
[null,{"$f":"bksingh!EU5","v":"Ram Manohar Lohia Hospital"}]
[null,{"$f":"bksingh!EV5","v":"B K Singh Marg, New Delhi"}]
[]
["Sir/Madam,"]
[]
[null,{"$f":"\"Subject: Conducting of medical check-up of \"&bksingh!AA5&\" before production in the Court/Jail – reg.\"","v":"Subject: Conducting of medical check-up of asfsfsadf before production in the Court/Jail – reg."}]
[]
["       You are requested to conduct the medical check-up of the above mentioned person, who has been arrested by our department. The said medical report is required before his production in the Court. The details of the passenger are given below:"]
[1,"Name ",":",{"$f":"bksingh!AA5","v":"asfsfsadf"}]
[2,"Father’s Name",":",{"$f":"bksingh!AB5","v":"sfasfafasfasfasdf"}]
[3,"Address",":",{"$f":"TRIM(bksingh!AC5&\", \"&bksingh!AD5&\", \"&bksingh!AE5)","v":"Park Road, Nairobi, Kenya"}]
[4,"Passport No.",":",{"$f":"bksingh!AF5","v":"sfasfasfasdfas"}]
[5,"Passport Date",":",{"$f":"bksingh!AH5","v":"02.03.2020"}]
[6,"Date of Birth",":",{"$f":"bksingh!AJ5","v":"03.02.1994"}]
[7,"Age",":",{"$f":"bksingh!D50","v":"26 Years"}]
[]
["       I will be thankful for your co-operation in the matter."]
[]
["Yours faithfully,"]
[]
[]
[]
[{"$f":"summon!A17","v":"(fasd)"}]
[{"$f":"summon!A18","v":"f"}]

{"sheet":"seizure","index":16,"n_rows":14,"n_cols":1,"rows_kept":14,"cut":false,"hidden":false,"merged":[[13,0,13,4],[14,0,14,4],[12,0,12,4],[10,0,10,4],[0,0,0,4],[7,0,7,4],[8,0,8,4],[9,0,9,4],[5,0,5,4],[1,0,1,4],[2,0,2,4],[3,0,3,4],[4,0,4,4],[6,0,6,4]]}
[]
[{"$f":"medical!A2","v":"GOVERNMENT OF INDIA"}]
[{"$f":"medical!A3","v":"OFFICE OF THE ABC"}]
[{"$f":"medical!A4","v":"AIRPORT, NAIROBI, KENYA"}]
[{"$f":"medical!A5","v":"C.No.:VIII(AP)10/P&I/                     Dated: 14.07.2020"}]
["SEIZURE MEMO"]
[{"$f":"bksingh!MA5","v":"The Pax namely asfsfsadf, (DOB: 03.02.1994), sfasfafasfasfasdf, Park Road, Nairobi, Kenya, holder of Kenyan Passport bearing No.sfasfasfasdfas issued on 02.03.2020 at Nairobi, was arrived from Nairobi via Adis Abbaba by Flight No.ET688 dated 02.03.2019 intercepted by the Customs Officer after she had crossed the Green Channel and approaching towards the Exit Gate of the Arrival Hall of Airport. Detailed examination of baggage and personal search of the Pax, resulted in recovery of Six cut pieces of gold (collectively weighing 668 grams."}]
[{"$f":"bksingh!MA6","v":"The said goods are seized today under Panchnama dated 02.03.2019 in the presence of the Pax & two independent witnesses. The illegally imported seized goods being not the bonafide baggage are liable for confiscation under the provisions of Customs Act, 1962 as the same were attempted to clear from the Customs Area by the Pax without declaring the same to the Proper Officer of Customs and without payment of Customs Duty."}]
[{"$f":"bksingh!MA7","v":"The Pax is hereby informed under Section 110(1) of the Customs Act, 1962 that offended goods i.e. Six cut pieces of gold (collectively weighing 668 grams), valued at Rs.16,95,750/- (Rupees sixteen lacs ninety five thousand seven hundred fifty only) are being seized and are further required to be deposited in Valuable Warehouse vide DR No.6565 dated 03.02.2020. It is also informed that further necessary inquiries & actions in the matter will be taken in accordance with law under the act, ibid. "}]
[{"$f":"bksingh!MA8","v":"The Pax is further informed that, in case of any inquiry/clarification in the matter, may contact to the undersigned on 12364867. It is also informed that, in case, the Pax want to visit Customs Office at Airport, Nairobi Kenya, may only visit with prior appointment with the undersigned and for the purpose, the Pax have to bring latest two passport size photograph alongwith one valid acceptable Identity card i.e. Passport, Voter Id, Aadhaar Card, etc. for issuance of AEP."}]
[]
[]
[{"$f":"arrest!A15","v":"(asdf)"}]
[{"$f":"arrest!A16","v":"sdfasdfasd"}]

{"sheet":"table-ii","index":17,"n_rows":60,"n_cols":8,"rows_kept":60,"cut":false,"hidden":false,"merged":[[38,4,40,7],[19,4,20,7],[45,0,45,3],[46,0,46,3],[24,0,40,0],[42,1,42,7],[25,1,25,7],[34,2,34,3],[35,2,35,3],[29,2,29,7],[34,4,34,7],[28,4,28,7],[33,1,33,7],[36,4,36,7],[35,4,35,7],[37,2,37,7],[52,0,52,7],[53,0,53,7],[47,0,47,3],[48,0,48,3],[43,1,43,2],[44,1,44,2],[0,0,0,7],[5,4,5,7],[6,4,6,7],[7,4,7,7],[4,0,13,0],[5,2,5,3],[6,2,6,3],[7,2,7,3],[8,2,8,7],[4,1,4,7],[13,4,13,7],[13,2,13,3],[12,2,12,3],[11,2,11,3],[9,4,9,7],[9,2,9,3],[36,2,36,3],[28,2,28,3],[10,2,10,3],[12,4,12,7],[2,0,2,7],[14,0,16,0],[17,0,20,0],[18,4,18,7],[20,2,20,3],[19,2,19,3],[18,2,18,3],[17,1,17,7],[14,1,14,7],[16,4,16,7],[16,2,16,3],[15,2,15,3],[30,4,32,7],[24,1,24,7],[27,4,27,7],[26,4,26,7],[27,2,27,3],[26,2,26,3],[10,4,10,7],[11,4,11,7],[22,4,22,7],[23,4,23,7],[21,1,21,3],[22,1,22,3],[23,1,23,3],[15,4,15,7],[21,4,21,7]]}
["TABLE – II"]
[]
[{"$f":"\"INVENTORY OF GOODS DETAINED/SEIZED VIDE DR No.\"&bksingh!CK5&\" DATED \"&bksingh!CL5","v":"INVENTORY OF GOODS DETAINED/SEIZED VIDE DR No.132 DATED 02.02.2020"}]
[]
[1,"Owner of Goods / Passenger:"]
[null,"a.","Name",null,{"$f":"bksingh!AA5","v":"asfsfsadf"}]
[null,"b.","Father’s / Spouse’s Name",null,{"$f":"bksingh!AB5","v":"sfasfafasfasfasdf"}]
[null,"c.","Occupation",null,{"$f":"bksingh!AL5","v":"Business"}]
[null,"d.","Address"]
[null,"i.","Door No. / Building",null,{"$f":"bksingh!AC5","v":"Park Road"}]
[null,"ii.","Street/ Vill",null,{"$f":"bksingh!AD5","v":"Nairobi"}]
[null,"iii.","Locality/PO",null,"-"]
[null,"iv.","City / District/Country",null,{"$f":"bksingh!AE5","v":"Kenya"}]
[null,"v.","Proof of Address : Passport Number / Other",null,{"$f":"bksingh!AF5","v":"sfasfasfasdfas"}]
[2,"Seizing / Detaining Officer:"]
[null,"a.","Name",null,{"$f":"bksingh!AW5","v":"asdf"}]
[null,"b.","Designation",null,{"$f":"bksingh!AX5","v":"sdfasdfasd"}]
[3,"Place of Seizure / Detention"]
[null,"i.","Door No. / Building ",null,"Green Channel"]
[null,"ii.","Street / Locality",null,{"$f":"bksingh!CA5&\", \"&bksingh!CB5","v":"Airport, Nairobi, Kenya"}]
[null,"iii.","City / District"]
[4,"Date of Seizure (DD/MM/YYYY)",null,null,{"$f":"bksingh!CL5","v":"02.02.2020"}]
[5,"Seizing Unit",null,null,"Customs (Preventive)"]
[6,"Case File No. and Date",null,null,{"$f":"bksingh!CS5&\" dt. \"&E22","v":"VIII(AP)10/P&I/ dt. 02.02.2020"}]
[7,"Details of Witnesses / Panchas"]
[null,"(i) Witness / Pancha – 1"]
[null,"a.","Name",null,{"$f":"bksingh!AQ5","v":"Ms. sdfasdfasdf"}]
[null,"b.","Father’s / Spouse’s Name",null,{"$f":"bksingh!AR5","v":"D/o sfasdfasdfasdfasdf"}]
[null,"c.","Occupation",null,{"$f":"bksingh!FK5","v":"Service"}]
[null,"d.","Address"]
[null,null,"i.","Door No./Building ",{"$f":"bksingh!AS5","v":"sdfdfjgjghjfgj"}]
[null,null,"ii.","Street / Locality"]
[null,null,"iii.","City/District/Pin Code"]
[null,"(ii) Witness / Pancha – 2"]
[null,"a.","Name",null,{"$f":"bksingh!AT5","v":"Mr. ffghfghfgh"}]
[null,"b.","Father’s / Spouse’s Name",null,{"$f":"bksingh!AU5","v":"fghfghfgh"}]
[null,"c.","Occupation",null,{"$f":"bksingh!FL5","v":"Service"}]
[null,"d.","Address"]
[null,null,"i.","Door No./Building ",{"$f":"bksingh!AV5","v":"fghfgh"}]
[null,null,"ii.","Street / Locality"]
[null,null,"iii.","City/District/Pin Code"]
[]
[8,"Details of Seized goods Packages and its contents:"]
["Sl. No.","Details of the package containing goods",null,"Description of the goods","Quantity (in gms)","Country of Origin, if any","Total Tariff Value","Total Market Value"]
[1,{"$f":"bksingh!FJ5&\" and sealed with Customs plier seal having impression \"&bksingh!CT5&\" one side and \"&bksingh!CU5&\" another side.\"","v":"transperent plastic container and wrapped with transperent tape and sealed with Customs plier seal having impression IGI one side and afdsasd another side."},null,{"$f":"bksingh!IC5","v":"Six cut pieces of gold"},{"$f":"bksingh!ID5","v":668},{"$f":"E13","v":"Kenya"},{"$f":"\"Rs.\"&bksingh!KZ5&\" (\"&bksingh_riw(bksingh!IF5)&\")\"","v":"Rs.16,95,750/- (Rupees sixteen lacs ninety five thousand seven hundred fifty only)"},{"$f":"\"Rs.\"&bksingh!KX5&\" (\"&bksingh_riw(bksingh!IL5)&\")\"","v":"Rs.18,47,020/- (Rupees eighteen lacs forty seven thousand twenty only)"}]
["Signature of the Owner / Passenger"]
["Signature of the Seizure Officer"]
["Signature of the Witness – I "]
["Signature of the Witness – II"]
[]
["A specimen of the seal affixed on the package "]
[]
["Received with seals intact."]
["Entered in Valuables Register vide Entry No. ……………. dated ………………"]
[]
[]
[]
["Signature of the Custodian (Valuables)"]
["Name: …………………………………………"]
["Designation: …………………………………"]

{"sheet":"statement","index":18,"n_rows":52,"n_cols":3,"rows_kept":52,"cut":false,"hidden":false,"merged":[[35,0,35,3],[36,0,36,3],[37,0,37,3],[38,0,38,3],[31,0,31,3],[32,0,32,3],[33,0,33,3],[34,0,34,3],[19,0,19,3],[27,0,27,3],[28,0,28,3],[29,0,29,3],[30,0,30,3],[21,0,21,3],[22,0,22,3],[23,0,23,3],[24,0,24,3],[25,0,25,3],[26,0,26,3],[5,0,5,3],[0,0,0,3],[1,0,1,3],[2,0,2,3],[3,0,3,3],[4,0,4,3],[6,0,6,3],[7,0,7,3],[8,0,8,3],[39,0,39,3],[40,0,40,3],[20,0,20,3],[9,0,9,3],[10,0,10,3],[11,0,11,3],[12,0,12,3],[13,0,13,3],[14,0,14,3],[15,0,15,3],[16,0,16,3],[17,0,17,3],[18,0,18,3],[41,0,41,3],[42,0,42,3],[43,0,43,3],[44,0,44,3],[45,0,45,3],[51,2,51,3],[46,0,46,3],[47,0,47,3],[48,0,48,3],[49,0,49,3],[50,0,50,3]]}
[{"$f":"bksingh!NA5","v":"Statement of asfsfsadf, (DOB: 03.02.1994), sfasfafasfasfasdf, Park Road, Nairobi, Kenya, holder of Kenyan Passport bearing No.sfasfasfasdfas issued on 02.03.2020 at Nairobi, was arrived from Nairobi via Adis Abbaba by Flight No.ET688 dated 02.03.2019 recorded before the Air Customs Superintendent (Preventive) under Section 108 of the Customs Act, 1962 on 02.03.2020."}]
[{"$f":"bksingh!NA6","v":"fddfsgsdfgsdf"}]
[{"$f":"bksingh!NA7","v":"dfgsdg"}]
[{"$f":"bksingh!NA8","v":"dfg"}]
[{"$f":"bksingh!NA9","v":"dfg"}]
[{"$f":"bksingh!NA10","v":"Further, I want to tender my statement in question answer form, which is as under:-"}]
[{"$f":"bksingh!NA11","v":"Question No.1 - dgdfgdfg"}]
[{"$f":"bksingh!NA12","v":"Answer - dgdfgdfg"}]
[{"$f":"bksingh!NA13","v":"Question No.2 - dgdfgdfgdfgdfg"}]
[{"$f":"bksingh!NA14","v":"Answer - dfg"}]
[{"$f":"bksingh!NA15","v":""}]
[{"$f":"bksingh!NA16","v":""}]
[{"$f":"bksingh!NA17","v":""}]
[{"$f":"bksingh!NA18","v":""}]
[{"$f":"bksingh!NA19","v":""}]
[{"$f":"bksingh!NA20","v":""}]
[{"$f":"bksingh!NA21","v":""}]
[{"$f":"bksingh!NA22","v":""}]
[{"$f":"bksingh!NA23","v":""}]
[{"$f":"bksingh!NA24","v":""}]
[{"$f":"bksingh!NA25","v":""}]
[{"$f":"bksingh!NA26","v":""}]
[{"$f":"bksingh!NA27","v":""}]
[{"$f":"bksingh!NA28","v":""}]
[{"$f":"bksingh!NA29","v":""}]
[{"$f":"bksingh!NA30","v":""}]
[{"$f":"bksingh!NA31","v":""}]
[{"$f":"bksingh!NA32","v":""}]
[{"$f":"bksingh!NA33","v":""}]
[{"$f":"bksingh!NA34","v":""}]
[{"$f":"bksingh!NA35","v":""}]
[{"$f":"bksingh!NA36","v":""}]
[{"$f":"bksingh!NA37","v":""}]
[{"$f":"bksingh!NA38","v":""}]
[{"$f":"bksingh!NA39","v":""}]
[{"$f":"bksingh!NA40","v":""}]
[{"$f":"bksingh!NA41","v":""}]
[{"$f":"bksingh!NA42","v":""}]
[{"$f":"bksingh!NA43","v":""}]
[{"$f":"bksingh!NA44","v":""}]
[{"$f":"bksingh!NA45","v":""}]
[{"$f":"bksingh!NA46","v":""}]
[{"$f":"bksingh!NA47","v":""}]
[{"$f":"bksingh!NA48","v":""}]
[{"$f":"bksingh!NA49","v":""}]
[{"$f":"bksingh!NA50","v":""}]
[{"$f":"bksingh!NA51","v":"On being asked by the Customs Officer, I further admit my acts of omission, commission and responsibility of importing the said recovered gold as well as smuggling gold by me, on my part for having brought the gold illegally in India with intent to clear the same from Airport, Nairobi Kenya without payment of the Customs Import duty."}]
[{"$f":"bksingh!NA52","v":"I agree with the facts and contents as well as the manner of the proceedings recorded in the said Panchnama dated 05.03.2019 in the presence of two Independent panchas."}]
[{"$f":"bksingh!NA53","v":"I further assure that I will present myself as and when required in due course of investigation of the case. This is my true and correct statement tendered without any threat, pressure, duress, coercion and temptation in my full senses. The statement, running into 5 (five) pages, has been read by me in vernacular by Ms. sdfasdfasdfasdf and I have completely understood its content. I completely agree with the above stated facts and the same has been recorded as per my version."}]
[{"$f":"bksingh!NA54","v":"I further state that this statement of mine has been typed by the Customs Officer on my request on the computer installed and the same has been typed as per my version. I have signed each page of my statement in token of understood the contents."}]
[]
[null,null,{"$f":"\"(\"&bksingh!AA5&\")\"","v":"(asfsfsadf)"}]

{"sheet":"reward","index":19,"n_rows":139,"n_cols":6,"rows_kept":139,"cut":false,"hidden":false,"merged":[[94,0,94,5],[95,0,95,3],[95,4,95,5],[0,0,0,5],[1,0,1,1],[2,0,2,1],[1,2,1,5],[2,2,2,5],[3,0,3,5],[6,0,8,0],[13,3,13,5],[14,3,14,5],[15,3,15,5],[16,3,16,5],[17,3,17,5],[13,1,13,2],[14,1,14,2],[15,1,15,2],[16,1,16,2],[9,0,16,0],[9,1,9,5],[10,1,10,2],[11,1,11,2],[12,1,12,2],[36,3,36,5],[18,1,18,2],[10,3,10,5],[11,3,11,5],[12,3,12,5],[18,3,18,5],[24,3,24,5],[23,3,23,5],[25,3,25,5],[26,3,26,5],[27,3,27,5],[28,3,28,5],[29,3,29,5],[30,3,30,5],[31,3,31,5],[19,1,19,2],[19,3,19,5],[21,3,21,5],[22,3,22,5],[17,1,17,2],[32,3,32,5],[33,3,33,5],[34,3,34,5],[35,3,35,5],[42,3,42,5],[43,3,43,5],[44,3,44,5],[45,3,45,5],[46,3,46,5],[37,3,37,5],[38,3,38,5],[39,3,39,5],[40,3,40,5],[41,3,41,5],[54,0,54,5],[55,0,55,5],[56,0,56,5],[58,0,58,5],[59,0,59,5],[47,3,47,5],[48,3,48,5],[50,0,50,5],[51,0,51,5],[52,0,52,5],[69,0,69,5],[70,0,70,5],[72,0,72,5],[73,0,73,5],[75,0,75,5],[61,0,61,5],[63,0,63,5],[64,0,64,5],[65,0,65,5],[66,0,66,5],[77,0,77,5],[79,1,79,2],[80,1,80,2],[81,1,81,2],[82,1,82,2],[78,1,78,2],[78,3,78,5],[79,3,79,5],[80,3,80,5],[81,3,81,5],[82,3,82,5],[88,1,88,2],[89,1,89,2],[90,1,90,2],[91,1,91,2],[92,1,92,2],[83,1,83,2],[84,1,84,2],[85,1,85,2],[86,1,86,2],[87,1,87,2],[88,3,88,5],[89,3,89,5],[90,3,90,5],[91,3,91,5],[92,3,92,5],[83,3,83,5],[84,3,84,5],[85,3,85,5],[86,3,86,5],[87,3,87,5],[138,0,138,5],[128,0,128,5],[133,0,133,5],[134,0,134,5],[135,0,135,5],[136,0,136,5],[137,0,137,5],[129,0,129,5],[130,0,130,5],[131,0,131,5],[132,0,132,5],[4,1,4,2],[5,1,5,2],[6,1,6,2],[7,1,7,2],[8,1,8,2],[4,3,4,5],[5,3,5,5],[6,3,6,5],[7,3,7,5],[8,3,8,5]]}
["DRI – 2 (SEIZURE REPORT)"]
["COMMISSIONERATE:"]
["DIVISION:"]
[{"$f":"seizure!A5","v":"C.No.:VIII(AP)10/P&I/                     Dated: 14.07.2020"}]
[1,"Date and time of detection"]
[2,"Place of Seizure"]
[3,"i) Description of Goods Seized "]
[null,"ii) Quantity thereof and"]
[null,"iii) Value in INR"]
[4,"List of Alleged Offender :"]
[null,"(a) Name"]
[null,"(b) Father’s name"]
[null,"(c) Address"]
[null,"(d) Whether assessed to Income Tax"]
[null,"(e) Whether arrested and interrogated"]
[null,"(f) Whether any admission about guilt"]
[null,"(g) Place which arrived from"]
[5,"Whether the seizure was on the basis of prior information.",null,"No"]
[6,"Other Departments associated in the matter or to which matter has been reported",null,"No"]
[7,"Name & Designations of the Officers who played role in the seizure case.",null,"As per details mentioned against their names enlisted below:"]
[]
[1]
[2]
[3]
[4]
[5]
[6]
[7]
[8]
[9]
[10]
[11]
[12]
[13]
[14]
[15]
[16]
[17]
[18]
[19]
[20]
[21]
[22]
[23]
[24]
[25]
[26]
[27]
[28]
[]
["BRIEF FACTS OF THE CASE"]
["Pax Sh. Anas, S/o Sh. Furkan, H.No.123, Tighri, Saharanpur-247554, arrived on 31.03.2019 at Arrival Terminal-3, IGI Airport, New Delhi, by Flight No.SV760 dated 31.03.2019 from Riyadh to Delhi."]
["2. On personal and baggage search of the pax, 11 gold bars weighing 1283 gms, amounting to Rs.37,60,133/- (Rupees thirty seven lakh sixty thousand one hundred thirty three only), were seized vide Detention Receipt No.53248 dated 31.03.2019 under Section 110 of Customs Act, 1962 on a reasonable belief that the same is liable to confiscation under Section 111 of the Customs Act, 1962."]
[]
["(Mmkk)"]
["Air Customs Officer (Prev.)"]
["I.G.I. Airport, T-3, New Delhi"]
[]
["OFFICE OF THE COMMISSIONER OF CUSTOMS,"]
["I.G.I. AIRPORT: TERMINAL-3: NEW DELHI-110037"]
[]
[]
[]
["Copy forwarded to:-."]
["1. The Assistant Director, DRI, 7th Floor, D Block, I P Bhawan, I P Estate, New Delhi."]
["2. The Assistant Director, CEIB, Janpath Bhawan, ‘B’ wing, 6th Floor, New Delhi."]
["3.  Air Customs Superintendent (Reward), IGI Airport, T-3, N. Delhi."]
[]
[]
["Air Customs Superintendent (Prev.)"]
["I.G.I. Airport, T-3, New Delhi"]
[]
["ANNEXURE-III"]
["Proposal for advance reward to staff "]
[]
["Name of the Pax:"]
[]
["File No. "]
["Sl. No."]
[1,"Date and place of Seizure"]
[2,"Description of goods"]
[3,"Quantity, in case of gold/silver/ narcotics"]
[4,"Panchnama value"]
[5,"Estimated value"]
[6,"Sale proceeds actually realized"]
[7,"10% of the estimated value/sale proceeds: in case of seizure made before 01.01.1985"]
[8,"20% of the estimated value/sale proceeds: in case of seizure made after 01.01.1985"]
[9,"Amount available at the rate per tola/kg : (in respect of old/silver/ narcotics)"]
[10,"Advance reward already sanctioned, if any: (attach copy of order)"]
[11,"Amount available as advance/final reward to the staff as per column no.9 "]
[12,"Result of adjudication proceedings: (attach copy of order)"]
[13,"Whether appeal or revision application has been filed and if so, result thereof"]
[14,"Results of prosecution proceedings"]
[]
["ANNEXURE-A"]
[{"$f":"seizure!A5","v":"C.No.:VIII(AP)10/P&I/                     Dated: 14.07.2020"},null,null,null,"PAX: Sh. Anas"]
["Sl. No.","Name & Designation","Date of Birth","Role played","Proposed Amount (Rs.)","Sanctioned Amount (Rs.)"]
[1]
[2]
[3]
[4]
[5]
[6]
[7]
[8]
[9]
[10]
[11]
[12]
[13]
[14]
[15]
[16]
[17]
[18]
[19]
[20]
[21]
[22]
[23]
[24]
[25]
[26]
[27]
[28]
[null,null,null,"Total",{"$f":"SUM(E99:E125)","v":0}]
[null,null,null,null,96000]
[]
[{"$f":"A96","v":"C.No.:VIII(AP)10/P&I/                     Dated: 14.07.2020"}]
["Subject: Advance reward to Departmental officers in the case of seizure of 11 gold bars weighing 1283 grams from Pax Sh. Anas arrived on 31.03.2019 at Arrival Terminal-3, IGI Airport, New Delhi, by Flight No. SV760 dated 31.03.2019 from Riyadh to Delhi."]
["This office has detected a case of illegal import of 11 gold bars weighing 1283 gms, amounting to Rs.37,60,133/- (Rupees thirty seven lakh sixty thousand one hundred thirty three only). As per the Appraisement Report given by Jewellery Appraiser dated 31.03.2019, purity of the seized gold is 999."]
["The said Gold was seized under Section 110 of the Customs Act, 1962. After seizure, the seized Gold was deposited with ACO (Gold and valuables) vide DR numbers 53248 dated 31.03.2019.  "]
["As per Para 6.1 of Board’s Circular No. 20/2015 issued under F.No.R-13011/001/2013-Cus(AS) dated 31/07/2015 Advance/ Interim reward may be paid to informers and Govt. servants up to 50% of the total admissible reward immediately on seizure in respect of the following categories of goods, namely:-"]
["a) Gold/silver bullion;"]
["b) Arms and ammunition, explosives."]
["As per Annexure A-3 of the above said Board’s circular, the amount of the Reward on Gold is Rs.1500 per 10 grams provided gold purity is 999. In the subject case total weight of the gold seized is 2400 gms and the purity is 999 and 995. Therefore the total amount of reward comes to Rs.1,92,450/- and the amount of Maximum Advance reward which is 50% of the total reward comes to Rs.96,225/-"]
["The officers with alertness and complete devotion to their duties were able to thwart the attempt of smuggling.  This is a good example of the alertness, initiative and fine detection skill of the officers and therefore, the officers deserve suitable reward.  A list of officers who played active role in seizure and post seizure formalities is as per Annexure-A and Annexure-III."]
["Therefore, the Advance reward, in view of above guidelines works out to be Rs.96,225/- which is admissible and can be sanctioned to the Govt. officers in terms of Para 8.1 of the aforesaid Circular."]
["Put up for perusal/consideration/approval please."]

{"sheet":"embassy","index":20,"n_rows":29,"n_cols":2,"rows_kept":29,"cut":false,"hidden":false,"merged":[[6,0,6,1],[0,0,0,1],[1,0,1,1],[2,0,2,1],[3,0,3,1],[4,0,4,1],[21,0,21,1],[7,0,7,1],[12,0,12,1],[14,0,14,1],[16,0,16,1],[17,0,17,1],[18,0,18,1],[19,0,19,1],[20,0,20,1],[22,0,22,1],[23,0,23,1],[24,0,24,1],[27,0,27,1],[28,0,28,1]]}
[]
[{"$f":"medical!A2","v":"GOVERNMENT OF INDIA"}]
[{"$f":"seizure!A3","v":"OFFICE OF THE ABC"}]
[{"$f":"seizure!A4","v":"AIRPORT, NAIROBI, KENYA"}]
[{"$f":"seizure!A5","v":"C.No.:VIII(AP)10/P&I/                     Dated: 14.07.2020"}]
["To,"]
["   The Joint Secretary,"]
["   CPV Division, MEA"]
["   Patiala House, New Delhi"]
[]
["Subject:",{"$f":"bksingh!KD5","v":"Intimation regarding arrest of five citizen of Kenya and one citizen residing in kenya holding passport of sweden."}]
["Sir,"]
[{"$f":"bksingh!KE5","v":"It is informed that 1 (one) passenger namely asfsfsadf, sfasfafasfasfasdf, Park Road, Nairobi, Kenya, holder of Kenyan Passport bearing No.sfasfasfasdfas issued on 02.03.2020 at Nairobi, was arrived from Nairobi via Adis Abbaba by Flight No.ET688 dated 02.03.2019 have been arrested under Section 104 of the Customs Act, 1962 in respect of illegal possession Six cut pieces of gold collectively weighing 668 grams by the above said persons at Airport, Nairobi, Kenya. It is also requested to confirm the authenticity of the said Passport (copy of passport enclosed) with intimation to this office."}]
[]
["Yours faithfully"]
[]
["Encl: As above"]
[{"$f":"bksingh!CJ5","v":"asdfasd"}]
[{"$f":"bksingh!CA5","v":"Airport, Nairobi"}]
[]
["Copy to: "]
["1. Ministry of Home Affairs, Foreigners Division, No.26, Man Singh Road, Jaisalmer House, New Delhi."]
["2. FRRO, East Block-VIII, Level-2, Sector-1, Rama Krishna Puram, New Delhi-110066."]
[{"$f":"\"3. \"&bksingh!KA5&\", \"&bksingh!KB5&\", \"&bksingh!KC5&\".\"","v":"3. The High Commissioner, Kenyan High Commission, Nairobu, Kenya."}]
[]
[]
[]
[{"$f":"A18","v":"asdfasd"}]
[{"$f":"A19","v":"Airport, Nairobi"}]

{"sheet":"godown","index":21,"n_rows":19,"n_cols":2,"rows_kept":19,"cut":false,"hidden":false,"merged":[[14,0,14,1],[17,0,17,1],[19,0,19,1],[0,0,0,1],[1,0,1,1],[2,0,2,1],[3,0,3,1],[4,0,4,1],[7,0,7,1],[8,0,8,1],[11,0,11,1],[12,0,12,1],[13,0,13,1]]}
[]
[{"$f":"medical!A2","v":"GOVERNMENT OF INDIA"}]
[{"$f":"embassy!A3","v":"OFFICE OF THE ABC"}]
[{"$f":"embassy!A4","v":"AIRPORT, NAIROBI, KENYA"}]
[{"$f":"embassy!A5","v":"C.No.:VIII(AP)10/P&I/                     Dated: 14.07.2020"}]
[]
["To"]
["The Assistant Commissioner"]
["(Non-Valuable Godown)"]
[{"$f":"bksingh!CA5","v":"Airport, Nairobi"}]
[]
[{"$f":"\"       Subject: Handover of Test Report in r/o \"&bksingh!AA5&\" - reg.\"","v":"       Subject: Handover of Test Report in r/o asfsfsadf - reg."}]
["Sir,"]
[{"$f":"\"In Connection to the above, it is requested to handover Test Report in r/o \"&bksingh!AA5&\" to \"&bksingh!AW5&\", \"&bksingh!AX5&\" for filling of charge sheet.\"","v":"In Connection to the above, it is requested to handover Test Report in r/o asfsfsadf to asdf, sdfasdfasd for filling of charge sheet."}]
["Yours faithfully,"]
[]
[]
[{"$f":"bksingh!CJ5","v":"asdfasd"}]
[null,{"$f":"\"               \"&PROPER(fax!A26)","v":"               Airport, Nairobi"}]

{"sheet":"appraisement","index":22,"n_rows":17,"n_cols":11,"rows_kept":17,"cut":false,"hidden":false,"merged":[[10,0,10,5],[14,0,14,5],[15,0,15,5],[16,0,16,5],[0,6,0,10],[1,0,1,5],[7,0,7,5],[8,0,8,5],[9,0,9,5],[0,0,0,5]]}
["Appraisement Report",null,null,null,null,null,"Appraisement Report"]
[{"$f":"bksingh!HX5","v":"Examined six cut pieces of gold collectively weighing 668 grams recovered from passenger namely asfsfsadf, sfasfafasfasfasdf, Park Road, Nairobi, Kenya, holder of Kenyan Passport bearing No.sfasfasfasdfas issued on 02.03.2020 at Nairobi, was arrived from Nairobi via Adis Abbaba by Flight No.ET688 dated 02.03.2019 on 02.03.2020 and found that it is made of Gold. The description, purity and weights mentioned as below:–"}]
["Sl. No.","Description of  Gold Articles ","Weight (in grams)","Karat","Average Purity","Value Appraised (Rs)"]
[1,{"$f":"bksingh!IC5","v":"Six cut pieces of gold"},{"$f":"bksingh!ID5","v":668},{"$f":"bksingh!IG5","v":21},{"$f":"bksingh!IE5","v":999.5},{"$f":"bksingh!IF5","v":1695750}]
[2,{"$f":"bksingh!IC6","v":0},{"$f":"bksingh!ID6","v":0},{"$f":"bksingh!IG6","v":0},{"$f":"bksingh!IE6","v":0},{"$f":"bksingh!IF6","v":0}]
[null,"Total ",{"$f":"SUM(C4:C5)","v":668},null,null,{"$f":"SUM(F4:F5)","v":1695750}]
[null,null,null,null,null,null,{"$f":"417/10","v":41.7},{"$f":"D6*G7","v":0},{"$f":"D4*G7","v":875.7},{"$f":"G8*I7","v":60817.365000000005}]
[{"$f":"\"Rate of Gold as per Notification No.\"&bksingh!IJ5&\" dated \"&bksingh!IK5&\" is US$ \"&bksingh!IH5&\" per 10 grams.\"","v":"Rate of Gold as per Notification No.27/2019-Cus(NT) dated 06.04.2019 is US$ 417 per 10 grams."},null,null,null,null,null,69.45,{"$f":"H7*G8","v":0},{"$f":"D5*G7","v":0},{"$f":"G8*I8","v":0}]
[{"$f":"\"Exchange Rate of US$ as per Notification No.\"&bksingh!CO5&\" dated \"&bksingh!CP5&\" is Rs.\"&bksingh!CQ5&\".\"","v":"Exchange Rate of US$ as per Notification No.30/2019-Cus(NT) dated 20.03.2019 is Rs.78.5."},null,null,null,null,null,null,3539233,{"$f":"SUM(I7:I8)","v":875.7},{"$f":"SUM(J7:J8)","v":60817.365000000005},{"$f":"[1]!bksingh_riw(J9)","v":{"$error":"#NAME?"}}]
[{"$f":"\"As per the above said notifications, total tariff value of the Gold comes to Rs.\"&bksingh!KZ5&\" (\"&bksingh_riw(bksingh!IF5)&\").\"","v":"As per the above said notifications, total tariff value of the Gold comes to Rs.16,95,750/- (Rupees sixteen lacs ninety five thousand seven hundred fifty only)."},null,null,null,null,null,null,{"$f":"H8-H9","v":-3539233},{"$f":"[1]!bksingh_riw(H9)","v":{"$error":"#NAME?"}}]
[{"$f":"\"The market value of the Gold as per Internet is Rs.\"&bksingh!KX5&\" (\"&bksingh_riw(bksingh!IL5)&\").\"","v":"The market value of the Gold as per Internet is Rs.18,47,020/- (Rupees eighteen lacs forty seven thousand twenty only)."}]
[]
[]
[" "]
[{"$f":"\"(\"&bksingh!EY5&\")\"","v":"(asd)"}]
[{"$f":"bksingh!EZ5","v":"f"}]
[{"$f":"bksingh!CA5","v":"Airport, Nairobi"}]

{"sheet":"dr","index":23,"n_rows":53,"n_cols":14,"rows_kept":53,"cut":false,"hidden":false,"merged":[[49,1,49,13],[50,1,50,13],[51,1,51,13],[52,1,52,13],[7,11,8,11],[2,0,2,13],[1,0,1,13],[0,0,0,13],[47,1,47,13],[48,1,48,13],[15,7,15,9],[15,10,15,11],[12,4,12,13],[30,7,33,10],[3,0,3,13],[29,1,33,6],[29,7,29,9],[11,4,11,6]]}
[]
[{"$f":"medical!A2","v":"GOVERNMENT OF INDIA"}]
[{"$f":"medical!A3","v":"OFFICE OF THE ABC"}]
[{"$f":"medical!A4","v":"AIRPORT, NAIROBI, KENYA"}]
[{"$f":"godown!$A$5","v":"C.No.:VIII(AP)10/P&I/                     Dated: 14.07.2020"}]
[null,null,null,null,null,null,null,null,null,null,null,"No.",{"$f":"bksingh!CM5","v":6565}]
[null,null,null,null,null,null,"DETENTION RECEIPT"]
[null,null,null,null,null,null,null,null,null,null,null,"Flight No. \n& Date",{"$f":"bksingh!AN5","v":"ET688"}]
[null,null,null,null,null,null,null,null,null,null,null,null,{"$f":"bksingh!AO5","v":"02.03.2019"}]
[]
[1,"Passenger's name",null,null,{"$f":"bksingh!AA5","v":"asfsfsadf"},null,null,null,null,null,"2.","Nationality :",{"$f":"bksingh!AI5","v":"Kenyan"}]
[3,"Passport No.",null,null,{"$f":"bksingh!AF5","v":"sfasfasfasdfas"}]
[4,"Full address",null,null,{"$f":"bksingh!AB5&\", \"&bksingh!AC5&\", \"&bksingh!AD5&\", \"&bksingh!AE5","v":"sfasfafasfasfasdf, Park Road, Nairobi, Kenya"}]
[5,"Accompanied by (adults)",null,null,null,null,null,null,null,null,"(Minors)"]
[6,"Particulars of clearance given "]
[null,"(i)","Passenger's Classification",null,null,null,null,"Tourist of Foreign Origin",null,null,"Tourist of India \nOrigin",null,"Other","T/R"]
[null,"(ii)","Free Allowance availed (for self) Rs.",null,null,null,null,null,null,"For others",null,null,"Rs."]
[null,"(iii)","Value of goods chargeable of duty "]
[null,null,"(a)","Normal 50% + 10% + 4%",null,null,null,"(b)","(i)","Alcoholic Liquor 245% + 4%"]
[null,null,null,null,null,null,null,null,"(ii)","Beverages 100% + 5% + Rs.9.00 per Liter + 4%"]
[null,null,"(c) ","Cigarettes/Cigar 150% + 4%",null,null,null,"(d)","Fire Arms 150% + 4%"]
[null,"(iv)","A.O. No.",null,"Dated",null,null,"R.F.",null,null,"P.P.",null,"Re-Export Fine Rs."]
[null,"(v)","T.R. No.",null,"Dated",null,null,"Items",null,null,"Amount"]
[]
[7,"Reason for detention of goods:"]
[null,"(a)","Appraisement",null,null,null,null,"(d)","Re-Export out of India"]
[null,"(b)","Payment of duty",null,null,null,null,"(e)","Production of documents"]
[null,"(c)","Duty & ITC Fine",null,null,null,null,"(f)","Other reasons"]
[null,"Description of goods detained",null,null,null,null,null,"Assessed value",null,null,null,"Duty"]
[null,{"$f":"bksingh!BL5&\" \"&bksingh!BN5&\", \"&bksingh!BL6&\"  \"&bksingh!BN6&\", \"&bksingh!BL7&\" \"&bksingh!BN7&\", \"&bksingh!BL8&\" \"&bksingh!BN8","v":"Six cut pieces of gold collectively weighing 668 grams ,   ,  ,  "},null,null,null,null,null,{"$f":"\"Rs.\"&bksingh!BP5&\"/-\"","v":"Rs.1695750/-"},null,null,null,"@","% Rs."]
[null,null,null,null,null,null,null,{"$f":"bksingh_riw(bksingh!BP5)","v":"Rupees sixteen lacs ninety five thousand seven hundred fifty only"},null,null,null,"@","% Rs."]
[null,null,null,null,null,null,null,null,null,null,null,"@","% Rs."]
[null,null,null,null,null,null,null,null,null,null,null,"@","% Rs."]
[null,null,null,null,null,null,null,null,null,null,null,"Total Rs."]
[null,"The goods have been detained at my request and "]
[null,"sealed in my presence over my signature in …………………………."]
[null,null,null,null,null,null,"(No. of packages with description)"]
[null,null,null,null,null,null,null,null,null,null,"Signature of the Detaining Officer"]
[null,null,null,null,null,null,null,null,null,null,"with his full name & seal"]
[]
[null,"Signature of the Passenger"]
[null,null,null,null,null,null,null,null,null,null,"Countersigned"]
[null,null,null,null,null,null,null,null,null,null,"Air Customs Superintendent"]
[null,null,null,null,null,null,null,null,null,null,"with his full name & seal"]
[]
[]
["IMPORTANT: Passenger may please see instructions below:"]
[1,"Passenger is required to produce this receipt in original and his passport at the time of seeking delivery of goods. If delivery is sought through an agent, a proper authorisation letter containing attested signature of the authorised agent is needed."]
[2,"Normal clearance timings are between 9:30 AM to 6:00 PM on all days excluding Saturday, Sunday & Holiday."]
[3,"An advance notice of 24 Hours excluding Saturday, Sunday & Holiday is needed for clearance/ Delivery of valuables i.e. gold jewellery, precious stones, wrist watch etc."]
[4,"No request for reassessment of value of godos shall be entertained in the normal course."]
[5,"If the goods are not cleared with 2 months of the detenetion or any period extended by the Competent Authority, action to dispose of goods under relevant provisions of the Customs Act, 1962 will be initiated."]
[6,"In case goods detained in the Detention Receipt are subject matter of appeal/revision, the fact of filling appeal/revision may be intimated to Warehouse Incharge to avoid disposal of goods pending decision."]

{"sheet":"decl form","index":24,"n_rows":95,"n_cols":131,"rows_kept":95,"cut":false,"hidden":false,"merged":[[59,8,61,9],[64,3,65,6],[68,1,68,3],[94,0,94,9],[67,1,67,3],[72,3,72,9],[83,0,83,9],[85,0,85,9],[87,3,87,5],[87,0,87,2],[87,6,87,7],[87,8,87,9],[74,8,76,9],[59,7,61,7],[55,0,55,9],[49,0,49,9],[50,0,50,9],[51,0,51,9],[52,0,52,9],[53,0,53,9],[54,0,54,9],[34,0,34,9],[35,0,35,9],[38,4,39,5],[40,4,41,5],[43,4,45,5],[43,0,45,3],[39,6,39,9],[40,0,40,3],[41,0,41,3],[37,0,37,3],[37,6,37,9],[38,0,38,3],[38,6,38,9],[42,0,42,3],[42,6,42,9],[43,6,43,9],[39,0,39,3],[47,6,47,9],[47,4,47,5],[45,6,45,9],[46,0,46,3],[46,6,46,9],[46,4,46,5],[56,0,56,9],[33,0,33,9],[32,0,32,9],[4,0,4,9],[5,0,5,9],[28,0,28,9],[25,2,25,7],[24,2,24,7],[21,2,21,7],[20,2,20,7],[48,0,48,9],[40,6,41,9],[37,4,37,5],[42,4,42,5],[47,0,47,3],[44,6,44,9]]}
[null,null,null,null,null,null,null,null,null,"Form-1"]
[]
[]
[]
["INDIAN CUSTOMS DECLARATION FORM"]
["(Please see important information given overleaf before filling this Form)",null,null,null,null,null,null,null,null,null,null,null,null,null,null,null,null,null,null,null,null,null,null,null,null,null,null,null,null,null,null,null,null,null,null,null,null,null,null,null,null,null,null,null,null,null,null,null,null,null,null,null,null,null,null,null,null,null,null,null,null,null,null,null,null,null,null,null,null,null,null,null,null,null,null,null,null,null,null,null,null,null,null,null,null,null,null,null,null,null,null,null,null,null,null,null,null,null,null,null,null,null,null,null,null,null,null,null,null,null,null,null,null,null,null,null,null,null,null,null,null,null,null,null,null,null,null,null,null,null,"Yes"]
[1,"Name of the Passenger :",null,null,null,{"$f":"IF(bksingh!DQ5=0,\"\",bksingh!DQ5)","v":"ik;jljl;kjkl;jl;vbvbbm,bh"}]
[2,"Passport Number :",null,null,null,{"$f":"IF(bksingh!DR5=0,\"\",bksingh!DR5)","v":"oiu89u7890"}]
[3,"Nationality :",null,null,null,{"$f":"IF(bksingh!DS5=0,\"\",bksingh!DS5)","v":"Kenyan"}]
[4,"Date of Arrival :",null,null,null,{"$f":"IF(bksingh!DT5=0,\"\",bksingh!DT5)","v":"02.03.2020"},null,null,null,"(DD/MM/YYYY)"]
[5,"Flight Number :",null,null,null,{"$f":"IF(bksingh!DU5=0,\"\",bksingh!DU5)","v":"ET68855"}]
[6,"Number of Baggage (including hand baggage) :",null,null,null,null,null,{"$f":"IF(bksingh!DV5=0,\"\",bksingh!DV5)","v":1}]
[7,"Country from where coming :",null,null,null,null,null,{"$f":"IF(bksingh!DW5=0,\"\",bksingh!DW5)","v":"Kenya"}]
[8,"Country visited in last six days :",null,null,null,null,null,{"$f":"IF(bksingh!DX5=0,\"\",bksingh!DX5)","v":"China, UAE, Japan"}]
[9,"Total value of dutiable goods being imported (Rs.) :",null,null,null,null,null,null,{"$f":"IF(bksingh!DY5=0,\"\",bksingh!DY5&\"/-\")","v":"204931.2/-"}]
[10,"Are you bringing the following items into India?"]
[null,null,null,null,null,null,null,null,null,"(Please tick Yes or No)"]
[null,"i.","Prohibited articles",null,null,null,null,null,{"$f":"IF(bksingh!EA5=\"P\",bksingh!EA5,\"\")","v":""},"Yes / No",{"$f":"IF(bksingh!EA5=\"O\",bksingh!EB3,\"\")","v":"P"}]
[null,"ii.","Gold Jewellery (over Free Allowance)",null,null,null,null,null,{"$f":"IF(bksingh!EB5=\"P\",bksingh!EB5,\"\")","v":""},"Yes / No",{"$f":"IF(bksingh!EB5=\"O\",bksingh!EB3,\"\")","v":"P"}]
[null,"iii.","Gold Bullion",null,null,null,null,null,{"$f":"IF(bksingh!EC5=\"P\",bksingh!EC5,\"\")","v":""},"Yes / No",{"$f":"IF(bksingh!EC5=\"O\",bksingh!EB3,\"\")","v":"P"}]
[null,"iv.","Meat and Meat Products/Dairy Product/Fish/Poultry Products",null,null,null,null,null,{"$f":"IF(bksingh!ED5=\"P\",bksingh!ED5,\"\")","v":""},"Yes / No",{"$f":"IF(bksingh!ED5=\"O\",bksingh!EB3,\"\")","v":"P"}]
[null,"v.","Seed/Plants/Fruits/Flowers/other Planting material",null,null,null,null,null,{"$f":"IF(bksingh!EE5=\"P\",bksingh!EE5,\"\")","v":""},"Yes / No",{"$f":"IF(bksingh!EE5=\"O\",bksingh!EB3,\"\")","v":"P"}]
[null,"vi.","Setellite Phone",null,null,null,null,null,{"$f":"IF(bksingh!EF5=\"P\",bksingh!EF5,\"\")","v":""},"Yes / No",{"$f":"IF(bksingh!EF5=\"O\",bksingh!EB3,\"\")","v":"P"}]
[null,"vii.","Indian Currency exceeding Rs.25,000/-",null,null,null,null,null,{"$f":"IF(bksingh!EG5=\"P\",bksingh!EG5,\"\")","v":""},"Yes / No",{"$f":"IF(bksingh!EG5=\"O\",bksingh!EB3,\"\")","v":"P"}]
[null,"viii.","Foreign Currency notes exceeding US $ 5000 or equivalent",null,null,null,null,null,{"$f":"IF(bksingh!EH5=\"P\",bksingh!EH5,\"\")","v":""},"Yes / No",{"$f":"IF(bksingh!EH5=\"O\",bksingh!EB3,\"\")","v":"P"}]
[null,"ix.","Aggregate value of foreign exchange (including currency) exceeding US $ 10000 or equivalent",null,null,null,null,null,{"$f":"IF(bksingh!EI5=\"P\",bksingh!EI5,\"\")","v":""},"Yes / No",{"$f":"IF(bksingh!EI5=\"O\",bksingh!EB3,\"\")","v":"P"}]
[null,"x.","Drones",null,null,null,null,null,{"$f":"IF(bksingh!EJ5=\"P\",bksingh!EJ5,\"\")","v":""},"Yes / No",{"$f":"IF(bksingh!EJ5=\"O\",bksingh!EB3,\"\")","v":"P"}]
[null,"xi.","LCD/LED/Plasma Television ",null,null,null,null,null,{"$f":"IF(bksingh!EK5=\"P\",bksingh!EK5,\"\")","v":"P"},"Yes / No",{"$f":"IF(bksingh!EK5=\"O\",bksingh!EB3,\"\")","v":""}]
["Please report to Customs Officer at Red Channel counter in case answer to any of the above question is 'Yes'."]
[]
[null,null,null,null,null,null,null,null,null,"Signature of Passenger"]
[]
["IMPORTANT INFORMATION"]
["This form is required to be filled up by only those passengers who have any dutiable or restricted/prohibited items to declare."]
["Items prohibited for import include: Maps and literature where Indian external boundaries have been shown incorrectly, Narcotics Drugs and Psychotropic Substances, Goods violating any of legal enforceable intellectual property rights, Wild life products, Counterfeit Currency Notes/Coins of Fake currency Notes, Specified Live Birds and Animals."]
["Used personal effects (excluding jewellery) and Travel Souvenirs do not attract any Customs duty on import."]
["Customs Duty Free Allowance:"]
["Eligible Passengers",null,null,null,"Origin Country",null,"Duty Free Allowance"]
["Passengers of Indian origin and foreigner residing in India excluding infants",null,null,null,"Other than Nepal, Bhutan & Myanmar",null,"Rs.50,000/-"]
["Tourist of foreign origin excluding infants",null,null,null,null,null,"Rs.15,000/-"]
["Passengers of Indian origin and foreigner residing in India excluding infants",null,null,null,"Nepal, Bhutan & Myanmar",null,"By Air Rs.15,000/-\nBy Land - NIL"]
["Tourist of foreign origin excluding infants"]
["Infants (child not more than 2 years of age)",null,null,null,"Any Country",null,"Nil"]
["Indian passenger who has been residing abroad for over one year",null,null,null,"Anywhere",null,"Jewellery:"]
[null,null,null,null,null,null,"Gentleman - 20 grams with a value cap of Rs.50,000/-"]
[null,null,null,null,null,null,"Lady - 40 grams with a value cap of Rs.1,00,000/-"]
["Passenger of 18 years and above",null,null,null,"Anywhere",null,"One Laptop computer (Notebook computer)"]
["Note:"]
["Personal effects means things required for satisfying daily necessicity but does not include jewellery."]
["The free allowances shall not be pooled with free allowances of any other passengers."]
["The free allowances is not applicable to: Fire Arms, Cartridges of Fire Arms exceeding 50, Cigrettes exceeding 100 or Cigars exceeding 25 or Tobacco exceeding 125 grams, Alcoholic Liquor or Wine in excess of two liters, Gold or Silver in any form (other than ornaments), LCD/LED/Plasma Television."]
["Customs duty is leviable @ 38.5% (Basic Customs Duty @ 35% + Social Welfare Surcharge @ 10%) on the value of dutiable goods that is in excess of Duty Free Allowance, except Alcoholic Liquor where the Customs duty is leviable @ 160% (Basic Customs Duty @ 150% + ACD @ 4%) and Cigarettes where the Customs duty is leviable @ 110% (Basic Customs Duty @ 100% + Social Welfare Surcharge @ 10%)."]
["Indian Customs is responsible for protecting the nation against illegal import of prohibited items. Indian Customs Officer have the authority of question you and to examine you and your personal property. If you are one of the passengers selected for questioning/examination, you will be treated as a courteous, professional and degnified manners. "]
["If your baggage is mishandled/lost on arrival, please obtain endorsement of free allowance, if any, from Customs Officer at Mishandled Baggage Counter. "]
["For update and detailed information on items prohibited/restricted for import, duty free entitlement and Customs duty leviable, please refer to Traveller's Guide on departmental website: www.cbic.gov.in."]
["In case of any difficulty and complaint, please contact the Customs PRO available at the Airport."]
["INDIAN CUSTOMS WELCOMES YOU TO INDIA",null,null,null,null,null,null,null,null,null,"Office"]
[]
[null,null,null,null,null,null,null,null,null,{"$f":"K57&\" Copy Page 1 of 1 - \"&D63","v":"Office Copy Page 1 of 1 - BR/INDEL4/14-07-2020/069586"}]
[null,null,null,null,null,null,null,null,{"$f":"RIGHT(J59,1)","v":"6"}]
["BAGGAGE RECEIPT - TO BE PAID"]
["Customs International Airport, Delhi, India"]
[null,null,"Baggage Receipt:",{"$f":"\"BR/INDEL4/\"&bksingh!G46&\"/\"&bksingh!H47","v":"BR/INDEL4/14-07-2020/069586"},null,null,null,null,"Date:",{"$f":"bksingh!G46","v":"14-07-2020"}]
[null,null,"Name:",{"$f":"F7","v":"ik;jljl;kjkl;jl;vbvbbm,bh"}]
[null,null,"Address:",{"$f":"bksingh!EL5","v":"kljkljoiuiouj"},null,null,null,null,"Flight Number:",{"$f":"F11","v":"ET68855"}]
[]
[null,null,"Nationality:",{"$f":"F9","v":"Kenyan"},null,null,null,null,"Passport Number:",{"$f":"F8","v":"oiu89u7890"}]
["SNO.","Item Description",null,null,"Quantity","Value in Rs.","FA in Rs.(-)","AV after FA in Rs.","Rate of Duty %","Amount in Rs."]
[1,{"$f":"bksingh!EP6","v":"LED TV (0037001010201)*"},null,null,{"$f":"bksingh!EN5&\".0 U\"","v":"1.0 U"},{"$f":"bksingh!DY5","v":204931.20000000001},0,{"$f":"F69","v":204931.20000000001},{"$f":"bksingh!DZ5","v":35},{"$f":"ROUND(H69*I69/100,0)","v":71726}]
[null,null,null,null,null,null,null,null,"Total Duty",{"$f":"ROUND(J69,0)","v":71726}]
[null,null,null,null,null,null,null,null,{"$f":"\"Social Welfare Surcharge @ \"&bksingh!EO5&\"% on *\"","v":"Social Welfare Surcharge @ 10% on *"},{"$f":"ROUND(J70*0.1,0)","v":7173}]
[null,null,null,"Free Allowance availed (Rs.)",50000,null,null,null,"Grand Total (rounded to nearest Rupee)",{"$f":"J71+J70","v":78899}]
[null,null,"Amount in words:",{"$f":"bksingh_riw(J72)&\".\"","v":"Rupees seventy eight thousand eight hundred ninety nine only."}]
["Disclaimer - I hereby agree to abide by the following tems and conditions, if I exercise the option to pay Customs Duty through Debit/Credit Card -"]
["1. Only genuine refund/chargeback claims will be considered.",null,null,null,null,null,null,null,"Passenger Signature"]
["2. No refund/chargeback will be considered by the payment gateway/bank once the duty payment has been successfully transacted."]
["3. Claim, if any, regarding duty refund can be made before the Pr.Commissioner/Commissioner of Customs."]
[]
["Name & Signature of Air Customs Officer",null,null,null,null,"aco(aco)","Name & Signature of Air Customs Supdt."]
["* - Items attract Basic Customs Duty, Social Welfare Surcharge."]
[]
[]
[]
["TO BE FILLED BY BANK"]
["Customs, International Airport, Terminal 3, New Delhi",null,null,null,null,null,null,null,"Date:",{"$f":"bksingh!B45","v":"14.07.2020"}]
["We hereby certify that we have purchased today foreign currency (as per details given below) from the passenger whose name and passport particulars are mentioned herein (above) and paid net amount of Rs.________(after adjustment of Customs dues as per details given above) in lieu of the foreign exchange so purchased."]
["DETAILS OF FOREIGN CURRENCY "]
["CURRENCY",null,null,"FORM OF CURRENCY",null,null,"RATE",null,"AMOUNT"]
[]
[null,null,null,null,null,null,"Total"]
[null,null,null,null,null,null,"Less Duty etc."]
[null,null,null,null,null,null,"Balance"]
[null,null,null,null,null,null,"Net Balance P/O"]
["Officer Incharge:",null,null,null,null,null,null,null,null,"Signature of Customer"]
[{"$f":"\"This Receipt was generated on - \"&bksingh!G45","v":"This Receipt was generated on - 2020/07/14 18:19:46"}]

{"sheet":"brc","index":25,"n_rows":34,"n_cols":13,"rows_kept":34,"cut":false,"hidden":true,"merged":[[3,3,4,5],[30,2,31,7],[14,9,15,10],[32,2,33,2],[32,3,33,4],[7,8,11,12],[14,0,14,3],[15,0,15,3],[9,1,10,5],[6,1,7,5],[16,0,16,3]]}
[null,null,null,null,null,null,null,"OFFICE COPY",null,null,null,"Office Code No.","0280316"]
["lhek 'kqYd & bafnjk x¡k/kh vUrjkZ\"Vªh;] VfeZuy 3] ubZ fnYyh",null,null,null,null,null,null,null,null,null,null,null,"lsUVªy cSad vkWQ bafM;k"]
["Customs - Indira Gandhi International Airport, Terminal-3, New Delhi",null,null,null,null,null,null,null,null,null,null,null,"Central Bank of India"]
["jlhn uacj",null,null,{"$f":"bksingh!EM5","v":69586},null,null,"rkjh[k",null,null,null,null,null,"INDIRA GANDHI INTERNATIONAL AIRPORT, TERMINAL-3"]
["Baggage Receipt CBI/IGIA/No.:",null,null,null,null,null,"Date:",{"$f":"'decl form'!J85","v":"14.07.2020"},null,null,null,null,"Under Parliament Street Branch, Jeevan Tara Building, Sansad Marg, New Delhi-110001"]
[null,null,null,null,null,null,null,null,null,null,null,"Date"]
["uke",{"$f":"'decl form'!$F$7","v":"ik;jljl;kjkl;jl;vbvbbm,bh"},null,null,null,null,"mM+ku uacj"]
["Name",null,null,null,null,null,"Flight No.",{"$f":"'decl form'!$F$11","v":"ET68855"},"We hereby certify that we have purchased today foreign currency (as per details given below) from the passenger whose name and passport particulars are mentioned herein (on the left hand side) and paid net amount of Rs..........................(after adjustment of Customs dues as per details given on the left hand side) in lieu of the foreign exchange so purchased."]
[]
["irk",{"$f":"'decl form'!D65","v":"kljkljoiuiouj"},null,null,null,null,"ikliksVZ uacj"]
["Address",null,null,null,null,null,"Passport No.",{"$f":"'decl form'!$F$8","v":"oiu89u7890"}]
[]
[null,null,null,null,null,null,null,null,null,"DETAILS OF FOREIGN CURRENCY"]
[]
["oLrqvksa dk fooj.k",null,null,null,"ek=k","eqY; :0","'kqYd dh nj","'kqYd dh jde","eqnzk","Form of Currency (travellers cheques, currency notes etc.) Denominations",null,"nj","jkf'k"]
["Particulars of Articles",null,null,null,"Quantity","Value (Rs.)","Rate of Duty %","Amount of Duty Rs.               P.","Currency",null,null,"Rate","Amount    Rs.     P"]
["LED TV",null,null,null,1,{"$f":"bksingh!$DY$5","v":204931.20000000001},{"$f":"bksingh!$EP$5","v":38.5},{"$f":"$F$17*$G$17/100","v":78898.512000000002}]
[]
[]
[]
[]
[null,null,null,null,null,null,null,null,"d`rs lsUVy cSad vkWQ bafM;k",null,null,"Total"]
[null,null,null,null,null,null,"xksnke HkkM+k o vU; izHkkj",null,"For Central Bank of India",null,null,"Less Duty etc."]
[null,null,null,null,null,null,"Warehouse Rent & Other Charges",null,null,null,null,"Balance"]
[null,null,null,null,null,null,"Hkkjrh; eqnzk",null,null,null,null,"Net Balance P/O"]
[null,null,null,null,null,null,"Indian Currency",{"$f":"ROUND(H17,0)","v":78899}]
[null,null,null,null,null,null,"fons'kh eqnzk"]
["Baggage Officer",null,null,null,null,null,"Foreign Currency",null,"Officer-Incharge",null,null,null,"Signature of Customer"]
[null,null,null,null,null,null,"tksM+",null,"(1) Only personalised cards accepted."]
[null,null,null,null,null,null,"Total",{"$f":"H26","v":78899},"(2) Only full amount of duty accepted."]
["Amount in words :",null,{"$f":"'decl form'!D73","v":"Rupees seventy eight thousand eight hundred ninety nine only."},null,null,null,null,null,"(3) Settlement/Dispute resolution as per Regulatory guidelines."]
[null,null,null,null,null,null,null,null,"(4) No chargeback policy followed ( as per Customs directives)."]
["eksgj",null,"INDIAN CURRENCY","FOREIGN CURRENCY",null,null,null,null,"(5) Claim for excess payment to be settled by Commissioner of Customs."]
["STAMP",null,null,null,null,null,null,"Signature of Customer","Please check you balance, if any before leaving the Bank counter."]